{"text_format":"1","workbook":"xlsx","n_sheets":23,"sheets":["Startliste","1","2","3","4","5","6","7","8","9","10","11","12","13","14","15","16","17","18","19","20","Resultate","Tabelle1"],"not_rendered":{"charts":0,"images":3,"macros":1,"external_links":0,"defined_names":7,"comments":0,"pivot_tables":0},"unopened":[],"bounds":{"document_bytes":16777216,"sheet_cells":100000,"rows_first":2000,"rows_last":500,"rows_between":2000,"halvings":0,"cell_chars":16384,"cell_head_chars":4096},"cells_cut":0,"cells_raw":0,"read":"whole","date_system":"1900"}

{"sheet":"Startliste","index":0,"n_rows":33,"n_cols":17,"rows_kept":33,"cut":false,"hidden":false,"merged":[[9,0,9,13],[8,0,8,2],[2,4,2,9],[3,4,3,9],[6,4,6,9],[7,4,7,9],[4,4,4,9],[5,4,5,9]]}
[null,null,null,"Heimprogramm",null,"2025-12-31"]
[]
[null,null,null,"Sektion"]
[null,null,null,"Zuständig"]
[null,null,null,"Adresse"]
[null,null,null,"PLZ/Wohnort"]
[null,null,null,"Mail"]
[null,null,null,"Telefon"]
[null,null,null,"Startliste"]
["Ausgefüllte Datei zurücksenden an salvo.trapani@outlook.com\nEinsendetermin: Bis spätestens 31. August 2025"]
["Schütze-Nr.","Personen-Nr.","Name","Vorname","Geburtstag","Sektion","Stellung\nf oder a","Kat.",null,"HD\nFr. 16.-",null,"ND\nFr. 5.-",null,"Betrag\nTotal Fr.",null,null,"Berechnung\nAller"]
[1,{"$f":"_xlfn.XLOOKUP((C12&\" \"&D12),Tabelle1!$D:$D,Tabelle1!$A:$A,\"\")","v":""},null,null,null,null,null,{"$f":"IF(AND(YEAR($F$1)-YEAR(E12)>=55,YEAR($F$1)-YEAR(E12)<=69,G12=\"f\"),\"V f\",IF(AND(YEAR($F$1)-YEAR(E12)>=55,YEAR($F$1)-YEAR(E12)<=69,G12=\"a\"),\"V a\",IF(AND(YEAR($F$1)-YEAR(E12)>=70,G12=\"f\"),\"Ev f\",IF(AND(YEAR($F$1)-YEAR(E12)>=70,G12=\"a\"),\"Ev a\",0))))","v":0},null,{"$f":"IF(Resultate!J6>0,16,\"\")","v":""},null,{"$f":"IF(Resultate!L6>0,5,\"\")","v":""},null,{"$f":"IFERROR(J12+L12,)","v":0},null,null,{"$f":"IF(C12=\"\",\"\",$F$1-E12)","v":""}]
[2,{"$f":"_xlfn.XLOOKUP((C13&\" \"&D13),Tabelle1!$D:$D,Tabelle1!$A:$A,\"\")","v":""},null,null,null,null,null,{"$f":"IF(AND(YEAR($F$1)-YEAR(E13)>=55,YEAR($F$1)-YEAR(E13)<=69,G13=\"f\"),\"V f\",IF(AND(YEAR($F$1)-YEAR(E13)>=55,YEAR($F$1)-YEAR(E13)<=69,G13=\"a\"),\"V a\",IF(AND(YEAR($F$1)-YEAR(E13)>=70,G13=\"f\"),\"Ev f\",IF(AND(YEAR($F$1)-YEAR(E13)>=70,G13=\"a\"),\"Ev a\",0))))","v":0},null,{"$f":"IF(Resultate!J7>0,16,\"\")","v":""},null,{"$f":"IF(Resultate!L7>0,5,\"\")","v":""},null,{"$f":"IFERROR(J13+L13,)","v":0},null,null,{"$f":"IF(C13=\"\",\"\",$F$1-E13)","v":""}]
[3,{"$f":"_xlfn.XLOOKUP((C14&\" \"&D14),Tabelle1!$D:$D,Tabelle1!$A:$A,\"\")","v":""},null,null,null,null,null,0,null,{"$f":"IF(Resultate!J8>0,16,\"\")","v":""},null,{"$f":"IF(Resultate!L8>0,5,\"\")","v":""},null,0,null,null,""]
[4,{"$f":"_xlfn.XLOOKUP((C15&\" \"&D15),Tabelle1!$D:$D,Tabelle1!$A:$A,\"\")","v":""},null,null,null,null,null,0,null,{"$f":"IF(Resultate!J9>0,16,\"\")","v":""},null,{"$f":"IF(Resultate!L9>0,5,\"\")","v":""},null,0,null,null,""]
[5,{"$f":"_xlfn.XLOOKUP((C16&\" \"&D16),Tabelle1!$D:$D,Tabelle1!$A:$A,\"\")","v":""},null,null,null,null,null,0,null,{"$f":"IF(Resultate!J10>0,16,\"\")","v":""},null,{"$f":"IF(Resultate!L10>0,5,\"\")","v":""},null,0,null,null,""]
[6,{"$f":"_xlfn.XLOOKUP((C17&\" \"&D17),Tabelle1!$D:$D,Tabelle1!$A:$A,\"\")","v":""},null,null,null,null,null,0,null,{"$f":"IF(Resultate!J11>0,16,\"\")","v":""},null,{"$f":"IF(Resultate!L11>0,5,\"\")","v":""},null,0,null,null,""]
[7,{"$f":"_xlfn.XLOOKUP((C18&\" \"&D18),Tabelle1!$D:$D,Tabelle1!$A:$A,\"\")","v":""},null,null,null,null,null,0,null,{"$f":"IF(Resultate!J12>0,16,\"\")","v":""},null,{"$f":"IF(Resultate!L12>0,5,\"\")","v":""},null,0,null,null,""]
[8,{"$f":"_xlfn.XLOOKUP((C19&\" \"&D19),Tabelle1!$D:$D,Tabelle1!$A:$A,\"\")","v":""},null,null,null,null,null,0,null,{"$f":"IF(Resultate!J13>0,16,\"\")","v":""},null,{"$f":"IF(Resultate!L13>0,5,\"\")","v":""},null,0,null,null,""]
[9,{"$f":"_xlfn.XLOOKUP((C20&\" \"&D20),Tabelle1!$D:$D,Tabelle1!$A:$A,\"\")","v":""},null,null,null,null,null,0,null,{"$f":"IF(Resultate!J14>0,16,\"\")","v":""},null,{"$f":"IF(Resultate!L14>0,5,\"\")","v":""},null,0,null,null,""]
[10,{"$f":"_xlfn.XLOOKUP((C21&\" \"&D21),Tabelle1!$D:$D,Tabelle1!$A:$A,\"\")","v":""},null,null,null,null,null,0,null,{"$f":"IF(Resultate!J15>0,16,\"\")","v":""},null,{"$f":"IF(Resultate!L15>0,5,\"\")","v":""},null,0,null,null,""]
[11,{"$f":"_xlfn.XLOOKUP((C22&\" \"&D22),Tabelle1!$D:$D,Tabelle1!$A:$A,\"\")","v":""},null,null,null,null,null,0,null,{"$f":"IF(Resultate!J16>0,16,\"\")","v":""},null,{"$f":"IF(Resultate!L16>0,5,\"\")","v":""},null,0,null,null,""]
[12,{"$f":"_xlfn.XLOOKUP((C23&\" \"&D23),Tabelle1!$D:$D,Tabelle1!$A:$A,\"\")","v":""},null,null,null,null,null,0,null,{"$f":"IF(Resultate!J17>0,16,\"\")","v":""},null,{"$f":"IF(Resultate!L17>0,5,\"\")","v":""},null,0,null,null,""]
[13,{"$f":"_xlfn.XLOOKUP((C24&\" \"&D24),Tabelle1!$D:$D,Tabelle1!$A:$A,\"\")","v":""},null,null,null,null,null,0,null,{"$f":"IF(Resultate!J18>0,16,\"\")","v":""},null,{"$f":"IF(Resultate!L18>0,5,\"\")","v":""},null,0,null,null,""]
[14,{"$f":"_xlfn.XLOOKUP((C25&\" \"&D25),Tabelle1!$D:$D,Tabelle1!$A:$A,\"\")","v":""},null,null,null,null,null,0,null,{"$f":"IF(Resultate!J19>0,16,\"\")","v":""},null,{"$f":"IF(Resultate!L19>0,5,\"\")","v":""},null,0,null,null,""]
[15,{"$f":"_xlfn.XLOOKUP((C26&\" \"&D26),Tabelle1!$D:$D,Tabelle1!$A:$A,\"\")","v":""},null,null,null,null,null,0,null,{"$f":"IF(Resultate!J20>0,16,\"\")","v":""},null,{"$f":"IF(Resultate!L20>0,5,\"\")","v":""},null,0,null,null,""]
[16,{"$f":"_xlfn.XLOOKUP((C27&\" \"&D27),Tabelle1!$D:$D,Tabelle1!$A:$A,\"\")","v":""},null,null,null,null,null,0,null,{"$f":"IF(Resultate!J21>0,16,\"\")","v":""},null,{"$f":"IF(Resultate!L21>0,5,\"\")","v":""},null,0,null,null,""]
[17,{"$f":"_xlfn.XLOOKUP((C28&\" \"&D28),Tabelle1!$D:$D,Tabelle1!$A:$A,\"\")","v":""},null,null,null,null,null,0,null,{"$f":"IF(Resultate!J22>0,16,\"\")","v":""},null,{"$f":"IF(Resultate!L22>0,5,\"\")","v":""},null,0,null,null,""]
[18,{"$f":"_xlfn.XLOOKUP((C29&\" \"&D29),Tabelle1!$D:$D,Tabelle1!$A:$A,\"\")","v":""},null,null,null,null,null,0,null,{"$f":"IF(Resultate!J23>0,16,\"\")","v":""},null,{"$f":"IF(Resultate!L23>0,5,\"\")","v":""},null,0,null,null,""]
[19,{"$f":"_xlfn.XLOOKUP((C30&\" \"&D30),Tabelle1!$D:$D,Tabelle1!$A:$A,\"\")","v":""},null,null,null,null,null,0,null,{"$f":"IF(Resultate!J24>0,16,\"\")","v":""},null,{"$f":"IF(Resultate!L24>0,5,\"\")","v":""},null,0,null,null,""]
[20,{"$f":"_xlfn.XLOOKUP((C31&\" \"&D31),Tabelle1!$D:$D,Tabelle1!$A:$A,\"\")","v":""},null,null,null,null,null,0,null,{"$f":"IF(Resultate!J25>0,16,\"\")","v":""},null,{"$f":"IF(Resultate!L25>0,5,\"\")","v":""},null,0,null,null,""]
[]
[null,null,null,null,null,null,null,null,null,"Betrag Total  ",null,null,null,{"$f":"SUM(N12:N31)","v":0}]

{"sheet":"1","index":1,"n_rows":17,"n_cols":27,"rows_kept":17,"cut":false,"hidden":false,"merged":[[0,6,0,7],[0,2,0,5],[6,26,7,27],[4,11,4,12],[5,1,5,2]]}
[null,null,{"$f":"Startliste!D1","v":"Heimprogramm"},null,null,null,{"$f":"Startliste!F1","v":"2025-12-31"}]
[null,null,null,null,null,null,null,null,null,null,null,null,null,null,null,null,null,null,null,null,null,1]
[]
[]
["Name",{"$f":"_xlfn.XLOOKUP($M$6,Startliste!A:A,Startliste!C:C,\"\")","v":0},null,null,null,"Vorname",{"$f":"_xlfn.XLOOKUP($M$6,Startliste!A:A,Startliste!D:D,\"\")","v":0},null,null,"St.",{"$f":"_xlfn.XLOOKUP($M$6,Startliste!A:A,Startliste!G:G,\"\")","v":0},"Start-Nr.",null,null,null,null,null,null,null,null,null,null,null,null,null,null,"Lizenz-Nr."]
["Geburtstag",{"$f":"_xlfn.XLOOKUP($M$6,Startliste!A:A,Startliste!E:E,\"\")","v":"00:00:00"},null,null,null,"Sektion",{"$f":"_xlfn.XLOOKUP($M$6,Startliste!A:A,Startliste!F:F,\"\")","v":0},null,null,"Kat.",{"$f":"_xlfn.XLOOKUP($M$6,Startliste!A:A,Startliste!H:H,\"\")","v":0},null,1,null,null,null,null,null,null,null,null,null,null,null,null,null,{"$f":"_xlfn.XLOOKUP($M$6,Startliste!A:A,Startliste!B:B,\"\")","v":""}]
[null,null,null,null,null,null,null,null,null,null,null,null,null,null,null,null,null,null,null,null,null,null,null,null,null,null,"Karton-Nummer\nvon          bis"]
[null,1,2,3,4,5,6,7,8,9,10,null,"Total"]
["HD",null,null,null,null,null,null,null,null,null,null,null,{"$f":"SUM(B9:K9)","v":0},null,{"$f":"IF(B9=\"M\",10)","v":false},{"$f":"IF(C9=\"M\",10)","v":false},false,false,false,false,false,false,false,false,{"$f":"SUM(O9:X9)","v":0}]
[]
["ND",null,null,null,null,null,null,null,null,null,null,null,{"$f":"SUM(B11:K11)","v":0},null,{"$f":"IF(B11=\"M\",10)","v":false},{"$f":"IF(C11=\"M\",10)","v":false},false,false,false,false,false,false,false,false,{"$f":"SUM(O11:X11)","v":0}]
[null,"Keine Mouchen erfassen, nur Werte zwischen 1-10."]
[" HD",10,9,8,7,6,5,4,3,2,1]
["Anzahl",{"$f":"COUNTIF($B9:$K9,\"10\")","v":0},{"$f":"COUNTIF($B9:$K9,\"9\")","v":0},{"$f":"COUNTIF($B9:$K9,\"8\")","v":0},{"$f":"COUNTIF($B9:$K9,\"7\")","v":0},{"$f":"COUNTIF($B9:$K9,\"6\")","v":0},{"$f":"COUNTIF($B9:$K9,\"5\")","v":0},{"$f":"COUNTIF($B9:$K9,\"4\")","v":0},{"$f":"COUNTIF($B9:$K9,\"3\")","v":0},{"$f":"COUNTIF($B9:$K9,\"2\")","v":0},{"$f":"COUNTIF($B9:$K9,\"1\")","v":0}]
[]
["ND",10,9,8,7,6,5,4,3,2,1]
["Anzahl",{"$f":"COUNTIF($B11:$K11,\"10\")","v":0},{"$f":"COUNTIF($B11:$K11,\"9\")","v":0},{"$f":"COUNTIF($B11:$K11,\"8\")","v":0},{"$f":"COUNTIF($B11:$K11,\"7\")","v":0},{"$f":"COUNTIF($B11:$K11,\"6\")","v":0},{"$f":"COUNTIF($B11:$K11,\"5\")","v":0},{"$f":"COUNTIF($B11:$K11,\"4\")","v":0},{"$f":"COUNTIF($B11:$K11,\"3\")","v":0},{"$f":"COUNTIF($B11:$K11,\"2\")","v":0},{"$f":"COUNTIF($B11:$K11,\"1\")","v":0}]

{"sheet":"2","index":2,"n_rows":17,"n_cols":27,"rows_kept":17,"cut":false,"hidden":false,"merged":[[0,6,0,7],[0,2,0,5],[6,26,7,27],[4,11,4,12],[5,1,5,2]]}
[null,null,{"$f":"Startliste!D1","v":"Heimprogramm"},null,null,null,{"$f":"Startliste!F1","v":"2025-12-31"}]
[null,null,null,null,null,null,null,null,null,null,null,null,null,null,null,null,null,null,null,null,null,1]
[]
[]
["Name",{"$f":"_xlfn.XLOOKUP($M$6,Startliste!A:A,Startliste!C:C,\"\")","v":0},null,null,null,"Vorname",{"$f":"_xlfn.XLOOKUP($M$6,Startliste!A:A,Startliste!D:D,\"\")","v":0},null,null,"St.",{"$f":"_xlfn.XLOOKUP($M$6,Startliste!A:A,Startliste!G:G,\"\")","v":0},"Start-Nr.",null,null,null,null,null,null,null,null,null,null,null,null,null,null,"Lizenz-Nr."]
["Geburtstag",{"$f":"_xlfn.XLOOKUP($M$6,Startliste!A:A,Startliste!E:E,\"\")","v":"00:00:00"},null,null,null,"Sektion",{"$f":"_xlfn.XLOOKUP($M$6,Startliste!A:A,Startliste!F:F,\"\")","v":0},null,null,"Kat.",{"$f":"_xlfn.XLOOKUP($M$6,Startliste!A:A,Startliste!H:H,\"\")","v":0},null,2,null,null,null,null,null,null,null,null,null,null,null,null,null,{"$f":"_xlfn.XLOOKUP($M$6,Startliste!A:A,Startliste!B:B,\"\")","v":""}]
[null,null,null,null,null,null,null,null,null,null,null,null,null,null,null,null,null,null,null,null,null,null,null,null,null,null,"Karton-Nummer\nvon          bis"]
[null,1,2,3,4,5,6,7,8,9,10,null,"Total"]
["HD",null,null,null,null,null,null,null,null,null,null,null,{"$f":"SUM(B9:K9)","v":0},null,{"$f":"IF(B9=\"M\",10)","v":false},{"$f":"IF(C9=\"M\",10)","v":false},false,false,false,false,false,false,false,false,{"$f":"SUM(O9:X9)","v":0}]
[]
["ND",null,null,null,null,null,null,null,null,null,null,null,{"$f":"SUM(B11:K11)","v":0},null,{"$f":"IF(B11=\"M\",10)","v":false},{"$f":"IF(C11=\"M\",10)","v":false},false,false,false,false,false,false,false,false,{"$f":"SUM(O11:X11)","v":0}]
[null,"Keine Mouchen erfassen, nur Werte zwischen 1-10."]
[" HD",10,9,8,7,6,5,4,3,2,1]
["Anzahl",{"$f":"COUNTIF($B9:$K9,\"10\")","v":0},{"$f":"COUNTIF($B9:$K9,\"9\")","v":0},{"$f":"COUNTIF($B9:$K9,\"8\")","v":0},{"$f":"COUNTIF($B9:$K9,\"7\")","v":0},{"$f":"COUNTIF($B9:$K9,\"6\")","v":0},{"$f":"COUNTIF($B9:$K9,\"5\")","v":0},{"$f":"COUNTIF($B9:$K9,\"4\")","v":0},{"$f":"COUNTIF($B9:$K9,\"3\")","v":0},{"$f":"COUNTIF($B9:$K9,\"2\")","v":0},{"$f":"COUNTIF($B9:$K9,\"1\")","v":0}]
[]
["ND",10,9,8,7,6,5,4,3,2,1]
["Anzahl",{"$f":"COUNTIF($B11:$K11,\"10\")","v":0},{"$f":"COUNTIF($B11:$K11,\"9\")","v":0},{"$f":"COUNTIF($B11:$K11,\"8\")","v":0},{"$f":"COUNTIF($B11:$K11,\"7\")","v":0},{"$f":"COUNTIF($B11:$K11,\"6\")","v":0},{"$f":"COUNTIF($B11:$K11,\"5\")","v":0},{"$f":"COUNTIF($B11:$K11,\"4\")","v":0},{"$f":"COUNTIF($B11:$K11,\"3\")","v":0},{"$f":"COUNTIF($B11:$K11,\"2\")","v":0},{"$f":"COUNTIF($B11:$K11,\"1\")","v":0}]

{"sheet":"3","index":3,"n_rows":17,"n_cols":27,"rows_kept":17,"cut":false,"hidden":false,"merged":[[0,6,0,7],[0,2,0,5],[6,26,7,27],[4,11,4,12],[5,1,5,2]]}
[null,null,{"$f":"Startliste!D1","v":"Heimprogramm"},null,null,null,{"$f":"Startliste!F1","v":"2025-12-31"}]
[null,null,null,null,null,null,null,null,null,null,null,null,null,null,null,null,null,null,null,null,null,1]
[]
[]
["Name",{"$f":"_xlfn.XLOOKUP($M$6,Startliste!A:A,Startliste!C:C,\"\")","v":0},null,null,null,"Vorname",{"$f":"_xlfn.XLOOKUP($M$6,Startliste!A:A,Startliste!D:D,\"\")","v":0},null,null,"St.",{"$f":"_xlfn.XLOOKUP($M$6,Startliste!A:A,Startliste!G:G,\"\")","v":0},"Start-Nr.",null,null,null,null,null,null,null,null,null,null,null,null,null,null,"Lizenz-Nr."]
["Geburtstag",{"$f":"_xlfn.XLOOKUP($M$6,Startliste!A:A,Startliste!E:E,\"\")","v":"00:00:00"},null,null,null,"Sektion",{"$f":"_xlfn.XLOOKUP($M$6,Startliste!A:A,Startliste!F:F,\"\")","v":0},null,null,"Kat.",{"$f":"_xlfn.XLOOKUP($M$6,Startliste!A:A,Startliste!H:H,\"\")","v":0},null,3,null,null,null,null,null,null,null,null,null,null,null,null,null,{"$f":"_xlfn.XLOOKUP($M$6,Startliste!A:A,Startliste!B:B,\"\")","v":""}]
[null,null,null,null,null,null,null,null,null,null,null,null,null,null,null,null,null,null,null,null,null,null,null,null,null,null,"Karton-Nummer\nvon          bis"]
[null,1,2,3,4,5,6,7,8,9,10,null,"Total"]
["HD",null,null,null,null,null,null,null,null,null,null,null,{"$f":"SUM(B9:K9)","v":0},null,{"$f":"IF(B9=\"M\",10)","v":false},{"$f":"IF(C9=\"M\",10)","v":false},false,false,false,false,false,false,false,false,{"$f":"SUM(O9:X9)","v":0}]
[]
["ND",null,null,null,null,null,null,null,null,null,null,null,{"$f":"SUM(B11:K11)","v":0},null,{"$f":"IF(B11=\"M\",10)","v":false},{"$f":"IF(C11=\"M\",10)","v":false},false,false,false,false,false,false,false,false,{"$f":"SUM(O11:X11)","v":0}]
[null,"Keine Mouchen erfassen, nur Werte zwischen 1-10."]
[" HD",10,9,8,7,6,5,4,3,2,1]
["Anzahl",{"$f":"COUNTIF($B9:$K9,\"10\")","v":0},{"$f":"COUNTIF($B9:$K9,\"9\")","v":0},{"$f":"COUNTIF($B9:$K9,\"8\")","v":0},{"$f":"COUNTIF($B9:$K9,\"7\")","v":0},{"$f":"COUNTIF($B9:$K9,\"6\")","v":0},{"$f":"COUNTIF($B9:$K9,\"5\")","v":0},{"$f":"COUNTIF($B9:$K9,\"4\")","v":0},{"$f":"COUNTIF($B9:$K9,\"3\")","v":0},{"$f":"COUNTIF($B9:$K9,\"2\")","v":0},{"$f":"COUNTIF($B9:$K9,\"1\")","v":0}]
[]
["ND",10,9,8,7,6,5,4,3,2,1]
["Anzahl",{"$f":"COUNTIF($B11:$K11,\"10\")","v":0},{"$f":"COUNTIF($B11:$K11,\"9\")","v":0},{"$f":"COUNTIF($B11:$K11,\"8\")","v":0},{"$f":"COUNTIF($B11:$K11,\"7\")","v":0},{"$f":"COUNTIF($B11:$K11,\"6\")","v":0},{"$f":"COUNTIF($B11:$K11,\"5\")","v":0},{"$f":"COUNTIF($B11:$K11,\"4\")","v":0},{"$f":"COUNTIF($B11:$K11,\"3\")","v":0},{"$f":"COUNTIF($B11:$K11,\"2\")","v":0},{"$f":"COUNTIF($B11:$K11,\"1\")","v":0}]

{"sheet":"4","index":4,"n_rows":17,"n_cols":27,"rows_kept":17,"cut":false,"hidden":false,"merged":[[0,6,0,7],[0,2,0,5],[6,26,7,27],[4,11,4,12],[5,1,5,2]]}
[null,null,{"$f":"Startliste!D1","v":"Heimprogramm"},null,null,null,{"$f":"Startliste!F1","v":"2025-12-31"}]
[null,null,null,null,null,null,null,null,null,null,null,null,null,null,null,null,null,null,null,null,null,1]
[]
[]
["Name",{"$f":"_xlfn.XLOOKUP($M$6,Startliste!A:A,Startliste!C:C,\"\")","v":0},null,null,null,"Vorname",{"$f":"_xlfn.XLOOKUP($M$6,Startliste!A:A,Startliste!D:D,\"\")","v":0},null,null,"St.",{"$f":"_xlfn.XLOOKUP($M$6,Startliste!A:A,Startliste!G:G,\"\")","v":0},"Start-Nr.",null,null,null,null,null,null,null,null,null,null,null,null,null,null,"Lizenz-Nr."]
["Geburtstag",{"$f":"_xlfn.XLOOKUP($M$6,Startliste!A:A,Startliste!E:E,\"\")","v":"00:00:00"},null,null,null,"Sektion",{"$f":"_xlfn.XLOOKUP($M$6,Startliste!A:A,Startliste!F:F,\"\")","v":0},null,null,"Kat.",{"$f":"_xlfn.XLOOKUP($M$6,Startliste!A:A,Startliste!H:H,\"\")","v":0},null,4,null,null,null,null,null,null,null,null,null,null,null,null,null,{"$f":"_xlfn.XLOOKUP($M$6,Startliste!A:A,Startliste!B:B,\"\")","v":""}]
[null,null,null,null,null,null,null,null,null,null,null,null,null,null,null,null,null,null,null,null,null,null,null,null,null,null,"Karton-Nummer\nvon          bis"]
[null,1,2,3,4,5,6,7,8,9,10,null,"Total"]
["HD",null,null,null,null,null,null,null,null,null,null,null,{"$f":"SUM(B9:K9)","v":0},null,{"$f":"IF(B9=\"M\",10)","v":false},{"$f":"IF(C9=\"M\",10)","v":false},false,false,false,false,false,false,false,false,{"$f":"SUM(O9:X9)","v":0}]
[]
["ND",null,null,null,null,null,null,null,null,null,null,null,{"$f":"SUM(B11:K11)","v":0},null,{"$f":"IF(B11=\"M\",10)","v":false},{"$f":"IF(C11=\"M\",10)","v":false},false,false,false,false,false,false,false,false,{"$f":"SUM(O11:X11)","v":0}]
[null,"Keine Mouchen erfassen, nur Werte zwischen 1-10."]
[" HD",10,9,8,7,6,5,4,3,2,1]
["Anzahl",{"$f":"COUNTIF($B9:$K9,\"10\")","v":0},{"$f":"COUNTIF($B9:$K9,\"9\")","v":0},{"$f":"COUNTIF($B9:$K9,\"8\")","v":0},{"$f":"COUNTIF($B9:$K9,\"7\")","v":0},{"$f":"COUNTIF($B9:$K9,\"6\")","v":0},{"$f":"COUNTIF($B9:$K9,\"5\")","v":0},{"$f":"COUNTIF($B9:$K9,\"4\")","v":0},{"$f":"COUNTIF($B9:$K9,\"3\")","v":0},{"$f":"COUNTIF($B9:$K9,\"2\")","v":0},{"$f":"COUNTIF($B9:$K9,\"1\")","v":0}]
[]
["ND",10,9,8,7,6,5,4,3,2,1]
["Anzahl",{"$f":"COUNTIF($B11:$K11,\"10\")","v":0},{"$f":"COUNTIF($B11:$K11,\"9\")","v":0},{"$f":"COUNTIF($B11:$K11,\"8\")","v":0},{"$f":"COUNTIF($B11:$K11,\"7\")","v":0},{"$f":"COUNTIF($B11:$K11,\"6\")","v":0},{"$f":"COUNTIF($B11:$K11,\"5\")","v":0},{"$f":"COUNTIF($B11:$K11,\"4\")","v":0},{"$f":"COUNTIF($B11:$K11,\"3\")","v":0},{"$f":"COUNTIF($B11:$K11,\"2\")","v":0},{"$f":"COUNTIF($B11:$K11,\"1\")","v":0}]

{"sheet":"5","index":5,"n_rows":17,"n_cols":27,"rows_kept":17,"cut":false,"hidden":false,"merged":[[0,6,0,7],[0,2,0,5],[6,26,7,27],[4,11,4,12],[5,1,5,2]]}
[null,null,{"$f":"Startliste!D1","v":"Heimprogramm"},null,null,null,{"$f":"Startliste!F1","v":"2025-12-31"}]
[null,null,null,null,null,null,null,null,null,null,null,null,null,null,null,null,null,null,null,null,null,1]
[]
[]
["Name",{"$f":"_xlfn.XLOOKUP($M$6,Startliste!A:A,Startliste!C:C,\"\")","v":0},null,null,null,"Vorname",{"$f":"_xlfn.XLOOKUP($M$6,Startliste!A:A,Startliste!D:D,\"\")","v":0},null,null,"St.",{"$f":"_xlfn.XLOOKUP($M$6,Startliste!A:A,Startliste!G:G,\"\")","v":0},"Start-Nr.",null,null,null,null,null,null,null,null,null,null,null,null,null,null,"Lizenz-Nr."]
["Geburtstag",{"$f":"_xlfn.XLOOKUP($M$6,Startliste!A:A,Startliste!E:E,\"\")","v":"00:00:00"},null,null,null,"Sektion",{"$f":"_xlfn.XLOOKUP($M$6,Startliste!A:A,Startliste!F:F,\"\")","v":0},null,null,"Kat.",{"$f":"_xlfn.XLOOKUP($M$6,Startliste!A:A,Startliste!H:H,\"\")","v":0},null,5,null,null,null,null,null,null,null,null,null,null,null,null,null,{"$f":"_xlfn.XLOOKUP($M$6,Startliste!A:A,Startliste!B:B,\"\")","v":""}]
[null,null,null,null,null,null,null,null,null,null,null,null,null,null,null,null,null,null,null,null,null,null,null,null,null,null,"Karton-Nummer\nvon          bis"]
[null,1,2,3,4,5,6,7,8,9,10,null,"Total"]
["HD",null,null,null,null,null,null,null,null,null,null,null,{"$f":"SUM(B9:K9)","v":0},null,{"$f":"IF(B9=\"M\",10)","v":false},{"$f":"IF(C9=\"M\",10)","v":false},false,false,false,false,false,false,false,false,{"$f":"SUM(O9:X9)","v":0}]
[]
["ND",null,null,null,null,null,null,null,null,null,null,null,{"$f":"SUM(B11:K11)","v":0},null,{"$f":"IF(B11=\"M\",10)","v":false},{"$f":"IF(C11=\"M\",10)","v":false},false,false,false,false,false,false,false,false,{"$f":"SUM(O11:X11)","v":0}]
[null,"Keine Mouchen erfassen, nur Werte zwischen 1-10."]
[" HD",10,9,8,7,6,5,4,3,2,1]
["Anzahl",{"$f":"COUNTIF($B9:$K9,\"10\")","v":0},{"$f":"COUNTIF($B9:$K9,\"9\")","v":0},{"$f":"COUNTIF($B9:$K9,\"8\")","v":0},{"$f":"COUNTIF($B9:$K9,\"7\")","v":0},{"$f":"COUNTIF($B9:$K9,\"6\")","v":0},{"$f":"COUNTIF($B9:$K9,\"5\")","v":0},{"$f":"COUNTIF($B9:$K9,\"4\")","v":0},{"$f":"COUNTIF($B9:$K9,\"3\")","v":0},{"$f":"COUNTIF($B9:$K9,\"2\")","v":0},{"$f":"COUNTIF($B9:$K9,\"1\")","v":0}]
[]
["ND",10,9,8,7,6,5,4,3,2,1]
["Anzahl",{"$f":"COUNTIF($B11:$K11,\"10\")","v":0},{"$f":"COUNTIF($B11:$K11,\"9\")","v":0},{"$f":"COUNTIF($B11:$K11,\"8\")","v":0},{"$f":"COUNTIF($B11:$K11,\"7\")","v":0},{"$f":"COUNTIF($B11:$K11,\"6\")","v":0},{"$f":"COUNTIF($B11:$K11,\"5\")","v":0},{"$f":"COUNTIF($B11:$K11,\"4\")","v":0},{"$f":"COUNTIF($B11:$K11,\"3\")","v":0},{"$f":"COUNTIF($B11:$K11,\"2\")","v":0},{"$f":"COUNTIF($B11:$K11,\"1\")","v":0}]

{"sheet":"6","index":6,"n_rows":17,"n_cols":27,"rows_kept":17,"cut":false,"hidden":false,"merged":[[0,6,0,7],[0,2,0,5],[6,26,7,27],[4,11,4,12],[5,1,5,2]]}
[null,null,{"$f":"Startliste!D1","v":"Heimprogramm"},null,null,null,{"$f":"Startliste!F1","v":"2025-12-31"}]
[null,null,null,null,null,null,null,null,null,null,null,null,null,null,null,null,null,null,null,null,null,1]
[]
[]
["Name",{"$f":"_xlfn.XLOOKUP($M$6,Startliste!A:A,Startliste!C:C,\"\")","v":0},null,null,null,"Vorname",{"$f":"_xlfn.XLOOKUP($M$6,Startliste!A:A,Startliste!D:D,\"\")","v":0},null,null,"St.",{"$f":"_xlfn.XLOOKUP($M$6,Startliste!A:A,Startliste!G:G,\"\")","v":0},"Start-Nr.",null,null,null,null,null,null,null,null,null,null,null,null,null,null,"Lizenz-Nr."]
["Geburtstag",{"$f":"_xlfn.XLOOKUP($M$6,Startliste!A:A,Startliste!E:E,\"\")","v":"00:00:00"},null,null,null,"Sektion",{"$f":"_xlfn.XLOOKUP($M$6,Startliste!A:A,Startliste!F:F,\"\")","v":0},null,null,"Kat.",{"$f":"_xlfn.XLOOKUP($M$6,Startliste!A:A,Startliste!H:H,\"\")","v":0},null,6,null,null,null,null,null,null,null,null,null,null,null,null,null,{"$f":"_xlfn.XLOOKUP($M$6,Startliste!A:A,Startliste!B:B,\"\")","v":""}]
[null,null,null,null,null,null,null,null,null,null,null,null,null,null,null,null,null,null,null,null,null,null,null,null,null,null,"Karton-Nummer\nvon          bis"]
[null,1,2,3,4,5,6,7,8,9,10,null,"Total"]
["HD",null,null,null,null,null,null,null,null,null,null,null,{"$f":"SUM(B9:K9)","v":0},null,{"$f":"IF(B9=\"M\",10)","v":false},{"$f":"IF(C9=\"M\",10)","v":false},false,false,false,false,false,false,false,false,{"$f":"SUM(O9:X9)","v":0}]
[]
["ND",null,null,null,null,null,null,null,null,null,null,null,{"$f":"SUM(B11:K11)","v":0},null,{"$f":"IF(B11=\"M\",10)","v":false},{"$f":"IF(C11=\"M\",10)","v":false},false,false,false,false,false,false,false,false,{"$f":"SUM(O11:X11)","v":0}]
[null,"Keine Mouchen erfassen, nur Werte zwischen 1-10."]
[" HD",10,9,8,7,6,5,4,3,2,1]
["Anzahl",{"$f":"COUNTIF($B9:$K9,\"10\")","v":0},{"$f":"COUNTIF($B9:$K9,\"9\")","v":0},{"$f":"COUNTIF($B9:$K9,\"8\")","v":0},{"$f":"COUNTIF($B9:$K9,\"7\")","v":0},{"$f":"COUNTIF($B9:$K9,\"6\")","v":0},{"$f":"COUNTIF($B9:$K9,\"5\")","v":0},{"$f":"COUNTIF($B9:$K9,\"4\")","v":0},{"$f":"COUNTIF($B9:$K9,\"3\")","v":0},{"$f":"COUNTIF($B9:$K9,\"2\")","v":0},{"$f":"COUNTIF($B9:$K9,\"1\")","v":0}]
[]
["ND",10,9,8,7,6,5,4,3,2,1]
["Anzahl",{"$f":"COUNTIF($B11:$K11,\"10\")","v":0},{"$f":"COUNTIF($B11:$K11,\"9\")","v":0},{"$f":"COUNTIF($B11:$K11,\"8\")","v":0},{"$f":"COUNTIF($B11:$K11,\"7\")","v":0},{"$f":"COUNTIF($B11:$K11,\"6\")","v":0},{"$f":"COUNTIF($B11:$K11,\"5\")","v":0},{"$f":"COUNTIF($B11:$K11,\"4\")","v":0},{"$f":"COUNTIF($B11:$K11,\"3\")","v":0},{"$f":"COUNTIF($B11:$K11,\"2\")","v":0},{"$f":"COUNTIF($B11:$K11,\"1\")","v":0}]

{"sheet":"7","index":7,"n_rows":17,"n_cols":27,"rows_kept":17,"cut":false,"hidden":false,"merged":[[0,6,0,7],[0,2,0,5],[6,26,7,27],[4,11,4,12],[5,1,5,2]]}
[null,null,{"$f":"Startliste!D1","v":"Heimprogramm"},null,null,null,{"$f":"Startliste!F1","v":"2025-12-31"}]
[null,null,null,null,null,null,null,null,null,null,null,null,null,null,null,null,null,null,null,null,null,1]
[]
[]
["Name",{"$f":"_xlfn.XLOOKUP($M$6,Startliste!A:A,Startliste!C:C,\"\")","v":0},null,null,null,"Vorname",{"$f":"_xlfn.XLOOKUP($M$6,Startliste!A:A,Startliste!D:D,\"\")","v":0},null,null,"St.",{"$f":"_xlfn.XLOOKUP($M$6,Startliste!A:A,Startliste!G:G,\"\")","v":0},"Start-Nr.",null,null,null,null,null,null,null,null,null,null,null,null,null,null,"Lizenz-Nr."]
["Geburtstag",{"$f":"_xlfn.XLOOKUP($M$6,Startliste!A:A,Startliste!E:E,\"\")","v":"00:00:00"},null,null,null,"Sektion",{"$f":"_xlfn.XLOOKUP($M$6,Startliste!A:A,Startliste!F:F,\"\")","v":0},null,null,"Kat.",{"$f":"_xlfn.XLOOKUP($M$6,Startliste!A:A,Startliste!H:H,\"\")","v":0},null,7,null,null,null,null,null,null,null,null,null,null,null,null,null,{"$f":"_xlfn.XLOOKUP($M$6,Startliste!A:A,Startliste!B:B,\"\")","v":""}]
[null,null,null,null,null,null,null,null,null,null,null,null,null,null,null,null,null,null,null,null,null,null,null,null,null,null,"Karton-Nummer\nvon          bis"]
[null,1,2,3,4,5,6,7,8,9,10,null,"Total"]
["HD",null,null,null,null,null,null,null,null,null,null,null,{"$f":"SUM(B9:K9)","v":0},null,{"$f":"IF(B9=\"M\",10)","v":false},{"$f":"IF(C9=\"M\",10)","v":false},false,false,false,false,false,false,false,false,{"$f":"SUM(O9:X9)","v":0}]
[]
["ND",null,null,null,null,null,null,null,null,null,null,null,{"$f":"SUM(B11:K11)","v":0},null,{"$f":"IF(B11=\"M\",10)","v":false},{"$f":"IF(C11=\"M\",10)","v":false},false,false,false,false,false,false,false,false,{"$f":"SUM(O11:X11)","v":0}]
[null,"Keine Mouchen erfassen, nur Werte zwischen 1-10."]
[" HD",10,9,8,7,6,5,4,3,2,1]
["Anzahl",{"$f":"COUNTIF($B9:$K9,\"10\")","v":0},{"$f":"COUNTIF($B9:$K9,\"9\")","v":0},{"$f":"COUNTIF($B9:$K9,\"8\")","v":0},{"$f":"COUNTIF($B9:$K9,\"7\")","v":0},{"$f":"COUNTIF($B9:$K9,\"6\")","v":0},{"$f":"COUNTIF($B9:$K9,\"5\")","v":0},{"$f":"COUNTIF($B9:$K9,\"4\")","v":0},{"$f":"COUNTIF($B9:$K9,\"3\")","v":0},{"$f":"COUNTIF($B9:$K9,\"2\")","v":0},{"$f":"COUNTIF($B9:$K9,\"1\")","v":0}]
[]
["ND",10,9,8,7,6,5,4,3,2,1]
["Anzahl",{"$f":"COUNTIF($B11:$K11,\"10\")","v":0},{"$f":"COUNTIF($B11:$K11,\"9\")","v":0},{"$f":"COUNTIF($B11:$K11,\"8\")","v":0},{"$f":"COUNTIF($B11:$K11,\"7\")","v":0},{"$f":"COUNTIF($B11:$K11,\"6\")","v":0},{"$f":"COUNTIF($B11:$K11,\"5\")","v":0},{"$f":"COUNTIF($B11:$K11,\"4\")","v":0},{"$f":"COUNTIF($B11:$K11,\"3\")","v":0},{"$f":"COUNTIF($B11:$K11,\"2\")","v":0},{"$f":"COUNTIF($B11:$K11,\"1\")","v":0}]

{"sheet":"8","index":8,"n_rows":17,"n_cols":27,"rows_kept":17,"cut":false,"hidden":false,"merged":[[0,6,0,7],[0,2,0,5],[6,26,7,27],[4,11,4,12],[5,1,5,2]]}
[null,null,{"$f":"Startliste!D1","v":"Heimprogramm"},null,null,null,{"$f":"Startliste!F1","v":"2025-12-31"}]
[null,null,null,null,null,null,null,null,null,null,null,null,null,null,null,null,null,null,null,null,null,1]
[]
[]
["Name",{"$f":"_xlfn.XLOOKUP($M$6,Startliste!A:A,Startliste!C:C,\"\")","v":0},null,null,null,"Vorname",{"$f":"_xlfn.XLOOKUP($M$6,Startliste!A:A,Startliste!D:D,\"\")","v":0},null,null,"St.",{"$f":"_xlfn.XLOOKUP($M$6,Startliste!A:A,Startliste!G:G,\"\")","v":0},"Start-Nr.",null,null,null,null,null,null,null,null,null,null,null,null,null,null,"Lizenz-Nr."]
["Geburtstag",{"$f":"_xlfn.XLOOKUP($M$6,Startliste!A:A,Startliste!E:E,\"\")","v":"00:00:00"},null,null,null,"Sektion",{"$f":"_xlfn.XLOOKUP($M$6,Startliste!A:A,Startliste!F:F,\"\")","v":0},null,null,"Kat.",{"$f":"_xlfn.XLOOKUP($M$6,Startliste!A:A,Startliste!H:H,\"\")","v":0},null,8,null,null,null,null,null,null,null,null,null,null,null,null,null,{"$f":"_xlfn.XLOOKUP($M$6,Startliste!A:A,Startliste!B:B,\"\")","v":""}]
[null,null,null,null,null,null,null,null,null,null,null,null,null,null,null,null,null,null,null,null,null,null,null,null,null,null,"Karton-Nummer\nvon          bis"]
[null,1,2,3,4,5,6,7,8,9,10,null,"Total"]
["HD",null,null,null,null,null,null,null,null,null,null,null,{"$f":"SUM(B9:K9)","v":0},null,{"$f":"IF(B9=\"M\",10)","v":false},{"$f":"IF(C9=\"M\",10)","v":false},false,false,false,false,false,false,false,false,{"$f":"SUM(O9:X9)","v":0}]
[]
["ND",null,null,null,null,null,null,null,null,null,null,null,{"$f":"SUM(B11:K11)","v":0},null,{"$f":"IF(B11=\"M\",10)","v":false},{"$f":"IF(C11=\"M\",10)","v":false},false,false,false,false,false,false,false,false,{"$f":"SUM(O11:X11)","v":0}]
[null,"Keine Mouchen erfassen, nur Werte zwischen 1-10."]
[" HD",10,9,8,7,6,5,4,3,2,1]
["Anzahl",{"$f":"COUNTIF($B9:$K9,\"10\")","v":0},{"$f":"COUNTIF($B9:$K9,\"9\")","v":0},{"$f":"COUNTIF($B9:$K9,\"8\")","v":0},{"$f":"COUNTIF($B9:$K9,\"7\")","v":0},{"$f":"COUNTIF($B9:$K9,\"6\")","v":0},{"$f":"COUNTIF($B9:$K9,\"5\")","v":0},{"$f":"COUNTIF($B9:$K9,\"4\")","v":0},{"$f":"COUNTIF($B9:$K9,\"3\")","v":0},{"$f":"COUNTIF($B9:$K9,\"2\")","v":0},{"$f":"COUNTIF($B9:$K9,\"1\")","v":0}]
[]
["ND",10,9,8,7,6,5,4,3,2,1]
["Anzahl",{"$f":"COUNTIF($B11:$K11,\"10\")","v":0},{"$f":"COUNTIF($B11:$K11,\"9\")","v":0},{"$f":"COUNTIF($B11:$K11,\"8\")","v":0},{"$f":"COUNTIF($B11:$K11,\"7\")","v":0},{"$f":"COUNTIF($B11:$K11,\"6\")","v":0},{"$f":"COUNTIF($B11:$K11,\"5\")","v":0},{"$f":"COUNTIF($B11:$K11,\"4\")","v":0},{"$f":"COUNTIF($B11:$K11,\"3\")","v":0},{"$f":"COUNTIF($B11:$K11,\"2\")","v":0},{"$f":"COUNTIF($B11:$K11,\"1\")","v":0}]

{"sheet":"9","index":9,"n_rows":17,"n_cols":27,"rows_kept":17,"cut":false,"hidden":false,"merged":[[0,6,0,7],[0,2,0,5],[6,26,7,27],[4,11,4,12],[5,1,5,2]]}
[null,null,{"$f":"Startliste!D1","v":"Heimprogramm"},null,null,null,{"$f":"Startliste!F1","v":"2025-12-31"}]
[null,null,null,null,null,null,null,null,null,null,null,null,null,null,null,null,null,null,null,null,null,1]
[]
[]
["Name",{"$f":"_xlfn.XLOOKUP($M$6,Startliste!A:A,Startliste!C:C,\"\")","v":0},null,null,null,"Vorname",{"$f":"_xlfn.XLOOKUP($M$6,Startliste!A:A,Startliste!D:D,\"\")","v":0},null,null,"St.",{"$f":"_xlfn.XLOOKUP($M$6,Startliste!A:A,Startliste!G:G,\"\")","v":0},"Start-Nr.",null,null,null,null,null,null,null,null,null,null,null,null,null,null,"Lizenz-Nr."]
["Geburtstag",{"$f":"_xlfn.XLOOKUP($M$6,Startliste!A:A,Startliste!E:E,\"\")","v":"00:00:00"},null,null,null,"Sektion",{"$f":"_xlfn.XLOOKUP($M$6,Startliste!A:A,Startliste!F:F,\"\")","v":0},null,null,"Kat.",{"$f":"_xlfn.XLOOKUP($M$6,Startliste!A:A,Startliste!H:H,\"\")","v":0},null,9,null,null,null,null,null,null,null,null,null,null,null,null,null,{"$f":"_xlfn.XLOOKUP($M$6,Startliste!A:A,Startliste!B:B,\"\")","v":""}]
[null,null,null,null,null,null,null,null,null,null,null,null,null,null,null,null,null,null,null,null,null,null,null,null,null,null,"Karton-Nummer\nvon          bis"]
[null,1,2,3,4,5,6,7,8,9,10,null,"Total"]
["HD",null,null,null,null,null,null,null,null,null,null,null,{"$f":"SUM(B9:K9)","v":0},null,{"$f":"IF(B9=\"M\",10)","v":false},{"$f":"IF(C9=\"M\",10)","v":false},false,false,false,false,false,false,false,false,{"$f":"SUM(O9:X9)","v":0}]
[]
["ND",null,null,null,null,null,null,null,null,null,null,null,{"$f":"SUM(B11:K11)","v":0},null,{"$f":"IF(B11=\"M\",10)","v":false},{"$f":"IF(C11=\"M\",10)","v":false},false,false,false,false,false,false,false,false,{"$f":"SUM(O11:X11)","v":0}]
[null,"Keine Mouchen erfassen, nur Werte zwischen 1-10."]
[" HD",10,9,8,7,6,5,4,3,2,1]
["Anzahl",{"$f":"COUNTIF($B9:$K9,\"10\")","v":0},{"$f":"COUNTIF($B9:$K9,\"9\")","v":0},{"$f":"COUNTIF($B9:$K9,\"8\")","v":0},{"$f":"COUNTIF($B9:$K9,\"7\")","v":0},{"$f":"COUNTIF($B9:$K9,\"6\")","v":0},{"$f":"COUNTIF($B9:$K9,\"5\")","v":0},{"$f":"COUNTIF($B9:$K9,\"4\")","v":0},{"$f":"COUNTIF($B9:$K9,\"3\")","v":0},{"$f":"COUNTIF($B9:$K9,\"2\")","v":0},{"$f":"COUNTIF($B9:$K9,\"1\")","v":0}]
[]
["ND",10,9,8,7,6,5,4,3,2,1]
["Anzahl",{"$f":"COUNTIF($B11:$K11,\"10\")","v":0},{"$f":"COUNTIF($B11:$K11,\"9\")","v":0},{"$f":"COUNTIF($B11:$K11,\"8\")","v":0},{"$f":"COUNTIF($B11:$K11,\"7\")","v":0},{"$f":"COUNTIF($B11:$K11,\"6\")","v":0},{"$f":"COUNTIF($B11:$K11,\"5\")","v":0},{"$f":"COUNTIF($B11:$K11,\"4\")","v":0},{"$f":"COUNTIF($B11:$K11,\"3\")","v":0},{"$f":"COUNTIF($B11:$K11,\"2\")","v":0},{"$f":"COUNTIF($B11:$K11,\"1\")","v":0}]

{"sheet":"10","index":10,"n_rows":17,"n_cols":27,"rows_kept":17,"cut":false,"hidden":false,"merged":[[0,6,0,7],[0,2,0,5],[6,26,7,27],[4,11,4,12],[5,1,5,2]]}
[null,null,{"$f":"Startliste!D1","v":"Heimprogramm"},null,null,null,{"$f":"Startliste!F1","v":"2025-12-31"}]
[null,null,null,null,null,null,null,null,null,null,null,null,null,null,null,null,null,null,null,null,null,1]
[]
[]
["Name",{"$f":"_xlfn.XLOOKUP($M$6,Startliste!A:A,Startliste!C:C,\"\")","v":0},null,null,null,"Vorname",{"$f":"_xlfn.XLOOKUP($M$6,Startliste!A:A,Startliste!D:D,\"\")","v":0},null,null,"St.",{"$f":"_xlfn.XLOOKUP($M$6,Startliste!A:A,Startliste!G:G,\"\")","v":0},"Start-Nr.",null,null,null,null,null,null,null,null,null,null,null,null,null,null,"Lizenz-Nr."]
["Geburtstag",{"$f":"_xlfn.XLOOKUP($M$6,Startliste!A:A,Startliste!E:E,\"\")","v":"00:00:00"},null,null,null,"Sektion",{"$f":"_xlfn.XLOOKUP($M$6,Startliste!A:A,Startliste!F:F,\"\")","v":0},null,null,"Kat.",{"$f":"_xlfn.XLOOKUP($M$6,Startliste!A:A,Startliste!H:H,\"\")","v":0},null,10,null,null,null,null,null,null,null,null,null,null,null,null,null,{"$f":"_xlfn.XLOOKUP($M$6,Startliste!A:A,Startliste!B:B,\"\")","v":""}]
[null,null,null,null,null,null,null,null,null,null,null,null,null,null,null,null,null,null,null,null,null,null,null,null,null,null,"Karton-Nummer\nvon          bis"]
[null,1,2,3,4,5,6,7,8,9,10,null,"Total"]
["HD",null,null,null,null,null,null,null,null,null,null,null,{"$f":"SUM(B9:K9)","v":0},null,{"$f":"IF(B9=\"M\",10)","v":false},{"$f":"IF(C9=\"M\",10)","v":false},false,false,false,false,false,false,false,false,{"$f":"SUM(O9:X9)","v":0}]
[]
["ND",null,null,null,null,null,null,null,null,null,null,null,{"$f":"SUM(B11:K11)","v":0},null,{"$f":"IF(B11=\"M\",10)","v":false},{"$f":"IF(C11=\"M\",10)","v":false},false,false,false,false,false,false,false,false,{"$f":"SUM(O11:X11)","v":0}]
[null,"Keine Mouchen erfassen, nur Werte zwischen 1-10."]
[" HD",10,9,8,7,6,5,4,3,2,1]
["Anzahl",{"$f":"COUNTIF($B9:$K9,\"10\")","v":0},{"$f":"COUNTIF($B9:$K9,\"9\")","v":0},{"$f":"COUNTIF($B9:$K9,\"8\")","v":0},{"$f":"COUNTIF($B9:$K9,\"7\")","v":0},{"$f":"COUNTIF($B9:$K9,\"6\")","v":0},{"$f":"COUNTIF($B9:$K9,\"5\")","v":0},{"$f":"COUNTIF($B9:$K9,\"4\")","v":0},{"$f":"COUNTIF($B9:$K9,\"3\")","v":0},{"$f":"COUNTIF($B9:$K9,\"2\")","v":0},{"$f":"COUNTIF($B9:$K9,\"1\")","v":0}]
[]
["ND",10,9,8,7,6,5,4,3,2,1]
["Anzahl",{"$f":"COUNTIF($B11:$K11,\"10\")","v":0},{"$f":"COUNTIF($B11:$K11,\"9\")","v":0},{"$f":"COUNTIF($B11:$K11,\"8\")","v":0},{"$f":"COUNTIF($B11:$K11,\"7\")","v":0},{"$f":"COUNTIF($B11:$K11,\"6\")","v":0},{"$f":"COUNTIF($B11:$K11,\"5\")","v":0},{"$f":"COUNTIF($B11:$K11,\"4\")","v":0},{"$f":"COUNTIF($B11:$K11,\"3\")","v":0},{"$f":"COUNTIF($B11:$K11,\"2\")","v":0},{"$f":"COUNTIF($B11:$K11,\"1\")","v":0}]

{"sheet":"11","index":11,"n_rows":17,"n_cols":27,"rows_kept":17,"cut":false,"hidden":false,"merged":[[0,6,0,7],[0,2,0,5],[6,26,7,27],[4,11,4,12],[5,1,5,2]]}
[null,null,{"$f":"Startliste!D1","v":"Heimprogramm"},null,null,null,{"$f":"Startliste!F1","v":"2025-12-31"}]
[null,null,null,null,null,null,null,null,null,null,null,null,null,null,null,null,null,null,null,null,null,1]
[]
[]
["Name",{"$f":"_xlfn.XLOOKUP($M$6,Startliste!A:A,Startliste!C:C,\"\")","v":0},null,null,null,"Vorname",{"$f":"_xlfn.XLOOKUP($M$6,Startliste!A:A,Startliste!D:D,\"\")","v":0},null,null,"St.",{"$f":"_xlfn.XLOOKUP($M$6,Startliste!A:A,Startliste!G:G,\"\")","v":0},"Start-Nr.",null,null,null,null,null,null,null,null,null,null,null,null,null,null,"Lizenz-Nr."]
["Geburtstag",{"$f":"_xlfn.XLOOKUP($M$6,Startliste!A:A,Startliste!E:E,\"\")","v":"00:00:00"},null,null,null,"Sektion",{"$f":"_xlfn.XLOOKUP($M$6,Startliste!A:A,Startliste!F:F,\"\")","v":0},null,null,"Kat.",{"$f":"_xlfn.XLOOKUP($M$6,Startliste!A:A,Startliste!H:H,\"\")","v":0},null,11,null,null,null,null,null,null,null,null,null,null,null,null,null,{"$f":"_xlfn.XLOOKUP($M$6,Startliste!A:A,Startliste!B:B,\"\")","v":""}]
[null,null,null,null,null,null,null,null,null,null,null,null,null,null,null,null,null,null,null,null,null,null,null,null,null,null,"Karton-Nummer\nvon          bis"]
[null,1,2,3,4,5,6,7,8,9,10,null,"Total"]
["HD",null,null,null,null,null,null,null,null,null,null,null,{"$f":"SUM(B9:K9)","v":0},null,{"$f":"IF(B9=\"M\",10)","v":false},{"$f":"IF(C9=\"M\",10)","v":false},false,false,false,false,false,false,false,false,{"$f":"SUM(O9:X9)","v":0}]
[]
["ND",null,null,null,null,null,null,null,null,null,null,null,{"$f":"SUM(B11:K11)","v":0},null,{"$f":"IF(B11=\"M\",10)","v":false},{"$f":"IF(C11=\"M\",10)","v":false},false,false,false,false,false,false,false,false,{"$f":"SUM(O11:X11)","v":0}]
[null,"Keine Mouchen erfassen, nur Werte zwischen 1-10."]
[" HD",10,9,8,7,6,5,4,3,2,1]
["Anzahl",{"$f":"COUNTIF($B9:$K9,\"10\")","v":0},{"$f":"COUNTIF($B9:$K9,\"9\")","v":0},{"$f":"COUNTIF($B9:$K9,\"8\")","v":0},{"$f":"COUNTIF($B9:$K9,\"7\")","v":0},{"$f":"COUNTIF($B9:$K9,\"6\")","v":0},{"$f":"COUNTIF($B9:$K9,\"5\")","v":0},{"$f":"COUNTIF($B9:$K9,\"4\")","v":0},{"$f":"COUNTIF($B9:$K9,\"3\")","v":0},{"$f":"COUNTIF($B9:$K9,\"2\")","v":0},{"$f":"COUNTIF($B9:$K9,\"1\")","v":0}]
[]
["ND",10,9,8,7,6,5,4,3,2,1]
["Anzahl",{"$f":"COUNTIF($B11:$K11,\"10\")","v":0},{"$f":"COUNTIF($B11:$K11,\"9\")","v":0},{"$f":"COUNTIF($B11:$K11,\"8\")","v":0},{"$f":"COUNTIF($B11:$K11,\"7\")","v":0},{"$f":"COUNTIF($B11:$K11,\"6\")","v":0},{"$f":"COUNTIF($B11:$K11,\"5\")","v":0},{"$f":"COUNTIF($B11:$K11,\"4\")","v":0},{"$f":"COUNTIF($B11:$K11,\"3\")","v":0},{"$f":"COUNTIF($B11:$K11,\"2\")","v":0},{"$f":"COUNTIF($B11:$K11,\"1\")","v":0}]

{"sheet":"12","index":12,"n_rows":17,"n_cols":27,"rows_kept":17,"cut":false,"hidden":false,"merged":[[0,6,0,7],[0,2,0,5],[6,26,7,27],[4,11,4,12],[5,1,5,2]]}
[null,null,{"$f":"Startliste!D1","v":"Heimprogramm"},null,null,null,{"$f":"Startliste!F1","v":"2025-12-31"}]
[null,null,null,null,null,null,null,null,null,null,null,null,null,null,null,null,null,null,null,null,null,1]
[]
[]
["Name",{"$f":"_xlfn.XLOOKUP($M$6,Startliste!A:A,Startliste!C:C,\"\")","v":0},null,null,null,"Vorname",{"$f":"_xlfn.XLOOKUP($M$6,Startliste!A:A,Startliste!D:D,\"\")","v":0},null,null,"St.",{"$f":"_xlfn.XLOOKUP($M$6,Startliste!A:A,Startliste!G:G,\"\")","v":0},"Start-Nr.",null,null,null,null,null,null,null,null,null,null,null,null,null,null,"Lizenz-Nr."]
["Geburtstag",{"$f":"_xlfn.XLOOKUP($M$6,Startliste!A:A,Startliste!E:E,\"\")","v":"00:00:00"},null,null,null,"Sektion",{"$f":"_xlfn.XLOOKUP($M$6,Startliste!A:A,Startliste!F:F,\"\")","v":0},null,null,"Kat.",{"$f":"_xlfn.XLOOKUP($M$6,Startliste!A:A,Startliste!H:H,\"\")","v":0},null,12,null,null,null,null,null,null,null,null,null,null,null,null,null,{"$f":"_xlfn.XLOOKUP($M$6,Startliste!A:A,Startliste!B:B,\"\")","v":""}]
[null,null,null,null,null,null,null,null,null,null,null,null,null,null,null,null,null,null,null,null,null,null,null,null,null,null,"Karton-Nummer\nvon          bis"]
[null,1,2,3,4,5,6,7,8,9,10,null,"Total"]
["HD",null,null,null,null,null,null,null,null,null,null,null,{"$f":"SUM(B9:K9)","v":0},null,{"$f":"IF(B9=\"M\",10)","v":false},{"$f":"IF(C9=\"M\",10)","v":false},false,false,false,false,false,false,false,false,{"$f":"SUM(O9:X9)","v":0}]
[]
["ND",null,null,null,null,null,null,null,null,null,null,null,{"$f":"SUM(B11:K11)","v":0},null,{"$f":"IF(B11=\"M\",10)","v":false},{"$f":"IF(C11=\"M\",10)","v":false},false,false,false,false,false,false,false,false,{"$f":"SUM(O11:X11)","v":0}]
[null,"Keine Mouchen erfassen, nur Werte zwischen 1-10."]
[" HD",10,9,8,7,6,5,4,3,2,1]
["Anzahl",{"$f":"COUNTIF($B9:$K9,\"10\")","v":0},{"$f":"COUNTIF($B9:$K9,\"9\")","v":0},{"$f":"COUNTIF($B9:$K9,\"8\")","v":0},{"$f":"COUNTIF($B9:$K9,\"7\")","v":0},{"$f":"COUNTIF($B9:$K9,\"6\")","v":0},{"$f":"COUNTIF($B9:$K9,\"5\")","v":0},{"$f":"COUNTIF($B9:$K9,\"4\")","v":0},{"$f":"COUNTIF($B9:$K9,\"3\")","v":0},{"$f":"COUNTIF($B9:$K9,\"2\")","v":0},{"$f":"COUNTIF($B9:$K9,\"1\")","v":0}]
[]
["ND",10,9,8,7,6,5,4,3,2,1]
["Anzahl",{"$f":"COUNTIF($B11:$K11,\"10\")","v":0},{"$f":"COUNTIF($B11:$K11,\"9\")","v":0},{"$f":"COUNTIF($B11:$K11,\"8\")","v":0},{"$f":"COUNTIF($B11:$K11,\"7\")","v":0},{"$f":"COUNTIF($B11:$K11,\"6\")","v":0},{"$f":"COUNTIF($B11:$K11,\"5\")","v":0},{"$f":"COUNTIF($B11:$K11,\"4\")","v":0},{"$f":"COUNTIF($B11:$K11,\"3\")","v":0},{"$f":"COUNTIF($B11:$K11,\"2\")","v":0},{"$f":"COUNTIF($B11:$K11,\"1\")","v":0}]

{"sheet":"13","index":13,"n_rows":17,"n_cols":27,"rows_kept":17,"cut":false,"hidden":false,"merged":[[0,6,0,7],[0,2,0,5],[6,26,7,27],[4,11,4,12],[5,1,5,2]]}
[null,null,{"$f":"Startliste!D1","v":"Heimprogramm"},null,null,null,{"$f":"Startliste!F1","v":"2025-12-31"}]
[null,null,null,null,null,null,null,null,null,null,null,null,null,null,null,null,null,null,null,null,null,1]
[]
[]
["Name",{"$f":"_xlfn.XLOOKUP($M$6,Startliste!A:A,Startliste!C:C,\"\")","v":0},null,null,null,"Vorname",{"$f":"_xlfn.XLOOKUP($M$6,Startliste!A:A,Startliste!D:D,\"\")","v":0},null,null,"St.",{"$f":"_xlfn.XLOOKUP($M$6,Startliste!A:A,Startliste!G:G,\"\")","v":0},"Start-Nr.",null,null,null,null,null,null,null,null,null,null,null,null,null,null,"Lizenz-Nr."]
["Geburtstag",{"$f":"_xlfn.XLOOKUP($M$6,Startliste!A:A,Startliste!E:E,\"\")","v":"00:00:00"},null,null,null,"Sektion",{"$f":"_xlfn.XLOOKUP($M$6,Startliste!A:A,Startliste!F:F,\"\")","v":0},null,null,"Kat.",{"$f":"_xlfn.XLOOKUP($M$6,Startliste!A:A,Startliste!H:H,\"\")","v":0},null,13,null,null,null,null,null,null,null,null,null,null,null,null,null,{"$f":"_xlfn.XLOOKUP($M$6,Startliste!A:A,Startliste!B:B,\"\")","v":""}]
[null,null,null,null,null,null,null,null,null,null,null,null,null,null,null,null,null,null,null,null,null,null,null,null,null,null,"Karton-Nummer\nvon          bis"]
[null,1,2,3,4,5,6,7,8,9,10,null,"Total"]
["HD",null,null,null,null,null,null,null,null,null,null,null,{"$f":"SUM(B9:K9)","v":0},null,{"$f":"IF(B9=\"M\",10)","v":false},{"$f":"IF(C9=\"M\",10)","v":false},false,false,false,false,false,false,false,false,{"$f":"SUM(O9:X9)","v":0}]
[]
["ND",null,null,null,null,null,null,null,null,null,null,null,{"$f":"SUM(B11:K11)","v":0},null,{"$f":"IF(B11=\"M\",10)","v":false},{"$f":"IF(C11=\"M\",10)","v":false},false,false,false,false,false,false,false,false,{"$f":"SUM(O11:X11)","v":0}]
[null,"Keine Mouchen erfassen, nur Werte zwischen 1-10."]
[" HD",10,9,8,7,6,5,4,3,2,1]
["Anzahl",{"$f":"COUNTIF($B9:$K9,\"10\")","v":0},{"$f":"COUNTIF($B9:$K9,\"9\")","v":0},{"$f":"COUNTIF($B9:$K9,\"8\")","v":0},{"$f":"COUNTIF($B9:$K9,\"7\")","v":0},{"$f":"COUNTIF($B9:$K9,\"6\")","v":0},{"$f":"COUNTIF($B9:$K9,\"5\")","v":0},{"$f":"COUNTIF($B9:$K9,\"4\")","v":0},{"$f":"COUNTIF($B9:$K9,\"3\")","v":0},{"$f":"COUNTIF($B9:$K9,\"2\")","v":0},{"$f":"COUNTIF($B9:$K9,\"1\")","v":0}]
[]
["ND",10,9,8,7,6,5,4,3,2,1]
["Anzahl",{"$f":"COUNTIF($B11:$K11,\"10\")","v":0},{"$f":"COUNTIF($B11:$K11,\"9\")","v":0},{"$f":"COUNTIF($B11:$K11,\"8\")","v":0},{"$f":"COUNTIF($B11:$K11,\"7\")","v":0},{"$f":"COUNTIF($B11:$K11,\"6\")","v":0},{"$f":"COUNTIF($B11:$K11,\"5\")","v":0},{"$f":"COUNTIF($B11:$K11,\"4\")","v":0},{"$f":"COUNTIF($B11:$K11,\"3\")","v":0},{"$f":"COUNTIF($B11:$K11,\"2\")","v":0},{"$f":"COUNTIF($B11:$K11,\"1\")","v":0}]

{"sheet":"14","index":14,"n_rows":17,"n_cols":27,"rows_kept":17,"cut":false,"hidden":false,"merged":[[0,6,0,7],[0,2,0,5],[6,26,7,27],[4,11,4,12],[5,1,5,2]]}
[null,null,{"$f":"Startliste!D1","v":"Heimprogramm"},null,null,null,{"$f":"Startliste!F1","v":"2025-12-31"}]
[null,null,null,null,null,null,null,null,null,null,null,null,null,null,null,null,null,null,null,null,null,1]
[]
[]
["Name",{"$f":"_xlfn.XLOOKUP($M$6,Startliste!A:A,Startliste!C:C,\"\")","v":0},null,null,null,"Vorname",{"$f":"_xlfn.XLOOKUP($M$6,Startliste!A:A,Startliste!D:D,\"\")","v":0},null,null,"St.",{"$f":"_xlfn.XLOOKUP($M$6,Startliste!A:A,Startliste!G:G,\"\")","v":0},"Start-Nr.",null,null,null,null,null,null,null,null,null,null,null,null,null,null,"Lizenz-Nr."]
["Geburtstag",{"$f":"_xlfn.XLOOKUP($M$6,Startliste!A:A,Startliste!E:E,\"\")","v":"00:00:00"},null,null,null,"Sektion",{"$f":"_xlfn.XLOOKUP($M$6,Startliste!A:A,Startliste!F:F,\"\")","v":0},null,null,"Kat.",{"$f":"_xlfn.XLOOKUP($M$6,Startliste!A:A,Startliste!H:H,\"\")","v":0},null,14,null,null,null,null,null,null,null,null,null,null,null,null,null,{"$f":"_xlfn.XLOOKUP($M$6,Startliste!A:A,Startliste!B:B,\"\")","v":""}]
[null,null,null,null,null,null,null,null,null,null,null,null,null,null,null,null,null,null,null,null,null,null,null,null,null,null,"Karton-Nummer\nvon          bis"]
[null,1,2,3,4,5,6,7,8,9,10,null,"Total"]
["HD",null,null,null,null,null,null,null,null,null,null,null,{"$f":"SUM(B9:K9)","v":0},null,{"$f":"IF(B9=\"M\",10)","v":false},{"$f":"IF(C9=\"M\",10)","v":false},false,false,false,false,false,false,false,false,{"$f":"SUM(O9:X9)","v":0}]
[]
["ND",null,null,null,null,null,null,null,null,null,null,null,{"$f":"SUM(B11:K11)","v":0},null,{"$f":"IF(B11=\"M\",10)","v":false},{"$f":"IF(C11=\"M\",10)","v":false},false,false,false,false,false,false,false,false,{"$f":"SUM(O11:X11)","v":0}]
[null,"Keine Mouchen erfassen, nur Werte zwischen 1-10."]
[" HD",10,9,8,7,6,5,4,3,2,1]
["Anzahl",{"$f":"COUNTIF($B9:$K9,\"10\")","v":0},{"$f":"COUNTIF($B9:$K9,\"9\")","v":0},{"$f":"COUNTIF($B9:$K9,\"8\")","v":0},{"$f":"COUNTIF($B9:$K9,\"7\")","v":0},{"$f":"COUNTIF($B9:$K9,\"6\")","v":0},{"$f":"COUNTIF($B9:$K9,\"5\")","v":0},{"$f":"COUNTIF($B9:$K9,\"4\")","v":0},{"$f":"COUNTIF($B9:$K9,\"3\")","v":0},{"$f":"COUNTIF($B9:$K9,\"2\")","v":0},{"$f":"COUNTIF($B9:$K9,\"1\")","v":0}]
[]
["ND",10,9,8,7,6,5,4,3,2,1]
["Anzahl",{"$f":"COUNTIF($B11:$K11,\"10\")","v":0},{"$f":"COUNTIF($B11:$K11,\"9\")","v":0},{"$f":"COUNTIF($B11:$K11,\"8\")","v":0},{"$f":"COUNTIF($B11:$K11,\"7\")","v":0},{"$f":"COUNTIF($B11:$K11,\"6\")","v":0},{"$f":"COUNTIF($B11:$K11,\"5\")","v":0},{"$f":"COUNTIF($B11:$K11,\"4\")","v":0},{"$f":"COUNTIF($B11:$K11,\"3\")","v":0},{"$f":"COUNTIF($B11:$K11,\"2\")","v":0},{"$f":"COUNTIF($B11:$K11,\"1\")","v":0}]

{"sheet":"15","index":15,"n_rows":17,"n_cols":27,"rows_kept":17,"cut":false,"hidden":false,"merged":[[0,6,0,7],[0,2,0,5],[6,26,7,27],[4,11,4,12],[5,1,5,2]]}
[null,null,{"$f":"Startliste!D1","v":"Heimprogramm"},null,null,null,{"$f":"Startliste!F1","v":"2025-12-31"}]
[null,null,null,null,null,null,null,null,null,null,null,null,null,null,null,null,null,null,null,null,null,1]
[]
[]
["Name",{"$f":"_xlfn.XLOOKUP($M$6,Startliste!A:A,Startliste!C:C,\"\")","v":0},null,null,null,"Vorname",{"$f":"_xlfn.XLOOKUP($M$6,Startliste!A:A,Startliste!D:D,\"\")","v":0},null,null,"St.",{"$f":"_xlfn.XLOOKUP($M$6,Startliste!A:A,Startliste!G:G,\"\")","v":0},"Start-Nr.",null,null,null,null,null,null,null,null,null,null,null,null,null,null,"Lizenz-Nr."]
["Geburtstag",{"$f":"_xlfn.XLOOKUP($M$6,Startliste!A:A,Startliste!E:E,\"\")","v":"00:00:00"},null,null,null,"Sektion",{"$f":"_xlfn.XLOOKUP($M$6,Startliste!A:A,Startliste!F:F,\"\")","v":0},null,null,"Kat.",{"$f":"_xlfn.XLOOKUP($M$6,Startliste!A:A,Startliste!H:H,\"\")","v":0},null,15,null,null,null,null,null,null,null,null,null,null,null,null,null,{"$f":"_xlfn.XLOOKUP($M$6,Startliste!A:A,Startliste!B:B,\"\")","v":""}]
[null,null,null,null,null,null,null,null,null,null,null,null,null,null,null,null,null,null,null,null,null,null,null,null,null,null,"Karton-Nummer\nvon          bis"]
[null,1,2,3,4,5,6,7,8,9,10,null,"Total"]
["HD",null,null,null,null,null,null,null,null,null,null,null,{"$f":"SUM(B9:K9)","v":0},null,{"$f":"IF(B9=\"M\",10)","v":false},{"$f":"IF(C9=\"M\",10)","v":false},false,false,false,false,false,false,false,false,{"$f":"SUM(O9:X9)","v":0}]
[]
["ND",null,null,null,null,null,null,null,null,null,null,null,{"$f":"SUM(B11:K11)","v":0},null,{"$f":"IF(B11=\"M\",10)","v":false},{"$f":"IF(C11=\"M\",10)","v":false},false,false,false,false,false,false,false,false,{"$f":"SUM(O11:X11)","v":0}]
[null,"Keine Mouchen erfassen, nur Werte zwischen 1-10."]
[" HD",10,9,8,7,6,5,4,3,2,1]
["Anzahl",{"$f":"COUNTIF($B9:$K9,\"10\")","v":0},{"$f":"COUNTIF($B9:$K9,\"9\")","v":0},{"$f":"COUNTIF($B9:$K9,\"8\")","v":0},{"$f":"COUNTIF($B9:$K9,\"7\")","v":0},{"$f":"COUNTIF($B9:$K9,\"6\")","v":0},{"$f":"COUNTIF($B9:$K9,\"5\")","v":0},{"$f":"COUNTIF($B9:$K9,\"4\")","v":0},{"$f":"COUNTIF($B9:$K9,\"3\")","v":0},{"$f":"COUNTIF($B9:$K9,\"2\")","v":0},{"$f":"COUNTIF($B9:$K9,\"1\")","v":0}]
[]
["ND",10,9,8,7,6,5,4,3,2,1]
["Anzahl",{"$f":"COUNTIF($B11:$K11,\"10\")","v":0},{"$f":"COUNTIF($B11:$K11,\"9\")","v":0},{"$f":"COUNTIF($B11:$K11,\"8\")","v":0},{"$f":"COUNTIF($B11:$K11,\"7\")","v":0},{"$f":"COUNTIF($B11:$K11,\"6\")","v":0},{"$f":"COUNTIF($B11:$K11,\"5\")","v":0},{"$f":"COUNTIF($B11:$K11,\"4\")","v":0},{"$f":"COUNTIF($B11:$K11,\"3\")","v":0},{"$f":"COUNTIF($B11:$K11,\"2\")","v":0},{"$f":"COUNTIF($B11:$K11,\"1\")","v":0}]

{"sheet":"16","index":16,"n_rows":17,"n_cols":27,"rows_kept":17,"cut":false,"hidden":false,"merged":[[0,6,0,7],[0,2,0,5],[6,26,7,27],[4,11,4,12],[5,1,5,2]]}
[null,null,{"$f":"Startliste!D1","v":"Heimprogramm"},null,null,null,{"$f":"Startliste!F1","v":"2025-12-31"}]
[null,null,null,null,null,null,null,null,null,null,null,null,null,null,null,null,null,null,null,null,null,1]
[]
[]
["Name",{"$f":"_xlfn.XLOOKUP($M$6,Startliste!A:A,Startliste!C:C,\"\")","v":0},null,null,null,"Vorname",{"$f":"_xlfn.XLOOKUP($M$6,Startliste!A:A,Startliste!D:D,\"\")","v":0},null,null,"St.",{"$f":"_xlfn.XLOOKUP($M$6,Startliste!A:A,Startliste!G:G,\"\")","v":0},"Start-Nr.",null,null,null,null,null,null,null,null,null,null,null,null,null,null,"Lizenz-Nr."]
["Geburtstag",{"$f":"_xlfn.XLOOKUP($M$6,Startliste!A:A,Startliste!E:E,\"\")","v":"00:00:00"},null,null,null,"Sektion",{"$f":"_xlfn.XLOOKUP($M$6,Startliste!A:A,Startliste!F:F,\"\")","v":0},null,null,"Kat.",{"$f":"_xlfn.XLOOKUP($M$6,Startliste!A:A,Startliste!H:H,\"\")","v":0},null,16,null,null,null,null,null,null,null,null,null,null,null,null,null,{"$f":"_xlfn.XLOOKUP($M$6,Startliste!A:A,Startliste!B:B,\"\")","v":""}]
[null,null,null,null,null,null,null,null,null,null,null,null,null,null,null,null,null,null,null,null,null,null,null,null,null,null,"Karton-Nummer\nvon          bis"]
[null,1,2,3,4,5,6,7,8,9,10,null,"Total"]
["HD",null,null,null,null,null,null,null,null,null,null,null,{"$f":"SUM(B9:K9)","v":0},null,{"$f":"IF(B9=\"M\",10)","v":false},{"$f":"IF(C9=\"M\",10)","v":false},false,false,false,false,false,false,false,false,{"$f":"SUM(O9:X9)","v":0}]
[]
["ND",null,null,null,null,null,null,null,null,null,null,null,{"$f":"SUM(B11:K11)","v":0},null,{"$f":"IF(B11=\"M\",10)","v":false},{"$f":"IF(C11=\"M\",10)","v":false},false,false,false,false,false,false,false,false,{"$f":"SUM(O11:X11)","v":0}]
[null,"Keine Mouchen erfassen, nur Werte zwischen 1-10."]
[" HD",10,9,8,7,6,5,4,3,2,1]
["Anzahl",{"$f":"COUNTIF($B9:$K9,\"10\")","v":0},{"$f":"COUNTIF($B9:$K9,\"9\")","v":0},{"$f":"COUNTIF($B9:$K9,\"8\")","v":0},{"$f":"COUNTIF($B9:$K9,\"7\")","v":0},{"$f":"COUNTIF($B9:$K9,\"6\")","v":0},{"$f":"COUNTIF($B9:$K9,\"5\")","v":0},{"$f":"COUNTIF($B9:$K9,\"4\")","v":0},{"$f":"COUNTIF($B9:$K9,\"3\")","v":0},{"$f":"COUNTIF($B9:$K9,\"2\")","v":0},{"$f":"COUNTIF($B9:$K9,\"1\")","v":0}]
[]
["ND",10,9,8,7,6,5,4,3,2,1]
["Anzahl",{"$f":"COUNTIF($B11:$K11,\"10\")","v":0},{"$f":"COUNTIF($B11:$K11,\"9\")","v":0},{"$f":"COUNTIF($B11:$K11,\"8\")","v":0},{"$f":"COUNTIF($B11:$K11,\"7\")","v":0},{"$f":"COUNTIF($B11:$K11,\"6\")","v":0},{"$f":"COUNTIF($B11:$K11,\"5\")","v":0},{"$f":"COUNTIF($B11:$K11,\"4\")","v":0},{"$f":"COUNTIF($B11:$K11,\"3\")","v":0},{"$f":"COUNTIF($B11:$K11,\"2\")","v":0},{"$f":"COUNTIF($B11:$K11,\"1\")","v":0}]

{"sheet":"17","index":17,"n_rows":17,"n_cols":27,"rows_kept":17,"cut":false,"hidden":false,"merged":[[0,6,0,7],[0,2,0,5],[6,26,7,27],[4,11,4,12],[5,1,5,2]]}
[null,null,{"$f":"Startliste!D1","v":"Heimprogramm"},null,null,null,{"$f":"Startliste!F1","v":"2025-12-31"}]
[null,null,null,null,null,null,null,null,null,null,null,null,null,null,null,null,null,null,null,null,null,1]
[]
[]
["Name",{"$f":"_xlfn.XLOOKUP($M$6,Startliste!A:A,Startliste!C:C,\"\")","v":0},null,null,null,"Vorname",{"$f":"_xlfn.XLOOKUP($M$6,Startliste!A:A,Startliste!D:D,\"\")","v":0},null,null,"St.",{"$f":"_xlfn.XLOOKUP($M$6,Startliste!A:A,Startliste!G:G,\"\")","v":0},"Start-Nr.",null,null,null,null,null,null,null,null,null,null,null,null,null,null,"Lizenz-Nr."]
["Geburtstag",{"$f":"_xlfn.XLOOKUP($M$6,Startliste!A:A,Startliste!E:E,\"\")","v":"00:00:00"},null,null,null,"Sektion",{"$f":"_xlfn.XLOOKUP($M$6,Startliste!A:A,Startliste!F:F,\"\")","v":0},null,null,"Kat.",{"$f":"_xlfn.XLOOKUP($M$6,Startliste!A:A,Startliste!H:H,\"\")","v":0},null,17,null,null,null,null,null,null,null,null,null,null,null,null,null,{"$f":"_xlfn.XLOOKUP($M$6,Startliste!A:A,Startliste!B:B,\"\")","v":""}]
[null,null,null,null,null,null,null,null,null,null,null,null,null,null,null,null,null,null,null,null,null,null,null,null,null,null,"Karton-Nummer\nvon          bis"]
[null,1,2,3,4,5,6,7,8,9,10,null,"Total"]
["HD",null,null,null,null,null,null,null,null,null,null,null,{"$f":"SUM(B9:K9)","v":0},null,{"$f":"IF(B9=\"M\",10)","v":false},{"$f":"IF(C9=\"M\",10)","v":false},false,false,false,false,false,false,false,false,{"$f":"SUM(O9:X9)","v":0}]
[]
["ND",null,null,null,null,null,null,null,null,null,null,null,{"$f":"SUM(B11:K11)","v":0},null,{"$f":"IF(B11=\"M\",10)","v":false},{"$f":"IF(C11=\"M\",10)","v":false},false,false,false,false,false,false,false,false,{"$f":"SUM(O11:X11)","v":0}]
[null,"Keine Mouchen erfassen, nur Werte zwischen 1-10."]
[" HD",10,9,8,7,6,5,4,3,2,1]
["Anzahl",{"$f":"COUNTIF($B9:$K9,\"10\")","v":0},{"$f":"COUNTIF($B9:$K9,\"9\")","v":0},{"$f":"COUNTIF($B9:$K9,\"8\")","v":0},{"$f":"COUNTIF($B9:$K9,\"7\")","v":0},{"$f":"COUNTIF($B9:$K9,\"6\")","v":0},{"$f":"COUNTIF($B9:$K9,\"5\")","v":0},{"$f":"COUNTIF($B9:$K9,\"4\")","v":0},{"$f":"COUNTIF($B9:$K9,\"3\")","v":0},{"$f":"COUNTIF($B9:$K9,\"2\")","v":0},{"$f":"COUNTIF($B9:$K9,\"1\")","v":0}]
[]
["ND",10,9,8,7,6,5,4,3,2,1]
["Anzahl",{"$f":"COUNTIF($B11:$K11,\"10\")","v":0},{"$f":"COUNTIF($B11:$K11,\"9\")","v":0},{"$f":"COUNTIF($B11:$K11,\"8\")","v":0},{"$f":"COUNTIF($B11:$K11,\"7\")","v":0},{"$f":"COUNTIF($B11:$K11,\"6\")","v":0},{"$f":"COUNTIF($B11:$K11,\"5\")","v":0},{"$f":"COUNTIF($B11:$K11,\"4\")","v":0},{"$f":"COUNTIF($B11:$K11,\"3\")","v":0},{"$f":"COUNTIF($B11:$K11,\"2\")","v":0},{"$f":"COUNTIF($B11:$K11,\"1\")","v":0}]

{"sheet":"18","index":18,"n_rows":17,"n_cols":27,"rows_kept":17,"cut":false,"hidden":false,"merged":[[0,6,0,7],[0,2,0,5],[6,26,7,27],[4,11,4,12],[5,1,5,2]]}
[null,null,{"$f":"Startliste!D1","v":"Heimprogramm"},null,null,null,{"$f":"Startliste!F1","v":"2025-12-31"}]
[null,null,null,null,null,null,null,null,null,null,null,null,null,null,null,null,null,null,null,null,null,1]
[]
[]
["Name",{"$f":"_xlfn.XLOOKUP($M$6,Startliste!A:A,Startliste!C:C,\"\")","v":0},null,null,null,"Vorname",{"$f":"_xlfn.XLOOKUP($M$6,Startliste!A:A,Startliste!D:D,\"\")","v":0},null,null,"St.",{"$f":"_xlfn.XLOOKUP($M$6,Startliste!A:A,Startliste!G:G,\"\")","v":0},"Start-Nr.",null,null,null,null,null,null,null,null,null,null,null,null,null,null,"Lizenz-Nr."]
["Geburtstag",{"$f":"_xlfn.XLOOKUP($M$6,Startliste!A:A,Startliste!E:E,\"\")","v":"00:00:00"},null,null,null,"Sektion",{"$f":"_xlfn.XLOOKUP($M$6,Startliste!A:A,Startliste!F:F,\"\")","v":0},null,null,"Kat.",{"$f":"_xlfn.XLOOKUP($M$6,Startliste!A:A,Startliste!H:H,\"\")","v":0},null,18,null,null,null,null,null,null,null,null,null,null,null,null,null,{"$f":"_xlfn.XLOOKUP($M$6,Startliste!A:A,Startliste!B:B,\"\")","v":""}]
[null,null,null,null,null,null,null,null,null,null,null,null,null,null,null,null,null,null,null,null,null,null,null,null,null,null,"Karton-Nummer\nvon          bis"]
[null,1,2,3,4,5,6,7,8,9,10,null,"Total"]
["HD",null,null,null,null,null,null,null,null,null,null,null,{"$f":"SUM(B9:K9)","v":0},null,{"$f":"IF(B9=\"M\",10)","v":false},{"$f":"IF(C9=\"M\",10)","v":false},false,false,false,false,false,false,false,false,{"$f":"SUM(O9:X9)","v":0}]
[]
["ND",null,null,null,null,null,null,null,null,null,null,null,{"$f":"SUM(B11:K11)","v":0},null,{"$f":"IF(B11=\"M\",10)","v":false},{"$f":"IF(C11=\"M\",10)","v":false},false,false,false,false,false,false,false,false,{"$f":"SUM(O11:X11)","v":0}]
[null,"Keine Mouchen erfassen, nur Werte zwischen 1-10."]
[" HD",10,9,8,7,6,5,4,3,2,1]
["Anzahl",{"$f":"COUNTIF($B9:$K9,\"10\")","v":0},{"$f":"COUNTIF($B9:$K9,\"9\")","v":0},{"$f":"COUNTIF($B9:$K9,\"8\")","v":0},{"$f":"COUNTIF($B9:$K9,\"7\")","v":0},{"$f":"COUNTIF($B9:$K9,\"6\")","v":0},{"$f":"COUNTIF($B9:$K9,\"5\")","v":0},{"$f":"COUNTIF($B9:$K9,\"4\")","v":0},{"$f":"COUNTIF($B9:$K9,\"3\")","v":0},{"$f":"COUNTIF($B9:$K9,\"2\")","v":0},{"$f":"COUNTIF($B9:$K9,\"1\")","v":0}]
[]
["ND",10,9,8,7,6,5,4,3,2,1]
["Anzahl",{"$f":"COUNTIF($B11:$K11,\"10\")","v":0},{"$f":"COUNTIF($B11:$K11,\"9\")","v":0},{"$f":"COUNTIF($B11:$K11,\"8\")","v":0},{"$f":"COUNTIF($B11:$K11,\"7\")","v":0},{"$f":"COUNTIF($B11:$K11,\"6\")","v":0},{"$f":"COUNTIF($B11:$K11,\"5\")","v":0},{"$f":"COUNTIF($B11:$K11,\"4\")","v":0},{"$f":"COUNTIF($B11:$K11,\"3\")","v":0},{"$f":"COUNTIF($B11:$K11,\"2\")","v":0},{"$f":"COUNTIF($B11:$K11,\"1\")","v":0}]

{"sheet":"19","index":19,"n_rows":17,"n_cols":27,"rows_kept":17,"cut":false,"hidden":false,"merged":[[0,6,0,7],[0,2,0,5],[6,26,7,27],[4,11,4,12],[5,1,5,2]]}
[null,null,{"$f":"Startliste!D1","v":"Heimprogramm"},null,null,null,{"$f":"Startliste!F1","v":"2025-12-31"}]
[null,null,null,null,null,null,null,null,null,null,null,null,null,null,null,null,null,null,null,null,null,1]
[]
[]
["Name",{"$f":"_xlfn.XLOOKUP($M$6,Startliste!A:A,Startliste!C:C,\"\")","v":0},null,null,null,"Vorname",{"$f":"_xlfn.XLOOKUP($M$6,Startliste!A:A,Startliste!D:D,\"\")","v":0},null,null,"St.",{"$f":"_xlfn.XLOOKUP($M$6,Startliste!A:A,Startliste!G:G,\"\")","v":0},"Start-Nr.",null,null,null,null,null,null,null,null,null,null,null,null,null,null,"Lizenz-Nr."]
["Geburtstag",{"$f":"_xlfn.XLOOKUP($M$6,Startliste!A:A,Startliste!E:E,\"\")","v":"00:00:00"},null,null,null,"Sektion",{"$f":"_xlfn.XLOOKUP($M$6,Startliste!A:A,Startliste!F:F,\"\")","v":0},null,null,"Kat.",{"$f":"_xlfn.XLOOKUP($M$6,Startliste!A:A,Startliste!H:H,\"\")","v":0},null,19,null,null,null,null,null,null,null,null,null,null,null,null,null,{"$f":"_xlfn.XLOOKUP($M$6,Startliste!A:A,Startliste!B:B,\"\")","v":""}]
[null,null,null,null,null,null,null,null,null,null,null,null,null,null,null,null,null,null,null,null,null,null,null,null,null,null,"Karton-Nummer\nvon          bis"]
[null,1,2,3,4,5,6,7,8,9,10,null,"Total"]
["HD",null,null,null,null,null,null,null,null,null,null,null,{"$f":"SUM(B9:K9)","v":0},null,{"$f":"IF(B9=\"M\",10)","v":false},{"$f":"IF(C9=\"M\",10)","v":false},false,false,false,false,false,false,false,false,{"$f":"SUM(O9:X9)","v":0}]
[]
["ND",null,null,null,null,null,null,null,null,null,null,null,{"$f":"SUM(B11:K11)","v":0},null,{"$f":"IF(B11=\"M\",10)","v":false},{"$f":"IF(C11=\"M\",10)","v":false},false,false,false,false,false,false,false,false,{"$f":"SUM(O11:X11)","v":0}]
[null,"Keine Mouchen erfassen, nur Werte zwischen 1-10."]
[" HD",10,9,8,7,6,5,4,3,2,1]
["Anzahl",{"$f":"COUNTIF($B9:$K9,\"10\")","v":0},{"$f":"COUNTIF($B9:$K9,\"9\")","v":0},{"$f":"COUNTIF($B9:$K9,\"8\")","v":0},{"$f":"COUNTIF($B9:$K9,\"7\")","v":0},{"$f":"COUNTIF($B9:$K9,\"6\")","v":0},{"$f":"COUNTIF($B9:$K9,\"5\")","v":0},{"$f":"COUNTIF($B9:$K9,\"4\")","v":0},{"$f":"COUNTIF($B9:$K9,\"3\")","v":0},{"$f":"COUNTIF($B9:$K9,\"2\")","v":0},{"$f":"COUNTIF($B9:$K9,\"1\")","v":0}]
[]
["ND",10,9,8,7,6,5,4,3,2,1]
["Anzahl",{"$f":"COUNTIF($B11:$K11,\"10\")","v":0},{"$f":"COUNTIF($B11:$K11,\"9\")","v":0},{"$f":"COUNTIF($B11:$K11,\"8\")","v":0},{"$f":"COUNTIF($B11:$K11,\"7\")","v":0},{"$f":"COUNTIF($B11:$K11,\"6\")","v":0},{"$f":"COUNTIF($B11:$K11,\"5\")","v":0},{"$f":"COUNTIF($B11:$K11,\"4\")","v":0},{"$f":"COUNTIF($B11:$K11,\"3\")","v":0},{"$f":"COUNTIF($B11:$K11,\"2\")","v":0},{"$f":"COUNTIF($B11:$K11,\"1\")","v":0}]

{"sheet":"20","index":20,"n_rows":17,"n_cols":27,"rows_kept":17,"cut":false,"hidden":false,"merged":[[0,6,0,7],[0,2,0,5],[6,26,7,27],[4,11,4,12],[5,1,5,2]]}
[null,null,{"$f":"Startliste!D1","v":"Heimprogramm"},null,null,null,{"$f":"Startliste!F1","v":"2025-12-31"}]
[null,null,null,null,null,null,null,null,null,null,null,null,null,null,null,null,null,null,null,null,null,1]
[]
[]
["Name",{"$f":"_xlfn.XLOOKUP($M$6,Startliste!A:A,Startliste!C:C,\"\")","v":0},null,null,null,"Vorname",{"$f":"_xlfn.XLOOKUP($M$6,Startliste!A:A,Startliste!D:D,\"\")","v":0},null,null,"St.",{"$f":"_xlfn.XLOOKUP($M$6,Startliste!A:A,Startliste!G:G,\"\")","v":0},"Start-Nr.",null,null,null,null,null,null,null,null,null,null,null,null,null,null,"Lizenz-Nr."]
["Geburtstag",{"$f":"_xlfn.XLOOKUP($M$6,Startliste!A:A,Startliste!E:E,\"\")","v":"00:00:00"},null,null,null,"Sektion",{"$f":"_xlfn.XLOOKUP($M$6,Startliste!A:A,Startliste!F:F,\"\")","v":0},null,null,"Kat.",{"$f":"_xlfn.XLOOKUP($M$6,Startliste!A:A,Startliste!H:H,\"\")","v":0},null,20,null,null,null,null,null,null,null,null,null,null,null,null,null,{"$f":"_xlfn.XLOOKUP($M$6,Startliste!A:A,Startliste!B:B,\"\")","v":""}]
[null,null,null,null,null,null,null,null,null,null,null,null,null,null,null,null,null,null,null,null,null,null,null,null,null,null,"Karton-Nummer\nvon          bis"]
[null,1,2,3,4,5,6,7,8,9,10,null,"Total"]
["HD",null,null,null,null,null,null,null,null,null,null,null,{"$f":"SUM(B9:K9)","v":0},null,{"$f":"IF(B9=\"M\",10)","v":false},{"$f":"IF(C9=\"M\",10)","v":false},false,false,false,false,false,false,false,false,{"$f":"SUM(O9:X9)","v":0}]
[]
["ND",null,null,null,null,null,null,null,null,null,null,null,{"$f":"SUM(B11:K11)","v":0},null,{"$f":"IF(B11=\"M\",10)","v":false},{"$f":"IF(C11=\"M\",10)","v":false},false,false,false,false,false,false,false,false,{"$f":"SUM(O11:X11)","v":0}]
[null,"Keine Mouchen erfassen, nur Werte zwischen 1-10."]
[" HD",10,9,8,7,6,5,4,3,2,1]
["Anzahl",{"$f":"COUNTIF($B9:$K9,\"10\")","v":0},{"$f":"COUNTIF($B9:$K9,\"9\")","v":0},{"$f":"COUNTIF($B9:$K9,\"8\")","v":0},{"$f":"COUNTIF($B9:$K9,\"7\")","v":0},{"$f":"COUNTIF($B9:$K9,\"6\")","v":0},{"$f":"COUNTIF($B9:$K9,\"5\")","v":0},{"$f":"COUNTIF($B9:$K9,\"4\")","v":0},{"$f":"COUNTIF($B9:$K9,\"3\")","v":0},{"$f":"COUNTIF($B9:$K9,\"2\")","v":0},{"$f":"COUNTIF($B9:$K9,\"1\")","v":0}]
[]
["ND",10,9,8,7,6,5,4,3,2,1]
["Anzahl",{"$f":"COUNTIF($B11:$K11,\"10\")","v":0},{"$f":"COUNTIF($B11:$K11,\"9\")","v":0},{"$f":"COUNTIF($B11:$K11,\"8\")","v":0},{"$f":"COUNTIF($B11:$K11,\"7\")","v":0},{"$f":"COUNTIF($B11:$K11,\"6\")","v":0},{"$f":"COUNTIF($B11:$K11,\"5\")","v":0},{"$f":"COUNTIF($B11:$K11,\"4\")","v":0},{"$f":"COUNTIF($B11:$K11,\"3\")","v":0},{"$f":"COUNTIF($B11:$K11,\"2\")","v":0},{"$f":"COUNTIF($B11:$K11,\"1\")","v":0}]

{"sheet":"Resultate","index":21,"n_rows":25,"n_cols":29,"rows_kept":25,"cut":false,"hidden":false,"merged":[[2,27,2,28],[3,25,3,28],[4,25,4,26],[4,27,4,28]]}
[null,null,null,{"$f":"Startliste!D1","v":"Heimprogramm"},null,{"$f":"Startliste!F1","v":"2025-12-31"}]
[]
[null,null,"Resultate Teilnehmer Sektion",null,null,null,null,{"$f":"IFERROR(_xlfn.XLOOKUP(A6,INDIRECT($A6&\"!m6\"),INDIRECT($A6&\"!g6\")),\"\")","v":0},null,null,null,null,null,null,null,null,null,null,null,null,null,null,null,null,null,"Wenn Feld",null,"Scheibennummern nicht fortlaufend!"]
[null,null,null,null,null,null,null,null,null,null,null,null,null,null,null,null,null,null,null,null,null,null,null,null,null,"Scheibennummern"]
["Schütze-Nr.",null,"Name","Vorname","Geburtstag","Sektion","St.","Kat.",null,"HD",null,"ND",null,"Besserer\nDoppel",null,10,9,8,7,6,5,4,3,2,1,"Hauptdoppel",null,"Nachdoppel"]
[{"$f":"'1'!M$6","v":1},{"$f":"IFERROR(_xlfn.XLOOKUP(A6,INDIRECT($A6&\"!m6\"),INDIRECT($A6&\"!aa6\")),\"\")","v":""},{"$f":"IFERROR(_xlfn.XLOOKUP(A6,INDIRECT($A6&\"!m6\"),INDIRECT($A6&\"!b5\")),\"\")","v":0},{"$f":"IFERROR(_xlfn.XLOOKUP(A6,INDIRECT($A6&\"!m6\"),INDIRECT($A6&\"!g5\")),\"\")","v":0},{"$f":"IFERROR(_xlfn.XLOOKUP(A6,INDIRECT($A6&\"!m6\"),INDIRECT($A6&\"!b6\")),\"\")","v":"00:00:00"},{"$f":"IFERROR(_xlfn.XLOOKUP(A6,INDIRECT($A6&\"!m6\"),INDIRECT($A6&\"!g6\")),\"\")","v":0},{"$f":"IFERROR(_xlfn.XLOOKUP(A6,INDIRECT($A6&\"!m6\"),INDIRECT($A6&\"!k5\")),\"\")","v":0},{"$f":"IFERROR(_xlfn.XLOOKUP(A6,INDIRECT($A6&\"!m6\"),INDIRECT($A6&\"!k6\")),\"\")","v":0},null,{"$f":"IFERROR(_xlfn.XLOOKUP(A6,INDIRECT($A6&\"!m6\"),INDIRECT($A6&\"!m9\")),\"\")","v":0},null,{"$f":"IFERROR(_xlfn.XLOOKUP(A6,INDIRECT($A6&\"!m6\"),INDIRECT($A6&\"!m11\")),\"\")","v":0},null,{"$f":"MAX(J6:L6)","v":0},null,{"$f":"IF($N6=$J6,_xlfn.XLOOKUP(A6,INDIRECT($A6&\"!m6\"),INDIRECT($A6&\"!b14\")),IF($N6=$L6,_xlfn.XLOOKUP(A6,INDIRECT($A6&\"!m6\"),INDIRECT($A6&\"!b17\"))))","v":0},{"$f":"IF($N6=$J6,_xlfn.XLOOKUP(A6,INDIRECT($A6&\"!m6\"),INDIRECT($A6&\"!c14\")),IF($N6=$L6,_xlfn.XLOOKUP(A6,INDIRECT($A6&\"!m6\"),INDIRECT($A6&\"!c17\"))))","v":0},{"$f":"IF($N6=$J6,_xlfn.XLOOKUP(A6,INDIRECT($A6&\"!m6\"),INDIRECT($A6&\"!d14\")),IF($N6=$L6,_xlfn.XLOOKUP(A6,INDIRECT($A6&\"!m6\"),INDIRECT($A6&\"!d17\"))))","v":0},{"$f":"IF($N6=$J6,_xlfn.XLOOKUP(A6,INDIRECT($A6&\"!m6\"),INDIRECT($A6&\"!e14\")),IF($N6=$L6,_xlfn.XLOOKUP(A6,INDIRECT($A6&\"!m6\"),INDIRECT($A6&\"!e17\"))))","v":0},{"$f":"IF($N6=$J6,_xlfn.XLOOKUP(A6,INDIRECT($A6&\"!m6\"),INDIRECT($A6&\"!f14\")),IF($N6=$L6,_xlfn.XLOOKUP(A6,INDIRECT($A6&\"!m6\"),INDIRECT($A6&\"!f17\"))))","v":0},{"$f":"IF($N6=$J6,_xlfn.XLOOKUP(A6,INDIRECT($A6&\"!m6\"),INDIRECT($A6&\"!g14\")),IF($N6=$L6,_xlfn.XLOOKUP(A6,INDIRECT($A6&\"!m6\"),INDIRECT($A6&\"!g17\"))))","v":0},{"$f":"IF($N6=$J6,_xlfn.XLOOKUP(A6,INDIRECT($A6&\"!m6\"),INDIRECT($A6&\"!h14\")),IF($N6=$L6,_xlfn.XLOOKUP(A6,INDIRECT($A6&\"!m6\"),INDIRECT($A6&\"!h17\"))))","v":0},{"$f":"IF($N6=$J6,_xlfn.XLOOKUP(A6,INDIRECT($A6&\"!m6\"),INDIRECT($A6&\"!i14\")),IF($N6=$L6,_xlfn.XLOOKUP(A6,INDIRECT($A6&\"!m6\"),INDIRECT($A6&\"!i17\"))))","v":0},{"$f":"IF($N6=$J6,_xlfn.XLOOKUP(A6,INDIRECT($A6&\"!m6\"),INDIRECT($A6&\"!j14\")),IF($N6=$L6,_xlfn.XLOOKUP(A6,INDIRECT($A6&\"!m6\"),INDIRECT($A6&\"!j17\"))))","v":0},{"$f":"IF($N6=$J6,_xlfn.XLOOKUP(A6,INDIRECT($A6&\"!m6\"),INDIRECT($A6&\"!k14\")),IF($N6=$L6,_xlfn.XLOOKUP(A6,INDIRECT($A6&\"!m6\"),INDIRECT($A6&\"!k17\"))))","v":0},{"$f":"IFERROR(_xlfn.XLOOKUP(A6,INDIRECT($A6&\"!m6\"),INDIRECT($A6&\"!aa9\")),\"\")","v":0},{"$f":"IFERROR(_xlfn.XLOOKUP(A6,INDIRECT($A6&\"!m6\"),INDIRECT($A6&\"!ab9\")),\"\")","v":0},{"$f":"IFERROR(_xlfn.XLOOKUP(A6,INDIRECT($A6&\"!m6\"),INDIRECT($A6&\"!aa11\")),\"\")","v":0},{"$f":"IFERROR(_xlfn.XLOOKUP(A6,INDIRECT($A6&\"!m6\"),INDIRECT($A6&\"!ab11\")),\"\")","v":0}]
[{"$f":"'2'!M$6","v":2},{"$f":"IFERROR(_xlfn.XLOOKUP(A7,INDIRECT($A7&\"!m6\"),INDIRECT($A7&\"!aa6\")),\"\")","v":""},{"$f":"IFERROR(_xlfn.XLOOKUP(A7,INDIRECT($A7&\"!m6\"),INDIRECT($A7&\"!b5\")),\"\")","v":0},{"$f":"IFERROR(_xlfn.XLOOKUP(A7,INDIRECT($A7&\"!m6\"),INDIRECT($A7&\"!g5\")),\"\")","v":0},{"$f":"IFERROR(_xlfn.XLOOKUP(A7,INDIRECT($A7&\"!m6\"),INDIRECT($A7&\"!b6\")),\"\")","v":"00:00:00"},{"$f":"IFERROR(_xlfn.XLOOKUP(A7,INDIRECT($A7&\"!m6\"),INDIRECT($A7&\"!g6\")),\"\")","v":0},{"$f":"IFERROR(_xlfn.XLOOKUP(A7,INDIRECT($A7&\"!m6\"),INDIRECT($A7&\"!k5\")),\"\")","v":0},{"$f":"IFERROR(_xlfn.XLOOKUP(A7,INDIRECT($A7&\"!m6\"),INDIRECT($A7&\"!k6\")),\"\")","v":0},null,{"$f":"IFERROR(_xlfn.XLOOKUP(A7,INDIRECT($A7&\"!m6\"),INDIRECT($A7&\"!m9\")),\"\")","v":0},null,{"$f":"IFERROR(_xlfn.XLOOKUP(A7,INDIRECT($A7&\"!m6\"),INDIRECT($A7&\"!m11\")),\"\")","v":0},null,{"$f":"MAX(J7:L7)","v":0},null,{"$f":"IF($N7=$J7,_xlfn.XLOOKUP(A7,INDIRECT($A7&\"!m6\"),INDIRECT($A7&\"!b14\")),IF($N7=$L7,_xlfn.XLOOKUP(A7,INDIRECT($A7&\"!m6\"),INDIRECT($A7&\"!b17\"))))","v":0},{"$f":"IF($N7=$J7,_xlfn.XLOOKUP(A7,INDIRECT($A7&\"!m6\"),INDIRECT($A7&\"!c14\")),IF($N7=$L7,_xlfn.XLOOKUP(A7,INDIRECT($A7&\"!m6\"),INDIRECT($A7&\"!c17\"))))","v":0},{"$f":"IF($N7=$J7,_xlfn.XLOOKUP(A7,INDIRECT($A7&\"!m6\"),INDIRECT($A7&\"!d14\")),IF($N7=$L7,_xlfn.XLOOKUP(A7,INDIRECT($A7&\"!m6\"),INDIRECT($A7&\"!d17\"))))","v":0},{"$f":"IF($N7=$J7,_xlfn.XLOOKUP(A7,INDIRECT($A7&\"!m6\"),INDIRECT($A7&\"!e14\")),IF($N7=$L7,_xlfn.XLOOKUP(A7,INDIRECT($A7&\"!m6\"),INDIRECT($A7&\"!e17\"))))","v":0},{"$f":"IF($N7=$J7,_xlfn.XLOOKUP(A7,INDIRECT($A7&\"!m6\"),INDIRECT($A7&\"!f14\")),IF($N7=$L7,_xlfn.XLOOKUP(A7,INDIRECT($A7&\"!m6\"),INDIRECT($A7&\"!f17\"))))","v":0},{"$f":"IF($N7=$J7,_xlfn.XLOOKUP(A7,INDIRECT($A7&\"!m6\"),INDIRECT($A7&\"!g14\")),IF($N7=$L7,_xlfn.XLOOKUP(A7,INDIRECT($A7&\"!m6\"),INDIRECT($A7&\"!g17\"))))","v":0},{"$f":"IF($N7=$J7,_xlfn.XLOOKUP(A7,INDIRECT($A7&\"!m6\"),INDIRECT($A7&\"!h14\")),IF($N7=$L7,_xlfn.XLOOKUP(A7,INDIRECT($A7&\"!m6\"),INDIRECT($A7&\"!h17\"))))","v":0},{"$f":"IF($N7=$J7,_xlfn.XLOOKUP(A7,INDIRECT($A7&\"!m6\"),INDIRECT($A7&\"!i14\")),IF($N7=$L7,_xlfn.XLOOKUP(A7,INDIRECT($A7&\"!m6\"),INDIRECT($A7&\"!i17\"))))","v":0},{"$f":"IF($N7=$J7,_xlfn.XLOOKUP(A7,INDIRECT($A7&\"!m6\"),INDIRECT($A7&\"!j14\")),IF($N7=$L7,_xlfn.XLOOKUP(A7,INDIRECT($A7&\"!m6\"),INDIRECT($A7&\"!j17\"))))","v":0},{"$f":"IF($N7=$J7,_xlfn.XLOOKUP(A7,INDIRECT($A7&\"!m6\"),INDIRECT($A7&\"!k14\")),IF($N7=$L7,_xlfn.XLOOKUP(A7,INDIRECT($A7&\"!m6\"),INDIRECT($A7&\"!k17\"))))","v":0},{"$f":"IFERROR(_xlfn.XLOOKUP(A7,INDIRECT($A7&\"!m6\"),INDIRECT($A7&\"!aa9\")),\"\")","v":0},{"$f":"IFERROR(_xlfn.XLOOKUP(A7,INDIRECT($A7&\"!m6\"),INDIRECT($A7&\"!ab9\")),\"\")","v":0},{"$f":"IFERROR(_xlfn.XLOOKUP(A7,INDIRECT($A7&\"!m6\"),INDIRECT($A7&\"!aa11\")),\"\")","v":0},{"$f":"IFERROR(_xlfn.XLOOKUP(A7,INDIRECT($A7&\"!m6\"),INDIRECT($A7&\"!ab11\")),\"\")","v":0}]
[{"$f":"'3'!M$6","v":3},{"$f":"IFERROR(_xlfn.XLOOKUP(A8,INDIRECT($A8&\"!m6\"),INDIRECT($A8&\"!aa6\")),\"\")","v":""},{"$f":"IFERROR(_xlfn.XLOOKUP(A8,INDIRECT($A8&\"!m6\"),INDIRECT($A8&\"!b5\")),\"\")","v":0},{"$f":"IFERROR(_xlfn.XLOOKUP(A8,INDIRECT($A8&\"!m6\"),INDIRECT($A8&\"!g5\")),\"\")","v":0},{"$f":"IFERROR(_xlfn.XLOOKUP(A8,INDIRECT($A8&\"!m6\"),INDIRECT($A8&\"!b6\")),\"\")","v":"00:00:00"},{"$f":"IFERROR(_xlfn.XLOOKUP(A8,INDIRECT($A8&\"!m6\"),INDIRECT($A8&\"!g6\")),\"\")","v":0},{"$f":"IFERROR(_xlfn.XLOOKUP(A8,INDIRECT($A8&\"!m6\"),INDIRECT($A8&\"!k5\")),\"\")","v":0},{"$f":"IFERROR(_xlfn.XLOOKUP(A8,INDIRECT($A8&\"!m6\"),INDIRECT($A8&\"!k6\")),\"\")","v":0},null,{"$f":"IFERROR(_xlfn.XLOOKUP(A8,INDIRECT($A8&\"!m6\"),INDIRECT($A8&\"!m9\")),\"\")","v":0},null,{"$f":"IFERROR(_xlfn.XLOOKUP(A8,INDIRECT($A8&\"!m6\"),INDIRECT($A8&\"!m11\")),\"\")","v":0},null,0,null,{"$f":"IF($N8=$J8,_xlfn.XLOOKUP(A8,INDIRECT($A8&\"!m6\"),INDIRECT($A8&\"!b14\")),IF($N8=$L8,_xlfn.XLOOKUP(A8,INDIRECT($A8&\"!m6\"),INDIRECT($A8&\"!b17\"))))","v":0},{"$f":"IF($N8=$J8,_xlfn.XLOOKUP(A8,INDIRECT($A8&\"!m6\"),INDIRECT($A8&\"!c14\")),IF($N8=$L8,_xlfn.XLOOKUP(A8,INDIRECT($A8&\"!m6\"),INDIRECT($A8&\"!c17\"))))","v":0},{"$f":"IF($N8=$J8,_xlfn.XLOOKUP(A8,INDIRECT($A8&\"!m6\"),INDIRECT($A8&\"!d14\")),IF($N8=$L8,_xlfn.XLOOKUP(A8,INDIRECT($A8&\"!m6\"),INDIRECT($A8&\"!d17\"))))","v":0},{"$f":"IF($N8=$J8,_xlfn.XLOOKUP(A8,INDIRECT($A8&\"!m6\"),INDIRECT($A8&\"!e14\")),IF($N8=$L8,_xlfn.XLOOKUP(A8,INDIRECT($A8&\"!m6\"),INDIRECT($A8&\"!e17\"))))","v":0},{"$f":"IF($N8=$J8,_xlfn.XLOOKUP(A8,INDIRECT($A8&\"!m6\"),INDIRECT($A8&\"!f14\")),IF($N8=$L8,_xlfn.XLOOKUP(A8,INDIRECT($A8&\"!m6\"),INDIRECT($A8&\"!f17\"))))","v":0},{"$f":"IF($N8=$J8,_xlfn.XLOOKUP(A8,INDIRECT($A8&\"!m6\"),INDIRECT($A8&\"!g14\")),IF($N8=$L8,_xlfn.XLOOKUP(A8,INDIRECT($A8&\"!m6\"),INDIRECT($A8&\"!g17\"))))","v":0},{"$f":"IF($N8=$J8,_xlfn.XLOOKUP(A8,INDIRECT($A8&\"!m6\"),INDIRECT($A8&\"!h14\")),IF($N8=$L8,_xlfn.XLOOKUP(A8,INDIRECT($A8&\"!m6\"),INDIRECT($A8&\"!h17\"))))","v":0},{"$f":"IF($N8=$J8,_xlfn.XLOOKUP(A8,INDIRECT($A8&\"!m6\"),INDIRECT($A8&\"!i14\")),IF($N8=$L8,_xlfn.XLOOKUP(A8,INDIRECT($A8&\"!m6\"),INDIRECT($A8&\"!i17\"))))","v":0},{"$f":"IF($N8=$J8,_xlfn.XLOOKUP(A8,INDIRECT($A8&\"!m6\"),INDIRECT($A8&\"!j14\")),IF($N8=$L8,_xlfn.XLOOKUP(A8,INDIRECT($A8&\"!m6\"),INDIRECT($A8&\"!j17\"))))","v":0},{"$f":"IF($N8=$J8,_xlfn.XLOOKUP(A8,INDIRECT($A8&\"!m6\"),INDIRECT($A8&\"!k14\")),IF($N8=$L8,_xlfn.XLOOKUP(A8,INDIRECT($A8&\"!m6\"),INDIRECT($A8&\"!k17\"))))","v":0},{"$f":"IFERROR(_xlfn.XLOOKUP(A8,INDIRECT($A8&\"!m6\"),INDIRECT($A8&\"!aa9\")),\"\")","v":0},{"$f":"IFERROR(_xlfn.XLOOKUP(A8,INDIRECT($A8&\"!m6\"),INDIRECT($A8&\"!ab9\")),\"\")","v":0},{"$f":"IFERROR(_xlfn.XLOOKUP(A8,INDIRECT($A8&\"!m6\"),INDIRECT($A8&\"!aa11\")),\"\")","v":0},{"$f":"IFERROR(_xlfn.XLOOKUP(A8,INDIRECT($A8&\"!m6\"),INDIRECT($A8&\"!ab11\")),\"\")","v":0}]
[{"$f":"'4'!M$6","v":4},{"$f":"IFERROR(_xlfn.XLOOKUP(A9,INDIRECT($A9&\"!m6\"),INDIRECT($A9&\"!aa6\")),\"\")","v":""},{"$f":"IFERROR(_xlfn.XLOOKUP(A9,INDIRECT($A9&\"!m6\"),INDIRECT($A9&\"!b5\")),\"\")","v":0},{"$f":"IFERROR(_xlfn.XLOOKUP(A9,INDIRECT($A9&\"!m6\"),INDIRECT($A9&\"!g5\")),\"\")","v":0},{"$f":"IFERROR(_xlfn.XLOOKUP(A9,INDIRECT($A9&\"!m6\"),INDIRECT($A9&\"!b6\")),\"\")","v":"00:00:00"},{"$f":"IFERROR(_xlfn.XLOOKUP(A9,INDIRECT($A9&\"!m6\"),INDIRECT($A9&\"!g6\")),\"\")","v":0},{"$f":"IFERROR(_xlfn.XLOOKUP(A9,INDIRECT($A9&\"!m6\"),INDIRECT($A9&\"!k5\")),\"\")","v":0},{"$f":"IFERROR(_xlfn.XLOOKUP(A9,INDIRECT($A9&\"!m6\"),INDIRECT($A9&\"!k6\")),\"\")","v":0},null,{"$f":"IFERROR(_xlfn.XLOOKUP(A9,INDIRECT($A9&\"!m6\"),INDIRECT($A9&\"!m9\")),\"\")","v":0},null,{"$f":"IFERROR(_xlfn.XLOOKUP(A9,INDIRECT($A9&\"!m6\"),INDIRECT($A9&\"!m11\")),\"\")","v":0},null,0,null,{"$f":"IF($N9=$J9,_xlfn.XLOOKUP(A9,INDIRECT($A9&\"!m6\"),INDIRECT($A9&\"!b14\")),IF($N9=$L9,_xlfn.XLOOKUP(A9,INDIRECT($A9&\"!m6\"),INDIRECT($A9&\"!b17\"))))","v":0},{"$f":"IF($N9=$J9,_xlfn.XLOOKUP(A9,INDIRECT($A9&\"!m6\"),INDIRECT($A9&\"!c14\")),IF($N9=$L9,_xlfn.XLOOKUP(A9,INDIRECT($A9&\"!m6\"),INDIRECT($A9&\"!c17\"))))","v":0},{"$f":"IF($N9=$J9,_xlfn.XLOOKUP(A9,INDIRECT($A9&\"!m6\"),INDIRECT($A9&\"!d14\")),IF($N9=$L9,_xlfn.XLOOKUP(A9,INDIRECT($A9&\"!m6\"),INDIRECT($A9&\"!d17\"))))","v":0},{"$f":"IF($N9=$J9,_xlfn.XLOOKUP(A9,INDIRECT($A9&\"!m6\"),INDIRECT($A9&\"!e14\")),IF($N9=$L9,_xlfn.XLOOKUP(A9,INDIRECT($A9&\"!m6\"),INDIRECT($A9&\"!e17\"))))","v":0},{"$f":"IF($N9=$J9,_xlfn.XLOOKUP(A9,INDIRECT($A9&\"!m6\"),INDIRECT($A9&\"!f14\")),IF($N9=$L9,_xlfn.XLOOKUP(A9,INDIRECT($A9&\"!m6\"),INDIRECT($A9&\"!f17\"))))","v":0},{"$f":"IF($N9=$J9,_xlfn.XLOOKUP(A9,INDIRECT($A9&\"!m6\"),INDIRECT($A9&\"!g14\")),IF($N9=$L9,_xlfn.XLOOKUP(A9,INDIRECT($A9&\"!m6\"),INDIRECT($A9&\"!g17\"))))","v":0},{"$f":"IF($N9=$J9,_xlfn.XLOOKUP(A9,INDIRECT($A9&\"!m6\"),INDIRECT($A9&\"!h14\")),IF($N9=$L9,_xlfn.XLOOKUP(A9,INDIRECT($A9&\"!m6\"),INDIRECT($A9&\"!h17\"))))","v":0},{"$f":"IF($N9=$J9,_xlfn.XLOOKUP(A9,INDIRECT($A9&\"!m6\"),INDIRECT($A9&\"!i14\")),IF($N9=$L9,_xlfn.XLOOKUP(A9,INDIRECT($A9&\"!m6\"),INDIRECT($A9&\"!i17\"))))","v":0},{"$f":"IF($N9=$J9,_xlfn.XLOOKUP(A9,INDIRECT($A9&\"!m6\"),INDIRECT($A9&\"!j14\")),IF($N9=$L9,_xlfn.XLOOKUP(A9,INDIRECT($A9&\"!m6\"),INDIRECT($A9&\"!j17\"))))","v":0},{"$f":"IF($N9=$J9,_xlfn.XLOOKUP(A9,INDIRECT($A9&\"!m6\"),INDIRECT($A9&\"!k14\")),IF($N9=$L9,_xlfn.XLOOKUP(A9,INDIRECT($A9&\"!m6\"),INDIRECT($A9&\"!k17\"))))","v":0},{"$f":"IFERROR(_xlfn.XLOOKUP(A9,INDIRECT($A9&\"!m6\"),INDIRECT($A9&\"!aa9\")),\"\")","v":0},{"$f":"IFERROR(_xlfn.XLOOKUP(A9,INDIRECT($A9&\"!m6\"),INDIRECT($A9&\"!ab9\")),\"\")","v":0},{"$f":"IFERROR(_xlfn.XLOOKUP(A9,INDIRECT($A9&\"!m6\"),INDIRECT($A9&\"!aa11\")),\"\")","v":0},{"$f":"IFERROR(_xlfn.XLOOKUP(A9,INDIRECT($A9&\"!m6\"),INDIRECT($A9&\"!ab11\")),\"\")","v":0}]
[{"$f":"'5'!M$6","v":5},{"$f":"IFERROR(_xlfn.XLOOKUP(A10,INDIRECT($A10&\"!m6\"),INDIRECT($A10&\"!aa6\")),\"\")","v":""},{"$f":"IFERROR(_xlfn.XLOOKUP(A10,INDIRECT($A10&\"!m6\"),INDIRECT($A10&\"!b5\")),\"\")","v":0},{"$f":"IFERROR(_xlfn.XLOOKUP(A10,INDIRECT($A10&\"!m6\"),INDIRECT($A10&\"!g5\")),\"\")","v":0},{"$f":"IFERROR(_xlfn.XLOOKUP(A10,INDIRECT($A10&\"!m6\"),INDIRECT($A10&\"!b6\")),\"\")","v":"00:00:00"},{"$f":"IFERROR(_xlfn.XLOOKUP(A10,INDIRECT($A10&\"!m6\"),INDIRECT($A10&\"!g6\")),\"\")","v":0},{"$f":"IFERROR(_xlfn.XLOOKUP(A10,INDIRECT($A10&\"!m6\"),INDIRECT($A10&\"!k5\")),\"\")","v":0},{"$f":"IFERROR(_xlfn.XLOOKUP(A10,INDIRECT($A10&\"!m6\"),INDIRECT($A10&\"!k6\")),\"\")","v":0},null,{"$f":"IFERROR(_xlfn.XLOOKUP(A10,INDIRECT($A10&\"!m6\"),INDIRECT($A10&\"!m9\")),\"\")","v":0},null,{"$f":"IFERROR(_xlfn.XLOOKUP(A10,INDIRECT($A10&\"!m6\"),INDIRECT($A10&\"!m11\")),\"\")","v":0},null,0,null,{"$f":"IF($N10=$J10,_xlfn.XLOOKUP(A10,INDIRECT($A10&\"!m6\"),INDIRECT($A10&\"!b14\")),IF($N10=$L10,_xlfn.XLOOKUP(A10,INDIRECT($A10&\"!m6\"),INDIRECT($A10&\"!b17\"))))","v":0},{"$f":"IF($N10=$J10,_xlfn.XLOOKUP(A10,INDIRECT($A10&\"!m6\"),INDIRECT($A10&\"!c14\")),IF($N10=$L10,_xlfn.XLOOKUP(A10,INDIRECT($A10&\"!m6\"),INDIRECT($A10&\"!c17\"))))","v":0},{"$f":"IF($N10=$J10,_xlfn.XLOOKUP(A10,INDIRECT($A10&\"!m6\"),INDIRECT($A10&\"!d14\")),IF($N10=$L10,_xlfn.XLOOKUP(A10,INDIRECT($A10&\"!m6\"),INDIRECT($A10&\"!d17\"))))","v":0},{"$f":"IF($N10=$J10,_xlfn.XLOOKUP(A10,INDIRECT($A10&\"!m6\"),INDIRECT($A10&\"!e14\")),IF($N10=$L10,_xlfn.XLOOKUP(A10,INDIRECT($A10&\"!m6\"),INDIRECT($A10&\"!e17\"))))","v":0},{"$f":"IF($N10=$J10,_xlfn.XLOOKUP(A10,INDIRECT($A10&\"!m6\"),INDIRECT($A10&\"!f14\")),IF($N10=$L10,_xlfn.XLOOKUP(A10,INDIRECT($A10&\"!m6\"),INDIRECT($A10&\"!f17\"))))","v":0},{"$f":"IF($N10=$J10,_xlfn.XLOOKUP(A10,INDIRECT($A10&\"!m6\"),INDIRECT($A10&\"!g14\")),IF($N10=$L10,_xlfn.XLOOKUP(A10,INDIRECT($A10&\"!m6\"),INDIRECT($A10&\"!g17\"))))","v":0},{"$f":"IF($N10=$J10,_xlfn.XLOOKUP(A10,INDIRECT($A10&\"!m6\"),INDIRECT($A10&\"!h14\")),IF($N10=$L10,_xlfn.XLOOKUP(A10,INDIRECT($A10&\"!m6\"),INDIRECT($A10&\"!h17\"))))","v":0},{"$f":"IF($N10=$J10,_xlfn.XLOOKUP(A10,INDIRECT($A10&\"!m6\"),INDIRECT($A10&\"!i14\")),IF($N10=$L10,_xlfn.XLOOKUP(A10,INDIRECT($A10&\"!m6\"),INDIRECT($A10&\"!i17\"))))","v":0},{"$f":"IF($N10=$J10,_xlfn.XLOOKUP(A10,INDIRECT($A10&\"!m6\"),INDIRECT($A10&\"!j14\")),IF($N10=$L10,_xlfn.XLOOKUP(A10,INDIRECT($A10&\"!m6\"),INDIRECT($A10&\"!j17\"))))","v":0},{"$f":"IF($N10=$J10,_xlfn.XLOOKUP(A10,INDIRECT($A10&\"!m6\"),INDIRECT($A10&\"!k14\")),IF($N10=$L10,_xlfn.XLOOKUP(A10,INDIRECT($A10&\"!m6\"),INDIRECT($A10&\"!k17\"))))","v":0},{"$f":"IFERROR(_xlfn.XLOOKUP(A10,INDIRECT($A10&\"!m6\"),INDIRECT($A10&\"!aa9\")),\"\")","v":0},{"$f":"IFERROR(_xlfn.XLOOKUP(A10,INDIRECT($A10&\"!m6\"),INDIRECT($A10&\"!ab9\")),\"\")","v":0},{"$f":"IFERROR(_xlfn.XLOOKUP(A10,INDIRECT($A10&\"!m6\"),INDIRECT($A10&\"!aa11\")),\"\")","v":0},{"$f":"IFERROR(_xlfn.XLOOKUP(A10,INDIRECT($A10&\"!m6\"),INDIRECT($A10&\"!ab11\")),\"\")","v":0}]
[{"$f":"'6'!M$6","v":6},{"$f":"IFERROR(_xlfn.XLOOKUP(A11,INDIRECT($A11&\"!m6\"),INDIRECT($A11&\"!aa6\")),\"\")","v":""},{"$f":"IFERROR(_xlfn.XLOOKUP(A11,INDIRECT($A11&\"!m6\"),INDIRECT($A11&\"!b5\")),\"\")","v":0},{"$f":"IFERROR(_xlfn.XLOOKUP(A11,INDIRECT($A11&\"!m6\"),INDIRECT($A11&\"!g5\")),\"\")","v":0},{"$f":"IFERROR(_xlfn.XLOOKUP(A11,INDIRECT($A11&\"!m6\"),INDIRECT($A11&\"!b6\")),\"\")","v":"00:00:00"},{"$f":"IFERROR(_xlfn.XLOOKUP(A11,INDIRECT($A11&\"!m6\"),INDIRECT($A11&\"!g6\")),\"\")","v":0},{"$f":"IFERROR(_xlfn.XLOOKUP(A11,INDIRECT($A11&\"!m6\"),INDIRECT($A11&\"!k5\")),\"\")","v":0},{"$f":"IFERROR(_xlfn.XLOOKUP(A11,INDIRECT($A11&\"!m6\"),INDIRECT($A11&\"!k6\")),\"\")","v":0},null,{"$f":"IFERROR(_xlfn.XLOOKUP(A11,INDIRECT($A11&\"!m6\"),INDIRECT($A11&\"!m9\")),\"\")","v":0},null,{"$f":"IFERROR(_xlfn.XLOOKUP(A11,INDIRECT($A11&\"!m6\"),INDIRECT($A11&\"!m11\")),\"\")","v":0},null,0,null,{"$f":"IF($N11=$J11,_xlfn.XLOOKUP(A11,INDIRECT($A11&\"!m6\"),INDIRECT($A11&\"!b14\")),IF($N11=$L11,_xlfn.XLOOKUP(A11,INDIRECT($A11&\"!m6\"),INDIRECT($A11&\"!b17\"))))","v":0},{"$f":"IF($N11=$J11,_xlfn.XLOOKUP(A11,INDIRECT($A11&\"!m6\"),INDIRECT($A11&\"!c14\")),IF($N11=$L11,_xlfn.XLOOKUP(A11,INDIRECT($A11&\"!m6\"),INDIRECT($A11&\"!c17\"))))","v":0},{"$f":"IF($N11=$J11,_xlfn.XLOOKUP(A11,INDIRECT($A11&\"!m6\"),INDIRECT($A11&\"!d14\")),IF($N11=$L11,_xlfn.XLOOKUP(A11,INDIRECT($A11&\"!m6\"),INDIRECT($A11&\"!d17\"))))","v":0},{"$f":"IF($N11=$J11,_xlfn.XLOOKUP(A11,INDIRECT($A11&\"!m6\"),INDIRECT($A11&\"!e14\")),IF($N11=$L11,_xlfn.XLOOKUP(A11,INDIRECT($A11&\"!m6\"),INDIRECT($A11&\"!e17\"))))","v":0},{"$f":"IF($N11=$J11,_xlfn.XLOOKUP(A11,INDIRECT($A11&\"!m6\"),INDIRECT($A11&\"!f14\")),IF($N11=$L11,_xlfn.XLOOKUP(A11,INDIRECT($A11&\"!m6\"),INDIRECT($A11&\"!f17\"))))","v":0},{"$f":"IF($N11=$J11,_xlfn.XLOOKUP(A11,INDIRECT($A11&\"!m6\"),INDIRECT($A11&\"!g14\")),IF($N11=$L11,_xlfn.XLOOKUP(A11,INDIRECT($A11&\"!m6\"),INDIRECT($A11&\"!g17\"))))","v":0},{"$f":"IF($N11=$J11,_xlfn.XLOOKUP(A11,INDIRECT($A11&\"!m6\"),INDIRECT($A11&\"!h14\")),IF($N11=$L11,_xlfn.XLOOKUP(A11,INDIRECT($A11&\"!m6\"),INDIRECT($A11&\"!h17\"))))","v":0},{"$f":"IF($N11=$J11,_xlfn.XLOOKUP(A11,INDIRECT($A11&\"!m6\"),INDIRECT($A11&\"!i14\")),IF($N11=$L11,_xlfn.XLOOKUP(A11,INDIRECT($A11&\"!m6\"),INDIRECT($A11&\"!i17\"))))","v":0},{"$f":"IF($N11=$J11,_xlfn.XLOOKUP(A11,INDIRECT($A11&\"!m6\"),INDIRECT($A11&\"!j14\")),IF($N11=$L11,_xlfn.XLOOKUP(A11,INDIRECT($A11&\"!m6\"),INDIRECT($A11&\"!j17\"))))","v":0},{"$f":"IF($N11=$J11,_xlfn.XLOOKUP(A11,INDIRECT($A11&\"!m6\"),INDIRECT($A11&\"!k14\")),IF($N11=$L11,_xlfn.XLOOKUP(A11,INDIRECT($A11&\"!m6\"),INDIRECT($A11&\"!k17\"))))","v":0},{"$f":"IFERROR(_xlfn.XLOOKUP(A11,INDIRECT($A11&\"!m6\"),INDIRECT($A11&\"!aa9\")),\"\")","v":0},{"$f":"IFERROR(_xlfn.XLOOKUP(A11,INDIRECT($A11&\"!m6\"),INDIRECT($A11&\"!ab9\")),\"\")","v":0},{"$f":"IFERROR(_xlfn.XLOOKUP(A11,INDIRECT($A11&\"!m6\"),INDIRECT($A11&\"!aa11\")),\"\")","v":0},{"$f":"IFERROR(_xlfn.XLOOKUP(A11,INDIRECT($A11&\"!m6\"),INDIRECT($A11&\"!ab11\")),\"\")","v":0}]
[{"$f":"'7'!M$6","v":7},{"$f":"IFERROR(_xlfn.XLOOKUP(A12,INDIRECT($A12&\"!m6\"),INDIRECT($A12&\"!aa6\")),\"\")","v":""},{"$f":"IFERROR(_xlfn.XLOOKUP(A12,INDIRECT($A12&\"!m6\"),INDIRECT($A12&\"!b5\")),\"\")","v":0},{"$f":"IFERROR(_xlfn.XLOOKUP(A12,INDIRECT($A12&\"!m6\"),INDIRECT($A12&\"!g5\")),\"\")","v":0},{"$f":"IFERROR(_xlfn.XLOOKUP(A12,INDIRECT($A12&\"!m6\"),INDIRECT($A12&\"!b6\")),\"\")","v":"00:00:00"},{"$f":"IFERROR(_xlfn.XLOOKUP(A12,INDIRECT($A12&\"!m6\"),INDIRECT($A12&\"!g6\")),\"\")","v":0},{"$f":"IFERROR(_xlfn.XLOOKUP(A12,INDIRECT($A12&\"!m6\"),INDIRECT($A12&\"!k5\")),\"\")","v":0},{"$f":"IFERROR(_xlfn.XLOOKUP(A12,INDIRECT($A12&\"!m6\"),INDIRECT($A12&\"!k6\")),\"\")","v":0},null,{"$f":"IFERROR(_xlfn.XLOOKUP(A12,INDIRECT($A12&\"!m6\"),INDIRECT($A12&\"!m9\")),\"\")","v":0},null,{"$f":"IFERROR(_xlfn.XLOOKUP(A12,INDIRECT($A12&\"!m6\"),INDIRECT($A12&\"!m11\")),\"\")","v":0},null,0,null,{"$f":"IF($N12=$J12,_xlfn.XLOOKUP(A12,INDIRECT($A12&\"!m6\"),INDIRECT($A12&\"!b14\")),IF($N12=$L12,_xlfn.XLOOKUP(A12,INDIRECT($A12&\"!m6\"),INDIRECT($A12&\"!b17\"))))","v":0},{"$f":"IF($N12=$J12,_xlfn.XLOOKUP(A12,INDIRECT($A12&\"!m6\"),INDIRECT($A12&\"!c14\")),IF($N12=$L12,_xlfn.XLOOKUP(A12,INDIRECT($A12&\"!m6\"),INDIRECT($A12&\"!c17\"))))","v":0},{"$f":"IF($N12=$J12,_xlfn.XLOOKUP(A12,INDIRECT($A12&\"!m6\"),INDIRECT($A12&\"!d14\")),IF($N12=$L12,_xlfn.XLOOKUP(A12,INDIRECT($A12&\"!m6\"),INDIRECT($A12&\"!d17\"))))","v":0},{"$f":"IF($N12=$J12,_xlfn.XLOOKUP(A12,INDIRECT($A12&\"!m6\"),INDIRECT($A12&\"!e14\")),IF($N12=$L12,_xlfn.XLOOKUP(A12,INDIRECT($A12&\"!m6\"),INDIRECT($A12&\"!e17\"))))","v":0},{"$f":"IF($N12=$J12,_xlfn.XLOOKUP(A12,INDIRECT($A12&\"!m6\"),INDIRECT($A12&\"!f14\")),IF($N12=$L12,_xlfn.XLOOKUP(A12,INDIRECT($A12&\"!m6\"),INDIRECT($A12&\"!f17\"))))","v":0},{"$f":"IF($N12=$J12,_xlfn.XLOOKUP(A12,INDIRECT($A12&\"!m6\"),INDIRECT($A12&\"!g14\")),IF($N12=$L12,_xlfn.XLOOKUP(A12,INDIRECT($A12&\"!m6\"),INDIRECT($A12&\"!g17\"))))","v":0},{"$f":"IF($N12=$J12,_xlfn.XLOOKUP(A12,INDIRECT($A12&\"!m6\"),INDIRECT($A12&\"!h14\")),IF($N12=$L12,_xlfn.XLOOKUP(A12,INDIRECT($A12&\"!m6\"),INDIRECT($A12&\"!h17\"))))","v":0},{"$f":"IF($N12=$J12,_xlfn.XLOOKUP(A12,INDIRECT($A12&\"!m6\"),INDIRECT($A12&\"!i14\")),IF($N12=$L12,_xlfn.XLOOKUP(A12,INDIRECT($A12&\"!m6\"),INDIRECT($A12&\"!i17\"))))","v":0},{"$f":"IF($N12=$J12,_xlfn.XLOOKUP(A12,INDIRECT($A12&\"!m6\"),INDIRECT($A12&\"!j14\")),IF($N12=$L12,_xlfn.XLOOKUP(A12,INDIRECT($A12&\"!m6\"),INDIRECT($A12&\"!j17\"))))","v":0},{"$f":"IF($N12=$J12,_xlfn.XLOOKUP(A12,INDIRECT($A12&\"!m6\"),INDIRECT($A12&\"!k14\")),IF($N12=$L12,_xlfn.XLOOKUP(A12,INDIRECT($A12&\"!m6\"),INDIRECT($A12&\"!k17\"))))","v":0},{"$f":"IFERROR(_xlfn.XLOOKUP(A12,INDIRECT($A12&\"!m6\"),INDIRECT($A12&\"!aa9\")),\"\")","v":0},{"$f":"IFERROR(_xlfn.XLOOKUP(A12,INDIRECT($A12&\"!m6\"),INDIRECT($A12&\"!ab9\")),\"\")","v":0},{"$f":"IFERROR(_xlfn.XLOOKUP(A12,INDIRECT($A12&\"!m6\"),INDIRECT($A12&\"!aa11\")),\"\")","v":0},{"$f":"IFERROR(_xlfn.XLOOKUP(A12,INDIRECT($A12&\"!m6\"),INDIRECT($A12&\"!ab11\")),\"\")","v":0}]
[{"$f":"'8'!M$6","v":8},{"$f":"IFERROR(_xlfn.XLOOKUP(A13,INDIRECT($A13&\"!m6\"),INDIRECT($A13&\"!aa6\")),\"\")","v":""},{"$f":"IFERROR(_xlfn.XLOOKUP(A13,INDIRECT($A13&\"!m6\"),INDIRECT($A13&\"!b5\")),\"\")","v":0},{"$f":"IFERROR(_xlfn.XLOOKUP(A13,INDIRECT($A13&\"!m6\"),INDIRECT($A13&\"!g5\")),\"\")","v":0},{"$f":"IFERROR(_xlfn.XLOOKUP(A13,INDIRECT($A13&\"!m6\"),INDIRECT($A13&\"!b6\")),\"\")","v":"00:00:00"},{"$f":"IFERROR(_xlfn.XLOOKUP(A13,INDIRECT($A13&\"!m6\"),INDIRECT($A13&\"!g6\")),\"\")","v":0},{"$f":"IFERROR(_xlfn.XLOOKUP(A13,INDIRECT($A13&\"!m6\"),INDIRECT($A13&\"!k5\")),\"\")","v":0},{"$f":"IFERROR(_xlfn.XLOOKUP(A13,INDIRECT($A13&\"!m6\"),INDIRECT($A13&\"!k6\")),\"\")","v":0},null,{"$f":"IFERROR(_xlfn.XLOOKUP(A13,INDIRECT($A13&\"!m6\"),INDIRECT($A13&\"!m9\")),\"\")","v":0},null,{"$f":"IFERROR(_xlfn.XLOOKUP(A13,INDIRECT($A13&\"!m6\"),INDIRECT($A13&\"!m11\")),\"\")","v":0},null,0,null,{"$f":"IF($N13=$J13,_xlfn.XLOOKUP(A13,INDIRECT($A13&\"!m6\"),INDIRECT($A13&\"!b14\")),IF($N13=$L13,_xlfn.XLOOKUP(A13,INDIRECT($A13&\"!m6\"),INDIRECT($A13&\"!b17\"))))","v":0},{"$f":"IF($N13=$J13,_xlfn.XLOOKUP(A13,INDIRECT($A13&\"!m6\"),INDIRECT($A13&\"!c14\")),IF($N13=$L13,_xlfn.XLOOKUP(A13,INDIRECT($A13&\"!m6\"),INDIRECT($A13&\"!c17\"))))","v":0},{"$f":"IF($N13=$J13,_xlfn.XLOOKUP(A13,INDIRECT($A13&\"!m6\"),INDIRECT($A13&\"!d14\")),IF($N13=$L13,_xlfn.XLOOKUP(A13,INDIRECT($A13&\"!m6\"),INDIRECT($A13&\"!d17\"))))","v":0},{"$f":"IF($N13=$J13,_xlfn.XLOOKUP(A13,INDIRECT($A13&\"!m6\"),INDIRECT($A13&\"!e14\")),IF($N13=$L13,_xlfn.XLOOKUP(A13,INDIRECT($A13&\"!m6\"),INDIRECT($A13&\"!e17\"))))","v":0},{"$f":"IF($N13=$J13,_xlfn.XLOOKUP(A13,INDIRECT($A13&\"!m6\"),INDIRECT($A13&\"!f14\")),IF($N13=$L13,_xlfn.XLOOKUP(A13,INDIRECT($A13&\"!m6\"),INDIRECT($A13&\"!f17\"))))","v":0},{"$f":"IF($N13=$J13,_xlfn.XLOOKUP(A13,INDIRECT($A13&\"!m6\"),INDIRECT($A13&\"!g14\")),IF($N13=$L13,_xlfn.XLOOKUP(A13,INDIRECT($A13&\"!m6\"),INDIRECT($A13&\"!g17\"))))","v":0},{"$f":"IF($N13=$J13,_xlfn.XLOOKUP(A13,INDIRECT($A13&\"!m6\"),INDIRECT($A13&\"!h14\")),IF($N13=$L13,_xlfn.XLOOKUP(A13,INDIRECT($A13&\"!m6\"),INDIRECT($A13&\"!h17\"))))","v":0},{"$f":"IF($N13=$J13,_xlfn.XLOOKUP(A13,INDIRECT($A13&\"!m6\"),INDIRECT($A13&\"!i14\")),IF($N13=$L13,_xlfn.XLOOKUP(A13,INDIRECT($A13&\"!m6\"),INDIRECT($A13&\"!i17\"))))","v":0},{"$f":"IF($N13=$J13,_xlfn.XLOOKUP(A13,INDIRECT($A13&\"!m6\"),INDIRECT($A13&\"!j14\")),IF($N13=$L13,_xlfn.XLOOKUP(A13,INDIRECT($A13&\"!m6\"),INDIRECT($A13&\"!j17\"))))","v":0},{"$f":"IF($N13=$J13,_xlfn.XLOOKUP(A13,INDIRECT($A13&\"!m6\"),INDIRECT($A13&\"!k14\")),IF($N13=$L13,_xlfn.XLOOKUP(A13,INDIRECT($A13&\"!m6\"),INDIRECT($A13&\"!k17\"))))","v":0},{"$f":"IFERROR(_xlfn.XLOOKUP(A13,INDIRECT($A13&\"!m6\"),INDIRECT($A13&\"!aa9\")),\"\")","v":0},{"$f":"IFERROR(_xlfn.XLOOKUP(A13,INDIRECT($A13&\"!m6\"),INDIRECT($A13&\"!ab9\")),\"\")","v":0},{"$f":"IFERROR(_xlfn.XLOOKUP(A13,INDIRECT($A13&\"!m6\"),INDIRECT($A13&\"!aa11\")),\"\")","v":0},{"$f":"IFERROR(_xlfn.XLOOKUP(A13,INDIRECT($A13&\"!m6\"),INDIRECT($A13&\"!ab11\")),\"\")","v":0}]
[{"$f":"'9'!M$6","v":9},{"$f":"IFERROR(_xlfn.XLOOKUP(A14,INDIRECT($A14&\"!m6\"),INDIRECT($A14&\"!aa6\")),\"\")","v":""},{"$f":"IFERROR(_xlfn.XLOOKUP(A14,INDIRECT($A14&\"!m6\"),INDIRECT($A14&\"!b5\")),\"\")","v":0},{"$f":"IFERROR(_xlfn.XLOOKUP(A14,INDIRECT($A14&\"!m6\"),INDIRECT($A14&\"!g5\")),\"\")","v":0},{"$f":"IFERROR(_xlfn.XLOOKUP(A14,INDIRECT($A14&\"!m6\"),INDIRECT($A14&\"!b6\")),\"\")","v":"00:00:00"},{"$f":"IFERROR(_xlfn.XLOOKUP(A14,INDIRECT($A14&\"!m6\"),INDIRECT($A14&\"!g6\")),\"\")","v":0},{"$f":"IFERROR(_xlfn.XLOOKUP(A14,INDIRECT($A14&\"!m6\"),INDIRECT($A14&\"!k5\")),\"\")","v":0},{"$f":"IFERROR(_xlfn.XLOOKUP(A14,INDIRECT($A14&\"!m6\"),INDIRECT($A14&\"!k6\")),\"\")","v":0},null,{"$f":"IFERROR(_xlfn.XLOOKUP(A14,INDIRECT($A14&\"!m6\"),INDIRECT($A14&\"!m9\")),\"\")","v":0},null,{"$f":"IFERROR(_xlfn.XLOOKUP(A14,INDIRECT($A14&\"!m6\"),INDIRECT($A14&\"!m11\")),\"\")","v":0},null,0,null,{"$f":"IF($N14=$J14,_xlfn.XLOOKUP(A14,INDIRECT($A14&\"!m6\"),INDIRECT($A14&\"!b14\")),IF($N14=$L14,_xlfn.XLOOKUP(A14,INDIRECT($A14&\"!m6\"),INDIRECT($A14&\"!b17\"))))","v":0},{"$f":"IF($N14=$J14,_xlfn.XLOOKUP(A14,INDIRECT($A14&\"!m6\"),INDIRECT($A14&\"!c14\")),IF($N14=$L14,_xlfn.XLOOKUP(A14,INDIRECT($A14&\"!m6\"),INDIRECT($A14&\"!c17\"))))","v":0},{"$f":"IF($N14=$J14,_xlfn.XLOOKUP(A14,INDIRECT($A14&\"!m6\"),INDIRECT($A14&\"!d14\")),IF($N14=$L14,_xlfn.XLOOKUP(A14,INDIRECT($A14&\"!m6\"),INDIRECT($A14&\"!d17\"))))","v":0},{"$f":"IF($N14=$J14,_xlfn.XLOOKUP(A14,INDIRECT($A14&\"!m6\"),INDIRECT($A14&\"!e14\")),IF($N14=$L14,_xlfn.XLOOKUP(A14,INDIRECT($A14&\"!m6\"),INDIRECT($A14&\"!e17\"))))","v":0},{"$f":"IF($N14=$J14,_xlfn.XLOOKUP(A14,INDIRECT($A14&\"!m6\"),INDIRECT($A14&\"!f14\")),IF($N14=$L14,_xlfn.XLOOKUP(A14,INDIRECT($A14&\"!m6\"),INDIRECT($A14&\"!f17\"))))","v":0},{"$f":"IF($N14=$J14,_xlfn.XLOOKUP(A14,INDIRECT($A14&\"!m6\"),INDIRECT($A14&\"!g14\")),IF($N14=$L14,_xlfn.XLOOKUP(A14,INDIRECT($A14&\"!m6\"),INDIRECT($A14&\"!g17\"))))","v":0},{"$f":"IF($N14=$J14,_xlfn.XLOOKUP(A14,INDIRECT($A14&\"!m6\"),INDIRECT($A14&\"!h14\")),IF($N14=$L14,_xlfn.XLOOKUP(A14,INDIRECT($A14&\"!m6\"),INDIRECT($A14&\"!h17\"))))","v":0},{"$f":"IF($N14=$J14,_xlfn.XLOOKUP(A14,INDIRECT($A14&\"!m6\"),INDIRECT($A14&\"!i14\")),IF($N14=$L14,_xlfn.XLOOKUP(A14,INDIRECT($A14&\"!m6\"),INDIRECT($A14&\"!i17\"))))","v":0},{"$f":"IF($N14=$J14,_xlfn.XLOOKUP(A14,INDIRECT($A14&\"!m6\"),INDIRECT($A14&\"!j14\")),IF($N14=$L14,_xlfn.XLOOKUP(A14,INDIRECT($A14&\"!m6\"),INDIRECT($A14&\"!j17\"))))","v":0},{"$f":"IF($N14=$J14,_xlfn.XLOOKUP(A14,INDIRECT($A14&\"!m6\"),INDIRECT($A14&\"!k14\")),IF($N14=$L14,_xlfn.XLOOKUP(A14,INDIRECT($A14&\"!m6\"),INDIRECT($A14&\"!k17\"))))","v":0},{"$f":"IFERROR(_xlfn.XLOOKUP(A14,INDIRECT($A14&\"!m6\"),INDIRECT($A14&\"!aa9\")),\"\")","v":0},{"$f":"IFERROR(_xlfn.XLOOKUP(A14,INDIRECT($A14&\"!m6\"),INDIRECT($A14&\"!ab9\")),\"\")","v":0},{"$f":"IFERROR(_xlfn.XLOOKUP(A14,INDIRECT($A14&\"!m6\"),INDIRECT($A14&\"!aa11\")),\"\")","v":0},{"$f":"IFERROR(_xlfn.XLOOKUP(A14,INDIRECT($A14&\"!m6\"),INDIRECT($A14&\"!ab11\")),\"\")","v":0}]
[{"$f":"'10'!M$6","v":10},{"$f":"IFERROR(_xlfn.XLOOKUP(A15,INDIRECT($A15&\"!m6\"),INDIRECT($A15&\"!aa6\")),\"\")","v":""},{"$f":"IFERROR(_xlfn.XLOOKUP(A15,INDIRECT($A15&\"!m6\"),INDIRECT($A15&\"!b5\")),\"\")","v":0},{"$f":"IFERROR(_xlfn.XLOOKUP(A15,INDIRECT($A15&\"!m6\"),INDIRECT($A15&\"!g5\")),\"\")","v":0},{"$f":"IFERROR(_xlfn.XLOOKUP(A15,INDIRECT($A15&\"!m6\"),INDIRECT($A15&\"!b6\")),\"\")","v":"00:00:00"},{"$f":"IFERROR(_xlfn.XLOOKUP(A15,INDIRECT($A15&\"!m6\"),INDIRECT($A15&\"!g6\")),\"\")","v":0},{"$f":"IFERROR(_xlfn.XLOOKUP(A15,INDIRECT($A15&\"!m6\"),INDIRECT($A15&\"!k5\")),\"\")","v":0},{"$f":"IFERROR(_xlfn.XLOOKUP(A15,INDIRECT($A15&\"!m6\"),INDIRECT($A15&\"!k6\")),\"\")","v":0},null,{"$f":"IFERROR(_xlfn.XLOOKUP(A15,INDIRECT($A15&\"!m6\"),INDIRECT($A15&\"!m9\")),\"\")","v":0},null,{"$f":"IFERROR(_xlfn.XLOOKUP(A15,INDIRECT($A15&\"!m6\"),INDIRECT($A15&\"!m11\")),\"\")","v":0},null,0,null,{"$f":"IF($N15=$J15,_xlfn.XLOOKUP(A15,INDIRECT($A15&\"!m6\"),INDIRECT($A15&\"!b14\")),IF($N15=$L15,_xlfn.XLOOKUP(A15,INDIRECT($A15&\"!m6\"),INDIRECT($A15&\"!b17\"))))","v":0},{"$f":"IF($N15=$J15,_xlfn.XLOOKUP(A15,INDIRECT($A15&\"!m6\"),INDIRECT($A15&\"!c14\")),IF($N15=$L15,_xlfn.XLOOKUP(A15,INDIRECT($A15&\"!m6\"),INDIRECT($A15&\"!c17\"))))","v":0},{"$f":"IF($N15=$J15,_xlfn.XLOOKUP(A15,INDIRECT($A15&\"!m6\"),INDIRECT($A15&\"!d14\")),IF($N15=$L15,_xlfn.XLOOKUP(A15,INDIRECT($A15&\"!m6\"),INDIRECT($A15&\"!d17\"))))","v":0},{"$f":"IF($N15=$J15,_xlfn.XLOOKUP(A15,INDIRECT($A15&\"!m6\"),INDIRECT($A15&\"!e14\")),IF($N15=$L15,_xlfn.XLOOKUP(A15,INDIRECT($A15&\"!m6\"),INDIRECT($A15&\"!e17\"))))","v":0},{"$f":"IF($N15=$J15,_xlfn.XLOOKUP(A15,INDIRECT($A15&\"!m6\"),INDIRECT($A15&\"!f14\")),IF($N15=$L15,_xlfn.XLOOKUP(A15,INDIRECT($A15&\"!m6\"),INDIRECT($A15&\"!f17\"))))","v":0},{"$f":"IF($N15=$J15,_xlfn.XLOOKUP(A15,INDIRECT($A15&\"!m6\"),INDIRECT($A15&\"!g14\")),IF($N15=$L15,_xlfn.XLOOKUP(A15,INDIRECT($A15&\"!m6\"),INDIRECT($A15&\"!g17\"))))","v":0},{"$f":"IF($N15=$J15,_xlfn.XLOOKUP(A15,INDIRECT($A15&\"!m6\"),INDIRECT($A15&\"!h14\")),IF($N15=$L15,_xlfn.XLOOKUP(A15,INDIRECT($A15&\"!m6\"),INDIRECT($A15&\"!h17\"))))","v":0},{"$f":"IF($N15=$J15,_xlfn.XLOOKUP(A15,INDIRECT($A15&\"!m6\"),INDIRECT($A15&\"!i14\")),IF($N15=$L15,_xlfn.XLOOKUP(A15,INDIRECT($A15&\"!m6\"),INDIRECT($A15&\"!i17\"))))","v":0},{"$f":"IF($N15=$J15,_xlfn.XLOOKUP(A15,INDIRECT($A15&\"!m6\"),INDIRECT($A15&\"!j14\")),IF($N15=$L15,_xlfn.XLOOKUP(A15,INDIRECT($A15&\"!m6\"),INDIRECT($A15&\"!j17\"))))","v":0},{"$f":"IF($N15=$J15,_xlfn.XLOOKUP(A15,INDIRECT($A15&\"!m6\"),INDIRECT($A15&\"!k14\")),IF($N15=$L15,_xlfn.XLOOKUP(A15,INDIRECT($A15&\"!m6\"),INDIRECT($A15&\"!k17\"))))","v":0},{"$f":"IFERROR(_xlfn.XLOOKUP(A15,INDIRECT($A15&\"!m6\"),INDIRECT($A15&\"!aa9\")),\"\")","v":0},{"$f":"IFERROR(_xlfn.XLOOKUP(A15,INDIRECT($A15&\"!m6\"),INDIRECT($A15&\"!ab9\")),\"\")","v":0},{"$f":"IFERROR(_xlfn.XLOOKUP(A15,INDIRECT($A15&\"!m6\"),INDIRECT($A15&\"!aa11\")),\"\")","v":0},{"$f":"IFERROR(_xlfn.XLOOKUP(A15,INDIRECT($A15&\"!m6\"),INDIRECT($A15&\"!ab11\")),\"\")","v":0}]
[{"$f":"'11'!M$6","v":11},{"$f":"IFERROR(_xlfn.XLOOKUP(A16,INDIRECT($A16&\"!m6\"),INDIRECT($A16&\"!aa6\")),\"\")","v":""},{"$f":"IFERROR(_xlfn.XLOOKUP(A16,INDIRECT($A16&\"!m6\"),INDIRECT($A16&\"!b5\")),\"\")","v":0},{"$f":"IFERROR(_xlfn.XLOOKUP(A16,INDIRECT($A16&\"!m6\"),INDIRECT($A16&\"!g5\")),\"\")","v":0},{"$f":"IFERROR(_xlfn.XLOOKUP(A16,INDIRECT($A16&\"!m6\"),INDIRECT($A16&\"!b6\")),\"\")","v":"00:00:00"},{"$f":"IFERROR(_xlfn.XLOOKUP(A16,INDIRECT($A16&\"!m6\"),INDIRECT($A16&\"!g6\")),\"\")","v":0},{"$f":"IFERROR(_xlfn.XLOOKUP(A16,INDIRECT($A16&\"!m6\"),INDIRECT($A16&\"!k5\")),\"\")","v":0},{"$f":"IFERROR(_xlfn.XLOOKUP(A16,INDIRECT($A16&\"!m6\"),INDIRECT($A16&\"!k6\")),\"\")","v":0},null,{"$f":"IFERROR(_xlfn.XLOOKUP(A16,INDIRECT($A16&\"!m6\"),INDIRECT($A16&\"!m9\")),\"\")","v":0},null,{"$f":"IFERROR(_xlfn.XLOOKUP(A16,INDIRECT($A16&\"!m6\"),INDIRECT($A16&\"!m11\")),\"\")","v":0},null,0,null,{"$f":"IF($N16=$J16,_xlfn.XLOOKUP(A16,INDIRECT($A16&\"!m6\"),INDIRECT($A16&\"!b14\")),IF($N16=$L16,_xlfn.XLOOKUP(A16,INDIRECT($A16&\"!m6\"),INDIRECT($A16&\"!b17\"))))","v":0},{"$f":"IF($N16=$J16,_xlfn.XLOOKUP(A16,INDIRECT($A16&\"!m6\"),INDIRECT($A16&\"!c14\")),IF($N16=$L16,_xlfn.XLOOKUP(A16,INDIRECT($A16&\"!m6\"),INDIRECT($A16&\"!c17\"))))","v":0},{"$f":"IF($N16=$J16,_xlfn.XLOOKUP(A16,INDIRECT($A16&\"!m6\"),INDIRECT($A16&\"!d14\")),IF($N16=$L16,_xlfn.XLOOKUP(A16,INDIRECT($A16&\"!m6\"),INDIRECT($A16&\"!d17\"))))","v":0},{"$f":"IF($N16=$J16,_xlfn.XLOOKUP(A16,INDIRECT($A16&\"!m6\"),INDIRECT($A16&\"!e14\")),IF($N16=$L16,_xlfn.XLOOKUP(A16,INDIRECT($A16&\"!m6\"),INDIRECT($A16&\"!e17\"))))","v":0},{"$f":"IF($N16=$J16,_xlfn.XLOOKUP(A16,INDIRECT($A16&\"!m6\"),INDIRECT($A16&\"!f14\")),IF($N16=$L16,_xlfn.XLOOKUP(A16,INDIRECT($A16&\"!m6\"),INDIRECT($A16&\"!f17\"))))","v":0},{"$f":"IF($N16=$J16,_xlfn.XLOOKUP(A16,INDIRECT($A16&\"!m6\"),INDIRECT($A16&\"!g14\")),IF($N16=$L16,_xlfn.XLOOKUP(A16,INDIRECT($A16&\"!m6\"),INDIRECT($A16&\"!g17\"))))","v":0},{"$f":"IF($N16=$J16,_xlfn.XLOOKUP(A16,INDIRECT($A16&\"!m6\"),INDIRECT($A16&\"!h14\")),IF($N16=$L16,_xlfn.XLOOKUP(A16,INDIRECT($A16&\"!m6\"),INDIRECT($A16&\"!h17\"))))","v":0},{"$f":"IF($N16=$J16,_xlfn.XLOOKUP(A16,INDIRECT($A16&\"!m6\"),INDIRECT($A16&\"!i14\")),IF($N16=$L16,_xlfn.XLOOKUP(A16,INDIRECT($A16&\"!m6\"),INDIRECT($A16&\"!i17\"))))","v":0},{"$f":"IF($N16=$J16,_xlfn.XLOOKUP(A16,INDIRECT($A16&\"!m6\"),INDIRECT($A16&\"!j14\")),IF($N16=$L16,_xlfn.XLOOKUP(A16,INDIRECT($A16&\"!m6\"),INDIRECT($A16&\"!j17\"))))","v":0},{"$f":"IF($N16=$J16,_xlfn.XLOOKUP(A16,INDIRECT($A16&\"!m6\"),INDIRECT($A16&\"!k14\")),IF($N16=$L16,_xlfn.XLOOKUP(A16,INDIRECT($A16&\"!m6\"),INDIRECT($A16&\"!k17\"))))","v":0},{"$f":"IFERROR(_xlfn.XLOOKUP(A16,INDIRECT($A16&\"!m6\"),INDIRECT($A16&\"!aa9\")),\"\")","v":0},{"$f":"IFERROR(_xlfn.XLOOKUP(A16,INDIRECT($A16&\"!m6\"),INDIRECT($A16&\"!ab9\")),\"\")","v":0},{"$f":"IFERROR(_xlfn.XLOOKUP(A16,INDIRECT($A16&\"!m6\"),INDIRECT($A16&\"!aa11\")),\"\")","v":0},{"$f":"IFERROR(_xlfn.XLOOKUP(A16,INDIRECT($A16&\"!m6\"),INDIRECT($A16&\"!ab11\")),\"\")","v":0}]
[{"$f":"'12'!M$6","v":12},{"$f":"IFERROR(_xlfn.XLOOKUP(A17,INDIRECT($A17&\"!m6\"),INDIRECT($A17&\"!aa6\")),\"\")","v":""},{"$f":"IFERROR(_xlfn.XLOOKUP(A17,INDIRECT($A17&\"!m6\"),INDIRECT($A17&\"!b5\")),\"\")","v":0},{"$f":"IFERROR(_xlfn.XLOOKUP(A17,INDIRECT($A17&\"!m6\"),INDIRECT($A17&\"!g5\")),\"\")","v":0},{"$f":"IFERROR(_xlfn.XLOOKUP(A17,INDIRECT($A17&\"!m6\"),INDIRECT($A17&\"!b6\")),\"\")","v":"00:00:00"},{"$f":"IFERROR(_xlfn.XLOOKUP(A17,INDIRECT($A17&\"!m6\"),INDIRECT($A17&\"!g6\")),\"\")","v":0},{"$f":"IFERROR(_xlfn.XLOOKUP(A17,INDIRECT($A17&\"!m6\"),INDIRECT($A17&\"!k5\")),\"\")","v":0},{"$f":"IFERROR(_xlfn.XLOOKUP(A17,INDIRECT($A17&\"!m6\"),INDIRECT($A17&\"!k6\")),\"\")","v":0},null,{"$f":"IFERROR(_xlfn.XLOOKUP(A17,INDIRECT($A17&\"!m6\"),INDIRECT($A17&\"!m9\")),\"\")","v":0},null,{"$f":"IFERROR(_xlfn.XLOOKUP(A17,INDIRECT($A17&\"!m6\"),INDIRECT($A17&\"!m11\")),\"\")","v":0},null,0,null,{"$f":"IF($N17=$J17,_xlfn.XLOOKUP(A17,INDIRECT($A17&\"!m6\"),INDIRECT($A17&\"!b14\")),IF($N17=$L17,_xlfn.XLOOKUP(A17,INDIRECT($A17&\"!m6\"),INDIRECT($A17&\"!b17\"))))","v":0},{"$f":"IF($N17=$J17,_xlfn.XLOOKUP(A17,INDIRECT($A17&\"!m6\"),INDIRECT($A17&\"!c14\")),IF($N17=$L17,_xlfn.XLOOKUP(A17,INDIRECT($A17&\"!m6\"),INDIRECT($A17&\"!c17\"))))","v":0},{"$f":"IF($N17=$J17,_xlfn.XLOOKUP(A17,INDIRECT($A17&\"!m6\"),INDIRECT($A17&\"!d14\")),IF($N17=$L17,_xlfn.XLOOKUP(A17,INDIRECT($A17&\"!m6\"),INDIRECT($A17&\"!d17\"))))","v":0},{"$f":"IF($N17=$J17,_xlfn.XLOOKUP(A17,INDIRECT($A17&\"!m6\"),INDIRECT($A17&\"!e14\")),IF($N17=$L17,_xlfn.XLOOKUP(A17,INDIRECT($A17&\"!m6\"),INDIRECT($A17&\"!e17\"))))","v":0},{"$f":"IF($N17=$J17,_xlfn.XLOOKUP(A17,INDIRECT($A17&\"!m6\"),INDIRECT($A17&\"!f14\")),IF($N17=$L17,_xlfn.XLOOKUP(A17,INDIRECT($A17&\"!m6\"),INDIRECT($A17&\"!f17\"))))","v":0},{"$f":"IF($N17=$J17,_xlfn.XLOOKUP(A17,INDIRECT($A17&\"!m6\"),INDIRECT($A17&\"!g14\")),IF($N17=$L17,_xlfn.XLOOKUP(A17,INDIRECT($A17&\"!m6\"),INDIRECT($A17&\"!g17\"))))","v":0},{"$f":"IF($N17=$J17,_xlfn.XLOOKUP(A17,INDIRECT($A17&\"!m6\"),INDIRECT($A17&\"!h14\")),IF($N17=$L17,_xlfn.XLOOKUP(A17,INDIRECT($A17&\"!m6\"),INDIRECT($A17&\"!h17\"))))","v":0},{"$f":"IF($N17=$J17,_xlfn.XLOOKUP(A17,INDIRECT($A17&\"!m6\"),INDIRECT($A17&\"!i14\")),IF($N17=$L17,_xlfn.XLOOKUP(A17,INDIRECT($A17&\"!m6\"),INDIRECT($A17&\"!i17\"))))","v":0},{"$f":"IF($N17=$J17,_xlfn.XLOOKUP(A17,INDIRECT($A17&\"!m6\"),INDIRECT($A17&\"!j14\")),IF($N17=$L17,_xlfn.XLOOKUP(A17,INDIRECT($A17&\"!m6\"),INDIRECT($A17&\"!j17\"))))","v":0},{"$f":"IF($N17=$J17,_xlfn.XLOOKUP(A17,INDIRECT($A17&\"!m6\"),INDIRECT($A17&\"!k14\")),IF($N17=$L17,_xlfn.XLOOKUP(A17,INDIRECT($A17&\"!m6\"),INDIRECT($A17&\"!k17\"))))","v":0},{"$f":"IFERROR(_xlfn.XLOOKUP(A17,INDIRECT($A17&\"!m6\"),INDIRECT($A17&\"!aa9\")),\"\")","v":0},{"$f":"IFERROR(_xlfn.XLOOKUP(A17,INDIRECT($A17&\"!m6\"),INDIRECT($A17&\"!ab9\")),\"\")","v":0},{"$f":"IFERROR(_xlfn.XLOOKUP(A17,INDIRECT($A17&\"!m6\"),INDIRECT($A17&\"!aa11\")),\"\")","v":0},{"$f":"IFERROR(_xlfn.XLOOKUP(A17,INDIRECT($A17&\"!m6\"),INDIRECT($A17&\"!ab11\")),\"\")","v":0}]
[{"$f":"'13'!M$6","v":13},{"$f":"IFERROR(_xlfn.XLOOKUP(A18,INDIRECT($A18&\"!m6\"),INDIRECT($A18&\"!aa6\")),\"\")","v":""},{"$f":"IFERROR(_xlfn.XLOOKUP(A18,INDIRECT($A18&\"!m6\"),INDIRECT($A18&\"!b5\")),\"\")","v":0},{"$f":"IFERROR(_xlfn.XLOOKUP(A18,INDIRECT($A18&\"!m6\"),INDIRECT($A18&\"!g5\")),\"\")","v":0},{"$f":"IFERROR(_xlfn.XLOOKUP(A18,INDIRECT($A18&\"!m6\"),INDIRECT($A18&\"!b6\")),\"\")","v":"00:00:00"},{"$f":"IFERROR(_xlfn.XLOOKUP(A18,INDIRECT($A18&\"!m6\"),INDIRECT($A18&\"!g6\")),\"\")","v":0},{"$f":"IFERROR(_xlfn.XLOOKUP(A18,INDIRECT($A18&\"!m6\"),INDIRECT($A18&\"!k5\")),\"\")","v":0},{"$f":"IFERROR(_xlfn.XLOOKUP(A18,INDIRECT($A18&\"!m6\"),INDIRECT($A18&\"!k6\")),\"\")","v":0},null,{"$f":"IFERROR(_xlfn.XLOOKUP(A18,INDIRECT($A18&\"!m6\"),INDIRECT($A18&\"!m9\")),\"\")","v":0},null,{"$f":"IFERROR(_xlfn.XLOOKUP(A18,INDIRECT($A18&\"!m6\"),INDIRECT($A18&\"!m11\")),\"\")","v":0},null,0,null,{"$f":"IF($N18=$J18,_xlfn.XLOOKUP(A18,INDIRECT($A18&\"!m6\"),INDIRECT($A18&\"!b14\")),IF($N18=$L18,_xlfn.XLOOKUP(A18,INDIRECT($A18&\"!m6\"),INDIRECT($A18&\"!b17\"))))","v":0},{"$f":"IF($N18=$J18,_xlfn.XLOOKUP(A18,INDIRECT($A18&\"!m6\"),INDIRECT($A18&\"!c14\")),IF($N18=$L18,_xlfn.XLOOKUP(A18,INDIRECT($A18&\"!m6\"),INDIRECT($A18&\"!c17\"))))","v":0},{"$f":"IF($N18=$J18,_xlfn.XLOOKUP(A18,INDIRECT($A18&\"!m6\"),INDIRECT($A18&\"!d14\")),IF($N18=$L18,_xlfn.XLOOKUP(A18,INDIRECT($A18&\"!m6\"),INDIRECT($A18&\"!d17\"))))","v":0},{"$f":"IF($N18=$J18,_xlfn.XLOOKUP(A18,INDIRECT($A18&\"!m6\"),INDIRECT($A18&\"!e14\")),IF($N18=$L18,_xlfn.XLOOKUP(A18,INDIRECT($A18&\"!m6\"),INDIRECT($A18&\"!e17\"))))","v":0},{"$f":"IF($N18=$J18,_xlfn.XLOOKUP(A18,INDIRECT($A18&\"!m6\"),INDIRECT($A18&\"!f14\")),IF($N18=$L18,_xlfn.XLOOKUP(A18,INDIRECT($A18&\"!m6\"),INDIRECT($A18&\"!f17\"))))","v":0},{"$f":"IF($N18=$J18,_xlfn.XLOOKUP(A18,INDIRECT($A18&\"!m6\"),INDIRECT($A18&\"!g14\")),IF($N18=$L18,_xlfn.XLOOKUP(A18,INDIRECT($A18&\"!m6\"),INDIRECT($A18&\"!g17\"))))","v":0},{"$f":"IF($N18=$J18,_xlfn.XLOOKUP(A18,INDIRECT($A18&\"!m6\"),INDIRECT($A18&\"!h14\")),IF($N18=$L18,_xlfn.XLOOKUP(A18,INDIRECT($A18&\"!m6\"),INDIRECT($A18&\"!h17\"))))","v":0},{"$f":"IF($N18=$J18,_xlfn.XLOOKUP(A18,INDIRECT($A18&\"!m6\"),INDIRECT($A18&\"!i14\")),IF($N18=$L18,_xlfn.XLOOKUP(A18,INDIRECT($A18&\"!m6\"),INDIRECT($A18&\"!i17\"))))","v":0},{"$f":"IF($N18=$J18,_xlfn.XLOOKUP(A18,INDIRECT($A18&\"!m6\"),INDIRECT($A18&\"!j14\")),IF($N18=$L18,_xlfn.XLOOKUP(A18,INDIRECT($A18&\"!m6\"),INDIRECT($A18&\"!j17\"))))","v":0},{"$f":"IF($N18=$J18,_xlfn.XLOOKUP(A18,INDIRECT($A18&\"!m6\"),INDIRECT($A18&\"!k14\")),IF($N18=$L18,_xlfn.XLOOKUP(A18,INDIRECT($A18&\"!m6\"),INDIRECT($A18&\"!k17\"))))","v":0},{"$f":"IFERROR(_xlfn.XLOOKUP(A18,INDIRECT($A18&\"!m6\"),INDIRECT($A18&\"!aa9\")),\"\")","v":0},{"$f":"IFERROR(_xlfn.XLOOKUP(A18,INDIRECT($A18&\"!m6\"),INDIRECT($A18&\"!ab9\")),\"\")","v":0},{"$f":"IFERROR(_xlfn.XLOOKUP(A18,INDIRECT($A18&\"!m6\"),INDIRECT($A18&\"!aa11\")),\"\")","v":0},{"$f":"IFERROR(_xlfn.XLOOKUP(A18,INDIRECT($A18&\"!m6\"),INDIRECT($A18&\"!ab11\")),\"\")","v":0}]
[{"$f":"'14'!M$6","v":14},{"$f":"IFERROR(_xlfn.XLOOKUP(A19,INDIRECT($A19&\"!m6\"),INDIRECT($A19&\"!aa6\")),\"\")","v":""},{"$f":"IFERROR(_xlfn.XLOOKUP(A19,INDIRECT($A19&\"!m6\"),INDIRECT($A19&\"!b5\")),\"\")","v":0},{"$f":"IFERROR(_xlfn.XLOOKUP(A19,INDIRECT($A19&\"!m6\"),INDIRECT($A19&\"!g5\")),\"\")","v":0},{"$f":"IFERROR(_xlfn.XLOOKUP(A19,INDIRECT($A19&\"!m6\"),INDIRECT($A19&\"!b6\")),\"\")","v":"00:00:00"},{"$f":"IFERROR(_xlfn.XLOOKUP(A19,INDIRECT($A19&\"!m6\"),INDIRECT($A19&\"!g6\")),\"\")","v":0},{"$f":"IFERROR(_xlfn.XLOOKUP(A19,INDIRECT($A19&\"!m6\"),INDIRECT($A19&\"!k5\")),\"\")","v":0},{"$f":"IFERROR(_xlfn.XLOOKUP(A19,INDIRECT($A19&\"!m6\"),INDIRECT($A19&\"!k6\")),\"\")","v":0},null,{"$f":"IFERROR(_xlfn.XLOOKUP(A19,INDIRECT($A19&\"!m6\"),INDIRECT($A19&\"!m9\")),\"\")","v":0},null,{"$f":"IFERROR(_xlfn.XLOOKUP(A19,INDIRECT($A19&\"!m6\"),INDIRECT($A19&\"!m11\")),\"\")","v":0},null,0,null,{"$f":"IF($N19=$J19,_xlfn.XLOOKUP(A19,INDIRECT($A19&\"!m6\"),INDIRECT($A19&\"!b14\")),IF($N19=$L19,_xlfn.XLOOKUP(A19,INDIRECT($A19&\"!m6\"),INDIRECT($A19&\"!b17\"))))","v":0},{"$f":"IF($N19=$J19,_xlfn.XLOOKUP(A19,INDIRECT($A19&\"!m6\"),INDIRECT($A19&\"!c14\")),IF($N19=$L19,_xlfn.XLOOKUP(A19,INDIRECT($A19&\"!m6\"),INDIRECT($A19&\"!c17\"))))","v":0},{"$f":"IF($N19=$J19,_xlfn.XLOOKUP(A19,INDIRECT($A19&\"!m6\"),INDIRECT($A19&\"!d14\")),IF($N19=$L19,_xlfn.XLOOKUP(A19,INDIRECT($A19&\"!m6\"),INDIRECT($A19&\"!d17\"))))","v":0},{"$f":"IF($N19=$J19,_xlfn.XLOOKUP(A19,INDIRECT($A19&\"!m6\"),INDIRECT($A19&\"!e14\")),IF($N19=$L19,_xlfn.XLOOKUP(A19,INDIRECT($A19&\"!m6\"),INDIRECT($A19&\"!e17\"))))","v":0},{"$f":"IF($N19=$J19,_xlfn.XLOOKUP(A19,INDIRECT($A19&\"!m6\"),INDIRECT($A19&\"!f14\")),IF($N19=$L19,_xlfn.XLOOKUP(A19,INDIRECT($A19&\"!m6\"),INDIRECT($A19&\"!f17\"))))","v":0},{"$f":"IF($N19=$J19,_xlfn.XLOOKUP(A19,INDIRECT($A19&\"!m6\"),INDIRECT($A19&\"!g14\")),IF($N19=$L19,_xlfn.XLOOKUP(A19,INDIRECT($A19&\"!m6\"),INDIRECT($A19&\"!g17\"))))","v":0},{"$f":"IF($N19=$J19,_xlfn.XLOOKUP(A19,INDIRECT($A19&\"!m6\"),INDIRECT($A19&\"!h14\")),IF($N19=$L19,_xlfn.XLOOKUP(A19,INDIRECT($A19&\"!m6\"),INDIRECT($A19&\"!h17\"))))","v":0},{"$f":"IF($N19=$J19,_xlfn.XLOOKUP(A19,INDIRECT($A19&\"!m6\"),INDIRECT($A19&\"!i14\")),IF($N19=$L19,_xlfn.XLOOKUP(A19,INDIRECT($A19&\"!m6\"),INDIRECT($A19&\"!i17\"))))","v":0},{"$f":"IF($N19=$J19,_xlfn.XLOOKUP(A19,INDIRECT($A19&\"!m6\"),INDIRECT($A19&\"!j14\")),IF($N19=$L19,_xlfn.XLOOKUP(A19,INDIRECT($A19&\"!m6\"),INDIRECT($A19&\"!j17\"))))","v":0},{"$f":"IF($N19=$J19,_xlfn.XLOOKUP(A19,INDIRECT($A19&\"!m6\"),INDIRECT($A19&\"!k14\")),IF($N19=$L19,_xlfn.XLOOKUP(A19,INDIRECT($A19&\"!m6\"),INDIRECT($A19&\"!k17\"))))","v":0},{"$f":"IFERROR(_xlfn.XLOOKUP(A19,INDIRECT($A19&\"!m6\"),INDIRECT($A19&\"!aa9\")),\"\")","v":0},{"$f":"IFERROR(_xlfn.XLOOKUP(A19,INDIRECT($A19&\"!m6\"),INDIRECT($A19&\"!ab9\")),\"\")","v":0},{"$f":"IFERROR(_xlfn.XLOOKUP(A19,INDIRECT($A19&\"!m6\"),INDIRECT($A19&\"!aa11\")),\"\")","v":0},{"$f":"IFERROR(_xlfn.XLOOKUP(A19,INDIRECT($A19&\"!m6\"),INDIRECT($A19&\"!ab11\")),\"\")","v":0}]
[{"$f":"'15'!M$6","v":15},{"$f":"IFERROR(_xlfn.XLOOKUP(A20,INDIRECT($A20&\"!m6\"),INDIRECT($A20&\"!aa6\")),\"\")","v":""},{"$f":"IFERROR(_xlfn.XLOOKUP(A20,INDIRECT($A20&\"!m6\"),INDIRECT($A20&\"!b5\")),\"\")","v":0},{"$f":"IFERROR(_xlfn.XLOOKUP(A20,INDIRECT($A20&\"!m6\"),INDIRECT($A20&\"!g5\")),\"\")","v":0},{"$f":"IFERROR(_xlfn.XLOOKUP(A20,INDIRECT($A20&\"!m6\"),INDIRECT($A20&\"!b6\")),\"\")","v":"00:00:00"},{"$f":"IFERROR(_xlfn.XLOOKUP(A20,INDIRECT($A20&\"!m6\"),INDIRECT($A20&\"!g6\")),\"\")","v":0},{"$f":"IFERROR(_xlfn.XLOOKUP(A20,INDIRECT($A20&\"!m6\"),INDIRECT($A20&\"!k5\")),\"\")","v":0},{"$f":"IFERROR(_xlfn.XLOOKUP(A20,INDIRECT($A20&\"!m6\"),INDIRECT($A20&\"!k6\")),\"\")","v":0},null,{"$f":"IFERROR(_xlfn.XLOOKUP(A20,INDIRECT($A20&\"!m6\"),INDIRECT($A20&\"!m9\")),\"\")","v":0},null,{"$f":"IFERROR(_xlfn.XLOOKUP(A20,INDIRECT($A20&\"!m6\"),INDIRECT($A20&\"!m11\")),\"\")","v":0},null,0,null,{"$f":"IF($N20=$J20,_xlfn.XLOOKUP(A20,INDIRECT($A20&\"!m6\"),INDIRECT($A20&\"!b14\")),IF($N20=$L20,_xlfn.XLOOKUP(A20,INDIRECT($A20&\"!m6\"),INDIRECT($A20&\"!b17\"))))","v":0},{"$f":"IF($N20=$J20,_xlfn.XLOOKUP(A20,INDIRECT($A20&\"!m6\"),INDIRECT($A20&\"!c14\")),IF($N20=$L20,_xlfn.XLOOKUP(A20,INDIRECT($A20&\"!m6\"),INDIRECT($A20&\"!c17\"))))","v":0},{"$f":"IF($N20=$J20,_xlfn.XLOOKUP(A20,INDIRECT($A20&\"!m6\"),INDIRECT($A20&\"!d14\")),IF($N20=$L20,_xlfn.XLOOKUP(A20,INDIRECT($A20&\"!m6\"),INDIRECT($A20&\"!d17\"))))","v":0},{"$f":"IF($N20=$J20,_xlfn.XLOOKUP(A20,INDIRECT($A20&\"!m6\"),INDIRECT($A20&\"!e14\")),IF($N20=$L20,_xlfn.XLOOKUP(A20,INDIRECT($A20&\"!m6\"),INDIRECT($A20&\"!e17\"))))","v":0},{"$f":"IF($N20=$J20,_xlfn.XLOOKUP(A20,INDIRECT($A20&\"!m6\"),INDIRECT($A20&\"!f14\")),IF($N20=$L20,_xlfn.XLOOKUP(A20,INDIRECT($A20&\"!m6\"),INDIRECT($A20&\"!f17\"))))","v":0},{"$f":"IF($N20=$J20,_xlfn.XLOOKUP(A20,INDIRECT($A20&\"!m6\"),INDIRECT($A20&\"!g14\")),IF($N20=$L20,_xlfn.XLOOKUP(A20,INDIRECT($A20&\"!m6\"),INDIRECT($A20&\"!g17\"))))","v":0},{"$f":"IF($N20=$J20,_xlfn.XLOOKUP(A20,INDIRECT($A20&\"!m6\"),INDIRECT($A20&\"!h14\")),IF($N20=$L20,_xlfn.XLOOKUP(A20,INDIRECT($A20&\"!m6\"),INDIRECT($A20&\"!h17\"))))","v":0},{"$f":"IF($N20=$J20,_xlfn.XLOOKUP(A20,INDIRECT($A20&\"!m6\"),INDIRECT($A20&\"!i14\")),IF($N20=$L20,_xlfn.XLOOKUP(A20,INDIRECT($A20&\"!m6\"),INDIRECT($A20&\"!i17\"))))","v":0},{"$f":"IF($N20=$J20,_xlfn.XLOOKUP(A20,INDIRECT($A20&\"!m6\"),INDIRECT($A20&\"!j14\")),IF($N20=$L20,_xlfn.XLOOKUP(A20,INDIRECT($A20&\"!m6\"),INDIRECT($A20&\"!j17\"))))","v":0},{"$f":"IF($N20=$J20,_xlfn.XLOOKUP(A20,INDIRECT($A20&\"!m6\"),INDIRECT($A20&\"!k14\")),IF($N20=$L20,_xlfn.XLOOKUP(A20,INDIRECT($A20&\"!m6\"),INDIRECT($A20&\"!k17\"))))","v":0},{"$f":"IFERROR(_xlfn.XLOOKUP(A20,INDIRECT($A20&\"!m6\"),INDIRECT($A20&\"!aa9\")),\"\")","v":0},{"$f":"IFERROR(_xlfn.XLOOKUP(A20,INDIRECT($A20&\"!m6\"),INDIRECT($A20&\"!ab9\")),\"\")","v":0},{"$f":"IFERROR(_xlfn.XLOOKUP(A20,INDIRECT($A20&\"!m6\"),INDIRECT($A20&\"!aa11\")),\"\")","v":0},{"$f":"IFERROR(_xlfn.XLOOKUP(A20,INDIRECT($A20&\"!m6\"),INDIRECT($A20&\"!ab11\")),\"\")","v":0}]
[{"$f":"'16'!M$6","v":16},{"$f":"IFERROR(_xlfn.XLOOKUP(A21,INDIRECT($A21&\"!m6\"),INDIRECT($A21&\"!aa6\")),\"\")","v":""},{"$f":"IFERROR(_xlfn.XLOOKUP(A21,INDIRECT($A21&\"!m6\"),INDIRECT($A21&\"!b5\")),\"\")","v":0},{"$f":"IFERROR(_xlfn.XLOOKUP(A21,INDIRECT($A21&\"!m6\"),INDIRECT($A21&\"!g5\")),\"\")","v":0},{"$f":"IFERROR(_xlfn.XLOOKUP(A21,INDIRECT($A21&\"!m6\"),INDIRECT($A21&\"!b6\")),\"\")","v":"00:00:00"},{"$f":"IFERROR(_xlfn.XLOOKUP(A21,INDIRECT($A21&\"!m6\"),INDIRECT($A21&\"!g6\")),\"\")","v":0},{"$f":"IFERROR(_xlfn.XLOOKUP(A21,INDIRECT($A21&\"!m6\"),INDIRECT($A21&\"!k5\")),\"\")","v":0},{"$f":"IFERROR(_xlfn.XLOOKUP(A21,INDIRECT($A21&\"!m6\"),INDIRECT($A21&\"!k6\")),\"\")","v":0},null,{"$f":"IFERROR(_xlfn.XLOOKUP(A21,INDIRECT($A21&\"!m6\"),INDIRECT($A21&\"!m9\")),\"\")","v":0},null,{"$f":"IFERROR(_xlfn.XLOOKUP(A21,INDIRECT($A21&\"!m6\"),INDIRECT($A21&\"!m11\")),\"\")","v":0},null,0,null,{"$f":"IF($N21=$J21,_xlfn.XLOOKUP(A21,INDIRECT($A21&\"!m6\"),INDIRECT($A21&\"!b14\")),IF($N21=$L21,_xlfn.XLOOKUP(A21,INDIRECT($A21&\"!m6\"),INDIRECT($A21&\"!b17\"))))","v":0},{"$f":"IF($N21=$J21,_xlfn.XLOOKUP(A21,INDIRECT($A21&\"!m6\"),INDIRECT($A21&\"!c14\")),IF($N21=$L21,_xlfn.XLOOKUP(A21,INDIRECT($A21&\"!m6\"),INDIRECT($A21&\"!c17\"))))","v":0},{"$f":"IF($N21=$J21,_xlfn.XLOOKUP(A21,INDIRECT($A21&\"!m6\"),INDIRECT($A21&\"!d14\")),IF($N21=$L21,_xlfn.XLOOKUP(A21,INDIRECT($A21&\"!m6\"),INDIRECT($A21&\"!d17\"))))","v":0},{"$f":"IF($N21=$J21,_xlfn.XLOOKUP(A21,INDIRECT($A21&\"!m6\"),INDIRECT($A21&\"!e14\")),IF($N21=$L21,_xlfn.XLOOKUP(A21,INDIRECT($A21&\"!m6\"),INDIRECT($A21&\"!e17\"))))","v":0},{"$f":"IF($N21=$J21,_xlfn.XLOOKUP(A21,INDIRECT($A21&\"!m6\"),INDIRECT($A21&\"!f14\")),IF($N21=$L21,_xlfn.XLOOKUP(A21,INDIRECT($A21&\"!m6\"),INDIRECT($A21&\"!f17\"))))","v":0},{"$f":"IF($N21=$J21,_xlfn.XLOOKUP(A21,INDIRECT($A21&\"!m6\"),INDIRECT($A21&\"!g14\")),IF($N21=$L21,_xlfn.XLOOKUP(A21,INDIRECT($A21&\"!m6\"),INDIRECT($A21&\"!g17\"))))","v":0},{"$f":"IF($N21=$J21,_xlfn.XLOOKUP(A21,INDIRECT($A21&\"!m6\"),INDIRECT($A21&\"!h14\")),IF($N21=$L21,_xlfn.XLOOKUP(A21,INDIRECT($A21&\"!m6\"),INDIRECT($A21&\"!h17\"))))","v":0},{"$f":"IF($N21=$J21,_xlfn.XLOOKUP(A21,INDIRECT($A21&\"!m6\"),INDIRECT($A21&\"!i14\")),IF($N21=$L21,_xlfn.XLOOKUP(A21,INDIRECT($A21&\"!m6\"),INDIRECT($A21&\"!i17\"))))","v":0},{"$f":"IF($N21=$J21,_xlfn.XLOOKUP(A21,INDIRECT($A21&\"!m6\"),INDIRECT($A21&\"!j14\")),IF($N21=$L21,_xlfn.XLOOKUP(A21,INDIRECT($A21&\"!m6\"),INDIRECT($A21&\"!j17\"))))","v":0},{"$f":"IF($N21=$J21,_xlfn.XLOOKUP(A21,INDIRECT($A21&\"!m6\"),INDIRECT($A21&\"!k14\")),IF($N21=$L21,_xlfn.XLOOKUP(A21,INDIRECT($A21&\"!m6\"),INDIRECT($A21&\"!k17\"))))","v":0},{"$f":"IFERROR(_xlfn.XLOOKUP(A21,INDIRECT($A21&\"!m6\"),INDIRECT($A21&\"!aa9\")),\"\")","v":0},{"$f":"IFERROR(_xlfn.XLOOKUP(A21,INDIRECT($A21&\"!m6\"),INDIRECT($A21&\"!ab9\")),\"\")","v":0},{"$f":"IFERROR(_xlfn.XLOOKUP(A21,INDIRECT($A21&\"!m6\"),INDIRECT($A21&\"!aa11\")),\"\")","v":0},{"$f":"IFERROR(_xlfn.XLOOKUP(A21,INDIRECT($A21&\"!m6\"),INDIRECT($A21&\"!ab11\")),\"\")","v":0}]
[{"$f":"'17'!M$6","v":17},{"$f":"IFERROR(_xlfn.XLOOKUP(A22,INDIRECT($A22&\"!m6\"),INDIRECT($A22&\"!aa6\")),\"\")","v":""},{"$f":"IFERROR(_xlfn.XLOOKUP(A22,INDIRECT($A22&\"!m6\"),INDIRECT($A22&\"!b5\")),\"\")","v":0},{"$f":"IFERROR(_xlfn.XLOOKUP(A22,INDIRECT($A22&\"!m6\"),INDIRECT($A22&\"!g5\")),\"\")","v":0},{"$f":"IFERROR(_xlfn.XLOOKUP(A22,INDIRECT($A22&\"!m6\"),INDIRECT($A22&\"!b6\")),\"\")","v":"00:00:00"},{"$f":"IFERROR(_xlfn.XLOOKUP(A22,INDIRECT($A22&\"!m6\"),INDIRECT($A22&\"!g6\")),\"\")","v":0},{"$f":"IFERROR(_xlfn.XLOOKUP(A22,INDIRECT($A22&\"!m6\"),INDIRECT($A22&\"!k5\")),\"\")","v":0},{"$f":"IFERROR(_xlfn.XLOOKUP(A22,INDIRECT($A22&\"!m6\"),INDIRECT($A22&\"!k6\")),\"\")","v":0},null,{"$f":"IFERROR(_xlfn.XLOOKUP(A22,INDIRECT($A22&\"!m6\"),INDIRECT($A22&\"!m9\")),\"\")","v":0},null,{"$f":"IFERROR(_xlfn.XLOOKUP(A22,INDIRECT($A22&\"!m6\"),INDIRECT($A22&\"!m11\")),\"\")","v":0},null,0,null,{"$f":"IF($N22=$J22,_xlfn.XLOOKUP(A22,INDIRECT($A22&\"!m6\"),INDIRECT($A22&\"!b14\")),IF($N22=$L22,_xlfn.XLOOKUP(A22,INDIRECT($A22&\"!m6\"),INDIRECT($A22&\"!b17\"))))","v":0},{"$f":"IF($N22=$J22,_xlfn.XLOOKUP(A22,INDIRECT($A22&\"!m6\"),INDIRECT($A22&\"!c14\")),IF($N22=$L22,_xlfn.XLOOKUP(A22,INDIRECT($A22&\"!m6\"),INDIRECT($A22&\"!c17\"))))","v":0},{"$f":"IF($N22=$J22,_xlfn.XLOOKUP(A22,INDIRECT($A22&\"!m6\"),INDIRECT($A22&\"!d14\")),IF($N22=$L22,_xlfn.XLOOKUP(A22,INDIRECT($A22&\"!m6\"),INDIRECT($A22&\"!d17\"))))","v":0},{"$f":"IF($N22=$J22,_xlfn.XLOOKUP(A22,INDIRECT($A22&\"!m6\"),INDIRECT($A22&\"!e14\")),IF($N22=$L22,_xlfn.XLOOKUP(A22,INDIRECT($A22&\"!m6\"),INDIRECT($A22&\"!e17\"))))","v":0},{"$f":"IF($N22=$J22,_xlfn.XLOOKUP(A22,INDIRECT($A22&\"!m6\"),INDIRECT($A22&\"!f14\")),IF($N22=$L22,_xlfn.XLOOKUP(A22,INDIRECT($A22&\"!m6\"),INDIRECT($A22&\"!f17\"))))","v":0},{"$f":"IF($N22=$J22,_xlfn.XLOOKUP(A22,INDIRECT($A22&\"!m6\"),INDIRECT($A22&\"!g14\")),IF($N22=$L22,_xlfn.XLOOKUP(A22,INDIRECT($A22&\"!m6\"),INDIRECT($A22&\"!g17\"))))","v":0},{"$f":"IF($N22=$J22,_xlfn.XLOOKUP(A22,INDIRECT($A22&\"!m6\"),INDIRECT($A22&\"!h14\")),IF($N22=$L22,_xlfn.XLOOKUP(A22,INDIRECT($A22&\"!m6\"),INDIRECT($A22&\"!h17\"))))","v":0},{"$f":"IF($N22=$J22,_xlfn.XLOOKUP(A22,INDIRECT($A22&\"!m6\"),INDIRECT($A22&\"!i14\")),IF($N22=$L22,_xlfn.XLOOKUP(A22,INDIRECT($A22&\"!m6\"),INDIRECT($A22&\"!i17\"))))","v":0},{"$f":"IF($N22=$J22,_xlfn.XLOOKUP(A22,INDIRECT($A22&\"!m6\"),INDIRECT($A22&\"!j14\")),IF($N22=$L22,_xlfn.XLOOKUP(A22,INDIRECT($A22&\"!m6\"),INDIRECT($A22&\"!j17\"))))","v":0},{"$f":"IF($N22=$J22,_xlfn.XLOOKUP(A22,INDIRECT($A22&\"!m6\"),INDIRECT($A22&\"!k14\")),IF($N22=$L22,_xlfn.XLOOKUP(A22,INDIRECT($A22&\"!m6\"),INDIRECT($A22&\"!k17\"))))","v":0},{"$f":"IFERROR(_xlfn.XLOOKUP(A22,INDIRECT($A22&\"!m6\"),INDIRECT($A22&\"!aa9\")),\"\")","v":0},{"$f":"IFERROR(_xlfn.XLOOKUP(A22,INDIRECT($A22&\"!m6\"),INDIRECT($A22&\"!ab9\")),\"\")","v":0},{"$f":"IFERROR(_xlfn.XLOOKUP(A22,INDIRECT($A22&\"!m6\"),INDIRECT($A22&\"!aa11\")),\"\")","v":0},{"$f":"IFERROR(_xlfn.XLOOKUP(A22,INDIRECT($A22&\"!m6\"),INDIRECT($A22&\"!ab11\")),\"\")","v":0}]
[{"$f":"'18'!M$6","v":18},{"$f":"IFERROR(_xlfn.XLOOKUP(A23,INDIRECT($A23&\"!m6\"),INDIRECT($A23&\"!aa6\")),\"\")","v":""},{"$f":"IFERROR(_xlfn.XLOOKUP(A23,INDIRECT($A23&\"!m6\"),INDIRECT($A23&\"!b5\")),\"\")","v":0},{"$f":"IFERROR(_xlfn.XLOOKUP(A23,INDIRECT($A23&\"!m6\"),INDIRECT($A23&\"!g5\")),\"\")","v":0},{"$f":"IFERROR(_xlfn.XLOOKUP(A23,INDIRECT($A23&\"!m6\"),INDIRECT($A23&\"!b6\")),\"\")","v":"00:00:00"},{"$f":"IFERROR(_xlfn.XLOOKUP(A23,INDIRECT($A23&\"!m6\"),INDIRECT($A23&\"!g6\")),\"\")","v":0},{"$f":"IFERROR(_xlfn.XLOOKUP(A23,INDIRECT($A23&\"!m6\"),INDIRECT($A23&\"!k5\")),\"\")","v":0},{"$f":"IFERROR(_xlfn.XLOOKUP(A23,INDIRECT($A23&\"!m6\"),INDIRECT($A23&\"!k6\")),\"\")","v":0},null,{"$f":"IFERROR(_xlfn.XLOOKUP(A23,INDIRECT($A23&\"!m6\"),INDIRECT($A23&\"!m9\")),\"\")","v":0},null,{"$f":"IFERROR(_xlfn.XLOOKUP(A23,INDIRECT($A23&\"!m6\"),INDIRECT($A23&\"!m11\")),\"\")","v":0},null,0,null,{"$f":"IF($N23=$J23,_xlfn.XLOOKUP(A23,INDIRECT($A23&\"!m6\"),INDIRECT($A23&\"!b14\")),IF($N23=$L23,_xlfn.XLOOKUP(A23,INDIRECT($A23&\"!m6\"),INDIRECT($A23&\"!b17\"))))","v":0},{"$f":"IF($N23=$J23,_xlfn.XLOOKUP(A23,INDIRECT($A23&\"!m6\"),INDIRECT($A23&\"!c14\")),IF($N23=$L23,_xlfn.XLOOKUP(A23,INDIRECT($A23&\"!m6\"),INDIRECT($A23&\"!c17\"))))","v":0},{"$f":"IF($N23=$J23,_xlfn.XLOOKUP(A23,INDIRECT($A23&\"!m6\"),INDIRECT($A23&\"!d14\")),IF($N23=$L23,_xlfn.XLOOKUP(A23,INDIRECT($A23&\"!m6\"),INDIRECT($A23&\"!d17\"))))","v":0},{"$f":"IF($N23=$J23,_xlfn.XLOOKUP(A23,INDIRECT($A23&\"!m6\"),INDIRECT($A23&\"!e14\")),IF($N23=$L23,_xlfn.XLOOKUP(A23,INDIRECT($A23&\"!m6\"),INDIRECT($A23&\"!e17\"))))","v":0},{"$f":"IF($N23=$J23,_xlfn.XLOOKUP(A23,INDIRECT($A23&\"!m6\"),INDIRECT($A23&\"!f14\")),IF($N23=$L23,_xlfn.XLOOKUP(A23,INDIRECT($A23&\"!m6\"),INDIRECT($A23&\"!f17\"))))","v":0},{"$f":"IF($N23=$J23,_xlfn.XLOOKUP(A23,INDIRECT($A23&\"!m6\"),INDIRECT($A23&\"!g14\")),IF($N23=$L23,_xlfn.XLOOKUP(A23,INDIRECT($A23&\"!m6\"),INDIRECT($A23&\"!g17\"))))","v":0},{"$f":"IF($N23=$J23,_xlfn.XLOOKUP(A23,INDIRECT($A23&\"!m6\"),INDIRECT($A23&\"!h14\")),IF($N23=$L23,_xlfn.XLOOKUP(A23,INDIRECT($A23&\"!m6\"),INDIRECT($A23&\"!h17\"))))","v":0},{"$f":"IF($N23=$J23,_xlfn.XLOOKUP(A23,INDIRECT($A23&\"!m6\"),INDIRECT($A23&\"!i14\")),IF($N23=$L23,_xlfn.XLOOKUP(A23,INDIRECT($A23&\"!m6\"),INDIRECT($A23&\"!i17\"))))","v":0},{"$f":"IF($N23=$J23,_xlfn.XLOOKUP(A23,INDIRECT($A23&\"!m6\"),INDIRECT($A23&\"!j14\")),IF($N23=$L23,_xlfn.XLOOKUP(A23,INDIRECT($A23&\"!m6\"),INDIRECT($A23&\"!j17\"))))","v":0},{"$f":"IF($N23=$J23,_xlfn.XLOOKUP(A23,INDIRECT($A23&\"!m6\"),INDIRECT($A23&\"!k14\")),IF($N23=$L23,_xlfn.XLOOKUP(A23,INDIRECT($A23&\"!m6\"),INDIRECT($A23&\"!k17\"))))","v":0},{"$f":"IFERROR(_xlfn.XLOOKUP(A23,INDIRECT($A23&\"!m6\"),INDIRECT($A23&\"!aa9\")),\"\")","v":0},{"$f":"IFERROR(_xlfn.XLOOKUP(A23,INDIRECT($A23&\"!m6\"),INDIRECT($A23&\"!ab9\")),\"\")","v":0},{"$f":"IFERROR(_xlfn.XLOOKUP(A23,INDIRECT($A23&\"!m6\"),INDIRECT($A23&\"!aa11\")),\"\")","v":0},{"$f":"IFERROR(_xlfn.XLOOKUP(A23,INDIRECT($A23&\"!m6\"),INDIRECT($A23&\"!ab11\")),\"\")","v":0}]
[{"$f":"'19'!M$6","v":19},{"$f":"IFERROR(_xlfn.XLOOKUP(A24,INDIRECT($A24&\"!m6\"),INDIRECT($A24&\"!aa6\")),\"\")","v":""},{"$f":"IFERROR(_xlfn.XLOOKUP(A24,INDIRECT($A24&\"!m6\"),INDIRECT($A24&\"!b5\")),\"\")","v":0},{"$f":"IFERROR(_xlfn.XLOOKUP(A24,INDIRECT($A24&\"!m6\"),INDIRECT($A24&\"!g5\")),\"\")","v":0},{"$f":"IFERROR(_xlfn.XLOOKUP(A24,INDIRECT($A24&\"!m6\"),INDIRECT($A24&\"!b6\")),\"\")","v":"00:00:00"},{"$f":"IFERROR(_xlfn.XLOOKUP(A24,INDIRECT($A24&\"!m6\"),INDIRECT($A24&\"!g6\")),\"\")","v":0},{"$f":"IFERROR(_xlfn.XLOOKUP(A24,INDIRECT($A24&\"!m6\"),INDIRECT($A24&\"!k5\")),\"\")","v":0},{"$f":"IFERROR(_xlfn.XLOOKUP(A24,INDIRECT($A24&\"!m6\"),INDIRECT($A24&\"!k6\")),\"\")","v":0},null,{"$f":"IFERROR(_xlfn.XLOOKUP(A24,INDIRECT($A24&\"!m6\"),INDIRECT($A24&\"!m9\")),\"\")","v":0},null,{"$f":"IFERROR(_xlfn.XLOOKUP(A24,INDIRECT($A24&\"!m6\"),INDIRECT($A24&\"!m11\")),\"\")","v":0},null,0,null,{"$f":"IF($N24=$J24,_xlfn.XLOOKUP(A24,INDIRECT($A24&\"!m6\"),INDIRECT($A24&\"!b14\")),IF($N24=$L24,_xlfn.XLOOKUP(A24,INDIRECT($A24&\"!m6\"),INDIRECT($A24&\"!b17\"))))","v":0},{"$f":"IF($N24=$J24,_xlfn.XLOOKUP(A24,INDIRECT($A24&\"!m6\"),INDIRECT($A24&\"!c14\")),IF($N24=$L24,_xlfn.XLOOKUP(A24,INDIRECT($A24&\"!m6\"),INDIRECT($A24&\"!c17\"))))","v":0},{"$f":"IF($N24=$J24,_xlfn.XLOOKUP(A24,INDIRECT($A24&\"!m6\"),INDIRECT($A24&\"!d14\")),IF($N24=$L24,_xlfn.XLOOKUP(A24,INDIRECT($A24&\"!m6\"),INDIRECT($A24&\"!d17\"))))","v":0},{"$f":"IF($N24=$J24,_xlfn.XLOOKUP(A24,INDIRECT($A24&\"!m6\"),INDIRECT($A24&\"!e14\")),IF($N24=$L24,_xlfn.XLOOKUP(A24,INDIRECT($A24&\"!m6\"),INDIRECT($A24&\"!e17\"))))","v":0},{"$f":"IF($N24=$J24,_xlfn.XLOOKUP(A24,INDIRECT($A24&\"!m6\"),INDIRECT($A24&\"!f14\")),IF($N24=$L24,_xlfn.XLOOKUP(A24,INDIRECT($A24&\"!m6\"),INDIRECT($A24&\"!f17\"))))","v":0},{"$f":"IF($N24=$J24,_xlfn.XLOOKUP(A24,INDIRECT($A24&\"!m6\"),INDIRECT($A24&\"!g14\")),IF($N24=$L24,_xlfn.XLOOKUP(A24,INDIRECT($A24&\"!m6\"),INDIRECT($A24&\"!g17\"))))","v":0},{"$f":"IF($N24=$J24,_xlfn.XLOOKUP(A24,INDIRECT($A24&\"!m6\"),INDIRECT($A24&\"!h14\")),IF($N24=$L24,_xlfn.XLOOKUP(A24,INDIRECT($A24&\"!m6\"),INDIRECT($A24&\"!h17\"))))","v":0},{"$f":"IF($N24=$J24,_xlfn.XLOOKUP(A24,INDIRECT($A24&\"!m6\"),INDIRECT($A24&\"!i14\")),IF($N24=$L24,_xlfn.XLOOKUP(A24,INDIRECT($A24&\"!m6\"),INDIRECT($A24&\"!i17\"))))","v":0},{"$f":"IF($N24=$J24,_xlfn.XLOOKUP(A24,INDIRECT($A24&\"!m6\"),INDIRECT($A24&\"!j14\")),IF($N24=$L24,_xlfn.XLOOKUP(A24,INDIRECT($A24&\"!m6\"),INDIRECT($A24&\"!j17\"))))","v":0},{"$f":"IF($N24=$J24,_xlfn.XLOOKUP(A24,INDIRECT($A24&\"!m6\"),INDIRECT($A24&\"!k14\")),IF($N24=$L24,_xlfn.XLOOKUP(A24,INDIRECT($A24&\"!m6\"),INDIRECT($A24&\"!k17\"))))","v":0},{"$f":"IFERROR(_xlfn.XLOOKUP(A24,INDIRECT($A24&\"!m6\"),INDIRECT($A24&\"!aa9\")),\"\")","v":0},{"$f":"IFERROR(_xlfn.XLOOKUP(A24,INDIRECT($A24&\"!m6\"),INDIRECT($A24&\"!ab9\")),\"\")","v":0},{"$f":"IFERROR(_xlfn.XLOOKUP(A24,INDIRECT($A24&\"!m6\"),INDIRECT($A24&\"!aa11\")),\"\")","v":0},{"$f":"IFERROR(_xlfn.XLOOKUP(A24,INDIRECT($A24&\"!m6\"),INDIRECT($A24&\"!ab11\")),\"\")","v":0}]
[{"$f":"'20'!M$6","v":20},{"$f":"IFERROR(_xlfn.XLOOKUP(A25,INDIRECT($A25&\"!m6\"),INDIRECT($A25&\"!aa6\")),\"\")","v":""},{"$f":"IFERROR(_xlfn.XLOOKUP(A25,INDIRECT($A25&\"!m6\"),INDIRECT($A25&\"!b5\")),\"\")","v":0},{"$f":"IFERROR(_xlfn.XLOOKUP(A25,INDIRECT($A25&\"!m6\"),INDIRECT($A25&\"!g5\")),\"\")","v":0},{"$f":"IFERROR(_xlfn.XLOOKUP(A25,INDIRECT($A25&\"!m6\"),INDIRECT($A25&\"!b6\")),\"\")","v":"00:00:00"},{"$f":"IFERROR(_xlfn.XLOOKUP(A25,INDIRECT($A25&\"!m6\"),INDIRECT($A25&\"!g6\")),\"\")","v":0},{"$f":"IFERROR(_xlfn.XLOOKUP(A25,INDIRECT($A25&\"!m6\"),INDIRECT($A25&\"!k5\")),\"\")","v":0},{"$f":"IFERROR(_xlfn.XLOOKUP(A25,INDIRECT($A25&\"!m6\"),INDIRECT($A25&\"!k6\")),\"\")","v":0},null,{"$f":"IFERROR(_xlfn.XLOOKUP(A25,INDIRECT($A25&\"!m6\"),INDIRECT($A25&\"!m9\")),\"\")","v":0},null,{"$f":"IFERROR(_xlfn.XLOOKUP(A25,INDIRECT($A25&\"!m6\"),INDIRECT($A25&\"!m11\")),\"\")","v":0},null,0,null,{"$f":"IF($N25=$J25,_xlfn.XLOOKUP(A25,INDIRECT($A25&\"!m6\"),INDIRECT($A25&\"!b14\")),IF($N25=$L25,_xlfn.XLOOKUP(A25,INDIRECT($A25&\"!m6\"),INDIRECT($A25&\"!b17\"))))","v":0},{"$f":"IF($N25=$J25,_xlfn.XLOOKUP(A25,INDIRECT($A25&\"!m6\"),INDIRECT($A25&\"!c14\")),IF($N25=$L25,_xlfn.XLOOKUP(A25,INDIRECT($A25&\"!m6\"),INDIRECT($A25&\"!c17\"))))","v":0},{"$f":"IF($N25=$J25,_xlfn.XLOOKUP(A25,INDIRECT($A25&\"!m6\"),INDIRECT($A25&\"!d14\")),IF($N25=$L25,_xlfn.XLOOKUP(A25,INDIRECT($A25&\"!m6\"),INDIRECT($A25&\"!d17\"))))","v":0},{"$f":"IF($N25=$J25,_xlfn.XLOOKUP(A25,INDIRECT($A25&\"!m6\"),INDIRECT($A25&\"!e14\")),IF($N25=$L25,_xlfn.XLOOKUP(A25,INDIRECT($A25&\"!m6\"),INDIRECT($A25&\"!e17\"))))","v":0},{"$f":"IF($N25=$J25,_xlfn.XLOOKUP(A25,INDIRECT($A25&\"!m6\"),INDIRECT($A25&\"!f14\")),IF($N25=$L25,_xlfn.XLOOKUP(A25,INDIRECT($A25&\"!m6\"),INDIRECT($A25&\"!f17\"))))","v":0},{"$f":"IF($N25=$J25,_xlfn.XLOOKUP(A25,INDIRECT($A25&\"!m6\"),INDIRECT($A25&\"!g14\")),IF($N25=$L25,_xlfn.XLOOKUP(A25,INDIRECT($A25&\"!m6\"),INDIRECT($A25&\"!g17\"))))","v":0},{"$f":"IF($N25=$J25,_xlfn.XLOOKUP(A25,INDIRECT($A25&\"!m6\"),INDIRECT($A25&\"!h14\")),IF($N25=$L25,_xlfn.XLOOKUP(A25,INDIRECT($A25&\"!m6\"),INDIRECT($A25&\"!h17\"))))","v":0},{"$f":"IF($N25=$J25,_xlfn.XLOOKUP(A25,INDIRECT($A25&\"!m6\"),INDIRECT($A25&\"!i14\")),IF($N25=$L25,_xlfn.XLOOKUP(A25,INDIRECT($A25&\"!m6\"),INDIRECT($A25&\"!i17\"))))","v":0},{"$f":"IF($N25=$J25,_xlfn.XLOOKUP(A25,INDIRECT($A25&\"!m6\"),INDIRECT($A25&\"!j14\")),IF($N25=$L25,_xlfn.XLOOKUP(A25,INDIRECT($A25&\"!m6\"),INDIRECT($A25&\"!j17\"))))","v":0},{"$f":"IF($N25=$J25,_xlfn.XLOOKUP(A25,INDIRECT($A25&\"!m6\"),INDIRECT($A25&\"!k14\")),IF($N25=$L25,_xlfn.XLOOKUP(A25,INDIRECT($A25&\"!m6\"),INDIRECT($A25&\"!k17\"))))","v":0},{"$f":"IFERROR(_xlfn.XLOOKUP(A25,INDIRECT($A25&\"!m6\"),INDIRECT($A25&\"!aa9\")),\"\")","v":0},{"$f":"IFERROR(_xlfn.XLOOKUP(A25,INDIRECT($A25&\"!m6\"),INDIRECT($A25&\"!ab9\")),\"\")","v":0},{"$f":"IFERROR(_xlfn.XLOOKUP(A25,INDIRECT($A25&\"!m6\"),INDIRECT($A25&\"!aa11\")),\"\")","v":0},{"$f":"IFERROR(_xlfn.XLOOKUP(A25,INDIRECT($A25&\"!m6\"),INDIRECT($A25&\"!ab11\")),\"\")","v":0}]

{"sheet":"Tabelle1","index":22,"n_rows":5071,"n_cols":4,"rows_kept":5071,"cut":false,"hidden":true,"merged":[]}
["Personen-Nr.","Nachname","Vorname"]
[1204063,"Amacker","Alex",{"$f":"B2&\" \"&C2","v":"Amacker Alex"}]
[1202218,"Frei","Martin",{"$f":"B3&\" \"&C3","v":"Frei Martin"}]
[1202225,"Götschi","Martha","Götschi Martha"]
[1202231,"Krättli","Ruedi","Krättli Ruedi"]
[1202229,"Imhof","Werner Jun.","Imhof Werner Jun."]
[1202228,"Illi","Freddy","Illi Freddy"]
[1202230,"Keller","Peter","Keller Peter"]
[1202822,"Hollenstein","Ernst","Hollenstein Ernst"]
[1035785,"Bäriswyl","Michelle","Bäriswyl Michelle"]
[1051984,"Meier","Anton","Meier Anton"]
[1151462,"Landolt","Bruno","Landolt Bruno"]
[1917636,"Hänni","Ronan","Hänni Ronan"]
[1201830,"Keller","Rolf","Keller Rolf"]
[1202242,"Sternberger","Horst","Sternberger Horst"]
[1202237,"Honsberger","Pierre","Honsberger Pierre"]
[1241994,"Fontana","Christian","Fontana Christian"]
[1247340,"Hablützel","Richard","Hablützel Richard"]
[1203828,"Kappeler","Wolfgang","Kappeler Wolfgang"]
[1258043,"Klieber","Julie","Klieber Julie"]
[1670544,"Pichler","Michael","Pichler Michael"]
[1203838,"Stoll","Hans Peter","Stoll Hans Peter"]
[1078104,"Wehle","Marianne","Wehle Marianne"]
[1203839,"Streit","Walter","Streit Walter"]
[1898116,"Landolt","Ravi","Landolt Ravi"]
[1251523,"Klieber","Philippe","Klieber Philippe"]
[1203844,"Brühlmann","Andreas","Brühlmann Andreas"]
[1270304,"Nyffenegger","Pascal","Nyffenegger Pascal"]
[1202986,"Müller","Yves","Müller Yves"]
[1526674,"Wehle","Svenja","Wehle Svenja"]
[1681257,"Winterflood","Joshua","Winterflood Joshua"]
[1201849,"Suter","Marco","Suter Marco"]
[1203832,"Nungesser","Dietmar","Nungesser Dietmar"]
[1686245,"Brühlmann","Robin","Brühlmann Robin"]
[1201850,"Suter","Reto","Suter Reto"]
[1203837,"Stoll","Ivo","Stoll Ivo"]
[1028477,"Busshart","Andrea","Busshart Andrea"]
[1176314,"Wohlgensinger","Peter","Wohlgensinger Peter"]
[1889577,"Hurni","Ceco","Hurni Ceco"]
[1202252,"Meier","Peter","Meier Peter"]
[1202250,"Hotz","Thomas","Hotz Thomas"]
[1181803,"Hirt","Beat","Hirt Beat"]
[1042631,"Scherrer","Elvira","Scherrer Elvira"]
[1042630,"Scherrer","Hanspeter","Scherrer Hanspeter"]
[1202259,"Dinkel","Peter","Dinkel Peter"]
[1027918,"Busshart","Thomas","Busshart Thomas"]
[1790199,"Artho","Roger","Artho Roger"]
[1615109,"Treibenreif","Christa","Treibenreif Christa"]
[1066533,"Patt","Josef","Patt Josef"]
[1226872,"Erismann","Roman","Erismann Roman"]
[1202280,"Petrig-Wegmann","Susanne","Petrig-Wegmann Susanne"]
[1076106,"Beer","Werner","Beer Werner"]
[1202272,"Krebs","Emil","Krebs Emil"]
[1123525,"Roth","Paul","Roth Paul"]
[1600059,"Wagner","Damian","Wagner Damian"]
[1078044,"Reist","Daniel","Reist Daniel"]
[1202266,"Fürst","Willy","Fürst Willy"]
[1119345,"Baldegger","Daniel","Baldegger Daniel"]
[1054800,"Steinmann","Hans","Steinmann Hans"]
[1203033,"Dossenbach","Urs","Dossenbach Urs"]
[1202847,"Röthlin","Kurt","Röthlin Kurt"]
[1119213,"Steinmann","Andreas","Steinmann Andreas"]
[1260103,"Seidel","Michael","Seidel Michael"]
[1237658,"Lütolf","Ruedi","Lütolf Ruedi"]
[1202846,"Röthlin","Erich","Röthlin Erich"]
[1084019,"Bucher","Ernst","Bucher Ernst"]
[1202295,"Tschachtli","Martin",{"$f":"B67&\" \"&C67","v":"Tschachtli Martin"}]
[1866366,"Mirza","Akram","Mirza Akram"]
[1202610,"Haller","Anton","Haller Anton"]
[1074709,"Galbier-Raschle","Verena","Galbier-Raschle Verena"]
[1202458,"Tschanz","Durs","Tschanz Durs"]
[1897847,"Herzog","Peter","Herzog Peter"]
[1202610,"Haller","Anton","Haller Anton"]
[1202608,"Donatsch","Daniel","Donatsch Daniel"]
[1863576,"Gutweniger","Erich","Gutweniger Erich"]
[1242010,"Burlet","Roger","Burlet Roger"]
[1492971,"Angehrn","Leo","Angehrn Leo"]
[1202301,"Müller","Heinz","Müller Heinz"]
[1202296,"Diethelm","Josef","Diethelm Josef"]
[1839581,"Glück","Barbara","Glück Barbara"]
[1270105,"Nanzer","Stefan","Nanzer Stefan"]
[1150426,"Hess","Thomas","Hess Thomas"]
[2258203,"Grosjean","Ueli","Grosjean Ueli"]
[1202303,"Uebersax","Pascal","Uebersax Pascal"]
[1242015,"Bänninger","David","Bänninger David"]
[1202313,"Meier","Ruth","Meier Ruth"]
[1251961,"Weidmann","Lukas","Weidmann Lukas"]
[1688568,"Schuler","Nohemi","Schuler Nohemi"]
[1042736,"Berger","Conni","Berger Conni"]
[1202317,"Schaffter","Bernard","Schaffter Bernard"]
[1521430,"Homberger","Cyril","Homberger Cyril"]
[1056649,"Ochsner","Marcel","Ochsner Marcel"]
[1125181,"Burri","Stefan","Burri Stefan"]
[1042735,"Turkalj","Nadia","Turkalj Nadia"]
[1251958,"Bänninger","Andreas","Bänninger Andreas"]
[2201278,"Meier","Jack","Meier Jack"]
[1089012,"Berger","Ueli","Berger Ueli"]
[1409720,"Häsler","Christoph","Häsler Christoph"]
[1202306,"Fröhlich","Alfred","Fröhlich Alfred"]
[1250429,"Bearth","Christine","Bearth Christine"]
[2197155,"Käselau","Jan","Käselau Jan"]
[1009177,"Homberger","René","Homberger René"]
[1042737,"Grossenbacher","Reto","Grossenbacher Reto"]
[1069383,"Carigiet","Meinrad","Carigiet Meinrad"]
[1029633,"Huchelmann","Frédérique","Huchelmann Frédérique"]
[1242028,"Vetsch","Marco","Vetsch Marco"]
[1857097,"Andermatt","Armin","Andermatt Armin"]
[1051790,"Georgi","Urs","Georgi Urs"]
[1039255,"Schuhn","Daniel","Schuhn Daniel"]
[1119370,"Winzeler","Bruno","Winzeler Bruno"]
[1058364,"Guignard","Silvia","Guignard Silvia"]
[1202389,"Vetsch","Heinz","Vetsch Heinz"]
[1058826,"Schueller","Pascal","Schueller Pascal"]
[1277172,"Piller","Luca","Piller Luca"]
[1261911,"Eyb","Hubertus","Eyb Hubertus"]
[1202377,"Böni","Roger","Böni Roger"]
[1893702,"Maurer","Thomas","Maurer Thomas"]
[1202379,"De Zordi","Peter","De Zordi Peter"]
[1210284,"Brunold","Brigitte","Brunold Brigitte"]
[1247914,"Siffert","Toni","Siffert Toni"]
[1118853,"Lenherr","Beat","Lenherr Beat"]
[2219809,"Tappolet","Urs","Tappolet Urs"]
[1622083,"Senn","Manuel","Senn Manuel"]
[1118859,"Haller-Staub","Sonja","Haller-Staub Sonja"]
[1202410,"Siffert","Marie-Theres","Siffert Marie-Theres"]
[1118846,"Fankhauser","Andreas","Fankhauser Andreas"]
[1202413,"Streuli","Daniel","Streuli Daniel"]
[1893539,"Sutter","Philipp","Sutter Philipp"]
[1150957,"Fankhauser","Roland","Fankhauser Roland"]
[1242034,"Egger","Hansruedi","Egger Hansruedi"]
[1056597,"Bührer","Armin",{"$f":"B131&\" \"&C131","v":"Bührer Armin"}]
[1630094,"Leu","Nicolas","Leu Nicolas"]
[1055691,"Gohl","Walter","Gohl Walter"]
[1145283,"Gohl","Bruno","Gohl Bruno"]
[1203862,"Engler","Marianne","Engler Marianne"]
[1239898,"Gohl","Roman","Gohl Roman"]
[1203868,"Sauzet","René","Sauzet René"]
[1526684,"Hügli","Sarah","Hügli Sarah"]
[1873634,"Schwab","Harald","Schwab Harald"]
[1898141,"Ehren","Marc","Ehren Marc"]
[1201800,"Schelling","Andreas","Schelling Andreas"]
[1203869,"Schefer","Alfred","Schefer Alfred"]
[1042733,"Öttinger","Simon","Öttinger Simon"]
[1126724,"Tores","Fatima","Tores Fatima"]
[1034401,"Schaub","Thomas","Schaub Thomas"]
[1278023,"Weberling","Thomas","Weberling Thomas"]
[1270829,"Meier","Dominic","Meier Dominic"]
[1108970,"Berger","Guido","Berger Guido"]
[1202437,"Meier","Thomas","Meier Thomas"]
[1897846,"Cerini","Luca","Cerini Luca"]
[1202434,"Meier","Stefan","Meier Stefan"]
[1681292,"Lienhard","Reto","Lienhard Reto"]
[1536043,"Eisenegger","Julian","Eisenegger Julian"]
[1202430,"Gerber","Hans","Gerber Hans"]
[1202442,"Meier","Monika","Meier Monika"]
[1270832,"Linhart","Nicolas","Linhart Nicolas"]
[1115816,"Hächler","Hansjörg","Hächler Hansjörg"]
[1115812,"Maino","René","Maino René"]
[1179102,"Wüthrich","Peter","Wüthrich Peter"]
[1202466,"Kündig","Jakob","Kündig Jakob"]
[1202462,"Caruso","Enzo","Caruso Enzo"]
[1202465,"Kündig","Andreas","Kündig Andreas"]
[1202467,"Marty","Fredi","Marty Fredi"]
[1115811,"Ott","Arnold","Ott Arnold"]
[1202463,"Furrer","Ruedi","Furrer Ruedi"]
[1096531,"Moor","Ernst","Moor Ernst"]
[1124293,"Wenzinger","Max","Wenzinger Max"]
[1145870,"Winzeler","Richard","Winzeler Richard"]
[1260487,"Koch","Rainer","Koch Rainer"]
[1202489,"Bachofner","Roland","Bachofner Roland"]
[1202277,"Portner","Andreas","Portner Andreas"]
[1077465,"Burkhalter","Andreas","Burkhalter Andreas"]
[1202454,"Näf","Peter","Näf Peter"]
[1242407,"Raschle","Martin","Raschle Martin"]
[1202498,"Tanner","Eric","Tanner Eric"]
[1202501,"Zihlmann","Richard","Zihlmann Richard"]
[1527841,"Raschle","Lukas","Raschle Lukas"]
[1097033,"Morf","André","Morf André"]
[1202495,"Raschle","Richard","Raschle Richard"]
[1270837,"Häringer","Marcelina","Häringer Marcelina"]
[1202494,"Portner","Markus","Portner Markus"]
[1469720,"Schnydrig","Yves Alain","Schnydrig Yves Alain"]
[1684255,"Bachofner","Sven","Bachofner Sven"]
[1120241,"Weiss","Hansruedi","Weiss Hansruedi"]
[1202456,"Nägeli","Stefan","Nägeli Stefan"]
[1270838,"Häringer","Angelina","Häringer Angelina"]
[1202500,"Wild","Kurt","Wild Kurt"]
[1202505,"Frey","Max","Frey Max"]
[1201843,"Schlatter","Peter","Schlatter Peter"]
[1202834,"Haubold","Heide","Haubold Heide"]
[1238435,"Frischknecht","Werner","Frischknecht Werner"]
[1636380,"Haubold","Urs","Haubold Urs"]
[1202512,"Lannois","Harry","Lannois Harry"]
[1202824,"Schmid","Stephan","Schmid Stephan"]
[1052066,"Siegfried","Ruedi",{"$f":"B195&\" \"&C195","v":"Siegfried Ruedi"}]
[1251517,"Hauenstein","Adrian","Hauenstein Adrian"]
[1202516,"Bertschinger","Hansruedi","Bertschinger Hansruedi"]
[1201815,"Blaser","Hanspeter","Blaser Hanspeter"]
[1076404,"Gantenbein","Paul","Gantenbein Paul"]
[1202533,"Gloor","Peter","Gloor Peter"]
[1888733,"Stiefel","Max","Stiefel Max"]
[1074563,"Hollenstein","Vreni","Hollenstein Vreni"]
[1202528,"Bloch","Michel","Bloch Michel"]
[1202527,"Blaser","Karl","Blaser Karl"]
[1202545,"Weibel","Rolf","Weibel Rolf"]
[1742426,"Peter","Lukas","Peter Lukas"]
[1202557,"Meili","Heinrich","Meili Heinrich"]
[1202556,"Kägi","René","Kägi René"]
[1202551,"Brunner","Ueli","Brunner Ueli"]
[1040932,"Lienhard","Christian","Lienhard Christian"]
[1862130,"Laluha","Peter","Laluha Peter"]
[1202580,"Wohlgemuth","Ralph","Wohlgemuth Ralph"]
[1202569,"Simmler","Urs","Simmler Urs"]
[1202565,"Schmid","Marco","Schmid Marco"]
[1202572,"Simmler","Martin","Simmler Martin"]
[1687081,"Egli","Thomas","Egli Thomas"]
[1069448,"Egli","Walter","Egli Walter"]
[1266893,"Moro","Martin","Moro Martin"]
[1202552,"Chappuis","Michel","Chappuis Michel"]
[1202550,"Baltensperger","Rolf","Baltensperger Rolf"]
[1237657,"Schellenberg","Kurt","Schellenberg Kurt"]
[1202574,"Spalinger","Bernhard","Spalinger Bernhard"]
[1202579,"Weiss","Hans-Peter","Weiss Hans-Peter"]
[1202553,"Egli","Albert","Egli Albert"]
[1058614,"Egli","Kurt","Egli Kurt"]
[1256475,"Müller","Roger","Müller Roger"]
[2257155,"Wikus","Patrick","Wikus Patrick"]
[1242082,"Sägesser","Beat","Sägesser Beat"]
[1202600,"Rinderknecht","Ruth","Rinderknecht Ruth"]
[1277241,"Frei","Silvan","Frei Silvan"]
[1277243,"Sturzenegger","Reto","Sturzenegger Reto"]
[1277242,"Eggenberger","Kurt","Eggenberger Kurt"]
[1202595,"Kräutli","Luciano","Kräutli Luciano"]
[1041981,"Widmer","Vera","Widmer Vera"]
[1917193,"Hirschi","Heinz","Hirschi Heinz"]
[1202591,"Brügger","Rosmarie","Brügger Rosmarie"]
[1041980,"Boss","Tobias","Boss Tobias"]
[1242091,"Thurnherr","Marco","Thurnherr Marco"]
[1825926,"Suter","Franziska","Suter Franziska"]
[1277240,"Bütler","Michi","Bütler Michi"]
[1897848,"Vasquez","Andrea","Vasquez Andrea"]
[1203822,"Scherrer-Eigenmann","Jessica","Scherrer-Eigenmann Jessica"]
[1074709,"Galbier-Raschle","Verena","Galbier-Raschle Verena"]
[1202450,"Baumgartner","Michel","Baumgartner Michel"]
[1202609,"Gadient","Reto","Gadient Reto"]
[1202458,"Tschanz","Durs","Tschanz Durs"]
[1665550,"Grobotek","Nino","Grobotek Nino"]
[1203823,"Eigenmann","Bruno","Eigenmann Bruno"]
[1897847,"Herzog","Peter","Herzog Peter"]
[1032652,"Späni","Peter","Späni Peter"]
[1202610,"Haller","Anton","Haller Anton"]
[1202614,"Muhmenthaler","Kurt","Muhmenthaler Kurt"]
[1202608,"Donatsch","Daniel","Donatsch Daniel"]
[1202618,"Weber","Franz","Weber Franz"]
[1863576,"Gutweniger","Erich","Gutweniger Erich"]
[1202621,"Bachmann","Rolf","Bachmann Rolf"]
[1902710,"de Matos Caiado","Jose","de Matos Caiado Jose"]
[1201787,"Vogel","Martin","Vogel Martin"]
[1153785,"Kuriger","Fritz",{"$f":"B259&\" \"&C259","v":"Kuriger Fritz"}]
[1153807,"Schmid","Christian","Schmid Christian"]
[1202625,"Truninger","Rainer","Truninger Rainer"]
[1083799,"Staub","Max","Staub Max"]
[1116023,"Manser","Erich","Manser Erich"]
[1202632,"Widmer","Ruth","Widmer Ruth"]
[1202629,"Nägeli","Samuel","Nägeli Samuel"]
[1764670,"Fürst","Armin","Fürst Armin"]
[2212333,"Schwarzenbach","Patrick","Schwarzenbach Patrick"]
[2212332,"Frey","Urs","Frey Urs"]
[1679168,"Duvoisin","Alex","Duvoisin Alex"]
[1202633,"Widmer","Michael","Widmer Michael"]
[1778253,"Wackerl","Christian","Wackerl Christian"]
[1202634,"Aebersold","Andreas","Aebersold Andreas"]
[1202637,"Fischer","Alwin","Fischer Alwin"]
[1202647,"Vollenweider","Willi","Vollenweider Willi"]
[1202643,"Oetiker","Bruno","Oetiker Bruno"]
[1121611,"Jud","Peter","Jud Peter"]
[1202640,"Grubenmann","Walter","Grubenmann Walter"]
[1202706,"Rusterholz","Adolf","Rusterholz Adolf"]
[1202649,"Baumann","Hans","Baumann Hans"]
[1136926,"Eyer","Patric","Eyer Patric"]
[1202705,"Roth","Bruno","Roth Bruno"]
[1150721,"Winkler","Ruedi","Winkler Ruedi"]
[1202699,"Hiestand","Ueli","Hiestand Ueli"]
[1202704,"Reiffer","Hans","Reiffer Hans"]
[1202710,"Blöchlinger","Thomas","Blöchlinger Thomas"]
[1161638,"Ebnöther","Jürg","Ebnöther Jürg"]
[1169387,"Kaiser","Franz","Kaiser Franz"]
[1862131,"Keller","Urs","Keller Urs"]
[1202709,"Blöchlinger","Franz","Blöchlinger Franz"]
[1105019,"Bodmer","Urs","Bodmer Urs"]
[1201829,"Hollenstein","Franz","Hollenstein Franz"]
[1139774,"Wiesmann","Ernst","Wiesmann Ernst"]
[1203913,"Eggli","Walter","Eggli Walter"]
[1266977,"Nepfer","Marcel","Nepfer Marcel"]
[1055442,"Werner","Ernst","Werner Ernst"]
[1203911,"Egger","Jörg","Egger Jörg"]
[1203922,"Veyhl","Fridolin","Veyhl Fridolin"]
[2268882,"Schwarz","Erik","Schwarz Erik"]
[1203917,"Hadorn","Markus","Hadorn Markus"]
[1203915,"Gut","Raphael","Gut Raphael"]
[1202741,"Hinnen","Peter","Hinnen Peter"]
[1599036,"Bosshard","Tobias","Bosshard Tobias"]
[1039769,"Pisa","Yoric","Pisa Yoric"]
[1119348,"Hinnen","Daniel","Hinnen Daniel"]
[1827907,"Handke","Philipp","Handke Philipp"]
[1242905,"Zellweger","Carmen","Zellweger Carmen"]
[1202481,"Suter","Franz","Suter Franz"]
[1202749,"Steiger","Niklaus","Steiger Niklaus"]
[1202740,"Hinnen","Heini","Hinnen Heini"]
[1270846,"Schellenbaum","Aurelio","Schellenbaum Aurelio"]
[1202738,"Harlacher","Renato","Harlacher Renato"]
[1202742,"Infanger","Jürg","Infanger Jürg"]
[1202479,"Notz","Jakob","Notz Jakob"]
[1236464,"Müller","Albert","Müller Albert"]
[2220153,"Heyn","Ilonka","Heyn Ilonka"]
[1202735,"Caviezel","Andreas","Caviezel Andreas"]
[1499932,"Baumgartner","Joëlle Pascale","Baumgartner Joëlle Pascale"]
[1251501,"Jost","Kevin","Jost Kevin"]
[1202750,"Steinemann","Roland","Steinemann Roland"]
[2220152,"Scolaro","Franco","Scolaro Franco"]
[1161638,"Ebnöther","Jürg","Ebnöther Jürg"]
[1161638,"Ebnöther","Jürg","Ebnöther Jürg"]
[1201857,"Zellweger","Ernst",{"$f":"B323&\" \"&C323","v":"Zellweger Ernst"}]
[1242906,"Zellweger","Ralf","Zellweger Ralf"]
[1122906,"Reif","Daniel","Reif Daniel"]
[1202869,"Böhler","Walter","Böhler Walter"]
[1060308,"Frei","Roland","Frei Roland"]
[1096405,"Maurer","Reto","Maurer Reto"]
[1233274,"Niederberger","Dominic","Niederberger Dominic"]
[1109288,"Egolf","Andreas","Egolf Andreas"]
[2222111,"Frei","Andreas","Frei Andreas"]
[1202343,"Münger","Werner","Münger Werner"]
[1202872,"Kneubühler","Philippe","Kneubühler Philippe"]
[1130803,"Meister","Rolf","Meister Rolf"]
[1233980,"Niederberger","Michel","Niederberger Michel"]
[1202759,"Schollenberger","Marcel","Schollenberger Marcel"]
[1219725,"Tonoli","Claudio","Tonoli Claudio"]
[1202762,"Strasser","Heinz","Strasser Heinz"]
[1680353,"Müller","Werner","Müller Werner"]
[1202345,"Niederberger","Pius","Niederberger Pius"]
[1245975,"Dietrich","Bettina","Dietrich Bettina"]
[1622892,"Heider","Monica","Heider Monica"]
[1492882,"Lohm","Christian","Lohm Christian"]
[1202806,"Greutert","Walter","Greutert Walter"]
[1184121,"Wismer","Christian","Wismer Christian"]
[1345959,"Heider","Sonja","Heider Sonja"]
[1202810,"Hänni","Markus","Hänni Markus"]
[1202799,"Berli","Rico","Berli Rico"]
[1202808,"Gujer","Daniel","Gujer Daniel"]
[1202809,"Hänni","Thomas","Hänni Thomas"]
[1202816,"Meier","Roland","Meier Roland"]
[1202812,"Lang","Patrick","Lang Patrick"]
[1622891,"Dietrich","Maik","Dietrich Maik"]
[1201846,"Seeberger","Hans","Seeberger Hans"]
[1202807,"Gujer","Nicole","Gujer Nicole"]
[2207435,"Fuchs","Christine","Fuchs Christine"]
[1247131,"Bollmann","Ruth","Bollmann Ruth"]
[1751598,"Futscher","Roland","Futscher Roland"]
[1170957,"Hofmann","Edi","Hofmann Edi"]
[1242123,"von Rickenbach","Jürg","von Rickenbach Jürg"]
[1277246,"Hasler","Felix","Hasler Felix"]
[1853198,"Gyssler","Bernhard","Gyssler Bernhard"]
[1202823,"Moser","Walter","Moser Walter"]
[2262377,"Francis","Ethan","Francis Ethan"]
[1675790,"Riexinger","Nicola","Riexinger Nicola"]
[1778023,"Hefti","Janine","Hefti Janine"]
[1722928,"Crepaldi","Michael","Crepaldi Michael"]
[1835255,"Guntern","Chantal","Guntern Chantal"]
[1551683,"Mötteli","Dominic","Mötteli Dominic"]
[1242130,"Hefti","Christian","Hefti Christian"]
[1242141,"Ritzmann","Markus","Ritzmann Markus"]
[1242144,"Bieri","Reto","Bieri Reto"]
[1758178,"Bernet","Tabea","Bernet Tabea"]
[1862177,"Guntern","Joshua","Guntern Joshua"]
[1711501,"Bernet","Dominic","Bernet Dominic"]
[1492974,"Geitner","Philipp","Geitner Philipp"]
[1065888,"Wüest","Markus","Wüest Markus"]
[1675791,"Karrer","Florian","Karrer Florian"]
[1835254,"Guntern","Heinz","Guntern Heinz"]
[1066586,"Hiestand","Robert","Hiestand Robert"]
[1027992,"Meier","Andrin","Meier Andrin"]
[1101296,"Bührer","Hans","Bührer Hans"]
[1809231,"Stauffer","Siro","Stauffer Siro"]
[1202829,"Eicher","Marc","Eicher Marc"]
[1039468,"Barbagallo","Nicole","Barbagallo Nicole"]
[1202835,"Leuenberger","Max","Leuenberger Max"]
[1202838,"Sigg","Rudolf",{"$f":"B387&\" \"&C387","v":"Sigg Rudolf"}]
[1228190,"Fritz","Oliver","Fritz Oliver"]
[1202856,"Wettach","Franz","Wettach Franz"]
[1202852,"Müller","Bruno","Müller Bruno"]
[1202857,"Winkler","Eduard","Winkler Eduard"]
[1634325,"Zimmermann","Walter","Zimmermann Walter"]
[1154012,"Kälin","Raphael","Kälin Raphael"]
[1859898,"Jud","Anton","Jud Anton"]
[1202886,"Ruhstaller","Franz","Ruhstaller Franz"]
[1202879,"Beeler","René","Beeler René"]
[1248386,"Sens","Silke","Sens Silke"]
[1203796,"Heuberger","Arnold","Heuberger Arnold"]
[1202883,"Müller","Peter","Müller Peter"]
[1174156,"Besmer","Bruno","Besmer Bruno"]
[1184074,"Heutschi","Alban","Heutschi Alban"]
[1052768,"Bloch","Eugen","Bloch Eugen"]
[1202998,"Fluri","Roger","Fluri Roger"]
[1203004,"Stecher","Alois","Stecher Alois"]
[1050697,"Zihler","Markus","Zihler Markus"]
[1050698,"Zihler","Rudolf","Zihler Rudolf"]
[1027021,"Räuftlin","Ruedi","Räuftlin Ruedi"]
[1050699,"Zihler","Ruedi","Zihler Ruedi"]
[1712734,"Fluri","Martin","Fluri Martin"]
[1050671,"Heutschi","René","Heutschi René"]
[1203039,"Flühler","Stefan","Flühler Stefan"]
[1203050,"Wiese","Elisabeth","Wiese Elisabeth"]
[1203043,"Reichmuth","Daniel","Reichmuth Daniel"]
[1203047,"Schuler","Pirmin","Schuler Pirmin"]
[1203028,"Meisinger","Stephan","Meisinger Stephan"]
[1062477,"Marbach","Karl","Marbach Karl"]
[1652774,"Schraner","Roman","Schraner Roman"]
[1062523,"Graber-Marbach","Nadja","Graber-Marbach Nadja"]
[1092446,"Bucherer","Felix","Bucherer Felix"]
[1203063,"Felber","Hans","Felber Hans"]
[1051777,"Häfliger","Walter","Häfliger Walter"]
[1130991,"Schwegler","Bernhard","Schwegler Bernhard"]
[1268837,"Felber","Tobias","Felber Tobias"]
[1436515,"Schumacher","David","Schumacher David"]
[1190029,"May","Stefan","May Stefan"]
[1203072,"Marbach","Florentin","Marbach Florentin"]
[1203064,"Felber","Eveline","Felber Eveline"]
[1205106,"Hermann","Martin","Hermann Martin"]
[1652771,"Helfenstein","Sarina","Helfenstein Sarina"]
[1242981,"Hansen","Jonas","Hansen Jonas"]
[1203076,"Suppiger","Alois","Suppiger Alois"]
[1142480,"Vogt","Willi","Vogt Willi"]
[1759252,"Suarez","Noel","Suarez Noel"]
[1203107,"Ingold","Franz","Ingold Franz"]
[2265219,"Hall","Roger","Hall Roger"]
[1087853,"Siegrist","Max","Siegrist Max"]
[1786150,"Würsch","Martin","Würsch Martin"]
[1202977,"Weiss","Anton","Weiss Anton"]
[1786151,"Würsch","Andrin","Würsch Andrin"]
[1203108,"Leder","Urs","Leder Urs"]
[1202962,"Schnidrig","Otto","Schnidrig Otto"]
[1202955,"Stiefel","Peter","Stiefel Peter"]
[1202915,"Janssen","Doris","Janssen Doris"]
[2263576,"Unternährer","Selina","Unternährer Selina"]
[2250309,"Baumann","Dario","Baumann Dario"]
[1203160,"Hofmann","Meinrad","Hofmann Meinrad"]
[1256340,"Ambauen","Roland","Ambauen Roland"]
[1203171,"Rohrer","Anton","Rohrer Anton"]
[1046075,"Frei","Joe","Frei Joe"]
[1203161,"Minder","Josef","Minder Josef"]
[1829114,"Renggli","Ninja",{"$f":"B451&\" \"&C451","v":"Renggli Ninja"}]
[1203170,"Richener","Ruedi","Richener Ruedi"]
[1652000,"Niederberger","Michelle","Niederberger Michelle"]
[1100733,"Niederberger","Paul","Niederberger Paul"]
[1062416,"Joller","Josef","Joller Josef"]
[1167870,"Niederberger","Richard","Niederberger Richard"]
[1203173,"Schweizer","Willy","Schweizer Willy"]
[1239001,"Schweizer","Pascal","Schweizer Pascal"]
[1346266,"Odermatt","Jonas","Odermatt Jonas"]
[1203166,"Niederberger","Eugen","Niederberger Eugen"]
[1651999,"Barmettler","Lara","Barmettler Lara"]
[1167876,"Odermatt","Josef","Odermatt Josef"]
[1466394,"Niederberger","Stefan","Niederberger Stefan"]
[1186333,"Felder","Toni","Felder Toni"]
[1790985,"Duss","André","Duss André"]
[1036206,"Rohrer","Yasmin","Rohrer Yasmin"]
[1721634,"Anicic","Marko","Anicic Marko"]
[1290740,"Perrollaz","Christian","Perrollaz Christian"]
[1203212,"Jauch","Erhard","Jauch Erhard"]
[1203209,"Räber","Edy","Räber Edy"]
[1270270,"Hasler","Peter","Hasler Peter"]
[1632193,"Anicic","Josip","Anicic Josip"]
[1243009,"Hasler","Michael","Hasler Michael"]
[1082791,"Portmann","Toni","Portmann Toni"]
[1201790,"Albisser","Anton","Albisser Anton"]
[1225782,"Venhoda","Sabine","Venhoda Sabine"]
[1058787,"Zürcher","Hans","Zürcher Hans"]
[1203221,"Schmid","Renate","Schmid Renate"]
[1120622,"Fricker","Konrad","Fricker Konrad"]
[1203219,"Schmid","Theo","Schmid Theo"]
[1203217,"Kalt","Robert","Kalt Robert"]
[1203214,"Imhof-Berger","Yvonne","Imhof-Berger Yvonne"]
[1061982,"Arnold","Adrian","Arnold Adrian"]
[1062598,"Sicher","Vali","Sicher Vali"]
[1063906,"Loretz","Stephan","Loretz Stephan"]
[1030720,"Walker","Silvan","Walker Silvan"]
[1063907,"Walker","Franz","Walker Franz"]
[1258495,"Walker","Gabriel","Walker Gabriel"]
[1409880,"Kempf","Daniel","Kempf Daniel"]
[1153614,"Luzzani","Roger","Luzzani Roger"]
[1057509,"Dittli","Heinrich","Dittli Heinrich"]
[1830771,"Werder","Regula","Werder Regula"]
[1875358,"Gemperle","Alex","Gemperle Alex"]
[1203283,"Baumgartner","Alois","Baumgartner Alois"]
[1203301,"Syfrig","Armin","Syfrig Armin"]
[1203302,"Thomann","Martin","Thomann Martin"]
[1290314,"Peterhans","Ruth","Peterhans Ruth"]
[1895398,"Baum","Rebekka","Baum Rebekka"]
[1461464,"Luthiger","Christina","Luthiger Christina"]
[1203285,"Bucheli","Franz","Bucheli Franz"]
[1872049,"Luthiger","Joe","Luthiger Joe"]
[1063884,"Baumgartner","Peter","Baumgartner Peter"]
[1203300,"Syfrig","Beat","Syfrig Beat"]
[1203289,"Luthiger","Beat","Luthiger Beat"]
[1203303,"Werder","Michael","Werder Michael"]
[1203287,"Bütler","Daniel","Bütler Daniel"]
[1203295,"Studer","Patrick","Studer Patrick"]
[1217170,"Gretener","August","Gretener August"]
[1203346,"Dober","Beat","Dober Beat"]
[1765770,"Patelli","Nino","Patelli Nino"]
[1203344,"Ambauen","Lukas","Ambauen Lukas"]
[1829108,"Dober","Roman","Dober Roman"]
[1891663,"Hess","Urs","Hess Urs"]
[2294582,"von Glahn Lepple","Martina","von Glahn Lepple Martina"]
[1203342,"Ambauen","Peter",{"$f":"B515&\" \"&C515","v":"Ambauen Peter"}]
[1063871,"Eberhard","Markus","Eberhard Markus"]
[1192066,"Eberhard","Theres","Eberhard Theres"]
[1203347,"Dober","Bruno","Dober Bruno"]
[1685389,"Iten","Yanik","Iten Yanik"]
[1173464,"Eichholzer","Bernhard","Eichholzer Bernhard"]
[2262136,"Zollinger","Eveline","Zollinger Eveline"]
[1126415,"Doswald","Ulrich","Doswald Ulrich"]
[1179490,"Hugener","Markus","Hugener Markus"]
[1238259,"Hoppler","Dominic","Hoppler Dominic"]
[1173473,"Niederberger","Pius","Niederberger Pius"]
[1171034,"Barmet","Stefan","Barmet Stefan"]
[1586671,"Landolt","Stefan","Landolt Stefan"]
[1203312,"Hugener","Karl","Hugener Karl"]
[1157515,"Nussbaumer","Bruno","Nussbaumer Bruno"]
[1203316,"Lüthold","René","Lüthold René"]
[1203326,"Kränzlin","Gerhard","Kränzlin Gerhard"]
[1203315,"Lüscher","Ernst","Lüscher Ernst"]
[1463067,"Wegst","Daniel","Wegst Daniel"]
[1203370,"Künzle","Rolf","Künzle Rolf"]
[1463327,"Bertschi","Stefan","Bertschi Stefan"]
[1101672,"Kottmann","Jost","Kottmann Jost"]
[1122821,"Leu","Roland","Leu Roland"]
[1034785,"Gautschi","Christoph","Gautschi Christoph"]
[1036365,"Wüest","Anita","Wüest Anita"]
[1129874,"Gautschi","Peter","Gautschi Peter"]
[1203367,"Koller","Friedrich","Koller Friedrich"]
[1133817,"Holliger","Otto","Holliger Otto"]
[1498874,"Leutwyler","Tobias","Leutwyler Tobias"]
[1622855,"Hess","Ben","Hess Ben"]
[1829796,"Hochuli","Marc","Hochuli Marc"]
[1498875,"Ernst","Stefan","Ernst Stefan"]
[1203380,"Kuster","Marcel","Kuster Marcel"]
[1203538,"Wampfler","Hans","Wampfler Hans"]
[1236943,"Geiser","Hanspeter","Geiser Hanspeter"]
[1894076,"Fuhrmann","Uwe","Fuhrmann Uwe"]
[1255498,"Kaufmann","Madeleine","Kaufmann Madeleine"]
[1203401,"Kaufmann","Franz","Kaufmann Franz"]
[1203533,"Manser","Fridolin","Manser Fridolin"]
[2258321,"Cupta","Naveen","Cupta Naveen"]
[1203535,"Ryffel","Georges","Ryffel Georges"]
[1203540,"Wussler","Stefan","Wussler Stefan"]
[1704389,"Citton","Marco","Citton Marco"]
[1203542,"Egger","Fabian","Egger Fabian"]
[1064832,"Meury","Thomas","Meury Thomas"]
[1062736,"Schmid","Hanspeter","Schmid Hanspeter"]
[1203552,"Unternährer","Bruno","Unternährer Bruno"]
[1410123,"Wyrsch","Stefan","Wyrsch Stefan"]
[1466398,"Huwiler","Jana","Huwiler Jana"]
[1203271,"Egli","Ferdi","Egli Ferdi"]
[1894205,"Hurni","Marcel","Hurni Marcel"]
[1265499,"Schmid","Seppi","Schmid Seppi"]
[1203548,"Huwiler","Christian","Huwiler Christian"]
[1522734,"Spiess","Thomas","Spiess Thomas"]
[1115955,"Steiner","Gregor","Steiner Gregor"]
[1871321,"Spiess","Patrizia","Spiess Patrizia"]
[1203551,"Spiess","Markus","Spiess Markus"]
[1894204,"Marinkovic","Dusan","Marinkovic Dusan"]
[1239075,"Müller","Bruno","Müller Bruno"]
[1099457,"Luginbühl","Stephan","Luginbühl Stephan"]
[1201828,"Hediger","Roland","Hediger Roland"]
[1201856,"Wyss","Silvan","Wyss Silvan"]
[1864956,"Zimmerli","Urs","Zimmerli Urs"]
[1203564,"Hochuli","Esther","Hochuli Esther"]
[1203562,"Hediger","Michael",{"$f":"B579&\" \"&C579","v":"Hediger Michael"}]
[1203570,"Eggenberger","Stephan","Eggenberger Stephan"]
[1063885,"Frey","André","Frey André"]
[1251247,"Hurschler","Monika","Hurschler Monika"]
[1201854,"Venturi","Luigi","Venturi Luigi"]
[1203590,"Wyss","Jakob","Wyss Jakob"]
[1612893,"Marti","Nils","Marti Nils"]
[1063897,"Schmid","Jakob","Schmid Jakob"]
[1036687,"Hösli","Simon","Hösli Simon"]
[1203591,"Zimmermann","René","Zimmermann René"]
[1122797,"Emmenegger","Hans","Emmenegger Hans"]
[1203585,"Schnüriger","Beat","Schnüriger Beat"]
[1243079,"Felder","David","Felder David"]
[1203588,"Stritmatter","Josef","Stritmatter Josef"]
[1239002,"Rüttimann","Michael","Rüttimann Michael"]
[1203571,"Felder","Walter","Felder Walter"]
[1239879,"Brüschweiler","Joel","Brüschweiler Joel"]
[1239879,"Brüschweiler","Joel","Brüschweiler Joel"]
[1203600,"Frei","Stefan","Frei Stefan"]
[1246723,"Koch","Thomas","Koch Thomas"]
[1203609,"Zeindler","Walter","Zeindler Walter"]
[1201791,"Dönni","Peter","Dönni Peter"]
[1203604,"Lüthi","Heinz","Lüthi Heinz"]
[1243104,"Frei","Roman","Frei Roman"]
[1203597,"Costa","Mirco","Costa Mirco"]
[1203608,"Zeindler","Markus","Zeindler Markus"]
[1653819,"Brändli","Benjamin","Brändli Benjamin"]
[1467712,"Zürcher","Dominik","Zürcher Dominik"]
[1203601,"Hausmann","Max","Hausmann Max"]
[1201835,"Meyer","Stephan","Meyer Stephan"]
[1074032,"Costa","Vittorio","Costa Vittorio"]
[1203602,"Kaiser","Patrick","Kaiser Patrick"]
[1203626,"Zemp","Franz","Zemp Franz"]
[1203201,"Barandun","Horst","Barandun Horst"]
[1176137,"Garo","Werner","Garo Werner"]
[1086062,"Arnold","Christof","Arnold Christof"]
[1061969,"Arnold","Alice","Arnold Alice"]
[1231209,"Elsener","Patrick","Elsener Patrick"]
[1498413,"Immoos","Andrea","Immoos Andrea"]
[1226621,"Birchler","Urs","Birchler Urs"]
[1062592,"Ferrari","Michael","Ferrari Michael"]
[1063728,"Gössi","Bruno","Gössi Bruno"]
[1122766,"Amgwerd","Albin","Amgwerd Albin"]
[1202537,"Grob","Peter","Grob Peter"]
[1063744,"Stuber","Michel","Stuber Michel"]
[1062513,"Garo","Nils","Garo Nils"]
[1203202,"Barandun","Ivo","Barandun Ivo"]
[1203288,"Greter","Roger","Greter Roger"]
[1176130,"Durrer","Walter","Durrer Walter"]
[1203625,"Wüest","Andreas","Wüest Andreas"]
[1637799,"Luthiger","Angela","Luthiger Angela"]
[1184473,"Wetli","Guido","Wetli Guido"]
[1062743,"Bütler","Marcel","Bütler Marcel"]
[1201993,"Bieri","Ramona","Bieri Ramona"]
[1063906,"Loretz","Stephan","Loretz Stephan"]
[1747009,"Tribelhorn","Patrick","Tribelhorn Patrick"]
[2263713,"Poesdorf","Claudia","Poesdorf Claudia"]
[1341729,"Zimmermann","Terence","Zimmermann Terence"]
[1203884,"Bruderer","Jakob","Bruderer Jakob"]
[1203882,"Wegmüller","Urs","Wegmüller Urs"]
[1201865,"Eschmann","Marc","Eschmann Marc"]
[1201870,"Ueltschi","Erwin","Ueltschi Erwin"]
[1068661,"König","Robert","König Robert"]
[1201859,"De Jonckheere","Marcel","De Jonckheere Marcel"]
[1201869,"Ueltschi","Kurt",{"$f":"B643&\" \"&C643","v":"Ueltschi Kurt"}]
[1068655,"Eschmann","René","Eschmann René"]
[1201860,"Brawand","Heinz","Brawand Heinz"]
[1536797,"Uhlmann","Rolf","Uhlmann Rolf"]
[1104116,"Zaugg","Heinz","Zaugg Heinz"]
[1068663,"Michel","Yves","Michel Yves"]
[1202024,"Wyss","Margrith","Wyss Margrith"]
[1125466,"Jost","Ueli","Jost Ueli"]
[1104146,"Zimmermann","Hans","Zimmermann Hans"]
[1201881,"Gurtner","Roland","Gurtner Roland"]
[1246933,"Venner","Arthur","Venner Arthur"]
[1201879,"Bangerter","Gottfried","Bangerter Gottfried"]
[1202043,"Steiner","Peter","Steiner Peter"]
[1201882,"Hammer","Urs","Hammer Urs"]
[1201883,"Held","Daniel","Held Daniel"]
[1201886,"Lysser","Eduard","Lysser Eduard"]
[1232194,"Tüscher","Sandro","Tüscher Sandro"]
[1201889,"Rupp","Oswald","Rupp Oswald"]
[1269226,"Gerber","Michael","Gerber Michael"]
[1068942,"Schweizer","Erwin","Schweizer Erwin"]
[1201918,"Staub","Markus","Staub Markus"]
[1109404,"Moullet","Jacques","Moullet Jacques"]
[1109392,"Devaud","André","Devaud André"]
[1109396,"Fasel","Joseph","Fasel Joseph"]
[1109821,"Descloux","Frédéric","Descloux Frédéric"]
[1109381,"Broillet","Fabien","Broillet Fabien"]
[1109391,"Cotting","André Claude","Cotting André Claude"]
[1224415,"Progin","Kévin","Progin Kévin"]
[1722930,"Schneider","Manuel","Schneider Manuel"]
[1043058,"Ryter","Lars","Ryter Lars"]
[1068001,"Inniger","Andreas","Inniger Andreas"]
[1102677,"Stoller","Markus","Stoller Markus"]
[1201993,"Bieri","Ramona","Bieri Ramona"]
[2067284,"Ineichen","Collin","Ineichen Collin"]
[2287225,"Vener","James","Vener James"]
[2287217,"Bernhard","Angelina","Bernhard Angelina"]
[1902782,"Grossen","Sven","Grossen Sven"]
[2287220,"Fröhlich","Noe","Fröhlich Noe"]
[2287501,"Felix","Fynn","Felix Fynn"]
[1201956,"Marti","Monika","Marti Monika"]
[2287219,"Trachsel","Alicja","Trachsel Alicja"]
[1122683,"Marti","Erich","Marti Erich"]
[1068005,"Schneider","Martin","Schneider Martin"]
[2287222,"Schmid","Larissa","Schmid Larissa"]
[1201958,"Ryter","Marcel","Ryter Marcel"]
[2287221,"Ryter","Janis","Ryter Janis"]
[1106102,"Maurer","Alfred","Maurer Alfred"]
[1106157,"Trachsel","Christoph","Trachsel Christoph"]
[1712811,"Grossen","Kevin","Grossen Kevin"]
[1131531,"Wäfler","Hans","Wäfler Hans"]
[1844465,"Schneider","Marvin","Schneider Marvin"]
[2287502,"Wildenhain","Yasmin","Wildenhain Yasmin"]
[1067708,"Sarbach","Erich","Sarbach Erich"]
[1039448,"Frutiger","Alain","Frutiger Alain"]
[1076705,"Grunder","Hans-Peter","Grunder Hans-Peter"]
[2287223,"Müller","Linn","Müller Linn"]
[1201984,"Bolanz","Albert","Bolanz Albert"]
[1155366,"Burkhalter","Erwin","Burkhalter Erwin"]
[1201997,"Weber","Stefan","Weber Stefan"]
[1201989,"Heiniger","Beat","Heiniger Beat"]
[1202003,"Riesen","Monika","Riesen Monika"]
[1179978,"Salvisberg","Mario","Salvisberg Mario"]
[1202004,"Riesen","Peter","Riesen Peter"]
[1109878,"Zürcher","Hans-Ulrich","Zürcher Hans-Ulrich"]
[1251097,"Siegenthaler","Roger",{"$f":"B707&\" \"&C707","v":"Siegenthaler Roger"}]
[1202007,"Siegenthaler","Alfred","Siegenthaler Alfred"]
[1844398,"Bouquet","Fabrice","Bouquet Fabrice"]
[1191052,"Friedli","Arthur","Friedli Arthur"]
[2287224,"Büschi","Lars","Büschi Lars"]
[1712791,"Zimmermann","Verena","Zimmermann Verena"]
[1227172,"Jost","Patrick","Jost Patrick"]
[1068278,"Steiner","Samuel","Steiner Samuel"]
[1166043,"Schulthess","Renato","Schulthess Renato"]
[1201907,"Burri","Heinz","Burri Heinz"]
[1068300,"Adolf","Roland","Adolf Roland"]
[1119191,"Grimm","Thomas","Grimm Thomas"]
[1186333,"Felder","Toni","Felder Toni"]
[1107189,"Gerber","Stefan","Gerber Stefan"]
[1067707,"Renfer","Peter","Renfer Peter"]
[1067708,"Sarbach","Erich","Sarbach Erich"]
[1203534,"Pegoraro","Cornelia","Pegoraro Cornelia"]
[1231292,"Pegoraro","Hans","Pegoraro Hans"]
[1068705,"Schöni","Rudolf","Schöni Rudolf"]
[1069031,"Berger","Andreas","Berger Andreas"]
[1068942,"Schweizer","Erwin","Schweizer Erwin"]
[1859507,"Baumann","Jürg","Baumann Jürg"]
[1069042,"Sahli","Alfred","Sahli Alfred"]
[1068939,"Krebs","Ulrich","Krebs Ulrich"]
[1069045,"Schneider","Beat","Schneider Beat"]
[1068868,"Ruchti","Erwin","Ruchti Erwin"]
[2287226,"Schmied","Hans","Schmied Hans"]
[1202407,"Meichtry","Alfred","Meichtry Alfred"]
[1068012,"Wild","Markus","Wild Markus"]
[1069022,"Stalder","Kurt","Stalder Kurt"]
[1202054,"Stalder","Elisabeth","Stalder Elisabeth"]
[1202052,"Egli","Alfred","Egli Alfred"]
[1207908,"Isenschmid","Samuel","Isenschmid Samuel"]
[1069018,"Scheuner","Ronald","Scheuner Ronald"]
[1208329,"Däppen","René","Däppen René"]
[1201852,"Tonina","Alfredo","Tonina Alfredo"]
[1793960,"Trachsel","Andreas","Trachsel Andreas"]
[1202031,"Germann","Willi","Germann Willi"]
[1202024,"Wyss","Margrith","Wyss Margrith"]
[1227172,"Jost","Patrick","Jost Patrick"]
[1125466,"Jost","Ueli","Jost Ueli"]
[1203881,"Tonina","Stefanie","Tonina Stefanie"]
[1341729,"Zimmermann","Terence","Zimmermann Terence"]
[1067601,"Dossenbach","Josef","Dossenbach Josef"]
[1202059,"Abegglen","Heinz","Abegglen Heinz"]
[1202061,"Frutiger","Ulrich","Frutiger Ulrich"]
[1795341,"Grossglauser","Ivan","Grossglauser Ivan"]
[1068011,"Schiess","Ernst","Schiess Ernst"]
[1190480,"Tschiemer","Hansueli","Tschiemer Hansueli"]
[1039448,"Frutiger","Alain","Frutiger Alain"]
[1067615,"Wyss","Peter","Wyss Peter"]
[1202068,"Studer","Roger","Studer Roger"]
[1202065,"Näf","Hansruedi","Näf Hansruedi"]
[1260777,"Näf","Bruno","Näf Bruno"]
[1105526,"Jaggi","Peter","Jaggi Peter"]
[1067984,"Koller","Peter","Koller Peter"]
[1202057,"Tschiemer","Stefan","Tschiemer Stefan"]
[1844466,"Grossglauser","Aaron","Grossglauser Aaron"]
[1202738,"Harlacher","Renato","Harlacher Renato"]
[1109102,"Sturny","Norbert","Sturny Norbert"]
[1069003,"Guggisberg","Max","Guggisberg Max"]
[1101113,"Zwahlen","Niklaus","Zwahlen Niklaus"]
[1104736,"Bachofner","Paul","Bachofner Paul"]
[1202078,"Guggisberg","Ueli","Guggisberg Ueli"]
[1240488,"Staudenmann","Luca",{"$f":"B771&\" \"&C771","v":"Staudenmann Luca"}]
[1083235,"Rothen","Peter","Rothen Peter"]
[1094439,"Beyeler","Simon","Beyeler Simon"]
[1202073,"Burri","Peter","Burri Peter"]
[1240490,"Guggisberg","Markus","Guggisberg Markus"]
[1109738,"Beyeler","Irene","Beyeler Irene"]
[1061098,"Graf","Roland","Graf Roland"]
[1202090,"Zwahlen","Kurt","Zwahlen Kurt"]
[1067993,"Oberli","Bruno","Oberli Bruno"]
[1059961,"Berger","Anton","Berger Anton"]
[1202124,"Berger","Paul","Berger Paul"]
[1068019,"Ruchti","Heinz","Ruchti Heinz"]
[1067955,"Schäfer","Monika","Schäfer Monika"]
[1067731,"Moser","Fritz","Moser Fritz"]
[1148198,"Monnerat","Guillaume","Monnerat Guillaume"]
[1202144,"Jakob","Beat","Jakob Beat"]
[1240495,"Aebi","Karin","Aebi Karin"]
[1202149,"Zürcher","Heidi","Zürcher Heidi"]
[1202141,"Hosner","Heinz","Hosner Heinz"]
[1202145,"Lauper","David","Lauper David"]
[1202156,"Brossard","Steeve","Brossard Steeve"]
[2263410,"Von Burg","Chantal","Von Burg Chantal"]
[1042807,"Schaller","Christophe","Schaller Christophe"]
[1591845,"Lachat","Johan","Lachat Johan"]
[1244380,"Péchin","Frédéric","Péchin Frédéric"]
[1202159,"Steinegger","Vincent","Steinegger Vincent"]
[1647448,"Jourdain","Jean","Jourdain Jean"]
[1202160,"Vaucher","Jean-Paul","Vaucher Jean-Paul"]
[1202155,"Bottinelli","Jean-Marc","Bottinelli Jean-Marc"]
[1394222,"Sutter","Jérôme","Sutter Jérôme"]
[1277187,"Dessaules","Mike","Dessaules Mike"]
[1017428,"Schaffter","Olivier Pierre","Schaffter Olivier Pierre"]
[1152972,"Kocher","Boris","Kocher Boris"]
[1120071,"Kiener","Ernst","Kiener Ernst"]
[1237786,"Milosz","Jerzy","Milosz Jerzy"]
[1120181,"Steiner","Markus","Steiner Markus"]
[1120185,"Stucki","Thomas","Stucki Thomas"]
[1119980,"Gerber","Hans","Gerber Hans"]
[1120220,"Wymann","Hans-Rudolf","Wymann Hans-Rudolf"]
[1295354,"Pfister","Juha","Pfister Juha"]
[1202040,"Meier","Albrecht","Meier Albrecht"]
[1269226,"Gerber","Michael","Gerber Michael"]
[1178371,"Steiner","Simon","Steiner Simon"]
[1202169,"Tanner-Kunz","Cécile","Tanner-Kunz Cécile"]
[1097584,"Tanner","Samuel","Tanner Samuel"]
[1202170,"Stettler","Rolf","Stettler Rolf"]
[1565205,"Scheidegger","Ernst","Scheidegger Ernst"]
[1474296,"Hediger","Fabian","Hediger Fabian"]
[1213224,"Scheidegger","Walter","Scheidegger Walter"]
[1213223,"Sägesser","Werner","Sägesser Werner"]
[1234389,"Länzlinger","Thomas","Länzlinger Thomas"]
[2263426,"Schmidt","Alex","Schmidt Alex"]
[1138816,"Wenger","Joseph","Wenger Joseph"]
[1104497,"Stauffer","Werner","Stauffer Werner"]
[1104470,"Gysin","Rolf","Gysin Rolf"]
[1035861,"Marti","Ernst","Marti Ernst"]
[1202106,"Loepfe","Urs","Loepfe Urs"]
[1712260,"Loepfe","Chiara","Loepfe Chiara"]
[2287228,"Truffer","Patricia","Truffer Patricia"]
[1256170,"Kunz","Sören","Kunz Sören"]
[1122686,"Marti","Roland","Marti Roland"]
[1682625,"Lüchinger","Dario","Lüchinger Dario"]
[1060656,"Duff","Robert","Duff Robert"]
[1111468,"Grossglauser","Erwin","Grossglauser Erwin"]
[1203632,"Kellenberger","Walter",{"$f":"B835&\" \"&C835","v":"Kellenberger Walter"}]
[1203637,"Schneider","Louis","Schneider Louis"]
[1203636,"Obrist","Markus","Obrist Markus"]
[1843026,"Steiger","Benjamin","Steiger Benjamin"]
[1682626,"Thurnherr","Patrick","Thurnherr Patrick"]
[1203635,"Manser","August","Manser August"]
[1215509,"Eugster","Michael","Eugster Michael"]
[1203629,"Fritsche","Josef","Fritsche Josef"]
[1111469,"Grossglauser","Maria","Grossglauser Maria"]
[1570904,"Winteler","Christoph","Winteler Christoph"]
[1259477,"Götti","Michael","Götti Michael"]
[1061056,"Eugster","Christof","Eugster Christof"]
[1562844,"Egli","Fabian","Egli Fabian"]
[1203649,"Piller","Pius","Piller Pius"]
[1060974,"Pfister","Gerold","Pfister Gerold"]
[1203650,"Zumstein","Roland","Zumstein Roland"]
[1562843,"Hehli","Michael","Hehli Michael"]
[1685317,"Pfister","Ibai","Pfister Ibai"]
[1042143,"Trunz","Jasmin","Trunz Jasmin"]
[1099889,"Pfister","Walter","Pfister Walter"]
[1562845,"Federer","Ivo","Federer Ivo"]
[1562841,"Hehli","Christoph","Hehli Christoph"]
[1061413,"Hobi","Guido","Hobi Guido"]
[1242856,"Nigg","Raphael","Nigg Raphael"]
[1203658,"Wildhaber","Manfred","Wildhaber Manfred"]
[1203657,"Rinderer","Clemens","Rinderer Clemens"]
[1081731,"Rinderer","Bruno","Rinderer Bruno"]
[1639327,"Lendi","Roman","Lendi Roman"]
[1203669,"Dick","Hanspeter","Dick Hanspeter"]
[1034366,"Mösli","Julia","Mösli Julia"]
[1034367,"Haener","Christian","Haener Christian"]
[1203663,"Forster","Roland","Forster Roland"]
[1239868,"Nägeli","Philipp","Nägeli Philipp"]
[1203673,"Konrad","Walter","Konrad Walter"]
[1204702,"Troxler","Willi","Troxler Willi"]
[1201848,"Streuli","Hans","Streuli Hans"]
[1635665,"Brülisauer","Lukas","Brülisauer Lukas"]
[1889390,"Spycher","Daniel","Spycher Daniel"]
[1076577,"Liechti","Hans","Liechti Hans"]
[1149369,"Brülisauer","Peter","Brülisauer Peter"]
[1875841,"Nickel","Sabrina","Nickel Sabrina"]
[1203667,"Brülisauer","Fritz","Brülisauer Fritz"]
[1076583,"Liechti","Vreny","Liechti Vreny"]
[1223470,"Koch","Melanie","Koch Melanie"]
[1203687,"Manser","Franz","Manser Franz"]
[1635360,"Steger","Placi","Steger Placi"]
[1060980,"Scheuss","Oriana","Scheuss Oriana"]
[1060979,"Scheuss","Hans","Scheuss Hans"]
[1203698,"Merkofer","Daniel","Merkofer Daniel"]
[1053674,"Forrer","Fritz","Forrer Fritz"]
[1201857,"Zellweger","Ernst","Zellweger Ernst"]
[1203770,"Good","Tino","Good Tino"]
[1089134,"Furrer","Hansruedi","Furrer Hansruedi"]
[1201818,"Dalle Case","Marco","Dalle Case Marco"]
[1060988,"Zwicker","Guido","Zwicker Guido"]
[1051096,"Brunner","Elio","Brunner Elio"]
[1242904,"Hansmann","Linda","Hansmann Linda"]
[1203695,"Dalle Case","Daniela","Dalle Case Daniela"]
[1061359,"Müller","Bruno","Müller Bruno"]
[1253691,"Schweizer","Andreas","Schweizer Andreas"]
[1830785,"Zbinden","Claudia","Zbinden Claudia"]
[1061504,"Haag","Stefan","Haag Stefan"]
[1828226,"Meier","Astrid","Meier Astrid"]
[1044550,"Suntinger","Franz","Suntinger Franz"]
[1061366,"Steimer","Horst",{"$f":"B899&\" \"&C899","v":"Steimer Horst"}]
[1242906,"Zellweger","Ralf","Zellweger Ralf"]
[1242905,"Zellweger","Carmen","Zellweger Carmen"]
[1201823,"Eugster","Markus","Eugster Markus"]
[1025530,"Büchel","Marianne","Büchel Marianne"]
[1074141,"Büchel","Hans","Büchel Hans"]
[1203707,"Graf","Markus","Graf Markus"]
[1034369,"Handsche","Patricia","Handsche Patricia"]
[1034370,"Lang","Markus","Lang Markus"]
[1736372,"Gantenbein","Andreas","Gantenbein Andreas"]
[1201795,"Eugster","Karl","Eugster Karl"]
[1203705,"Eugster","Paul","Eugster Paul"]
[1043686,"Nigg","Sonja","Nigg Sonja"]
[1203767,"Menzi","Bruno","Menzi Bruno"]
[1173021,"Weiler","Andreas","Weiler Andreas"]
[1203731,"Schoch","Walter","Schoch Walter"]
[1203730,"Schoch","Margrit","Schoch Margrit"]
[1148743,"Bösch-Schoch","Sandra","Bösch-Schoch Sandra"]
[1173022,"Hofstetter","Edwin","Hofstetter Edwin"]
[1203726,"Hofstetter","Willi","Hofstetter Willi"]
[1203727,"Hofstetter","Ruedi","Hofstetter Ruedi"]
[1685324,"Leirer","Joel","Leirer Joel"]
[1562919,"Leirer","Jean-Michel","Leirer Jean-Michel"]
[1721571,"Brunner","Valentin","Brunner Valentin"]
[1372044,"Laube","Jeremy","Laube Jeremy"]
[1695662,"Meier","Florian","Meier Florian"]
[2263651,"Bischof","Stephanie","Bischof Stephanie"]
[1242884,"Preisig","Reto","Preisig Reto"]
[1242889,"Ehrler","Florian","Ehrler Florian"]
[1242885,"Müller","Fabian","Müller Fabian"]
[1242886,"Müller","Raffael","Müller Raffael"]
[1685323,"Frey","Nadine","Frey Nadine"]
[1242899,"Koster","Kevin","Koster Kevin"]
[1686228,"Frey","Nico","Frey Nico"]
[1222404,"Högger","Jérôme","Högger Jérôme"]
[1203760,"Zwicker","Christoph","Zwicker Christoph"]
[1203762,"Zwicker","Richard","Zwicker Richard"]
[1060888,"Waser","André","Waser André"]
[1273737,"Bösch","Larissa","Bösch Larissa"]
[1043651,"Gerig","Paul","Gerig Paul"]
[1686229,"Abderhalden","Yanick","Abderhalden Yanick"]
[1203778,"Hobi","Franz","Hobi Franz"]
[1203784,"Menzi","Robert","Menzi Robert"]
[1065847,"Mächler","Martin","Mächler Martin"]
[1203773,"Bremgartner","Beat","Bremgartner Beat"]
[1842615,"Heierli","Dorian","Heierli Dorian"]
[1467717,"Menzi","Tamara","Menzi Tamara"]
[1238127,"Straub","Silvia","Straub Silvia"]
[1203786,"Nikles","André","Nikles André"]
[1082988,"Forrer","Wendel","Forrer Wendel"]
[1203776,"Heeb","Urs","Heeb Urs"]
[1255099,"Egger","Daniel","Egger Daniel"]
[1238125,"Riehl","Claudia","Riehl Claudia"]
[1678109,"Eberhard","Otto","Eberhard Otto"]
[1277491,"Nikles","Ralph","Nikles Ralph"]
[1203794,"Fischer","Hansruedi","Fischer Hansruedi"]
[1203797,"Müller","Roland","Müller Roland"]
[1143931,"Fischer","Marco","Fischer Marco"]
[2263658,"Heidenreich","Bernd","Heidenreich Bernd"]
[1138960,"Broger","Bruno","Broger Bruno"]
[1203795,"Fischli","Kurt","Fischli Kurt"]
[1034374,"Imgrüth","Andreas","Imgrüth Andreas"]
[1203964,"Vetter","Marcel","Vetter Marcel"]
[1204004,"Hugentobler","Peter","Hugentobler Peter"]
[1226609,"Odermatt-Lattmann","Carmen",{"$f":"B963&\" \"&C963","v":"Odermatt-Lattmann Carmen"}]
[1201851,"Tobler","Marcel","Tobler Marcel"]
[1028491,"Sitta","Massimo","Sitta Massimo"]
[1902776,"Indermaur","Juri","Indermaur Juri"]
[1204064,"Antonazzo","Claudio","Antonazzo Claudio"]
[1723513,"Odermatt","Lars","Odermatt Lars"]
[1030415,"Indermaur","Ramona","Indermaur Ramona"]
[1902777,"Rüegg","Leander","Rüegg Leander"]
[1839557,"Wüger","Ruben","Wüger Ruben"]
[1724550,"Brauchli","Martin","Brauchli Martin"]
[1203957,"Mohn","Hermann","Mohn Hermann"]
[1203955,"Kressibucher","Thomas","Kressibucher Thomas"]
[1028490,"Mohn","Mattia","Mohn Mattia"]
[1684238,"Staub","Lea","Staub Lea"]
[1250292,"Sager","Sandra","Sager Sandra"]
[1265304,"Lacher","Sebastian","Lacher Sebastian"]
[1473390,"Bachmann","Sandro","Bachmann Sandro"]
[1203982,"Schönholzer","Stefan","Schönholzer Stefan"]
[1861501,"Staub","Natascha","Staub Natascha"]
[1203984,"Schönholzer","Markus","Schönholzer Markus"]
[1723515,"Negraszus","Dominic","Negraszus Dominic"]
[1203988,"Wüthrich","Beat","Wüthrich Beat"]
[1902852,"Baumann","Louann","Baumann Louann"]
[1239842,"Sager","Stefan","Sager Stefan"]
[1203977,"Meile-Köchli","Lydia","Meile-Köchli Lydia"]
[1203972,"Gamper","Andreas","Gamper Andreas"]
[1203980,"Schönholzer","Christian","Schönholzer Christian"]
[1250276,"Schönholzer","Mara","Schönholzer Mara"]
[1844228,"Schärer","Michelle","Schärer Michelle"]
[1203981,"Schönholzer","Peter","Schönholzer Peter"]
[1026716,"Bosshard","Christa","Bosshard Christa"]
[1203979,"Schönholzer","Albert","Schönholzer Albert"]
[1239843,"Schönholzer","Roman","Schönholzer Roman"]
[1250275,"Schönholzer","Jasmin","Schönholzer Jasmin"]
[1844229,"Staub","Kaya","Staub Kaya"]
[1203971,"Fässler","Sieglinde","Fässler Sieglinde"]
[1203983,"Schönholzer","Walter","Schönholzer Walter"]
[1225346,"Graf","Mark","Graf Mark"]
[1204006,"Massolin","Marcel","Massolin Marcel"]
[1057166,"Hafen","Thomas","Hafen Thomas"]
[1617843,"Elmer","Luc","Elmer Luc"]
[1204005,"Kuster","Andreas","Kuster Andreas"]
[1617842,"Egger","Florian","Egger Florian"]
[1201821,"Eberhart","Iwan","Eberhart Iwan"]
[1204011,"Walker","Peter","Walker Peter"]
[1203999,"Gremper","Beni","Gremper Beni"]
[1239878,"Brunnenmeister","Andreas","Brunnenmeister Andreas"]
[1204034,"Holzer","Karin","Holzer Karin"]
[1225348,"Moser","Tobias","Moser Tobias"]
[1204001,"Höhener","André","Höhener André"]
[1157473,"Keiser","René","Keiser René"]
[1204002,"Holzmann","Arthur","Holzmann Arthur"]
[1877712,"Wiedmer","Noah","Wiedmer Noah"]
[1239879,"Brüschweiler","Joel","Brüschweiler Joel"]
[1203998,"Germann","Marcel","Germann Marcel"]
[1203996,"Burkhardt","Stefan","Burkhardt Stefan"]
[1203991,"Baumann","Marcel","Baumann Marcel"]
[1265492,"Brenner","Peter","Brenner Peter"]
[1239888,"Pislor","Patrick","Pislor Patrick"]
[1204009,"Schönholzer","Werner","Schönholzer Werner"]
[1839559,"Pasternak","Julia","Pasternak Julia"]
[1218973,"Schallenberg","Martin","Schallenberg Martin"]
[1157471,"Hut","Stefan","Hut Stefan"]
[1204007,"Ravelli","Roland","Ravelli Roland"]
[1240306,"Brüschweiler","Matthias",{"$f":"B1027&\" \"&C1027","v":"Brüschweiler Matthias"}]
[1157462,"Feller","Erich","Feller Erich"]
[1274371,"Streule","Franz","Streule Franz"]
[1204027,"Wuffli","Peter","Wuffli Peter"]
[1445217,"Mettler","Patrick","Mettler Patrick"]
[1028492,"Hungerbühler","Silas","Hungerbühler Silas"]
[1204023,"Moor","Roger","Moor Roger"]
[1204025,"Schmid","Christian","Schmid Christian"]
[1268302,"Gubler","Manuela","Gubler Manuela"]
[1233872,"Schmid","Edi","Schmid Edi"]
[1201825,"Grob","Albert","Grob Albert"]
[1240318,"Bangerter","Martina","Bangerter Martina"]
[1204021,"Hahn","René","Hahn René"]
[1204026,"Wegmann","Willi","Wegmann Willi"]
[1800121,"Trapani","Salvatore","Trapani Salvatore"]
[1060930,"Wagner","Richard","Wagner Richard"]
[1240320,"Kneubühl","Claudia","Kneubühl Claudia"]
[1204014,"Wagner","Daniel","Wagner Daniel"]
[1120472,"Forster","Roland","Forster Roland"]
[1120476,"Krattiger","Armin","Krattiger Armin"]
[1902780,"Birrer","Jana","Birrer Jana"]
[1877713,"Stäheli","Nino","Stäheli Nino"]
[1204036,"Inauen","Bruno","Inauen Bruno"]
[1764644,"Nagel","Kay","Nagel Kay"]
[1268300,"Ess","Michael","Ess Michael"]
[1256922,"Häne","Philipp","Häne Philipp"]
[1120469,"Ess","Martin","Ess Martin"]
[1240326,"Bösch","Nicole","Bösch Nicole"]
[1684245,"Ingold\t","Bruno","Ingold\t Bruno"]
[1652469,"Bösch","Petra","Bösch Petra"]
[1204035,"Huber","Ernst","Huber Ernst"]
[1652468,"Bösch","Nadin","Bösch Nadin"]
[1844231,"Cornilli","Nico","Cornilli Nico"]
[1844232,"Hansen","Simon","Hansen Simon"]
[1028493,"Reisch","Cian","Reisch Cian"]
[1723516,"Welter","Noah","Welter Noah"]
[1067119,"Baumann","Marco","Baumann Marco"]
[1204033,"Dünner","Urs","Dünner Urs"]
[1120505,"Bösch","Reto","Bösch Reto"]
[1829499,"Bösch","Dominique","Bösch Dominique"]
[1239852,"Ess","Roland","Ess Roland"]
[1710346,"Anderes","Petra","Anderes Petra"]
[1120474,"Bösch","Thomas","Bösch Thomas"]
[1120498,"Ess","Werner","Ess Werner"]
[1174929,"Häberli","Andreas","Häberli Andreas"]
[2255443,"Diethelm","Beatriz","Diethelm Beatriz"]
[1255559,"Hug","Gabriel","Hug Gabriel"]
[1076490,"Dick","Rolf","Dick Rolf"]
[1204052,"Schmid","Josef","Schmid Josef"]
[1204049,"Hermann","Hansjürg","Hermann Hansjürg"]
[1037078,"Oberthaler","David","Oberthaler David"]
[1037077,"Frei","Bettina","Frei Bettina"]
[1204056,"Michel","Hansjörg","Michel Hansjörg"]
[1239864,"Tschirren","Simon","Tschirren Simon"]
[1831937,"Rüegg","Paul","Rüegg Paul"]
[1204048,"Frei","Reto","Frei Reto"]
[1202925,"Diethelm","Rolf","Diethelm Rolf"]
[1204060,"Schweiss","Pascal","Schweiss Pascal"]
[1204071,"Schweiss","Manfred","Schweiss Manfred"]
[1258265,"Brauchli","Marc","Brauchli Marc"]
[1204072,"Vonarburg","Marco","Vonarburg Marco"]
[1053912,"Brand","Paul","Brand Paul"]
[1723517,"Krammer","Lucas","Krammer Lucas"]
[1028494,"Fritschi","David","Fritschi David"]
[1045583,"Schweiss","Janine",{"$f":"B1091&\" \"&C1091","v":"Schweiss Janine"}]
[1204059,"Scherrer","Konrad","Scherrer Konrad"]
[1060633,"Eugster","Arnold","Eugster Arnold"]
[1258270,"Schönholzer","Corinne","Schönholzer Corinne"]
[1060634,"Eugster","Markus","Eugster Markus"]
[1045584,"Durisch","Jean-Yves","Durisch Jean-Yves"]
[1204065,"Baumann","Urs","Baumann Urs"]
[1202926,"Marien Neto","Carlos Luis","Marien Neto Carlos Luis"]
[1202925,"Diethelm","Rolf","Diethelm Rolf"]
[1202928,"Scarton","Wanderlei","Scarton Wanderlei"]
[1202930,"Vogt","Heinz","Vogt Heinz"]
[1876555,"Gross","Vinicius","Gross Vinicius"]
[1202915,"Janssen","Doris","Janssen Doris"]
[1042989,"Couto Batzli","Felipe Eduardo","Couto Batzli Felipe Eduardo"]
[1876558,"Rodrigues","Gustavo","Rodrigues Gustavo"]
[1259235,"Betschart","Mauricio","Betschart Mauricio"]
[1876560,"Rodrigues","Valdemir","Rodrigues Valdemir"]
[1202937,"Kuster","Heinz","Kuster Heinz"]
[1276352,"Ernst","Ruedi","Ernst Ruedi"]
[1148087,"Hirsig","Gerhard","Hirsig Gerhard"]
[1202942,"Spycher","Markus","Spycher Markus"]
[1202940,"Morach","Joe","Morach Joe"]
["",null,null," "]
["",null,null," "]
["",null,null," "]
["",null,null," "]
["",null,null," "]
["",null,null," "]
["",null,null," "]
["",null,null," "]
["",null,null," "]
["",null,null," "]
["",null,null," "]
["",null,null," "]
["",null,null," "]
["",null,null," "]
["",null,null," "]
["",null,null," "]
["",null,null," "]
["",null,null," "]
["",null,null," "]
["",null,null," "]
["",null,null," "]
["",null,null," "]
["",null,null," "]
["",null,null," "]
["",null,null," "]
["",null,null," "]
["",null,null," "]
["",null,null," "]
["",null,null," "]
["",null,null," "]
["",null,null," "]
["",null,null," "]
["",null,null," "]
["",null,null," "]
["",null,null," "]
["",null,null," "]
["",null,null," "]
["",null,null," "]
["",null,null," "]
["",null,null," "]
["",null,null," "]
["",null,null," "]
["",null,null,{"$f":"B1155&\" \"&C1155","v":" "}]
["",null,null," "]
["",null,null," "]
["",null,null," "]
["",null,null," "]
["",null,null," "]
["",null,null," "]
["",null,null," "]
["",null,null," "]
["",null,null," "]
["",null,null," "]
["",null,null," "]
["",null,null," "]
["",null,null," "]
["",null,null," "]
["",null,null," "]
["",null,null," "]
["",null,null," "]
["",null,null," "]
["",null,null," "]
["",null,null," "]
["",null,null," "]
["",null,null," "]
["",null,null," "]
["",null,null," "]
["",null,null," "]
["",null,null," "]
["",null,null," "]
["",null,null," "]
["",null,null," "]
["",null,null," "]
["",null,null," "]
["",null,null," "]
["",null,null," "]
["",null,null," "]
["",null,null," "]
["",null,null," "]
["",null,null," "]
["",null,null," "]
["",null,null," "]
["",null,null," "]
["",null,null," "]
["",null,null," "]
["",null,null," "]
["",null,null," "]
["",null,null," "]
["",null,null," "]
["",null,null," "]
["",null,null," "]
["",null,null," "]
["",null,null," "]
["",null,null," "]
["",null,null," "]
["",null,null," "]
["",null,null," "]
["",null,null," "]
["",null,null," "]
["",null,null," "]
["",null,null," "]
["",null,null," "]
["",null,null," "]
["",null,null," "]
["",null,null," "]
["",null,null," "]
["",null,null,{"$f":"B1219&\" \"&C1219","v":" "}]
["",null,null," "]
["",null,null," "]
["",null,null," "]
["",null,null," "]
["",null,null," "]
["",null,null," "]
["",null,null," "]
["",null,null," "]
["",null,null," "]
["",null,null," "]
["",null,null," "]
["",null,null," "]
["",null,null," "]
["",null,null," "]
["",null,null," "]
["",null,null," "]
["",null,null," "]
["",null,null," "]
["",null,null," "]
["",null,null," "]
["",null,null," "]
["",null,null," "]
["",null,null," "]
["",null,null," "]
["",null,null," "]
["",null,null," "]
["",null,null," "]
["",null,null," "]
["",null,null," "]
["",null,null," "]
["",null,null," "]
["",null,null," "]
["",null,null," "]
["",null,null," "]
["",null,null," "]
["",null,null," "]
["",null,null," "]
["",null,null," "]
["",null,null," "]
["",null,null," "]
["",null,null," "]
["",null,null," "]
["",null,null," "]
["",null,null," "]
["",null,null," "]
["",null,null," "]
["",null,null," "]
["",null,null," "]
["",null,null," "]
["",null,null," "]
["",null,null," "]
["",null,null," "]
["",null,null," "]
["",null,null," "]
["",null,null," "]
["",null,null," "]
["",null,null," "]
["",null,null," "]
["",null,null," "]
["",null,null," "]
["",null,null," "]
["",null,null," "]
["",null,null," "]
["",null,null,{"$f":"B1283&\" \"&C1283","v":" "}]
["",null,null," "]
["",null,null," "]
["",null,null," "]
["",null,null," "]
["",null,null," "]
["",null,null," "]
["",null,null," "]
["",null,null," "]
["",null,null," "]
["",null,null," "]
["",null,null," "]
["",null,null," "]
["",null,null," "]
["",null,null," "]
["",null,null," "]
["",null,null," "]
["",null,null," "]
["",null,null," "]
["",null,null," "]
["",null,null," "]
["",null,null," "]
["",null,null," "]
["",null,null," "]
["",null,null," "]
["",null,null," "]
["",null,null," "]
["",null,null," "]
["",null,null," "]
["",null,null," "]
["",null,null," "]
["",null,null," "]
["",null,null," "]
["",null,null," "]
["",null,null," "]
["",null,null," "]
["",null,null," "]
["",null,null," "]
["",null,null," "]
["",null,null," "]
["",null,null," "]
["",null,null," "]
["",null,null," "]
["",null,null," "]
["",null,null," "]
["",null,null," "]
["",null,null," "]
["",null,null," "]
["",null,null," "]
["",null,null," "]
["",null,null," "]
["",null,null," "]
["",null,null," "]
["",null,null," "]
["",null,null," "]
["",null,null," "]
["",null,null," "]
["",null,null," "]
["",null,null," "]
["",null,null," "]
["",null,null," "]
["",null,null," "]
["",null,null," "]
["",null,null," "]
["",null,null,{"$f":"B1347&\" \"&C1347","v":" "}]
["",null,null," "]
["",null,null," "]
["",null,null," "]
["",null,null," "]
["",null,null," "]
["",null,null," "]
["",null,null," "]
["",null,null," "]
["",null,null," "]
["",null,null," "]
["",null,null," "]
["",null,null," "]
["",null,null," "]
["",null,null," "]
["",null,null," "]
["",null,null," "]
["",null,null," "]
["",null,null," "]
["",null,null," "]
["",null,null," "]
["",null,null," "]
["",null,null," "]
["",null,null," "]
["",null,null," "]
["",null,null," "]
["",null,null," "]
["",null,null," "]
["",null,null," "]
["",null,null," "]
["",null,null," "]
["",null,null," "]
["",null,null," "]
["",null,null," "]
["",null,null," "]
["",null,null," "]
["",null,null," "]
["",null,null," "]
["",null,null," "]
["",null,null," "]
["",null,null," "]
["",null,null," "]
["",null,null," "]
["",null,null," "]
["",null,null," "]
["",null,null," "]
["",null,null," "]
["",null,null," "]
["",null,null," "]
["",null,null," "]
["",null,null," "]
["",null,null," "]
["",null,null," "]
["",null,null," "]
["",null,null," "]
["",null,null," "]
["",null,null," "]
["",null,null," "]
["",null,null," "]
["",null,null," "]
["",null,null," "]
["",null,null," "]
["",null,null," "]
["",null,null," "]
["",null,null,{"$f":"B1411&\" \"&C1411","v":" "}]
["",null,null," "]
["",null,null," "]
["",null,null," "]
["",null,null," "]
["",null,null," "]
["",null,null," "]
["",null,null," "]
["",null,null," "]
["",null,null," "]
["",null,null," "]
["",null,null," "]
["",null,null," "]
["",null,null," "]
["",null,null," "]
["",null,null," "]
["",null,null," "]
["",null,null," "]
["",null,null," "]
["",null,null," "]
["",null,null," "]
["",null,null," "]
["",null,null," "]
["",null,null," "]
["",null,null," "]
["",null,null," "]
["",null,null," "]
["",null,null," "]
["",null,null," "]
["",null,null," "]
["",null,null," "]
["",null,null," "]
["",null,null," "]
["",null,null," "]
["",null,null," "]
["",null,null," "]
["",null,null," "]
["",null,null," "]
["",null,null," "]
["",null,null," "]
["",null,null," "]
["",null,null," "]
["",null,null," "]
["",null,null," "]
["",null,null," "]
["",null,null," "]
["",null,null," "]
["",null,null," "]
["",null,null," "]
["",null,null," "]
["",null,null," "]
["",null,null," "]
["",null,null," "]
["",null,null," "]
["",null,null," "]
["",null,null," "]
["",null,null," "]
["",null,null," "]
["",null,null," "]
["",null,null," "]
["",null,null," "]
["",null,null," "]
["",null,null," "]
["",null,null," "]
["",null,null,{"$f":"B1475&\" \"&C1475","v":" "}]
["",null,null," "]
["",null,null," "]
["",null,null," "]
["",null,null," "]
["",null,null," "]
["",null,null," "]
["",null,null," "]
["",null,null," "]
["",null,null," "]
["",null,null," "]
["",null,null," "]
["",null,null," "]
["",null,null," "]
["",null,null," "]
["",null,null," "]
["",null,null," "]
["",null,null," "]
["",null,null," "]
["",null,null," "]
["",null,null," "]
["",null,null," "]
["",null,null," "]
["",null,null," "]
["",null,null," "]
["",null,null," "]
["",null,null," "]
["",null,null," "]
["",null,null," "]
["",null,null," "]
["",null,null," "]
["",null,null," "]
["",null,null," "]
["",null,null," "]
["",null,null," "]
["",null,null," "]
["",null,null," "]
["",null,null," "]
["",null,null," "]
["",null,null," "]
["",null,null," "]
["",null,null," "]
["",null,null," "]
["",null,null," "]
["",null,null," "]
["",null,null," "]
["",null,null," "]
["",null,null," "]
["",null,null," "]
["",null,null," "]
["",null,null," "]
["",null,null," "]
["",null,null," "]
["",null,null," "]
["",null,null," "]
["",null,null," "]
["",null,null," "]
["",null,null," "]
["",null,null," "]
["",null,null," "]
["",null,null," "]
["",null,null," "]
["",null,null," "]
["",null,null," "]
["",null,null,{"$f":"B1539&\" \"&C1539","v":" "}]
["",null,null," "]
["",null,null," "]
["",null,null," "]
["",null,null," "]
["",null,null," "]
["",null,null," "]
["",null,null," "]
["",null,null," "]
["",null,null," "]
["",null,null," "]
["",null,null," "]
["",null,null," "]
["",null,null," "]
["",null,null," "]
["",null,null," "]
["",null,null," "]
["",null,null," "]
["",null,null," "]
["",null,null," "]
["",null,null," "]
["",null,null," "]
["",null,null," "]
["",null,null," "]
["",null,null," "]
["",null,null," "]
["",null,null," "]
["",null,null," "]
["",null,null," "]
["",null,null," "]
["",null,null," "]
["",null,null," "]
["",null,null," "]
["",null,null," "]
["",null,null," "]
["",null,null," "]
["",null,null," "]
["",null,null," "]
["",null,null," "]
["",null,null," "]
["",null,null," "]
["",null,null," "]
["",null,null," "]
["",null,null," "]
["",null,null," "]
["",null,null," "]
["",null,null," "]
["",null,null," "]
["",null,null," "]
["",null,null," "]
["",null,null," "]
["",null,null," "]
["",null,null," "]
["",null,null," "]
["",null,null," "]
["",null,null," "]
["",null,null," "]
["",null,null," "]
["",null,null," "]
["",null,null," "]
["",null,null," "]
["",null,null," "]
["",null,null," "]
["",null,null," "]
["",null,null,{"$f":"B1603&\" \"&C1603","v":" "}]
["",null,null," "]
["",null,null," "]
["",null,null," "]
["",null,null," "]
["",null,null," "]
["",null,null," "]
["",null,null," "]
["",null,null," "]
["",null,null," "]
["",null,null," "]
["",null,null," "]
["",null,null," "]
["",null,null," "]
["",null,null," "]
["",null,null," "]
["",null,null," "]
["",null,null," "]
["",null,null," "]
["",null,null," "]
["",null,null," "]
["",null,null," "]
["",null,null," "]
["",null,null," "]
["",null,null," "]
["",null,null," "]
["",null,null," "]
["",null,null," "]
["",null,null," "]
["",null,null," "]
["",null,null," "]
["",null,null," "]
["",null,null," "]
["",null,null," "]
["",null,null," "]
["",null,null," "]
["",null,null," "]
["",null,null," "]
["",null,null," "]
["",null,null," "]
["",null,null," "]
["",null,null," "]
["",null,null," "]
["",null,null," "]
["",null,null," "]
["",null,null," "]
["",null,null," "]
["",null,null," "]
["",null,null," "]
["",null,null," "]
["",null,null," "]
["",null,null," "]
["",null,null," "]
["",null,null," "]
["",null,null," "]
["",null,null," "]
["",null,null," "]
["",null,null," "]
["",null,null," "]
["",null,null," "]
["",null,null," "]
["",null,null," "]
["",null,null," "]
["",null,null," "]
["",null,null,{"$f":"B1667&\" \"&C1667","v":" "}]
["",null,null," "]
["",null,null," "]
["",null,null," "]
["",null,null," "]
["",null,null," "]
["",null,null," "]
["",null,null," "]
["",null,null," "]
["",null,null," "]
["",null,null," "]
["",null,null," "]
["",null,null," "]
["",null,null," "]
["",null,null," "]
["",null,null," "]
["",null,null," "]
["",null,null," "]
["",null,null," "]
["",null,null," "]
["",null,null," "]
["",null,null," "]
["",null,null," "]
["",null,null," "]
["",null,null," "]
["",null,null," "]
["",null,null," "]
["",null,null," "]
["",null,null," "]
["",null,null," "]
["",null,null," "]
["",null,null," "]
["",null,null," "]
["",null,null," "]
["",null,null," "]
["",null,null," "]
["",null,null," "]
["",null,null," "]
["",null,null," "]
["",null,null," "]
["",null,null," "]
["",null,null," "]
["",null,null," "]
["",null,null," "]
["",null,null," "]
["",null,null," "]
["",null,null," "]
["",null,null," "]
["",null,null," "]
["",null,null," "]
["",null,null," "]
["",null,null," "]
["",null,null," "]
["",null,null," "]
["",null,null," "]
["",null,null," "]
["",null,null," "]
["",null,null," "]
["",null,null," "]
["",null,null," "]
["",null,null," "]
["",null,null," "]
["",null,null," "]
["",null,null," "]
["",null,null,{"$f":"B1731&\" \"&C1731","v":" "}]
["",null,null," "]
["",null,null," "]
["",null,null," "]
["",null,null," "]
["",null,null," "]
["",null,null," "]
["",null,null," "]
["",null,null," "]
["",null,null," "]
["",null,null," "]
["",null,null," "]
["",null,null," "]
["",null,null," "]
["",null,null," "]
["",null,null," "]
["",null,null," "]
["",null,null," "]
["",null,null," "]
["",null,null," "]
["",null,null," "]
["",null,null," "]
["",null,null," "]
["",null,null," "]
["",null,null," "]
["",null,null," "]
["",null,null," "]
["",null,null," "]
["",null,null," "]
["",null,null," "]
["",null,null," "]
["",null,null," "]
["",null,null," "]
["",null,null," "]
["",null,null," "]
["",null,null," "]
["",null,null," "]
["",null,null," "]
["",null,null," "]
["",null,null," "]
["",null,null," "]
["",null,null," "]
["",null,null," "]
["",null,null," "]
["",null,null," "]
["",null,null," "]
["",null,null," "]
["",null,null," "]
["",null,null," "]
["",null,null," "]
["",null,null," "]
["",null,null," "]
["",null,null," "]
["",null,null," "]
["",null,null," "]
["",null,null," "]
["",null,null," "]
["",null,null," "]
["",null,null," "]
["",null,null," "]
["",null,null," "]
["",null,null," "]
["",null,null," "]
["",null,null," "]
["",null,null,{"$f":"B1795&\" \"&C1795","v":" "}]
["",null,null," "]
["",null,null," "]
["",null,null," "]
["",null,null," "]
["",null,null," "]
["",null,null," "]
["",null,null," "]
["",null,null," "]
["",null,null," "]
["",null,null," "]
["",null,null," "]
["",null,null," "]
["",null,null," "]
["",null,null," "]
["",null,null," "]
["",null,null," "]
["",null,null," "]
["",null,null," "]
["",null,null," "]
["",null,null," "]
["",null,null," "]
["",null,null," "]
["",null,null," "]
["",null,null," "]
["",null,null," "]
["",null,null," "]
["",null,null," "]
["",null,null," "]
["",null,null," "]
["",null,null," "]
["",null,null," "]
["",null,null," "]
["",null,null," "]
["",null,null," "]
["",null,null," "]
["",null,null," "]
["",null,null," "]
["",null,null," "]
["",null,null," "]
["",null,null," "]
["",null,null," "]
["",null,null," "]
["",null,null," "]
["",null,null," "]
["",null,null," "]
["",null,null," "]
["",null,null," "]
["",null,null," "]
["",null,null," "]
["",null,null," "]
["",null,null," "]
["",null,null," "]
["",null,null," "]
["",null,null," "]
["",null,null," "]
["",null,null," "]
["",null,null," "]
["",null,null," "]
["",null,null," "]
["",null,null," "]
["",null,null," "]
["",null,null," "]
["",null,null," "]
["",null,null,{"$f":"B1859&\" \"&C1859","v":" "}]
["",null,null," "]
["",null,null," "]
["",null,null," "]
["",null,null," "]
["",null,null," "]
["",null,null," "]
["",null,null," "]
["",null,null," "]
["",null,null," "]
["",null,null," "]
["",null,null," "]
["",null,null," "]
["",null,null," "]
["",null,null," "]
["",null,null," "]
["",null,null," "]
["",null,null," "]
["",null,null," "]
["",null,null," "]
["",null,null," "]
["",null,null," "]
["",null,null," "]
["",null,null," "]
["",null,null," "]
["",null,null," "]
["",null,null," "]
["",null,null," "]
["",null,null," "]
["",null,null," "]
["",null,null," "]
["",null,null," "]
["",null,null," "]
["",null,null," "]
["",null,null," "]
["",null,null," "]
["",null,null," "]
["",null,null," "]
["",null,null," "]
["",null,null," "]
["",null,null," "]
["",null,null," "]
["",null,null," "]
["",null,null," "]
["",null,null," "]
["",null,null," "]
["",null,null," "]
["",null,null," "]
["",null,null," "]
["",null,null," "]
["",null,null," "]
["",null,null," "]
["",null,null," "]
["",null,null," "]
["",null,null," "]
["",null,null," "]
["",null,null," "]
["",null,null," "]
["",null,null," "]
["",null,null," "]
["",null,null," "]
["",null,null," "]
["",null,null," "]
["",null,null," "]
["",null,null,{"$f":"B1923&\" \"&C1923","v":" "}]
["",null,null," "]
["",null,null," "]
["",null,null," "]
["",null,null," "]
["",null,null," "]
["",null,null," "]
["",null,null," "]
["",null,null," "]
["",null,null," "]
["",null,null," "]
["",null,null," "]
["",null,null," "]
["",null,null," "]
["",null,null," "]
["",null,null," "]
["",null,null," "]
["",null,null," "]
["",null,null," "]
["",null,null," "]
["",null,null," "]
["",null,null," "]
["",null,null," "]
["",null,null," "]
["",null,null," "]
["",null,null," "]
["",null,null," "]
["",null,null," "]
["",null,null," "]
["",null,null," "]
["",null,null," "]
["",null,null," "]
["",null,null," "]
["",null,null," "]
["",null,null," "]
["",null,null," "]
["",null,null," "]
["",null,null," "]
["",null,null," "]
["",null,null," "]
["",null,null," "]
["",null,null," "]
["",null,null," "]
["",null,null," "]
["",null,null," "]
["",null,null," "]
["",null,null," "]
["",null,null," "]
["",null,null," "]
["",null,null," "]
["",null,null," "]
["",null,null," "]
["",null,null," "]
["",null,null," "]
["",null,null," "]
["",null,null," "]
["",null,null," "]
["",null,null," "]
["",null,null," "]
["",null,null," "]
["",null,null," "]
["",null,null," "]
["",null,null," "]
["",null,null," "]
["",null,null,{"$f":"B1987&\" \"&C1987","v":" "}]
["",null,null," "]
["",null,null," "]
["",null,null," "]
["",null,null," "]
["",null,null," "]
["",null,null," "]
["",null,null," "]
["",null,null," "]
["",null,null," "]
["",null,null," "]
["",null,null," "]
["",null,null," "]
["",null,null," "]
["",null,null," "]
["",null,null," "]
["",null,null," "]
["",null,null," "]
["",null,null," "]
["",null,null," "]
["",null,null," "]
["",null,null," "]
["",null,null," "]
["",null,null," "]
["",null,null," "]
["",null,null," "]
["",null,null," "]
["",null,null," "]
["",null,null," "]
["",null,null," "]
["",null,null," "]
["",null,null," "]
["",null,null," "]
["",null,null," "]
["",null,null," "]
["",null,null," "]
["",null,null," "]
["",null,null," "]
["",null,null," "]
["",null,null," "]
["",null,null," "]
["",null,null," "]
["",null,null," "]
["",null,null," "]
["",null,null," "]
["",null,null," "]
["",null,null," "]
["",null,null," "]
["",null,null," "]
["",null,null," "]
["",null,null," "]
["",null,null," "]
["",null,null," "]
["",null,null," "]
["",null,null," "]
["",null,null," "]
["",null,null," "]
["",null,null," "]
["",null,null," "]
["",null,null," "]
["",null,null," "]
["",null,null," "]
["",null,null," "]
["",null,null," "]
["",null,null,{"$f":"B2051&\" \"&C2051","v":" "}]
["",null,null," "]
["",null,null," "]
["",null,null," "]
["",null,null," "]
["",null,null," "]
["",null,null," "]
["",null,null," "]
["",null,null," "]
["",null,null," "]
["",null,null," "]
["",null,null," "]
["",null,null," "]
["",null,null," "]
["",null,null," "]
["",null,null," "]
["",null,null," "]
["",null,null," "]
["",null,null," "]
["",null,null," "]
["",null,null," "]
["",null,null," "]
["",null,null," "]
["",null,null," "]
["",null,null," "]
["",null,null," "]
["",null,null," "]
["",null,null," "]
["",null,null," "]
["",null,null," "]
["",null,null," "]
["",null,null," "]
["",null,null," "]
["",null,null," "]
["",null,null," "]
["",null,null," "]
["",null,null," "]
["",null,null," "]
["",null,null," "]
["",null,null," "]
["",null,null," "]
["",null,null," "]
["",null,null," "]
["",null,null," "]
["",null,null," "]
["",null,null," "]
["",null,null," "]
["",null,null," "]
["",null,null," "]
["",null,null," "]
["",null,null," "]
["",null,null," "]
["",null,null," "]
["",null,null," "]
["",null,null," "]
["",null,null," "]
["",null,null," "]
["",null,null," "]
["",null,null," "]
["",null,null," "]
["",null,null," "]
["",null,null," "]
["",null,null," "]
["",null,null," "]
["",null,null,{"$f":"B2115&\" \"&C2115","v":" "}]
["",null,null," "]
["",null,null," "]
["",null,null," "]
["",null,null," "]
["",null,null," "]
["",null,null," "]
["",null,null," "]
["",null,null," "]
["",null,null," "]
["",null,null," "]
["",null,null," "]
["",null,null," "]
["",null,null," "]
["",null,null," "]
["",null,null," "]
["",null,null," "]
["",null,null," "]
["",null,null," "]
["",null,null," "]
["",null,null," "]
["",null,null," "]
["",null,null," "]
["",null,null," "]
["",null,null," "]
["",null,null," "]
["",null,null," "]
["",null,null," "]
["",null,null," "]
["",null,null," "]
["",null,null," "]
["",null,null," "]
["",null,null," "]
["",null,null," "]
["",null,null," "]
["",null,null," "]
["",null,null," "]
["",null,null," "]
["",null,null," "]
["",null,null," "]
["",null,null," "]
["",null,null," "]
["",null,null," "]
["",null,null," "]
["",null,null," "]
["",null,null," "]
["",null,null," "]
["",null,null," "]
["",null,null," "]
["",null,null," "]
["",null,null," "]
["",null,null," "]
["",null,null," "]
["",null,null," "]
["",null,null," "]
["",null,null," "]
["",null,null," "]
["",null,null," "]
["",null,null," "]
["",null,null," "]
["",null,null," "]
["",null,null," "]
["",null,null," "]
["",null,null," "]
["",null,null,{"$f":"B2179&\" \"&C2179","v":" "}]
["",null,null," "]
["",null,null," "]
["",null,null," "]
["",null,null," "]
["",null,null," "]
["",null,null," "]
["",null,null," "]
["",null,null," "]
["",null,null," "]
["",null,null," "]
["",null,null," "]
["",null,null," "]
["",null,null," "]
["",null,null," "]
["",null,null," "]
["",null,null," "]
["",null,null," "]
["",null,null," "]
["",null,null," "]
["",null,null," "]
["",null,null," "]
["",null,null," "]
["",null,null," "]
["",null,null," "]
["",null,null," "]
["",null,null," "]
["",null,null," "]
["",null,null," "]
["",null,null," "]
["",null,null," "]
["",null,null," "]
["",null,null," "]
["",null,null," "]
["",null,null," "]
["",null,null," "]
["",null,null," "]
["",null,null," "]
["",null,null," "]
["",null,null," "]
["",null,null," "]
["",null,null," "]
["",null,null," "]
["",null,null," "]
["",null,null," "]
["",null,null," "]
["",null,null," "]
["",null,null," "]
["",null,null," "]
["",null,null," "]
["",null,null," "]
["",null,null," "]
["",null,null," "]
["",null,null," "]
["",null,null," "]
["",null,null," "]
["",null,null," "]
["",null,null," "]
["",null,null," "]
["",null,null," "]
["",null,null," "]
["",null,null," "]
["",null,null," "]
["",null,null," "]
["",null,null,{"$f":"B2243&\" \"&C2243","v":" "}]
["",null,null," "]
["",null,null," "]
["",null,null," "]
["",null,null," "]
["",null,null," "]
["",null,null," "]
["",null,null," "]
["",null,null," "]
["",null,null," "]
["",null,null," "]
["",null,null," "]
["",null,null," "]
["",null,null," "]
["",null,null," "]
["",null,null," "]
["",null,null," "]
["",null,null," "]
["",null,null," "]
["",null,null," "]
["",null,null," "]
["",null,null," "]
["",null,null," "]
["",null,null," "]
["",null,null," "]
["",null,null," "]
["",null,null," "]
["",null,null," "]
["",null,null," "]
["",null,null," "]
["",null,null," "]
["",null,null," "]
["",null,null," "]
["",null,null," "]
["",null,null," "]
["",null,null," "]
["",null,null," "]
["",null,null," "]
["",null,null," "]
["",null,null," "]
["",null,null," "]
["",null,null," "]
["",null,null," "]
["",null,null," "]
["",null,null," "]
["",null,null," "]
["",null,null," "]
["",null,null," "]
["",null,null," "]
["",null,null," "]
["",null,null," "]
["",null,null," "]
["",null,null," "]
["",null,null," "]
["",null,null," "]
["",null,null," "]
["",null,null," "]
["",null,null," "]
["",null,null," "]
["",null,null," "]
["",null,null," "]
["",null,null," "]
["",null,null," "]
["",null,null," "]
["",null,null,{"$f":"B2307&\" \"&C2307","v":" "}]
["",null,null," "]
["",null,null," "]
["",null,null," "]
["",null,null," "]
["",null,null," "]
["",null,null," "]
["",null,null," "]
["",null,null," "]
["",null,null," "]
["",null,null," "]
["",null,null," "]
["",null,null," "]
["",null,null," "]
["",null,null," "]
["",null,null," "]
["",null,null," "]
["",null,null," "]
["",null,null," "]
["",null,null," "]
["",null,null," "]
["",null,null," "]
["",null,null," "]
["",null,null," "]
["",null,null," "]
["",null,null," "]
["",null,null," "]
["",null,null," "]
["",null,null," "]
["",null,null," "]
["",null,null," "]
["",null,null," "]
["",null,null," "]
["",null,null," "]
["",null,null," "]
["",null,null," "]
["",null,null," "]
["",null,null," "]
["",null,null," "]
["",null,null," "]
["",null,null," "]
["",null,null," "]
["",null,null," "]
["",null,null," "]
["",null,null," "]
["",null,null," "]
["",null,null," "]
["",null,null," "]
["",null,null," "]
["",null,null," "]
["",null,null," "]
["",null,null," "]
["",null,null," "]
["",null,null," "]
["",null,null," "]
["",null,null," "]
["",null,null," "]
["",null,null," "]
["",null,null," "]
["",null,null," "]
["",null,null," "]
["",null,null," "]
["",null,null," "]
["",null,null," "]
["",null,null,{"$f":"B2371&\" \"&C2371","v":" "}]
["",null,null," "]
["",null,null," "]
["",null,null," "]
["",null,null," "]
["",null,null," "]
["",null,null," "]
["",null,null," "]
["",null,null," "]
["",null,null," "]
["",null,null," "]
["",null,null," "]
["",null,null," "]
["",null,null," "]
["",null,null," "]
["",null,null," "]
["",null,null," "]
["",null,null," "]
["",null,null," "]
["",null,null," "]
["",null,null," "]
["",null,null," "]
["",null,null," "]
["",null,null," "]
["",null,null," "]
["",null,null," "]
["",null,null," "]
["",null,null," "]
["",null,null," "]
["",null,null," "]
["",null,null," "]
["",null,null," "]
["",null,null," "]
["",null,null," "]
["",null,null," "]
["",null,null," "]
["",null,null," "]
["",null,null," "]
["",null,null," "]
["",null,null," "]
["",null,null," "]
["",null,null," "]
["",null,null," "]
["",null,null," "]
["",null,null," "]
["",null,null," "]
["",null,null," "]
["",null,null," "]
["",null,null," "]
["",null,null," "]
["",null,null," "]
["",null,null," "]
["",null,null," "]
["",null,null," "]
["",null,null," "]
["",null,null," "]
["",null,null," "]
["",null,null," "]
["",null,null," "]
["",null,null," "]
["",null,null," "]
["",null,null," "]
["",null,null," "]
["",null,null," "]
["",null,null,{"$f":"B2435&\" \"&C2435","v":" "}]
["",null,null," "]
["",null,null," "]
["",null,null," "]
["",null,null," "]
["",null,null," "]
["",null,null," "]
["",null,null," "]
["",null,null," "]
["",null,null," "]
["",null,null," "]
["",null,null," "]
["",null,null," "]
["",null,null," "]
["",null,null," "]
["",null,null," "]
["",null,null," "]
["",null,null," "]
["",null,null," "]
["",null,null," "]
["",null,null," "]
["",null,null," "]
["",null,null," "]
["",null,null," "]
["",null,null," "]
["",null,null," "]
["",null,null," "]
["",null,null," "]
["",null,null," "]
["",null,null," "]
["",null,null," "]
["",null,null," "]
["",null,null," "]
["",null,null," "]
["",null,null," "]
["",null,null," "]
["",null,null," "]
["",null,null," "]
["",null,null," "]
["",null,null," "]
["",null,null," "]
["",null,null," "]
["",null,null," "]
["",null,null," "]
["",null,null," "]
["",null,null," "]
["",null,null," "]
["",null,null," "]
["",null,null," "]
["",null,null," "]
["",null,null," "]
["",null,null," "]
["",null,null," "]
["",null,null," "]
["",null,null," "]
["",null,null," "]
["",null,null," "]
["",null,null," "]
["",null,null," "]
["",null,null," "]
["",null,null," "]
["",null,null," "]
["",null,null," "]
["",null,null," "]
["",null,null,{"$f":"B2499&\" \"&C2499","v":" "}]
["",null,null," "]
["",null,null," "]
["",null,null," "]
["",null,null," "]
["",null,null," "]
["",null,null," "]
["",null,null," "]
["",null,null," "]
["",null,null," "]
["",null,null," "]
["",null,null," "]
["",null,null," "]
["",null,null," "]
["",null,null," "]
["",null,null," "]
["",null,null," "]
["",null,null," "]
["",null,null," "]
["",null,null," "]
["",null,null," "]
["",null,null," "]
["",null,null," "]
["",null,null," "]
["",null,null," "]
["",null,null," "]
["",null,null," "]
["",null,null," "]
["",null,null," "]
["",null,null," "]
["",null,null," "]
["",null,null," "]
["",null,null," "]
["",null,null," "]
["",null,null," "]
["",null,null," "]
["",null,null," "]
["",null,null," "]
["",null,null," "]
["",null,null," "]
["",null,null," "]
["",null,null," "]
["",null,null," "]
["",null,null," "]
["",null,null," "]
["",null,null," "]
["",null,null," "]
["",null,null," "]
["",null,null," "]
["",null,null," "]
["",null,null," "]
["",null,null," "]
["",null,null," "]
["",null,null," "]
["",null,null," "]
["",null,null," "]
["",null,null," "]
["",null,null," "]
["",null,null," "]
["",null,null," "]
["",null,null," "]
["",null,null," "]
["",null,null," "]
["",null,null," "]
["",null,null,{"$f":"B2563&\" \"&C2563","v":" "}]
["",null,null," "]
["",null,null," "]
["",null,null," "]
["",null,null," "]
["",null,null," "]
["",null,null," "]
["",null,null," "]
["",null,null," "]
["",null,null," "]
["",null,null," "]
["",null,null," "]
["",null,null," "]
["",null,null," "]
["",null,null," "]
["",null,null," "]
["",null,null," "]
["",null,null," "]
["",null,null," "]
["",null,null," "]
["",null,null," "]
["",null,null," "]
["",null,null," "]
["",null,null," "]
["",null,null," "]
["",null,null," "]
["",null,null," "]
["",null,null," "]
["",null,null," "]
["",null,null," "]
["",null,null," "]
["",null,null," "]
["",null,null," "]
["",null,null," "]
["",null,null," "]
["",null,null," "]
["",null,null," "]
["",null,null," "]
["",null,null," "]
["",null,null," "]
["",null,null," "]
["",null,null," "]
["",null,null," "]
["",null,null," "]
["",null,null," "]
["",null,null," "]
["",null,null," "]
["",null,null," "]
["",null,null," "]
["",null,null," "]
["",null,null," "]
["",null,null," "]
["",null,null," "]
["",null,null," "]
["",null,null," "]
["",null,null," "]
["",null,null," "]
["",null,null," "]
["",null,null," "]
["",null,null," "]
["",null,null," "]
["",null,null," "]
["",null,null," "]
["",null,null," "]
["",null,null,{"$f":"B2627&\" \"&C2627","v":" "}]
["",null,null," "]
["",null,null," "]
["",null,null," "]
["",null,null," "]
["",null,null," "]
["",null,null," "]
["",null,null," "]
["",null,null," "]
["",null,null," "]
["",null,null," "]
["",null,null," "]
["",null,null," "]
["",null,null," "]
["",null,null," "]
["",null,null," "]
["",null,null," "]
["",null,null," "]
["",null,null," "]
["",null,null," "]
["",null,null," "]
["",null,null," "]
["",null,null," "]
["",null,null," "]
["",null,null," "]
["",null,null," "]
["",null,null," "]
["",null,null," "]
["",null,null," "]
["",null,null," "]
["",null,null," "]
["",null,null," "]
["",null,null," "]
["",null,null," "]
["",null,null," "]
["",null,null," "]
["",null,null," "]
["",null,null," "]
["",null,null," "]
["",null,null," "]
["",null,null," "]
["",null,null," "]
["",null,null," "]
["",null,null," "]
["",null,null," "]
["",null,null," "]
["",null,null," "]
["",null,null," "]
["",null,null," "]
["",null,null," "]
["",null,null," "]
["",null,null," "]
["",null,null," "]
["",null,null," "]
["",null,null," "]
["",null,null," "]
["",null,null," "]
["",null,null," "]
["",null,null," "]
["",null,null," "]
["",null,null," "]
["",null,null," "]
["",null,null," "]
["",null,null," "]
["",null,null,{"$f":"B2691&\" \"&C2691","v":" "}]
["",null,null," "]
["",null,null," "]
["",null,null," "]
["",null,null," "]
["",null,null," "]
["",null,null," "]
["",null,null," "]
["",null,null," "]
["",null,null," "]
["",null,null," "]
["",null,null," "]
["",null,null," "]
["",null,null," "]
["",null,null," "]
["",null,null," "]
["",null,null," "]
["",null,null," "]
["",null,null," "]
["",null,null," "]
["",null,null," "]
["",null,null," "]
["",null,null," "]
["",null,null," "]
["",null,null," "]
["",null,null," "]
["",null,null," "]
["",null,null," "]
["",null,null," "]
["",null,null," "]
["",null,null," "]
["",null,null," "]
["",null,null," "]
["",null,null," "]
["",null,null," "]
["",null,null," "]
["",null,null," "]
["",null,null," "]
["",null,null," "]
["",null,null," "]
["",null,null," "]
["",null,null," "]
["",null,null," "]
["",null,null," "]
["",null,null," "]
["",null,null," "]
["",null,null," "]
["",null,null," "]
["",null,null," "]
["",null,null," "]
["",null,null," "]
["",null,null," "]
["",null,null," "]
["",null,null," "]
["",null,null," "]
["",null,null," "]
["",null,null," "]
["",null,null," "]
["",null,null," "]
["",null,null," "]
["",null,null," "]
["",null,null," "]
["",null,null," "]
["",null,null," "]
["",null,null,{"$f":"B2755&\" \"&C2755","v":" "}]
["",null,null," "]
["",null,null," "]
["",null,null," "]
["",null,null," "]
["",null,null," "]
["",null,null," "]
["",null,null," "]
["",null,null," "]
["",null,null," "]
["",null,null," "]
["",null,null," "]
["",null,null," "]
["",null,null," "]
["",null,null," "]
["",null,null," "]
["",null,null," "]
["",null,null," "]
["",null,null," "]
["",null,null," "]
["",null,null," "]
["",null,null," "]
["",null,null," "]
["",null,null," "]
["",null,null," "]
["",null,null," "]
["",null,null," "]
["",null,null," "]
["",null,null," "]
["",null,null," "]
["",null,null," "]
["",null,null," "]
["",null,null," "]
["",null,null," "]
["",null,null," "]
["",null,null," "]
["",null,null," "]
["",null,null," "]
["",null,null," "]
["",null,null," "]
["",null,null," "]
["",null,null," "]
["",null,null," "]
["",null,null," "]
["",null,null," "]
["",null,null," "]
["",null,null," "]
["",null,null," "]
["",null,null," "]
["",null,null," "]
["",null,null," "]
["",null,null," "]
["",null,null," "]
["",null,null," "]
["",null,null," "]
["",null,null," "]
["",null,null," "]
["",null,null," "]
["",null,null," "]
["",null,null," "]
["",null,null," "]
["",null,null," "]
["",null,null," "]
["",null,null," "]
["",null,null,{"$f":"B2819&\" \"&C2819","v":" "}]
["",null,null," "]
["",null,null," "]
["",null,null," "]
["",null,null," "]
["",null,null," "]
["",null,null," "]
["",null,null," "]
["",null,null," "]
["",null,null," "]
["",null,null," "]
["",null,null," "]
["",null,null," "]
["",null,null," "]
["",null,null," "]
["",null,null," "]
["",null,null," "]
["",null,null," "]
["",null,null," "]
["",null,null," "]
["",null,null," "]
["",null,null," "]
["",null,null," "]
["",null,null," "]
["",null,null," "]
["",null,null," "]
["",null,null," "]
["",null,null," "]
["",null,null," "]
["",null,null," "]
["",null,null," "]
["",null,null," "]
["",null,null," "]
["",null,null," "]
["",null,null," "]
["",null,null," "]
["",null,null," "]
["",null,null," "]
["",null,null," "]
["",null,null," "]
["",null,null," "]
["",null,null," "]
["",null,null," "]
["",null,null," "]
["",null,null," "]
["",null,null," "]
["",null,null," "]
["",null,null," "]
["",null,null," "]
["",null,null," "]
["",null,null," "]
["",null,null," "]
["",null,null," "]
["",null,null," "]
["",null,null," "]
["",null,null," "]
["",null,null," "]
["",null,null," "]
["",null,null," "]
["",null,null," "]
["",null,null," "]
["",null,null," "]
["",null,null," "]
["",null,null," "]
["",null,null,{"$f":"B2883&\" \"&C2883","v":" "}]
["",null,null," "]
["",null,null," "]
["",null,null," "]
["",null,null," "]
["",null,null," "]
["",null,null," "]
["",null,null," "]
["",null,null," "]
["",null,null," "]
["",null,null," "]
["",null,null," "]
["",null,null," "]
["",null,null," "]
["",null,null," "]
["",null,null," "]
["",null,null," "]
["",null,null," "]
["",null,null," "]
["",null,null," "]
["",null,null," "]
["",null,null," "]
["",null,null," "]
["",null,null," "]
["",null,null," "]
["",null,null," "]
["",null,null," "]
["",null,null," "]
["",null,null," "]
["",null,null," "]
["",null,null," "]
["",null,null," "]
["",null,null," "]
["",null,null," "]
["",null,null," "]
["",null,null," "]
["",null,null," "]
["",null,null," "]
["",null,null," "]
["",null,null," "]
["",null,null," "]
["",null,null," "]
["",null,null," "]
["",null,null," "]
["",null,null," "]
["",null,null," "]
["",null,null," "]
["",null,null," "]
["",null,null," "]
["",null,null," "]
["",null,null," "]
["",null,null," "]
["",null,null," "]
["",null,null," "]
["",null,null," "]
["",null,null," "]
["",null,null," "]
["",null,null," "]
["",null,null," "]
["",null,null," "]
["",null,null," "]
["",null,null," "]
["",null,null," "]
["",null,null," "]
["",null,null,{"$f":"B2947&\" \"&C2947","v":" "}]
["",null,null," "]
["",null,null," "]
["",null,null," "]
["",null,null," "]
["",null,null," "]
["",null,null," "]
["",null,null," "]
["",null,null," "]
["",null,null," "]
["",null,null," "]
["",null,null," "]
["",null,null," "]
["",null,null," "]
["",null,null," "]
["",null,null," "]
["",null,null," "]
["",null,null," "]
["",null,null," "]
["",null,null," "]
["",null,null," "]
["",null,null," "]
["",null,null," "]
["",null,null," "]
["",null,null," "]
["",null,null," "]
["",null,null," "]
["",null,null," "]
["",null,null," "]
["",null,null," "]
["",null,null," "]
["",null,null," "]
["",null,null," "]
["",null,null," "]
["",null,null," "]
["",null,null," "]
["",null,null," "]
["",null,null," "]
["",null,null," "]
["",null,null," "]
["",null,null," "]
["",null,null," "]
["",null,null," "]
["",null,null," "]
["",null,null," "]
["",null,null," "]
["",null,null," "]
["",null,null," "]
["",null,null," "]
["",null,null," "]
["",null,null," "]
["",null,null," "]
["",null,null," "]
["",null,null," "]
["",null,null," "]
["",null,null," "]
["",null,null," "]
["",null,null," "]
["",null,null," "]
["",null,null," "]
["",null,null," "]
["",null,null," "]
["",null,null," "]
["",null,null," "]
["",null,null,{"$f":"B3011&\" \"&C3011","v":" "}]
["",null,null," "]
["",null,null," "]
["",null,null," "]
["",null,null," "]
["",null,null," "]
["",null,null," "]
["",null,null," "]
["",null,null," "]
["",null,null," "]
["",null,null," "]
["",null,null," "]
["",null,null," "]
["",null,null," "]
["",null,null," "]
["",null,null," "]
["",null,null," "]
["",null,null," "]
["",null,null," "]
["",null,null," "]
["",null,null," "]
["",null,null," "]
["",null,null," "]
["",null,null," "]
["",null,null," "]
["",null,null," "]
["",null,null," "]
["",null,null," "]
["",null,null," "]
["",null,null," "]
["",null,null," "]
["",null,null," "]
["",null,null," "]
["",null,null," "]
["",null,null," "]
["",null,null," "]
["",null,null," "]
["",null,null," "]
["",null,null," "]
["",null,null," "]
["",null,null," "]
["",null,null," "]
["",null,null," "]
["",null,null," "]
["",null,null," "]
["",null,null," "]
["",null,null," "]
["",null,null," "]
["",null,null," "]
["",null,null," "]
["",null,null," "]
["",null,null," "]
["",null,null," "]
["",null,null," "]
["",null,null," "]
["",null,null," "]
["",null,null," "]
["",null,null," "]
["",null,null," "]
["",null,null," "]
["",null,null," "]
["",null,null," "]
["",null,null," "]
["",null,null," "]
["",null,null,{"$f":"B3075&\" \"&C3075","v":" "}]
["",null,null," "]
["",null,null," "]
["",null,null," "]
["",null,null," "]
["",null,null," "]
["",null,null," "]
["",null,null," "]
["",null,null," "]
["",null,null," "]
["",null,null," "]
["",null,null," "]
["",null,null," "]
["",null,null," "]
["",null,null," "]
["",null,null," "]
["",null,null," "]
["",null,null," "]
["",null,null," "]
["",null,null," "]
["",null,null," "]
["",null,null," "]
["",null,null," "]
["",null,null," "]
["",null,null," "]
["",null,null," "]
["",null,null," "]
["",null,null," "]
["",null,null," "]
["",null,null," "]
["",null,null," "]
["",null,null," "]
["",null,null," "]
["",null,null," "]
["",null,null," "]
["",null,null," "]
["",null,null," "]
["",null,null," "]
["",null,null," "]
["",null,null," "]
["",null,null," "]
["",null,null," "]
["",null,null," "]
["",null,null," "]
["",null,null," "]
["",null,null," "]
["",null,null," "]
["",null,null," "]
["",null,null," "]
["",null,null," "]
["",null,null," "]
["",null,null," "]
["",null,null," "]
["",null,null," "]
["",null,null," "]
["",null,null," "]
["",null,null," "]
["",null,null," "]
["",null,null," "]
["",null,null," "]
["",null,null," "]
["",null,null," "]
["",null,null," "]
["",null,null," "]
["",null,null,{"$f":"B3139&\" \"&C3139","v":" "}]
["",null,null," "]
["",null,null," "]
["",null,null," "]
["",null,null," "]
["",null,null," "]
["",null,null," "]
["",null,null," "]
["",null,null," "]
["",null,null," "]
["",null,null," "]
["",null,null," "]
["",null,null," "]
["",null,null," "]
["",null,null," "]
["",null,null," "]
["",null,null," "]
["",null,null," "]
["",null,null," "]
["",null,null," "]
["",null,null," "]
["",null,null," "]
["",null,null," "]
["",null,null," "]
["",null,null," "]
["",null,null," "]
["",null,null," "]
["",null,null," "]
["",null,null," "]
["",null,null," "]
["",null,null," "]
["",null,null," "]
["",null,null," "]
["",null,null," "]
["",null,null," "]
["",null,null," "]
["",null,null," "]
["",null,null," "]
["",null,null," "]
["",null,null," "]
["",null,null," "]
["",null,null," "]
["",null,null," "]
["",null,null," "]
["",null,null," "]
["",null,null," "]
["",null,null," "]
["",null,null," "]
["",null,null," "]
["",null,null," "]
["",null,null," "]
["",null,null," "]
["",null,null," "]
["",null,null," "]
["",null,null," "]
["",null,null," "]
["",null,null," "]
["",null,null," "]
["",null,null," "]
["",null,null," "]
["",null,null," "]
["",null,null," "]
["",null,null," "]
["",null,null," "]
["",null,null,{"$f":"B3203&\" \"&C3203","v":" "}]
["",null,null," "]
["",null,null," "]
["",null,null," "]
["",null,null," "]
["",null,null," "]
["",null,null," "]
["",null,null," "]
["",null,null," "]
["",null,null," "]
["",null,null," "]
["",null,null," "]
["",null,null," "]
["",null,null," "]
["",null,null," "]
["",null,null," "]
["",null,null," "]
["",null,null," "]
["",null,null," "]
["",null,null," "]
["",null,null," "]
["",null,null," "]
["",null,null," "]
["",null,null," "]
["",null,null," "]
["",null,null," "]
["",null,null," "]
["",null,null," "]
["",null,null," "]
["",null,null," "]
["",null,null," "]
["",null,null," "]
["",null,null," "]
["",null,null," "]
["",null,null," "]
["",null,null," "]
["",null,null," "]
["",null,null," "]
["",null,null," "]
["",null,null," "]
["",null,null," "]
["",null,null," "]
["",null,null," "]
["",null,null," "]
["",null,null," "]
["",null,null," "]
["",null,null," "]
["",null,null," "]
["",null,null," "]
["",null,null," "]
["",null,null," "]
["",null,null," "]
["",null,null," "]
["",null,null," "]
["",null,null," "]
["",null,null," "]
["",null,null," "]
["",null,null," "]
["",null,null," "]
["",null,null," "]
["",null,null," "]
["",null,null," "]
["",null,null," "]
["",null,null," "]
["",null,null,{"$f":"B3267&\" \"&C3267","v":" "}]
["",null,null," "]
["",null,null," "]
["",null,null," "]
["",null,null," "]
["",null,null," "]
["",null,null," "]
["",null,null," "]
["",null,null," "]
["",null,null," "]
["",null,null," "]
["",null,null," "]
["",null,null," "]
["",null,null," "]
["",null,null," "]
["",null,null," "]
["",null,null," "]
["",null,null," "]
["",null,null," "]
["",null,null," "]
["",null,null," "]
["",null,null," "]
["",null,null," "]
["",null,null," "]
["",null,null," "]
["",null,null," "]
["",null,null," "]
["",null,null," "]
["",null,null," "]
["",null,null," "]
["",null,null," "]
["",null,null," "]
["",null,null," "]
["",null,null," "]
["",null,null," "]
["",null,null," "]
["",null,null," "]
["",null,null," "]
["",null,null," "]
["",null,null," "]
["",null,null," "]
["",null,null," "]
["",null,null," "]
["",null,null," "]
["",null,null," "]
["",null,null," "]
["",null,null," "]
["",null,null," "]
["",null,null," "]
["",null,null," "]
["",null,null," "]
["",null,null," "]
["",null,null," "]
["",null,null," "]
["",null,null," "]
["",null,null," "]
["",null,null," "]
["",null,null," "]
["",null,null," "]
["",null,null," "]
["",null,null," "]
["",null,null," "]
["",null,null," "]
["",null,null," "]
["",null,null,{"$f":"B3331&\" \"&C3331","v":" "}]
["",null,null," "]
["",null,null," "]
["",null,null," "]
["",null,null," "]
["",null,null," "]
["",null,null," "]
["",null,null," "]
["",null,null," "]
["",null,null," "]
["",null,null," "]
["",null,null," "]
["",null,null," "]
["",null,null," "]
["",null,null," "]
["",null,null," "]
["",null,null," "]
["",null,null," "]
["",null,null," "]
["",null,null," "]
["",null,null," "]
["",null,null," "]
["",null,null," "]
["",null,null," "]
["",null,null," "]
["",null,null," "]
["",null,null," "]
["",null,null," "]
["",null,null," "]
["",null,null," "]
["",null,null," "]
["",null,null," "]
["",null,null," "]
["",null,null," "]
["",null,null," "]
["",null,null," "]
["",null,null," "]
["",null,null," "]
["",null,null," "]
["",null,null," "]
["",null,null," "]
["",null,null," "]
["",null,null," "]
["",null,null," "]
["",null,null," "]
["",null,null," "]
["",null,null," "]
["",null,null," "]
["",null,null," "]
["",null,null," "]
["",null,null," "]
["",null,null," "]
["",null,null," "]
["",null,null," "]
["",null,null," "]
["",null,null," "]
["",null,null," "]
["",null,null," "]
["",null,null," "]
["",null,null," "]
["",null,null," "]
["",null,null," "]
["",null,null," "]
["",null,null," "]
["",null,null,{"$f":"B3395&\" \"&C3395","v":" "}]
["",null,null," "]
["",null,null," "]
["",null,null," "]
["",null,null," "]
["",null,null," "]
["",null,null," "]
["",null,null," "]
["",null,null," "]
["",null,null," "]
["",null,null," "]
["",null,null," "]
["",null,null," "]
["",null,null," "]
["",null,null," "]
["",null,null," "]
["",null,null," "]
["",null,null," "]
["",null,null," "]
["",null,null," "]
["",null,null," "]
["",null,null," "]
["",null,null," "]
["",null,null," "]
["",null,null," "]
["",null,null," "]
["",null,null," "]
["",null,null," "]
["",null,null," "]
["",null,null," "]
["",null,null," "]
["",null,null," "]
["",null,null," "]
["",null,null," "]
["",null,null," "]
["",null,null," "]
["",null,null," "]
["",null,null," "]
["",null,null," "]
["",null,null," "]
["",null,null," "]
["",null,null," "]
["",null,null," "]
["",null,null," "]
["",null,null," "]
["",null,null," "]
["",null,null," "]
["",null,null," "]
["",null,null," "]
["",null,null," "]
["",null,null," "]
["",null,null," "]
["",null,null," "]
["",null,null," "]
["",null,null," "]
["",null,null," "]
["",null,null," "]
["",null,null," "]
["",null,null," "]
["",null,null," "]
["",null,null," "]
["",null,null," "]
["",null,null," "]
["",null,null," "]
["",null,null,{"$f":"B3459&\" \"&C3459","v":" "}]
["",null,null," "]
["",null,null," "]
["",null,null," "]
["",null,null," "]
["",null,null," "]
["",null,null," "]
["",null,null," "]
["",null,null," "]
["",null,null," "]
["",null,null," "]
["",null,null," "]
["",null,null," "]
["",null,null," "]
["",null,null," "]
["",null,null," "]
["",null,null," "]
["",null,null," "]
["",null,null," "]
["",null,null," "]
["",null,null," "]
["",null,null," "]
["",null,null," "]
["",null,null," "]
["",null,null," "]
["",null,null," "]
["",null,null," "]
["",null,null," "]
["",null,null," "]
["",null,null," "]
["",null,null," "]
["",null,null," "]
["",null,null," "]
["",null,null," "]
["",null,null," "]
["",null,null," "]
["",null,null," "]
["",null,null," "]
["",null,null," "]
["",null,null," "]
["",null,null," "]
["",null,null," "]
["",null,null," "]
["",null,null," "]
["",null,null," "]
["",null,null," "]
["",null,null," "]
["",null,null," "]
["",null,null," "]
["",null,null," "]
["",null,null," "]
["",null,null," "]
["",null,null," "]
["",null,null," "]
["",null,null," "]
["",null,null," "]
["",null,null," "]
["",null,null," "]
["",null,null," "]
["",null,null," "]
["",null,null," "]
["",null,null," "]
["",null,null," "]
["",null,null," "]
["",null,null,{"$f":"B3523&\" \"&C3523","v":" "}]
["",null,null," "]
["",null,null," "]
["",null,null," "]
["",null,null," "]
["",null,null," "]
["",null,null," "]
["",null,null," "]
["",null,null," "]
["",null,null," "]
["",null,null," "]
["",null,null," "]
["",null,null," "]
["",null,null," "]
["",null,null," "]
["",null,null," "]
["",null,null," "]
["",null,null," "]
["",null,null," "]
["",null,null," "]
["",null,null," "]
["",null,null," "]
["",null,null," "]
["",null,null," "]
["",null,null," "]
["",null,null," "]
["",null,null," "]
["",null,null," "]
["",null,null," "]
["",null,null," "]
["",null,null," "]
["",null,null," "]
["",null,null," "]
["",null,null," "]
["",null,null," "]
["",null,null," "]
["",null,null," "]
["",null,null," "]
["",null,null," "]
["",null,null," "]
["",null,null," "]
["",null,null," "]
["",null,null," "]
["",null,null," "]
["",null,null," "]
["",null,null," "]
["",null,null," "]
["",null,null," "]
["",null,null," "]
["",null,null," "]
["",null,null," "]
["",null,null," "]
["",null,null," "]
["",null,null," "]
["",null,null," "]
["",null,null," "]
["",null,null," "]
["",null,null," "]
["",null,null," "]
["",null,null," "]
["",null,null," "]
["",null,null," "]
["",null,null," "]
["",null,null," "]
["",null,null,{"$f":"B3587&\" \"&C3587","v":" "}]
["",null,null," "]
["",null,null," "]
["",null,null," "]
["",null,null," "]
["",null,null," "]
["",null,null," "]
["",null,null," "]
["",null,null," "]
["",null,null," "]
["",null,null," "]
["",null,null," "]
["",null,null," "]
["",null,null," "]
["",null,null," "]
["",null,null," "]
["",null,null," "]
["",null,null," "]
["",null,null," "]
["",null,null," "]
["",null,null," "]
["",null,null," "]
["",null,null," "]
["",null,null," "]
["",null,null," "]
["",null,null," "]
["",null,null," "]
["",null,null," "]
["",null,null," "]
["",null,null," "]
["",null,null," "]
["",null,null," "]
["",null,null," "]
["",null,null," "]
["",null,null," "]
["",null,null," "]
["",null,null," "]
["",null,null," "]
["",null,null," "]
["",null,null," "]
["",null,null," "]
["",null,null," "]
["",null,null," "]
["",null,null," "]
["",null,null," "]
["",null,null," "]
["",null,null," "]
["",null,null," "]
["",null,null," "]
["",null,null," "]
["",null,null," "]
["",null,null," "]
["",null,null," "]
["",null,null," "]
["",null,null," "]
["",null,null," "]
["",null,null," "]
["",null,null," "]
["",null,null," "]
["",null,null," "]
["",null,null," "]
["",null,null," "]
["",null,null," "]
["",null,null," "]
["",null,null,{"$f":"B3651&\" \"&C3651","v":" "}]
["",null,null," "]
["",null,null," "]
["",null,null," "]
["",null,null," "]
["",null,null," "]
["",null,null," "]
["",null,null," "]
["",null,null," "]
["",null,null," "]
["",null,null," "]
["",null,null," "]
["",null,null," "]
["",null,null," "]
["",null,null," "]
["",null,null," "]
["",null,null," "]
["",null,null," "]
["",null,null," "]
["",null,null," "]
["",null,null," "]
["",null,null," "]
["",null,null," "]
["",null,null," "]
["",null,null," "]
["",null,null," "]
["",null,null," "]
["",null,null," "]
["",null,null," "]
["",null,null," "]
["",null,null," "]
["",null,null," "]
["",null,null," "]
["",null,null," "]
["",null,null," "]
["",null,null," "]
["",null,null," "]
["",null,null," "]
["",null,null," "]
["",null,null," "]
["",null,null," "]
["",null,null," "]
["",null,null," "]
["",null,null," "]
["",null,null," "]
["",null,null," "]
["",null,null," "]
["",null,null," "]
["",null,null," "]
["",null,null," "]
["",null,null," "]
["",null,null," "]
["",null,null," "]
["",null,null," "]
["",null,null," "]
["",null,null," "]
["",null,null," "]
["",null,null," "]
["",null,null," "]
["",null,null," "]
["",null,null," "]
["",null,null," "]
["",null,null," "]
["",null,null," "]
["",null,null,{"$f":"B3715&\" \"&C3715","v":" "}]
["",null,null," "]
["",null,null," "]
["",null,null," "]
["",null,null," "]
["",null,null," "]
["",null,null," "]
["",null,null," "]
["",null,null," "]
["",null,null," "]
["",null,null," "]
["",null,null," "]
["",null,null," "]
["",null,null," "]
["",null,null," "]
["",null,null," "]
["",null,null," "]
["",null,null," "]
["",null,null," "]
["",null,null," "]
["",null,null," "]
["",null,null," "]
["",null,null," "]
["",null,null," "]
["",null,null," "]
["",null,null," "]
["",null,null," "]
["",null,null," "]
["",null,null," "]
["",null,null," "]
["",null,null," "]
["",null,null," "]
["",null,null," "]
["",null,null," "]
["",null,null," "]
["",null,null," "]
["",null,null," "]
["",null,null," "]
["",null,null," "]
["",null,null," "]
["",null,null," "]
["",null,null," "]
["",null,null," "]
["",null,null," "]
["",null,null," "]
["",null,null," "]
["",null,null," "]
["",null,null," "]
["",null,null," "]
["",null,null," "]
["",null,null," "]
["",null,null," "]
["",null,null," "]
["",null,null," "]
["",null,null," "]
["",null,null," "]
["",null,null," "]
["",null,null," "]
["",null,null," "]
["",null,null," "]
["",null,null," "]
["",null,null," "]
["",null,null," "]
["",null,null," "]
["",null,null,{"$f":"B3779&\" \"&C3779","v":" "}]
["",null,null," "]
["",null,null," "]
["",null,null," "]
["",null,null," "]
["",null,null," "]
["",null,null," "]
["",null,null," "]
["",null,null," "]
["",null,null," "]
["",null,null," "]
["",null,null," "]
["",null,null," "]
["",null,null," "]
["",null,null," "]
["",null,null," "]
["",null,null," "]
["",null,null," "]
["",null,null," "]
["",null,null," "]
["",null,null," "]
["",null,null," "]
["",null,null," "]
["",null,null," "]
["",null,null," "]
["",null,null," "]
["",null,null," "]
["",null,null," "]
["",null,null," "]
["",null,null," "]
["",null,null," "]
["",null,null," "]
["",null,null," "]
["",null,null," "]
["",null,null," "]
["",null,null," "]
["",null,null," "]
["",null,null," "]
["",null,null," "]
["",null,null," "]
["",null,null," "]
["",null,null," "]
["",null,null," "]
["",null,null," "]
["",null,null," "]
["",null,null," "]
["",null,null," "]
["",null,null," "]
["",null,null," "]
["",null,null," "]
["",null,null," "]
["",null,null," "]
["",null,null," "]
["",null,null," "]
["",null,null," "]
["",null,null," "]
["",null,null," "]
["",null,null," "]
["",null,null," "]
["",null,null," "]
["",null,null," "]
["",null,null," "]
["",null,null," "]
["",null,null," "]
["",null,null,{"$f":"B3843&\" \"&C3843","v":" "}]
["",null,null," "]
["",null,null," "]
["",null,null," "]
["",null,null," "]
["",null,null," "]
["",null,null," "]
["",null,null," "]
["",null,null," "]
["",null,null," "]
["",null,null," "]
["",null,null," "]
["",null,null," "]
["",null,null," "]
["",null,null," "]
["",null,null," "]
["",null,null," "]
["",null,null," "]
["",null,null," "]
["",null,null," "]
["",null,null," "]
["",null,null," "]
["",null,null," "]
["",null,null," "]
["",null,null," "]
["",null,null," "]
["",null,null," "]
["",null,null," "]
["",null,null," "]
["",null,null," "]
["",null,null," "]
["",null,null," "]
["",null,null," "]
["",null,null," "]
["",null,null," "]
["",null,null," "]
["",null,null," "]
["",null,null," "]
["",null,null," "]
["",null,null," "]
["",null,null," "]
["",null,null," "]
["",null,null," "]
["",null,null," "]
["",null,null," "]
["",null,null," "]
["",null,null," "]
["",null,null," "]
["",null,null," "]
["",null,null," "]
["",null,null," "]
["",null,null," "]
["",null,null," "]
["",null,null," "]
["",null,null," "]
["",null,null," "]
["",null,null," "]
["",null,null," "]
["",null,null," "]
["",null,null," "]
["",null,null," "]
["",null,null," "]
["",null,null," "]
["",null,null," "]
["",null,null,{"$f":"B3907&\" \"&C3907","v":" "}]
["",null,null," "]
["",null,null," "]
["",null,null," "]
["",null,null," "]
["",null,null," "]
["",null,null," "]
["",null,null," "]
["",null,null," "]
["",null,null," "]
["",null,null," "]
["",null,null," "]
["",null,null," "]
["",null,null," "]
["",null,null," "]
["",null,null," "]
["",null,null," "]
["",null,null," "]
["",null,null," "]
["",null,null," "]
["",null,null," "]
["",null,null," "]
["",null,null," "]
["",null,null," "]
["",null,null," "]
["",null,null," "]
["",null,null," "]
["",null,null," "]
["",null,null," "]
["",null,null," "]
["",null,null," "]
["",null,null," "]
["",null,null," "]
["",null,null," "]
["",null,null," "]
["",null,null," "]
["",null,null," "]
["",null,null," "]
["",null,null," "]
["",null,null," "]
["",null,null," "]
["",null,null," "]
["",null,null," "]
["",null,null," "]
["",null,null," "]
["",null,null," "]
["",null,null," "]
["",null,null," "]
["",null,null," "]
["",null,null," "]
["",null,null," "]
["",null,null," "]
["",null,null," "]
["",null,null," "]
["",null,null," "]
["",null,null," "]
["",null,null," "]
["",null,null," "]
["",null,null," "]
["",null,null," "]
["",null,null," "]
["",null,null," "]
["",null,null," "]
["",null,null," "]
["",null,null,{"$f":"B3971&\" \"&C3971","v":" "}]
["",null,null," "]
["",null,null," "]
["",null,null," "]
["",null,null," "]
["",null,null," "]
["",null,null," "]
["",null,null," "]
["",null,null," "]
["",null,null," "]
["",null,null," "]
["",null,null," "]
["",null,null," "]
["",null,null," "]
["",null,null," "]
["",null,null," "]
["",null,null," "]
["",null,null," "]
["",null,null," "]
["",null,null," "]
["",null,null," "]
["",null,null," "]
["",null,null," "]
["",null,null," "]
["",null,null," "]
["",null,null," "]
["",null,null," "]
["",null,null," "]
["",null,null," "]
["",null,null," "]
["",null,null," "]
["",null,null," "]
["",null,null," "]
["",null,null," "]
["",null,null," "]
["",null,null," "]
["",null,null," "]
["",null,null," "]
["",null,null," "]
["",null,null," "]
["",null,null," "]
["",null,null," "]
["",null,null," "]
["",null,null," "]
["",null,null," "]
["",null,null," "]
["",null,null," "]
["",null,null," "]
["",null,null," "]
["",null,null," "]
["",null,null," "]
["",null,null," "]
["",null,null," "]
["",null,null," "]
["",null,null," "]
["",null,null," "]
["",null,null," "]
["",null,null," "]
["",null,null," "]
["",null,null," "]
["",null,null," "]
["",null,null," "]
["",null,null," "]
["",null,null," "]
["",null,null,{"$f":"B4035&\" \"&C4035","v":" "}]
["",null,null," "]
["",null,null," "]
["",null,null," "]
["",null,null," "]
["",null,null," "]
["",null,null," "]
["",null,null," "]
["",null,null," "]
["",null,null," "]
["",null,null," "]
["",null,null," "]
["",null,null," "]
["",null,null," "]
["",null,null," "]
["",null,null," "]
["",null,null," "]
["",null,null," "]
["",null,null," "]
["",null,null," "]
["",null,null," "]
["",null,null," "]
["",null,null," "]
["",null,null," "]
["",null,null," "]
["",null,null," "]
["",null,null," "]
["",null,null," "]
["",null,null," "]
["",null,null," "]
["",null,null," "]
["",null,null," "]
["",null,null," "]
["",null,null," "]
["",null,null," "]
["",null,null," "]
["",null,null," "]
["",null,null," "]
["",null,null," "]
["",null,null," "]
["",null,null," "]
["",null,null," "]
["",null,null," "]
["",null,null," "]
["",null,null," "]
["",null,null," "]
["",null,null," "]
["",null,null," "]
["",null,null," "]
["",null,null," "]
["",null,null," "]
["",null,null," "]
["",null,null," "]
["",null,null," "]
["",null,null," "]
["",null,null," "]
["",null,null," "]
["",null,null," "]
["",null,null," "]
["",null,null," "]
["",null,null," "]
["",null,null," "]
["",null,null," "]
["",null,null," "]
["",null,null,{"$f":"B4099&\" \"&C4099","v":" "}]
["",null,null," "]
["",null,null," "]
["",null,null," "]
["",null,null," "]
["",null,null," "]
["",null,null," "]
["",null,null," "]
["",null,null," "]
["",null,null," "]
["",null,null," "]
["",null,null," "]
["",null,null," "]
["",null,null," "]
["",null,null," "]
["",null,null," "]
["",null,null," "]
["",null,null," "]
["",null,null," "]
["",null,null," "]
["",null,null," "]
["",null,null," "]
["",null,null," "]
["",null,null," "]
["",null,null," "]
["",null,null," "]
["",null,null," "]
["",null,null," "]
["",null,null," "]
["",null,null," "]
["",null,null," "]
["",null,null," "]
["",null,null," "]
["",null,null," "]
["",null,null," "]
["",null,null," "]
["",null,null," "]
["",null,null," "]
["",null,null," "]
["",null,null," "]
["",null,null," "]
["",null,null," "]
["",null,null," "]
["",null,null," "]
["",null,null," "]
["",null,null," "]
["",null,null," "]
["",null,null," "]
["",null,null," "]
["",null,null," "]
["",null,null," "]
["",null,null," "]
["",null,null," "]
["",null,null," "]
["",null,null," "]
["",null,null," "]
["",null,null," "]
["",null,null," "]
["",null,null," "]
["",null,null," "]
["",null,null," "]
["",null,null," "]
["",null,null," "]
["",null,null," "]
["",null,null,{"$f":"B4163&\" \"&C4163","v":" "}]
["",null,null," "]
["",null,null," "]
["",null,null," "]
["",null,null," "]
["",null,null," "]
["",null,null," "]
["",null,null," "]
["",null,null," "]
["",null,null," "]
["",null,null," "]
["",null,null," "]
["",null,null," "]
["",null,null," "]
["",null,null," "]
["",null,null," "]
["",null,null," "]
["",null,null," "]
["",null,null," "]
["",null,null," "]
["",null,null," "]
["",null,null," "]
["",null,null," "]
["",null,null," "]
["",null,null," "]
["",null,null," "]
["",null,null," "]
["",null,null," "]
["",null,null," "]
["",null,null," "]
["",null,null," "]
["",null,null," "]
["",null,null," "]
["",null,null," "]
["",null,null," "]
["",null,null," "]
["",null,null," "]
["",null,null," "]
["",null,null," "]
["",null,null," "]
["",null,null," "]
["",null,null," "]
["",null,null," "]
["",null,null," "]
["",null,null," "]
["",null,null," "]
["",null,null," "]
["",null,null," "]
["",null,null," "]
["",null,null," "]
["",null,null," "]
["",null,null," "]
["",null,null," "]
["",null,null," "]
["",null,null," "]
["",null,null," "]
["",null,null," "]
["",null,null," "]
["",null,null," "]
["",null,null," "]
["",null,null," "]
["",null,null," "]
["",null,null," "]
["",null,null," "]
["",null,null,{"$f":"B4227&\" \"&C4227","v":" "}]
["",null,null," "]
["",null,null," "]
["",null,null," "]
["",null,null," "]
["",null,null," "]
["",null,null," "]
["",null,null," "]
["",null,null," "]
["",null,null," "]
["",null,null," "]
["",null,null," "]
["",null,null," "]
["",null,null," "]
["",null,null," "]
["",null,null," "]
["",null,null," "]
["",null,null," "]
["",null,null," "]
["",null,null," "]
["",null,null," "]
["",null,null," "]
["",null,null," "]
["",null,null," "]
["",null,null," "]
["",null,null," "]
["",null,null," "]
["",null,null," "]
["",null,null," "]
["",null,null," "]
["",null,null," "]
["",null,null," "]
["",null,null," "]
["",null,null," "]
["",null,null," "]
["",null,null," "]
["",null,null," "]
["",null,null," "]
["",null,null," "]
["",null,null," "]
["",null,null," "]
["",null,null," "]
["",null,null," "]
["",null,null," "]
["",null,null," "]
["",null,null," "]
["",null,null," "]
["",null,null," "]
["",null,null," "]
["",null,null," "]
["",null,null," "]
["",null,null," "]
["",null,null," "]
["",null,null," "]
["",null,null," "]
["",null,null," "]
["",null,null," "]
["",null,null," "]
["",null,null," "]
["",null,null," "]
["",null,null," "]
["",null,null," "]
["",null,null," "]
["",null,null," "]
["",null,null,{"$f":"B4291&\" \"&C4291","v":" "}]
["",null,null," "]
["",null,null," "]
["",null,null," "]
["",null,null," "]
["",null,null," "]
["",null,null," "]
["",null,null," "]
["",null,null," "]
["",null,null," "]
["",null,null," "]
["",null,null," "]
["",null,null," "]
["",null,null," "]
["",null,null," "]
["",null,null," "]
["",null,null," "]
["",null,null," "]
["",null,null," "]
["",null,null," "]
["",null,null," "]
["",null,null," "]
["",null,null," "]
["",null,null," "]
["",null,null," "]
["",null,null," "]
["",null,null," "]
["",null,null," "]
["",null,null," "]
["",null,null," "]
["",null,null," "]
["",null,null," "]
["",null,null," "]
["",null,null," "]
["",null,null," "]
["",null,null," "]
["",null,null," "]
["",null,null," "]
["",null,null," "]
["",null,null," "]
["",null,null," "]
["",null,null," "]
["",null,null," "]
["",null,null," "]
["",null,null," "]
["",null,null," "]
["",null,null," "]
["",null,null," "]
["",null,null," "]
["",null,null," "]
["",null,null," "]
["",null,null," "]
["",null,null," "]
["",null,null," "]
["",null,null," "]
["",null,null," "]
["",null,null," "]
["",null,null," "]
["",null,null," "]
["",null,null," "]
["",null,null," "]
["",null,null," "]
["",null,null," "]
["",null,null," "]
["",null,null,{"$f":"B4355&\" \"&C4355","v":" "}]
["",null,null," "]
["",null,null," "]
["",null,null," "]
["",null,null," "]
["",null,null," "]
["",null,null," "]
["",null,null," "]
["",null,null," "]
["",null,null," "]
["",null,null," "]
["",null,null," "]
["",null,null," "]
["",null,null," "]
["",null,null," "]
["",null,null," "]
["",null,null," "]
["",null,null," "]
["",null,null," "]
["",null,null," "]
["",null,null," "]
["",null,null," "]
["",null,null," "]
["",null,null," "]
["",null,null," "]
["",null,null," "]
["",null,null," "]
["",null,null," "]
["",null,null," "]
["",null,null," "]
["",null,null," "]
["",null,null," "]
["",null,null," "]
["",null,null," "]
["",null,null," "]
["",null,null," "]
["",null,null," "]
["",null,null," "]
["",null,null," "]
["",null,null," "]
["",null,null," "]
["",null,null," "]
["",null,null," "]
["",null,null," "]
["",null,null," "]
["",null,null," "]
["",null,null," "]
["",null,null," "]
["",null,null," "]
["",null,null," "]
["",null,null," "]
["",null,null," "]
["",null,null," "]
["",null,null," "]
["",null,null," "]
["",null,null," "]
["",null,null," "]
["",null,null," "]
["",null,null," "]
["",null,null," "]
["",null,null," "]
["",null,null," "]
["",null,null," "]
["",null,null," "]
["",null,null,{"$f":"B4419&\" \"&C4419","v":" "}]
["",null,null," "]
["",null,null," "]
["",null,null," "]
["",null,null," "]
["",null,null," "]
["",null,null," "]
["",null,null," "]
["",null,null," "]
["",null,null," "]
["",null,null," "]
["",null,null," "]
["",null,null," "]
["",null,null," "]
["",null,null," "]
["",null,null," "]
["",null,null," "]
["",null,null," "]
["",null,null," "]
["",null,null," "]
["",null,null," "]
["",null,null," "]
["",null,null," "]
["",null,null," "]
["",null,null," "]
["",null,null," "]
["",null,null," "]
["",null,null," "]
["",null,null," "]
["",null,null," "]
["",null,null," "]
["",null,null," "]
["",null,null," "]
["",null,null," "]
["",null,null," "]
["",null,null," "]
["",null,null," "]
["",null,null," "]
["",null,null," "]
["",null,null," "]
["",null,null," "]
["",null,null," "]
["",null,null," "]
["",null,null," "]
["",null,null," "]
["",null,null," "]
["",null,null," "]
["",null,null," "]
["",null,null," "]
["",null,null," "]
["",null,null," "]
["",null,null," "]
["",null,null," "]
["",null,null," "]
["",null,null," "]
["",null,null," "]
["",null,null," "]
["",null,null," "]
["",null,null," "]
["",null,null," "]
["",null,null," "]
["",null,null," "]
["",null,null," "]
["",null,null," "]
["",null,null,{"$f":"B4483&\" \"&C4483","v":" "}]
["",null,null," "]
["",null,null," "]
["",null,null," "]
["",null,null," "]
["",null,null," "]
["",null,null," "]
["",null,null," "]
["",null,null," "]
["",null,null," "]
["",null,null," "]
["",null,null," "]
["",null,null," "]
["",null,null," "]
["",null,null," "]
["",null,null," "]
["",null,null," "]
["",null,null," "]
["",null,null," "]
["",null,null," "]
["",null,null," "]
["",null,null," "]
["",null,null," "]
["",null,null," "]
["",null,null," "]
["",null,null," "]
["",null,null," "]
["",null,null," "]
["",null,null," "]
["",null,null," "]
["",null,null," "]
["",null,null," "]
["",null,null," "]
["",null,null," "]
["",null,null," "]
["",null,null," "]
["",null,null," "]
["",null,null," "]
["",null,null," "]
["",null,null," "]
["",null,null," "]
["",null,null," "]
["",null,null," "]
["",null,null," "]
["",null,null," "]
["",null,null," "]
["",null,null," "]
["",null,null," "]
["",null,null," "]
["",null,null," "]
["",null,null," "]
["",null,null," "]
["",null,null," "]
["",null,null," "]
["",null,null," "]
["",null,null," "]
["",null,null," "]
["",null,null," "]
["",null,null," "]
["",null,null," "]
["",null,null," "]
["",null,null," "]
["",null,null," "]
["",null,null," "]
["",null,null,{"$f":"B4547&\" \"&C4547","v":" "}]
["",null,null," "]
["",null,null," "]
["",null,null," "]
["",null,null," "]
["",null,null," "]
["",null,null," "]
["",null,null," "]
["",null,null," "]
["",null,null," "]
["",null,null," "]
["",null,null," "]
["",null,null," "]
["",null,null," "]
["",null,null," "]
["",null,null," "]
["",null,null," "]
["",null,null," "]
["",null,null," "]
["",null,null," "]
["",null,null," "]
["",null,null," "]
["",null,null," "]
["",null,null," "]
["",null,null," "]
["",null,null," "]
["",null,null," "]
["",null,null," "]
["",null,null," "]
["",null,null," "]
["",null,null," "]
["",null,null," "]
["",null,null," "]
["",null,null," "]
["",null,null," "]
["",null,null," "]
["",null,null," "]
["",null,null," "]
["",null,null," "]
["",null,null," "]
["",null,null," "]
["",null,null," "]
["",null,null," "]
["",null,null," "]
["",null,null," "]
["",null,null," "]
["",null,null," "]
["",null,null," "]
["",null,null," "]
["",null,null," "]
["",null,null," "]
["",null,null," "]
["",null,null," "]
["",null,null," "]
["",null,null," "]
["",null,null," "]
["",null,null," "]
["",null,null," "]
["",null,null," "]
["",null,null," "]
["",null,null," "]
["",null,null," "]
["",null,null," "]
["",null,null," "]
["",null,null,{"$f":"B4611&\" \"&C4611","v":" "}]
["",null,null," "]
["",null,null," "]
["",null,null," "]
["",null,null," "]
["",null,null," "]
["",null,null," "]
["",null,null," "]
["",null,null," "]
["",null,null," "]
["",null,null," "]
["",null,null," "]
["",null,null," "]
["",null,null," "]
["",null,null," "]
["",null,null," "]
["",null,null," "]
["",null,null," "]
["",null,null," "]
["",null,null," "]
["",null,null," "]
["",null,null," "]
["",null,null," "]
["",null,null," "]
["",null,null," "]
["",null,null," "]
["",null,null," "]
["",null,null," "]
["",null,null," "]
["",null,null," "]
["",null,null," "]
["",null,null," "]
["",null,null," "]
["",null,null," "]
["",null,null," "]
["",null,null," "]
["",null,null," "]
["",null,null," "]
["",null,null," "]
["",null,null," "]
["",null,null," "]
["",null,null," "]
["",null,null," "]
["",null,null," "]
["",null,null," "]
["",null,null," "]
["",null,null," "]
["",null,null," "]
["",null,null," "]
["",null,null," "]
["",null,null," "]
["",null,null," "]
["",null,null," "]
["",null,null," "]
["",null,null," "]
["",null,null," "]
["",null,null," "]
["",null,null," "]
["",null,null," "]
["",null,null," "]
["",null,null," "]
["",null,null," "]
["",null,null," "]
["",null,null," "]
["",null,null,{"$f":"B4675&\" \"&C4675","v":" "}]
["",null,null," "]
["",null,null," "]
["",null,null," "]
["",null,null," "]
["",null,null," "]
["",null,null," "]
["",null,null," "]
["",null,null," "]
["",null,null," "]
["",null,null," "]
["",null,null," "]
["",null,null," "]
["",null,null," "]
["",null,null," "]
["",null,null," "]
["",null,null," "]
["",null,null," "]
["",null,null," "]
["",null,null," "]
["",null,null," "]
["",null,null," "]
["",null,null," "]
["",null,null," "]
["",null,null," "]
["",null,null," "]
["",null,null," "]
["",null,null," "]
["",null,null," "]
["",null,null," "]
["",null,null," "]
["",null,null," "]
["",null,null," "]
["",null,null," "]
["",null,null," "]
["",null,null," "]
["",null,null," "]
["",null,null," "]
["",null,null," "]
["",null,null," "]
["",null,null," "]
["",null,null," "]
["",null,null," "]
["",null,null," "]
["",null,null," "]
["",null,null," "]
["",null,null," "]
["",null,null," "]
["",null,null," "]
["",null,null," "]
["",null,null," "]
["",null,null," "]
["",null,null," "]
["",null,null," "]
["",null,null," "]
["",null,null," "]
["",null,null," "]
["",null,null," "]
["",null,null," "]
["",null,null," "]
["",null,null," "]
["",null,null," "]
["",null,null," "]
["",null,null," "]
["",null,null,{"$f":"B4739&\" \"&C4739","v":" "}]
["",null,null," "]
["",null,null," "]
["",null,null," "]
["",null,null," "]
["",null,null," "]
["",null,null," "]
["",null,null," "]
["",null,null," "]
["",null,null," "]
["",null,null," "]
["",null,null," "]
["",null,null," "]
["",null,null," "]
["",null,null," "]
["",null,null," "]
["",null,null," "]
["",null,null," "]
["",null,null," "]
["",null,null," "]
["",null,null," "]
["",null,null," "]
["",null,null," "]
["",null,null," "]
["",null,null," "]
["",null,null," "]
["",null,null," "]
["",null,null," "]
["",null,null," "]
["",null,null," "]
["",null,null," "]
["",null,null," "]
["",null,null," "]
["",null,null," "]
["",null,null," "]
["",null,null," "]
["",null,null," "]
["",null,null," "]
["",null,null," "]
["",null,null," "]
["",null,null," "]
["",null,null," "]
["",null,null," "]
["",null,null," "]
["",null,null," "]
["",null,null," "]
["",null,null," "]
["",null,null," "]
["",null,null," "]
["",null,null," "]
["",null,null," "]
["",null,null," "]
["",null,null," "]
["",null,null," "]
["",null,null," "]
["",null,null," "]
["",null,null," "]
["",null,null," "]
["",null,null," "]
["",null,null," "]
["",null,null," "]
["",null,null," "]
["",null,null," "]
["",null,null," "]
["",null,null,{"$f":"B4803&\" \"&C4803","v":" "}]
["",null,null," "]
["",null,null," "]
["",null,null," "]
["",null,null," "]
["",null,null," "]
["",null,null," "]
["",null,null," "]
["",null,null," "]
["",null,null," "]
["",null,null," "]
["",null,null," "]
["",null,null," "]
["",null,null," "]
["",null,null," "]
["",null,null," "]
["",null,null," "]
["",null,null," "]
["",null,null," "]
["",null,null," "]
["",null,null," "]
["",null,null," "]
["",null,null," "]
["",null,null," "]
["",null,null," "]
["",null,null," "]
["",null,null," "]
["",null,null," "]
["",null,null," "]
["",null,null," "]
["",null,null," "]
["",null,null," "]
["",null,null," "]
["",null,null," "]
["",null,null," "]
["",null,null," "]
["",null,null," "]
["",null,null," "]
["",null,null," "]
["",null,null," "]
["",null,null," "]
["",null,null," "]
["",null,null," "]
["",null,null," "]
["",null,null," "]
["",null,null," "]
["",null,null," "]
["",null,null," "]
["",null,null," "]
["",null,null," "]
["",null,null," "]
["",null,null," "]
["",null,null," "]
["",null,null," "]
["",null,null," "]
["",null,null," "]
["",null,null," "]
["",null,null," "]
["",null,null," "]
["",null,null," "]
["",null,null," "]
["",null,null," "]
["",null,null," "]
["",null,null," "]
["",null,null,{"$f":"B4867&\" \"&C4867","v":" "}]
["",null,null," "]
["",null,null," "]
["",null,null," "]
["",null,null," "]
["",null,null," "]
["",null,null," "]
["",null,null," "]
["",null,null," "]
["",null,null," "]
["",null,null," "]
["",null,null," "]
["",null,null," "]
["",null,null," "]
["",null,null," "]
["",null,null," "]
["",null,null," "]
["",null,null," "]
["",null,null," "]
["",null,null," "]
["",null,null," "]
["",null,null," "]
["",null,null," "]
["",null,null," "]
["",null,null," "]
["",null,null," "]
["",null,null," "]
["",null,null," "]
["",null,null," "]
["",null,null," "]
["",null,null," "]
["",null,null," "]
["",null,null," "]
["",null,null," "]
["",null,null," "]
["",null,null," "]
["",null,null," "]
["",null,null," "]
["",null,null," "]
["",null,null," "]
["",null,null," "]
["",null,null," "]
["",null,null," "]
["",null,null," "]
["",null,null," "]
["",null,null," "]
["",null,null," "]
["",null,null," "]
["",null,null," "]
["",null,null," "]
["",null,null," "]
["",null,null," "]
["",null,null," "]
["",null,null," "]
["",null,null," "]
["",null,null," "]
["",null,null," "]
["",null,null," "]
["",null,null," "]
["",null,null," "]
["",null,null," "]
["",null,null," "]
["",null,null," "]
["",null,null," "]
["",null,null,{"$f":"B4931&\" \"&C4931","v":" "}]
["",null,null," "]
["",null,null," "]
["",null,null," "]
["",null,null," "]
["",null,null," "]
["",null,null," "]
["",null,null," "]
["",null,null," "]
["",null,null," "]
["",null,null," "]
["",null,null," "]
["",null,null," "]
["",null,null," "]
["",null,null," "]
["",null,null," "]
["",null,null," "]
["",null,null," "]
["",null,null," "]
["",null,null," "]
["",null,null," "]
["",null,null," "]
["",null,null," "]
["",null,null," "]
["",null,null," "]
["",null,null," "]
["",null,null," "]
["",null,null," "]
["",null,null," "]
["",null,null," "]
["",null,null," "]
["",null,null," "]
["",null,null," "]
["",null,null," "]
["",null,null," "]
["",null,null," "]
["",null,null," "]
["",null,null," "]
["",null,null," "]
["",null,null," "]
["",null,null," "]
["",null,null," "]
["",null,null," "]
["",null,null," "]
["",null,null," "]
["",null,null," "]
["",null,null," "]
["",null,null," "]
["",null,null," "]
["",null,null," "]
["",null,null," "]
["",null,null," "]
["",null,null," "]
["",null,null," "]
["",null,null," "]
["",null,null," "]
["",null,null," "]
["",null,null," "]
["",null,null," "]
["",null,null," "]
["",null,null," "]
["",null,null," "]
["",null,null," "]
["",null,null," "]
["",null,null,{"$f":"B4995&\" \"&C4995","v":" "}]
["",null,null," "]
["",null,null," "]
["",null,null," "]
["",null,null," "]
["",null,null," "]
["",null,null," "]
["",null,null," "]
["",null,null," "]
["",null,null," "]
["",null,null," "]
["",null,null," "]
["",null,null," "]
["",null,null," "]
["",null,null," "]
["",null,null," "]
["",null,null," "]
["",null,null," "]
["",null,null," "]
["",null,null," "]
["",null,null," "]
["",null,null," "]
["",null,null," "]
["",null,null," "]
["",null,null," "]
["",null,null," "]
["",null,null," "]
["",null,null," "]
["",null,null," "]
["",null,null," "]
["",null,null," "]
["",null,null," "]
["",null,null," "]
["",null,null," "]
["",null,null," "]
["",null,null," "]
["",null,null," "]
["",null,null," "]
["",null,null," "]
["",null,null," "]
["",null,null," "]
["",null,null," "]
["",null,null," "]
["",null,null," "]
["",null,null," "]
["",null,null," "]
["",null,null," "]
["",null,null," "]
["",null,null," "]
["",null,null," "]
["",null,null," "]
["",null,null," "]
["",null,null," "]
["",null,null," "]
["",null,null," "]
["",null,null," "]
["",null,null," "]
["",null,null," "]
["",null,null," "]
["",null,null," "]
["",null,null," "]
["",null,null," "]
["",null,null," "]
["",null,null," "]
["",null,null,{"$f":"B5059&\" \"&C5059","v":" "}]
["",null,null," "]
["",null,null," "]
["",null,null," "]
["",null,null," "]
["",null,null," "]
["",null,null," "]
["",null,null," "]
["",null,null," "]
["",null,null," "]
["",null,null," "]
["",null,null," "]
["",null,null," "]