{"text_format":"1","workbook":"xlsx","n_sheets":43,"sheets":["Startliste","1","2","3","4","5","6","7","8","9","10","11","12","13","14","15","16","17","18","19","20","21","22","23","24","25","26","27","28","29","30","31","32","33","34","35","36","37","38","39","40","Resultate","Tabelle1"],"not_rendered":{"charts":0,"images":2,"macros":1,"external_links":0,"defined_names":9,"comments":0,"pivot_tables":0},"unopened":[],"bounds":{"document_bytes":16777216,"sheet_cells":100000,"rows_first":2000,"rows_last":500,"rows_between":2000,"halvings":0,"cell_chars":16384,"cell_head_chars":4096},"cells_cut":0,"cells_raw":0,"read":"whole","date_system":"1900"}

{"sheet":"Startliste","index":0,"n_rows":54,"n_cols":14,"rows_kept":54,"cut":false,"hidden":false,"merged":[[1,7,1,8],[11,0,11,2],[4,3,4,8],[5,3,5,8],[6,3,6,8],[8,3,8,8],[9,3,9,8],[7,3,7,8],[10,3,10,8]]}
[null,null,null,"Qualifikation"]
[null,null,null,"Meisterschaft der Veteranen",null,null,null,"2025-12-31"]
[]
[]
[null,null,"Sektion"]
[null,null,"Zuständig"]
[null,null,"Adresse"]
[null,null,"PLZ/Wohnort"]
[null,null,"Mail"]
[null,null,"Telefon"]
[null,null,null,"Ausgefüllte Datei zurücksenden an salvo.trapani@outlook.com\nEinsendetermin: Bis spätestens 8. Juni 2025"]
[null,null,null,"Startliste"]
[]
["Schütze-Nr.","Lizenz-Nr.","Name","Vorname","Geburtstdatum","Sektion","Stlg.\nF oder a",null,"Kat.\n",null,"Berechnung Alter"]
[1,{"$f":"_xlfn.XLOOKUP(C15&D15,Tabelle1!$B:$B&Tabelle1!$C:$C,Tabelle1!$A:$A,\"\")","v":0},null,null,null,null,null,null,{"$f":"IF(AND(YEAR($H$2)-YEAR(E15)>=55,YEAR($H$2)-YEAR(E15)<=69,G15=\"f\"),\"V f\",IF(AND(YEAR($H$2)-YEAR(E15)>=55,YEAR($H$2)-YEAR(E15)<=69,G15=\"a\"),\"V a\",IF(AND(YEAR($H$2)-YEAR(E15)>=70,G15=\"f\"),\"Ev f\",IF(AND(YEAR($H$2)-YEAR(E15)>=70,G15=\"a\"),\"Ev a\",0))))","v":0},null,{"$f":"$H$2-E15","v":46022},null,null,{"$f":"IFERROR(INDEX(blaetter_auflisten,ROW(A1)),\"\")","v":""}]
[2,{"$f":"_xlfn.XLOOKUP(C16&D16,Tabelle1!$B:$B&Tabelle1!$C:$C,Tabelle1!$A:$A,\"\")","v":0},null,null,null,null,null,null,{"$f":"IF(AND(YEAR($H$2)-YEAR(E16)>=55,YEAR($H$2)-YEAR(E16)<=69,G16=\"f\"),\"V f\",IF(AND(YEAR($H$2)-YEAR(E16)>=55,YEAR($H$2)-YEAR(E16)<=69,G16=\"a\"),\"V a\",IF(AND(YEAR($H$2)-YEAR(E16)>=70,G16=\"f\"),\"Ev f\",IF(AND(YEAR($H$2)-YEAR(E16)>=70,G16=\"a\"),\"Ev a\",0))))","v":0},null,{"$f":"$H$2-E16","v":46022},null,null,{"$f":"IFERROR(INDEX(blaetter_auflisten,ROW(A2)),\"\")","v":""}]
[3,{"$f":"_xlfn.XLOOKUP(C17&D17,Tabelle1!$B:$B&Tabelle1!$C:$C,Tabelle1!$A:$A,\"\")","v":0},null,null,null,null,null,null,0,null,46022,null,null,{"$f":"IFERROR(INDEX(blaetter_auflisten,ROW(A3)),\"\")","v":""}]
[4,{"$f":"_xlfn.XLOOKUP(C18&D18,Tabelle1!$B:$B&Tabelle1!$C:$C,Tabelle1!$A:$A,\"\")","v":0},null,null,null,null,null,null,0,null,46022,null,null,{"$f":"IFERROR(INDEX(blaetter_auflisten,ROW(A4)),\"\")","v":""}]
[5,{"$f":"_xlfn.XLOOKUP(C19&D19,Tabelle1!$B:$B&Tabelle1!$C:$C,Tabelle1!$A:$A,\"\")","v":0},null,null,null,null,null,null,0,null,46022,null,null,{"$f":"IFERROR(INDEX(blaetter_auflisten,ROW(A5)),\"\")","v":""}]
[6,{"$f":"_xlfn.XLOOKUP(C20&D20,Tabelle1!$B:$B&Tabelle1!$C:$C,Tabelle1!$A:$A,\"\")","v":0},null,null,null,null,null,null,0,null,46022,null,null,{"$f":"IFERROR(INDEX(blaetter_auflisten,ROW(A6)),\"\")","v":""}]
[7,{"$f":"_xlfn.XLOOKUP(C21&D21,Tabelle1!$B:$B&Tabelle1!$C:$C,Tabelle1!$A:$A,\"\")","v":0},null,null,null,null,null,null,0,null,46022,null,null,{"$f":"IFERROR(INDEX(blaetter_auflisten,ROW(A7)),\"\")","v":""}]
[8,{"$f":"_xlfn.XLOOKUP(C22&D22,Tabelle1!$B:$B&Tabelle1!$C:$C,Tabelle1!$A:$A,\"\")","v":0},null,null,null,null,null,null,0,null,46022]
[9,{"$f":"_xlfn.XLOOKUP(C23&D23,Tabelle1!$B:$B&Tabelle1!$C:$C,Tabelle1!$A:$A,\"\")","v":0},null,null,null,null,null,null,0,null,46022]
[10,{"$f":"_xlfn.XLOOKUP(C24&D24,Tabelle1!$B:$B&Tabelle1!$C:$C,Tabelle1!$A:$A,\"\")","v":0},null,null,null,null,null,null,0,null,46022]
[11,{"$f":"_xlfn.XLOOKUP(C25&D25,Tabelle1!$B:$B&Tabelle1!$C:$C,Tabelle1!$A:$A,\"\")","v":0},null,null,null,null,null,null,0,null,46022]
[12,{"$f":"_xlfn.XLOOKUP(C26&D26,Tabelle1!$B:$B&Tabelle1!$C:$C,Tabelle1!$A:$A,\"\")","v":0},null,null,null,null,null,null,0,null,46022]
[13,{"$f":"_xlfn.XLOOKUP(C27&D27,Tabelle1!$B:$B&Tabelle1!$C:$C,Tabelle1!$A:$A,\"\")","v":0},null,null,null,null,null,null,0,null,46022]
[14,{"$f":"_xlfn.XLOOKUP(C28&D28,Tabelle1!$B:$B&Tabelle1!$C:$C,Tabelle1!$A:$A,\"\")","v":0},null,null,null,null,null,null,0,null,46022]
[15,{"$f":"_xlfn.XLOOKUP(C29&D29,Tabelle1!$B:$B&Tabelle1!$C:$C,Tabelle1!$A:$A,\"\")","v":0},null,null,null,null,null,null,0,null,46022]
[16,{"$f":"_xlfn.XLOOKUP(C30&D30,Tabelle1!$B:$B&Tabelle1!$C:$C,Tabelle1!$A:$A,\"\")","v":0},null,null,null,null,null,null,0,null,46022]
[17,{"$f":"_xlfn.XLOOKUP(C31&D31,Tabelle1!$B:$B&Tabelle1!$C:$C,Tabelle1!$A:$A,\"\")","v":0},null,null,null,null,null,null,0,null,46022]
[18,{"$f":"_xlfn.XLOOKUP(C32&D32,Tabelle1!$B:$B&Tabelle1!$C:$C,Tabelle1!$A:$A,\"\")","v":0},null,null,null,null,null,null,0,null,46022]
[19,{"$f":"_xlfn.XLOOKUP(C33&D33,Tabelle1!$B:$B&Tabelle1!$C:$C,Tabelle1!$A:$A,\"\")","v":0},null,null,null,null,null,null,0,null,46022]
[20,{"$f":"_xlfn.XLOOKUP(C34&D34,Tabelle1!$B:$B&Tabelle1!$C:$C,Tabelle1!$A:$A,\"\")","v":0},null,null,null,null,null,null,0,null,46022]
[21,{"$f":"_xlfn.XLOOKUP(C35&D35,Tabelle1!$B:$B&Tabelle1!$C:$C,Tabelle1!$A:$A,\"\")","v":0},null,null,null,null,null,null,0,null,46022]
[22,{"$f":"_xlfn.XLOOKUP(C36&D36,Tabelle1!$B:$B&Tabelle1!$C:$C,Tabelle1!$A:$A,\"\")","v":0},null,null,null,null,null,null,0,null,46022]
[23,{"$f":"_xlfn.XLOOKUP(C37&D37,Tabelle1!$B:$B&Tabelle1!$C:$C,Tabelle1!$A:$A,\"\")","v":0},null,null,null,null,null,null,0,null,46022]
[24,{"$f":"_xlfn.XLOOKUP(C38&D38,Tabelle1!$B:$B&Tabelle1!$C:$C,Tabelle1!$A:$A,\"\")","v":0},null,null,null,null,null,null,0,null,46022]
[25,{"$f":"_xlfn.XLOOKUP(C39&D39,Tabelle1!$B:$B&Tabelle1!$C:$C,Tabelle1!$A:$A,\"\")","v":0},null,null,null,null,null,null,0,null,46022]
[26,{"$f":"_xlfn.XLOOKUP(C40&D40,Tabelle1!$B:$B&Tabelle1!$C:$C,Tabelle1!$A:$A,\"\")","v":0},null,null,null,null,null,null,0,null,46022]
[27,{"$f":"_xlfn.XLOOKUP(C41&D41,Tabelle1!$B:$B&Tabelle1!$C:$C,Tabelle1!$A:$A,\"\")","v":0},null,null,null,null,null,null,0,null,46022]
[28,{"$f":"_xlfn.XLOOKUP(C42&D42,Tabelle1!$B:$B&Tabelle1!$C:$C,Tabelle1!$A:$A,\"\")","v":0},null,null,null,null,null,null,0,null,46022]
[29,{"$f":"_xlfn.XLOOKUP(C43&D43,Tabelle1!$B:$B&Tabelle1!$C:$C,Tabelle1!$A:$A,\"\")","v":0},null,null,null,null,null,null,0,null,46022]
[30,{"$f":"_xlfn.XLOOKUP(C44&D44,Tabelle1!$B:$B&Tabelle1!$C:$C,Tabelle1!$A:$A,\"\")","v":0},null,null,null,null,null,null,0,null,46022]
[31,{"$f":"_xlfn.XLOOKUP(C45&D45,Tabelle1!$B:$B&Tabelle1!$C:$C,Tabelle1!$A:$A,\"\")","v":0},null,null,null,null,null,null,0,null,46022]
[32,{"$f":"_xlfn.XLOOKUP(C46&D46,Tabelle1!$B:$B&Tabelle1!$C:$C,Tabelle1!$A:$A,\"\")","v":0},null,null,null,null,null,null,0,null,46022]
[33,{"$f":"_xlfn.XLOOKUP(C47&D47,Tabelle1!$B:$B&Tabelle1!$C:$C,Tabelle1!$A:$A,\"\")","v":0},null,null,null,null,null,null,0,null,46022]
[34,{"$f":"_xlfn.XLOOKUP(C48&D48,Tabelle1!$B:$B&Tabelle1!$C:$C,Tabelle1!$A:$A,\"\")","v":0},null,null,null,null,null,null,0,null,46022]
[35,{"$f":"_xlfn.XLOOKUP(C49&D49,Tabelle1!$B:$B&Tabelle1!$C:$C,Tabelle1!$A:$A,\"\")","v":0},null,null,null,null,null,null,0,null,46022]
[36,{"$f":"_xlfn.XLOOKUP(C50&D50,Tabelle1!$B:$B&Tabelle1!$C:$C,Tabelle1!$A:$A,\"\")","v":0},null,null,null,null,null,null,0,null,46022]
[37,{"$f":"_xlfn.XLOOKUP(C51&D51,Tabelle1!$B:$B&Tabelle1!$C:$C,Tabelle1!$A:$A,\"\")","v":0},null,null,null,null,null,null,0,null,46022]
[38,{"$f":"_xlfn.XLOOKUP(C52&D52,Tabelle1!$B:$B&Tabelle1!$C:$C,Tabelle1!$A:$A,\"\")","v":0},null,null,null,null,null,null,0,null,46022]
[39,{"$f":"_xlfn.XLOOKUP(C53&D53,Tabelle1!$B:$B&Tabelle1!$C:$C,Tabelle1!$A:$A,\"\")","v":0},null,null,null,null,null,null,0,null,46022]
[40,{"$f":"_xlfn.XLOOKUP(C54&D54,Tabelle1!$B:$B&Tabelle1!$C:$C,Tabelle1!$A:$A,\"\")","v":0},null,null,null,null,null,null,0,null,46022]

{"sheet":"1","index":1,"n_rows":17,"n_cols":27,"rows_kept":17,"cut":false,"hidden":false,"merged":[[7,0,8,0],[7,14,8,14],[13,11,13,12],[4,2,4,3],[0,11,0,12],[0,5,0,10],[4,5,4,8],[7,1,7,2],[7,3,7,12]]}
[null,null,{"$f":"Startliste!D1","v":"Qualifikation"},null,null,{"$f":"Startliste!D2","v":"Meisterschaft der Veteranen"},null,null,null,null,null,{"$f":"Startliste!H2","v":"2025-12-31"}]
[null,null,"Lizenz-Nr.",{"$f":"IF(_xlfn.XLOOKUP($M$5,Startliste!$A$15:$A$60,Startliste!$B$15:$B$60)=\"\",\"\",_xlfn.XLOOKUP($M$5,Startliste!$A$15:$A$60,Startliste!$B$15:$B$60))","v":0},null,null,null,null,null,null,null,null,null,null,null,null,null,null,null,null,null,1]
[]
[null,"Name",{"$f":"IF(_xlfn.XLOOKUP(M5,Startliste!$A$15:$A$60,Startliste!$C$15:$C$60)=\"\",\"\",_xlfn.XLOOKUP($M$5,Startliste!$A$15:$A$60,Startliste!$C$15:$C$60,\"\"))","v":""},null,"Vorname",{"$f":"IF(_xlfn.XLOOKUP(M5,Startliste!$A$15:$A$60,Startliste!$C$15:$C$60)=\"\",\"\",_xlfn.XLOOKUP($M$5,Startliste!$A$15:$A$60,Startliste!$D$15:$D$60,\"\"))","v":""},null,null,null,"St.",{"$f":"IF(_xlfn.XLOOKUP(M5,Startliste!$A$15:$A$60,Startliste!$C$15:$C$60)=\"\",\"\",_xlfn.XLOOKUP($M$5,Startliste!$A$15:$A$60,Startliste!$G$15:$G$60,\"\"))","v":""},null,"Start-Nr.",null,"Lizenz-Nr."]
[null,"Geburtsdatum",{"$f":"IF(_xlfn.XLOOKUP(M5,Startliste!$A$15:$A$60,Startliste!$C$15:$C$60)=\"\",\"\",_xlfn.XLOOKUP($M$5,Startliste!$A$15:$A$60,Startliste!$E$15:$E$60,\"\"))","v":""},null,"Sektion",{"$f":"IF(_xlfn.XLOOKUP(M5,Startliste!$A$15:$A$60,Startliste!$C$15:$C$60)=\"\",\"\",_xlfn.XLOOKUP($M$5,Startliste!$A$15:$A$60,Startliste!$F$15:$F$60,\"\"))","v":""},null,null,null,"Kat.",{"$f":"IF(_xlfn.XLOOKUP(M5,Startliste!$A$15:$A$60,Startliste!$C$15:$C$60)=\"\",\"\",_xlfn.XLOOKUP($M$5,Startliste!$A$15:$A$60,Startliste!$I$15:$I$60,\"\"))","v":""},null,1,null,{"$f":"_xlfn.XLOOKUP($M$5,Startliste!A:A,Startliste!B:B,\"\")","v":0}]
[]
[null,null,null,"Keine Mouchen erfassen, nur Werte zwischen 1-10"]
["Passen","Scheiben-Nr. ",null,"Schüsse",null,null,null,null,null,null,null,null,null,null,"Total"]
[null,"Von","Bis",1,2,3,4,5,6,7,8,9,10]
["1 - 10",null,null,null,null,null,null,null,null,null,null,null,null,null,{"$f":"SUM(D10:M10)+AA10","v":0},null,{"$f":"IF(D10=\"M\",10)","v":false},false,false,false,false,false,false,false,false,false,{"$f":"SUM(Q10:Z10)","v":0}]
["11 - 20",null,null,null,null,null,null,null,null,null,null,null,null,null,{"$f":"SUM(D11:M11)+AA11","v":0},null,{"$f":"IF(D11=\"M\",10)","v":false},false,false,false,false,false,false,false,false,false,{"$f":"SUM(Q11:Z11)","v":0}]
["21 - 30",null,null,null,null,null,null,null,null,null,null,null,null,null,{"$f":"SUM(D12:M12)+AA12","v":0},null,{"$f":"IF(D12=\"M\",10)","v":false},{"$f":"IF(E12=\"M\",10)","v":false},false,false,false,false,false,false,false,false,{"$f":"SUM(Q12:Z12)","v":0}]
[null,null,"21 - 40",null,null,null,null,null,null,null,null,null,null,3,{"$f":"SUM(D13:M13)+AA13","v":0},null,{"$f":"IF(D13=\"M\",10)","v":false},{"$f":"IF(E13=\"M\",10)","v":false},{"$f":"IF(F13=\"M\",10)","v":false},{"$f":"IF(G13=\"M\",10)","v":false},{"$f":"IF(H13=\"M\",10)","v":false},{"$f":"IF(I13=\"M\",10)","v":false},{"$f":"IF(J13=\"M\",10)","v":false},{"$f":"IF(K13=\"M\",10)","v":false},{"$f":"IF(L13=\"M\",10)","v":false},{"$f":"IF(M13=\"M\",10)","v":false},{"$f":"SUM(Q13:Z13)","v":0}]
[null,null,null,null,null,null,null,null,null,null,null,"Resultat",null,null,{"$f":"SUM(O10:O13)","v":0}]
[]
[null,null,"Wert",10,9,8,7,6,5,4,3,2,1]
[null,null,"Anzahl",{"$f":"COUNTIF($D10:$M13,\"10\")+O18","v":0},{"$f":"COUNTIF($D10:$M13,\"9\")","v":0},{"$f":"COUNTIF($D10:$M13,\"8\")","v":0},{"$f":"COUNTIF($D10:$M13,\"7\")","v":0},{"$f":"COUNTIF($D10:$M13,\"6\")","v":0},{"$f":"COUNTIF($D10:$M13,\"5\")","v":0},{"$f":"COUNTIF($D10:$M13,\"4\")","v":0},{"$f":"COUNTIF($D10:$M13,\"3\")","v":0},{"$f":"COUNTIF($D10:$M13,\"2\")","v":0},{"$f":"COUNTIF($D10:$M13,\"1\")","v":0}]

{"sheet":"2","index":2,"n_rows":17,"n_cols":27,"rows_kept":17,"cut":false,"hidden":false,"merged":[[7,0,8,0],[7,14,8,14],[13,11,13,12],[4,2,4,3],[0,11,0,12],[0,5,0,10],[4,5,4,8],[7,1,7,2],[7,3,7,12]]}
[null,null,{"$f":"Startliste!D1","v":"Qualifikation"},null,null,{"$f":"Startliste!D2&\"\"&Startliste!E2","v":"Meisterschaft der Veteranen"},null,null,null,null,null,{"$f":"Startliste!H2","v":"2025-12-31"}]
[null,null,"Lizenz-Nr.",{"$f":"IF(_xlfn.XLOOKUP($M$5,Startliste!$A$15:$A$60,Startliste!$B$15:$B$60)=\"\",\"\",_xlfn.XLOOKUP($M$5,Startliste!$A$15:$A$60,Startliste!$B$15:$B$60))","v":0},null,null,null,null,null,null,null,null,null,null,null,null,null,null,null,null,null,1]
[]
[null,"Name",{"$f":"IF(_xlfn.XLOOKUP(M5,Startliste!$A$15:$A$60,Startliste!$C$15:$C$60)=\"\",\"\",_xlfn.XLOOKUP($M$5,Startliste!$A$15:$A$60,Startliste!$C$15:$C$60,\"\"))","v":""},null,"Vorname",{"$f":"IF(_xlfn.XLOOKUP(M5,Startliste!$A$15:$A$60,Startliste!$C$15:$C$60)=\"\",\"\",_xlfn.XLOOKUP($M$5,Startliste!$A$15:$A$60,Startliste!$D$15:$D$60,\"\"))","v":""},null,null,null,"St.",{"$f":"IF(_xlfn.XLOOKUP(M5,Startliste!$A$15:$A$60,Startliste!$C$15:$C$60)=\"\",\"\",_xlfn.XLOOKUP($M$5,Startliste!$A$15:$A$60,Startliste!$G$15:$G$60,\"\"))","v":""},null,"Start-Nr.",null,"Lizenz-Nr."]
[null,"Geburtsdatum",{"$f":"IF(_xlfn.XLOOKUP(M5,Startliste!$A$15:$A$60,Startliste!$C$15:$C$60)=\"\",\"\",_xlfn.XLOOKUP($M$5,Startliste!$A$15:$A$60,Startliste!$E$15:$E$60,\"\"))","v":""},null,"Sektion",{"$f":"IF(_xlfn.XLOOKUP(M5,Startliste!$A$15:$A$60,Startliste!$C$15:$C$60)=\"\",\"\",_xlfn.XLOOKUP($M$5,Startliste!$A$15:$A$60,Startliste!$F$15:$F$60,\"\"))","v":""},null,null,null,"Kat.",{"$f":"IF(_xlfn.XLOOKUP(M5,Startliste!$A$15:$A$60,Startliste!$C$15:$C$60)=\"\",\"\",_xlfn.XLOOKUP($M$5,Startliste!$A$15:$A$60,Startliste!$I$15:$I$60,\"\"))","v":""},null,2,null,{"$f":"_xlfn.XLOOKUP($M$5,Startliste!A:A,Startliste!B:B,\"\")","v":0}]
[]
[null,null,null,"Keine Mouchen erfassen, nur Werte zwischen 1-10"]
["Passen","Scheiben-Nr. ",null,"Schüsse",null,null,null,null,null,null,null,null,null,null,"Total"]
[null,"Von","Bis",1,2,3,4,5,6,7,8,9,10]
["1 - 10",null,null,null,null,null,null,null,null,null,null,null,null,null,{"$f":"SUM(D10:M10)+AA10","v":0},null,{"$f":"IF(D10=\"M\",10)","v":false},{"$f":"IF(E10=\"M\",10)","v":false},false,false,false,false,false,false,false,false,{"$f":"SUM(Q10:Z10)","v":0}]
["11 - 20",null,null,null,null,null,null,null,null,null,null,null,null,null,{"$f":"SUM(D11:M11)+AA11","v":0},null,{"$f":"IF(D11=\"M\",10)","v":false},{"$f":"IF(E11=\"M\",10)","v":false},false,false,false,false,false,false,false,false,{"$f":"SUM(Q11:Z11)","v":0}]
["21 - 30",null,null,null,null,null,null,null,null,null,null,null,null,null,{"$f":"SUM(D12:M12)+AA12","v":0},null,{"$f":"IF(D12=\"M\",10)","v":false},{"$f":"IF(E12=\"M\",10)","v":false},false,false,false,false,false,false,false,false,{"$f":"SUM(Q12:Z12)","v":0}]
[null,null,"21 - 40",null,null,null,null,null,null,null,null,null,null,8,{"$f":"SUM(D13:M13)+AA13","v":0},null,{"$f":"IF(D13=\"M\",10)","v":false},{"$f":"IF(E13=\"M\",10)","v":false},{"$f":"IF(F13=\"M\",10)","v":false},{"$f":"IF(G13=\"M\",10)","v":false},{"$f":"IF(H13=\"M\",10)","v":false},{"$f":"IF(I13=\"M\",10)","v":false},{"$f":"IF(J13=\"M\",10)","v":false},{"$f":"IF(K13=\"M\",10)","v":false},{"$f":"IF(L13=\"M\",10)","v":false},{"$f":"IF(M13=\"M\",10)","v":false},{"$f":"SUM(Q13:Z13)","v":0}]
[null,null,null,null,null,null,null,null,null,null,null,"Resultat",null,null,{"$f":"SUM(O10:O13)","v":0}]
[]
[null,null,"Wert",10,9,8,7,6,5,4,3,2,1]
[null,null,"Anzahl",{"$f":"COUNTIF($D10:$M13,\"10\")+O18","v":0},{"$f":"COUNTIF($D10:$M13,\"9\")","v":0},{"$f":"COUNTIF($D10:$M13,\"8\")","v":0},{"$f":"COUNTIF($D10:$M13,\"7\")","v":0},{"$f":"COUNTIF($D10:$M13,\"6\")","v":0},{"$f":"COUNTIF($D10:$M13,\"5\")","v":0},{"$f":"COUNTIF($D10:$M13,\"4\")","v":0},{"$f":"COUNTIF($D10:$M13,\"3\")","v":0},{"$f":"COUNTIF($D10:$M13,\"2\")","v":0},{"$f":"COUNTIF($D10:$M13,\"1\")","v":0}]

{"sheet":"3","index":3,"n_rows":17,"n_cols":27,"rows_kept":17,"cut":false,"hidden":false,"merged":[[7,0,8,0],[7,14,8,14],[13,11,13,12],[4,2,4,3],[0,11,0,12],[0,5,0,10],[4,5,4,8],[7,1,7,2],[7,3,7,12]]}
[null,null,{"$f":"Startliste!D1","v":"Qualifikation"},null,null,{"$f":"Startliste!D2","v":"Meisterschaft der Veteranen"},null,null,null,null,null,{"$f":"Startliste!H2","v":"2025-12-31"}]
[null,null,"Lizenz-Nr.",{"$f":"IF(_xlfn.XLOOKUP($M$5,Startliste!$A$15:$A$60,Startliste!$B$15:$B$60)=\"\",\"\",_xlfn.XLOOKUP($M$5,Startliste!$A$15:$A$60,Startliste!$B$15:$B$60))","v":0},null,null,null,null,null,null,null,null,null,null,null,null,null,null,null,null,null,1]
[]
[null,"Name",{"$f":"IF(_xlfn.XLOOKUP(M5,Startliste!$A$15:$A$60,Startliste!$C$15:$C$60)=\"\",\"\",_xlfn.XLOOKUP($M$5,Startliste!$A$15:$A$60,Startliste!$C$15:$C$60,\"\"))","v":""},null,"Vorname",{"$f":"IF(_xlfn.XLOOKUP(M5,Startliste!$A$15:$A$60,Startliste!$C$15:$C$60)=\"\",\"\",_xlfn.XLOOKUP($M$5,Startliste!$A$15:$A$60,Startliste!$D$15:$D$60,\"\"))","v":""},null,null,null,"St.",{"$f":"IF(_xlfn.XLOOKUP(M5,Startliste!$A$15:$A$60,Startliste!$C$15:$C$60)=\"\",\"\",_xlfn.XLOOKUP($M$5,Startliste!$A$15:$A$60,Startliste!$G$15:$G$60,\"\"))","v":""},null,"Start-Nr.",null,"Lizenz-Nr."]
[null,"Geburtsdatum",{"$f":"IF(_xlfn.XLOOKUP(M5,Startliste!$A$15:$A$60,Startliste!$C$15:$C$60)=\"\",\"\",_xlfn.XLOOKUP($M$5,Startliste!$A$15:$A$60,Startliste!$E$15:$E$60,\"\"))","v":""},null,"Sektion",{"$f":"IF(_xlfn.XLOOKUP(M5,Startliste!$A$15:$A$60,Startliste!$C$15:$C$60)=\"\",\"\",_xlfn.XLOOKUP($M$5,Startliste!$A$15:$A$60,Startliste!$F$15:$F$60,\"\"))","v":""},null,null,null,"Kat.",{"$f":"IF(_xlfn.XLOOKUP(M5,Startliste!$A$15:$A$60,Startliste!$C$15:$C$60)=\"\",\"\",_xlfn.XLOOKUP($M$5,Startliste!$A$15:$A$60,Startliste!$I$15:$I$60,\"\"))","v":""},null,3,null,{"$f":"_xlfn.XLOOKUP($M$5,Startliste!A:A,Startliste!B:B,\"\")","v":0}]
[]
[null,null,null,"Keine Mouchen erfassen, nur Werte zwischen 1-10"]
["Passen","Scheiben-Nr. ",null,"Schüsse",null,null,null,null,null,null,null,null,null,null,"Total"]
[null,"Von","Bis",1,2,3,4,5,6,7,8,9,10]
["1 - 10",null,null,null,null,null,null,null,null,null,null,null,null,null,{"$f":"SUM(D10:M10)+AA10","v":0},null,{"$f":"IF(D10=\"M\",10)","v":false},{"$f":"IF(E10=\"M\",10)","v":false},false,false,false,false,false,false,false,false,{"$f":"SUM(Q10:Z10)","v":0}]
["11 - 20",null,null,null,null,null,null,null,null,null,null,null,null,null,{"$f":"SUM(D11:M11)+AA11","v":0},null,{"$f":"IF(D11=\"M\",10)","v":false},{"$f":"IF(E11=\"M\",10)","v":false},false,false,false,false,false,false,false,false,{"$f":"SUM(Q11:Z11)","v":0}]
["21 - 30",null,null,null,null,null,null,null,null,null,null,null,null,null,{"$f":"SUM(D12:M12)+AA12","v":0},null,{"$f":"IF(D12=\"M\",10)","v":false},{"$f":"IF(E12=\"M\",10)","v":false},false,false,false,false,false,false,false,false,{"$f":"SUM(Q12:Z12)","v":0}]
[null,null,"21 - 40",null,null,null,null,null,null,null,null,null,null,8,{"$f":"SUM(D13:M13)+AA13","v":0},null,{"$f":"IF(D13=\"M\",10)","v":false},{"$f":"IF(E13=\"M\",10)","v":false},{"$f":"IF(F13=\"M\",10)","v":false},{"$f":"IF(G13=\"M\",10)","v":false},{"$f":"IF(H13=\"M\",10)","v":false},{"$f":"IF(I13=\"M\",10)","v":false},{"$f":"IF(J13=\"M\",10)","v":false},{"$f":"IF(K13=\"M\",10)","v":false},{"$f":"IF(L13=\"M\",10)","v":false},{"$f":"IF(M13=\"M\",10)","v":false},{"$f":"SUM(Q13:Z13)","v":0}]
[null,null,null,null,null,null,null,null,null,null,null,"Resultat",null,null,{"$f":"SUM(O10:O13)","v":0}]
[]
[null,null,"Wert",10,9,8,7,6,5,4,3,2,1]
[null,null,"Anzahl",{"$f":"COUNTIF($D10:$M13,\"10\")+O18","v":0},{"$f":"COUNTIF($D10:$M13,\"9\")","v":0},{"$f":"COUNTIF($D10:$M13,\"8\")","v":0},{"$f":"COUNTIF($D10:$M13,\"7\")","v":0},{"$f":"COUNTIF($D10:$M13,\"6\")","v":0},{"$f":"COUNTIF($D10:$M13,\"5\")","v":0},{"$f":"COUNTIF($D10:$M13,\"4\")","v":0},{"$f":"COUNTIF($D10:$M13,\"3\")","v":0},{"$f":"COUNTIF($D10:$M13,\"2\")","v":0},{"$f":"COUNTIF($D10:$M13,\"1\")","v":0}]

{"sheet":"4","index":4,"n_rows":17,"n_cols":27,"rows_kept":17,"cut":false,"hidden":false,"merged":[[7,0,8,0],[7,14,8,14],[13,11,13,12],[4,2,4,3],[0,11,0,12],[0,5,0,10],[4,5,4,8],[7,1,7,2],[7,3,7,12]]}
[null,null,{"$f":"Startliste!D1","v":"Qualifikation"},null,null,{"$f":"Startliste!D2","v":"Meisterschaft der Veteranen"},null,null,null,null,null,{"$f":"Startliste!H2","v":"2025-12-31"}]
[null,null,"Lizenz-Nr.",{"$f":"IF(_xlfn.XLOOKUP($M$5,Startliste!$A$15:$A$60,Startliste!$B$15:$B$60)=\"\",\"\",_xlfn.XLOOKUP($M$5,Startliste!$A$15:$A$60,Startliste!$B$15:$B$60))","v":0},null,null,null,null,null,null,null,null,null,null,null,null,null,null,null,null,null,1]
[]
[null,"Name",{"$f":"IF(_xlfn.XLOOKUP(M5,Startliste!$A$15:$A$60,Startliste!$C$15:$C$60)=\"\",\"\",_xlfn.XLOOKUP($M$5,Startliste!$A$15:$A$60,Startliste!$C$15:$C$60,\"\"))","v":""},null,"Vorname",{"$f":"IF(_xlfn.XLOOKUP(M5,Startliste!$A$15:$A$60,Startliste!$C$15:$C$60)=\"\",\"\",_xlfn.XLOOKUP($M$5,Startliste!$A$15:$A$60,Startliste!$D$15:$D$60,\"\"))","v":""},null,null,null,"St.",{"$f":"IF(_xlfn.XLOOKUP(M5,Startliste!$A$15:$A$60,Startliste!$C$15:$C$60)=\"\",\"\",_xlfn.XLOOKUP($M$5,Startliste!$A$15:$A$60,Startliste!$G$15:$G$60,\"\"))","v":""},null,"Start-Nr.",null,"Lizenz-Nr."]
[null,"Geburtsdatum",{"$f":"IF(_xlfn.XLOOKUP(M5,Startliste!$A$15:$A$60,Startliste!$C$15:$C$60)=\"\",\"\",_xlfn.XLOOKUP($M$5,Startliste!$A$15:$A$60,Startliste!$E$15:$E$60,\"\"))","v":""},null,"Sektion",{"$f":"IF(_xlfn.XLOOKUP(M5,Startliste!$A$15:$A$60,Startliste!$C$15:$C$60)=\"\",\"\",_xlfn.XLOOKUP($M$5,Startliste!$A$15:$A$60,Startliste!$F$15:$F$60,\"\"))","v":""},null,null,null,"Kat.",{"$f":"IF(_xlfn.XLOOKUP(M5,Startliste!$A$15:$A$60,Startliste!$C$15:$C$60)=\"\",\"\",_xlfn.XLOOKUP($M$5,Startliste!$A$15:$A$60,Startliste!$I$15:$I$60,\"\"))","v":""},null,4,null,{"$f":"_xlfn.XLOOKUP($M$5,Startliste!A:A,Startliste!B:B,\"\")","v":0}]
[]
[null,null,null,"Keine Mouchen erfassen, nur Werte zwischen 1-10"]
["Passen","Scheiben-Nr. ",null,"Schüsse",null,null,null,null,null,null,null,null,null,null,"Total"]
[null,"Von","Bis",1,2,3,4,5,6,7,8,9,10]
["1 - 10",null,null,null,null,null,null,null,null,null,null,null,null,null,{"$f":"SUM(D10:M10)+AA10","v":0},null,{"$f":"IF(D10=\"M\",10)","v":false},{"$f":"IF(E10=\"M\",10)","v":false},false,false,false,false,false,false,false,false,{"$f":"SUM(Q10:Z10)","v":0}]
["11 - 20",null,null,null,null,null,null,null,null,null,null,null,null,null,{"$f":"SUM(D11:M11)+AA11","v":0},null,{"$f":"IF(D11=\"M\",10)","v":false},{"$f":"IF(E11=\"M\",10)","v":false},false,false,false,false,false,false,false,false,{"$f":"SUM(Q11:Z11)","v":0}]
["21 - 30",null,null,null,null,null,null,null,null,null,null,null,null,null,{"$f":"SUM(D12:M12)+AA12","v":0},null,{"$f":"IF(D12=\"M\",10)","v":false},{"$f":"IF(E12=\"M\",10)","v":false},false,false,false,false,false,false,false,false,{"$f":"SUM(Q12:Z12)","v":0}]
[null,null,"21 - 40",null,null,null,null,null,null,null,null,null,null,8,{"$f":"SUM(D13:M13)+AA13","v":0},null,{"$f":"IF(D13=\"M\",10)","v":false},{"$f":"IF(E13=\"M\",10)","v":false},{"$f":"IF(F13=\"M\",10)","v":false},{"$f":"IF(G13=\"M\",10)","v":false},{"$f":"IF(H13=\"M\",10)","v":false},{"$f":"IF(I13=\"M\",10)","v":false},{"$f":"IF(J13=\"M\",10)","v":false},{"$f":"IF(K13=\"M\",10)","v":false},{"$f":"IF(L13=\"M\",10)","v":false},{"$f":"IF(M13=\"M\",10)","v":false},{"$f":"SUM(Q13:Z13)","v":0}]
[null,null,null,null,null,null,null,null,null,null,null,"Resultat",null,null,{"$f":"SUM(O10:O13)","v":0}]
[]
[null,null,"Wert",10,9,8,7,6,5,4,3,2,1]
[null,null,"Anzahl",{"$f":"COUNTIF($D10:$M13,\"10\")+O18","v":0},{"$f":"COUNTIF($D10:$M13,\"9\")","v":0},{"$f":"COUNTIF($D10:$M13,\"8\")","v":0},{"$f":"COUNTIF($D10:$M13,\"7\")","v":0},{"$f":"COUNTIF($D10:$M13,\"6\")","v":0},{"$f":"COUNTIF($D10:$M13,\"5\")","v":0},{"$f":"COUNTIF($D10:$M13,\"4\")","v":0},{"$f":"COUNTIF($D10:$M13,\"3\")","v":0},{"$f":"COUNTIF($D10:$M13,\"2\")","v":0},{"$f":"COUNTIF($D10:$M13,\"1\")","v":0}]

{"sheet":"5","index":5,"n_rows":17,"n_cols":27,"rows_kept":17,"cut":false,"hidden":false,"merged":[[7,0,8,0],[7,14,8,14],[13,11,13,12],[4,2,4,3],[0,11,0,12],[0,5,0,10],[4,5,4,8],[7,1,7,2],[7,3,7,12]]}
[null,null,{"$f":"Startliste!D1","v":"Qualifikation"},null,null,{"$f":"Startliste!D2","v":"Meisterschaft der Veteranen"},null,null,null,null,null,{"$f":"Startliste!H2","v":"2025-12-31"}]
[null,null,"Lizenz-Nr.",{"$f":"IF(_xlfn.XLOOKUP($M$5,Startliste!$A$15:$A$60,Startliste!$B$15:$B$60)=\"\",\"\",_xlfn.XLOOKUP($M$5,Startliste!$A$15:$A$60,Startliste!$B$15:$B$60))","v":0},null,null,null,null,null,null,null,null,null,null,null,null,null,null,null,null,null,1]
[]
[null,"Name",{"$f":"IF(_xlfn.XLOOKUP(M5,Startliste!$A$15:$A$60,Startliste!$C$15:$C$60)=\"\",\"\",_xlfn.XLOOKUP($M$5,Startliste!$A$15:$A$60,Startliste!$C$15:$C$60,\"\"))","v":""},null,"Vorname",{"$f":"IF(_xlfn.XLOOKUP(M5,Startliste!$A$15:$A$60,Startliste!$C$15:$C$60)=\"\",\"\",_xlfn.XLOOKUP($M$5,Startliste!$A$15:$A$60,Startliste!$D$15:$D$60,\"\"))","v":""},null,null,null,"St.",{"$f":"IF(_xlfn.XLOOKUP(M5,Startliste!$A$15:$A$60,Startliste!$C$15:$C$60)=\"\",\"\",_xlfn.XLOOKUP($M$5,Startliste!$A$15:$A$60,Startliste!$G$15:$G$60,\"\"))","v":""},null,"Start-Nr.",null,"Lizenz-Nr."]
[null,"Geburtsdatum",{"$f":"IF(_xlfn.XLOOKUP(M5,Startliste!$A$15:$A$60,Startliste!$C$15:$C$60)=\"\",\"\",_xlfn.XLOOKUP($M$5,Startliste!$A$15:$A$60,Startliste!$E$15:$E$60,\"\"))","v":""},null,"Sektion",{"$f":"IF(_xlfn.XLOOKUP(M5,Startliste!$A$15:$A$60,Startliste!$C$15:$C$60)=\"\",\"\",_xlfn.XLOOKUP($M$5,Startliste!$A$15:$A$60,Startliste!$F$15:$F$60,\"\"))","v":""},null,null,null,"Kat.",{"$f":"IF(_xlfn.XLOOKUP(M5,Startliste!$A$15:$A$60,Startliste!$C$15:$C$60)=\"\",\"\",_xlfn.XLOOKUP($M$5,Startliste!$A$15:$A$60,Startliste!$I$15:$I$60,\"\"))","v":""},null,5,null,{"$f":"_xlfn.XLOOKUP($M$5,Startliste!A:A,Startliste!B:B,\"\")","v":0}]
[]
[null,null,null,"Keine Mouchen erfassen, nur Werte zwischen 1-10"]
["Passen","Scheiben-Nr. ",null,"Schüsse",null,null,null,null,null,null,null,null,null,null,"Total"]
[null,"Von","Bis",1,2,3,4,5,6,7,8,9,10]
["1 - 10",null,null,null,null,null,null,null,null,null,null,null,null,null,{"$f":"SUM(D10:M10)+AA10","v":0},null,{"$f":"IF(D10=\"M\",10)","v":false},{"$f":"IF(E10=\"M\",10)","v":false},false,false,false,false,false,false,false,false,{"$f":"SUM(Q10:Z10)","v":0}]
["11 - 20",null,null,null,null,null,null,null,null,null,null,null,null,null,{"$f":"SUM(D11:M11)+AA11","v":0},null,{"$f":"IF(D11=\"M\",10)","v":false},{"$f":"IF(E11=\"M\",10)","v":false},false,false,false,false,false,false,false,false,{"$f":"SUM(Q11:Z11)","v":0}]
["21 - 30",null,null,null,null,null,null,null,null,null,null,null,null,null,{"$f":"SUM(D12:M12)+AA12","v":0},null,{"$f":"IF(D12=\"M\",10)","v":false},{"$f":"IF(E12=\"M\",10)","v":false},false,false,false,false,false,false,false,false,{"$f":"SUM(Q12:Z12)","v":0}]
[null,null,"21 - 40",null,null,null,null,null,null,null,null,null,null,8,{"$f":"SUM(D13:M13)+AA13","v":0},null,{"$f":"IF(D13=\"M\",10)","v":false},{"$f":"IF(E13=\"M\",10)","v":false},{"$f":"IF(F13=\"M\",10)","v":false},{"$f":"IF(G13=\"M\",10)","v":false},{"$f":"IF(H13=\"M\",10)","v":false},{"$f":"IF(I13=\"M\",10)","v":false},{"$f":"IF(J13=\"M\",10)","v":false},{"$f":"IF(K13=\"M\",10)","v":false},{"$f":"IF(L13=\"M\",10)","v":false},{"$f":"IF(M13=\"M\",10)","v":false},{"$f":"SUM(Q13:Z13)","v":0}]
[null,null,null,null,null,null,null,null,null,null,null,"Resultat",null,null,{"$f":"SUM(O10:O13)","v":0}]
[]
[null,null,"Wert",10,9,8,7,6,5,4,3,2,1]
[null,null,"Anzahl",{"$f":"COUNTIF($D10:$M13,\"10\")+O18","v":0},{"$f":"COUNTIF($D10:$M13,\"9\")","v":0},{"$f":"COUNTIF($D10:$M13,\"8\")","v":0},{"$f":"COUNTIF($D10:$M13,\"7\")","v":0},{"$f":"COUNTIF($D10:$M13,\"6\")","v":0},{"$f":"COUNTIF($D10:$M13,\"5\")","v":0},{"$f":"COUNTIF($D10:$M13,\"4\")","v":0},{"$f":"COUNTIF($D10:$M13,\"3\")","v":0},{"$f":"COUNTIF($D10:$M13,\"2\")","v":0},{"$f":"COUNTIF($D10:$M13,\"1\")","v":0}]

{"sheet":"6","index":6,"n_rows":17,"n_cols":27,"rows_kept":17,"cut":false,"hidden":false,"merged":[[7,0,8,0],[7,14,8,14],[13,11,13,12],[4,2,4,3],[0,11,0,12],[0,5,0,10],[4,5,4,8],[7,1,7,2],[7,3,7,12]]}
[null,null,{"$f":"Startliste!D1","v":"Qualifikation"},null,null,{"$f":"Startliste!D2","v":"Meisterschaft der Veteranen"},null,null,null,null,null,{"$f":"Startliste!H2","v":"2025-12-31"}]
[null,null,"Lizenz-Nr.",{"$f":"IF(_xlfn.XLOOKUP($M$5,Startliste!$A$15:$A$60,Startliste!$B$15:$B$60)=\"\",\"\",_xlfn.XLOOKUP($M$5,Startliste!$A$15:$A$60,Startliste!$B$15:$B$60))","v":0},null,null,null,null,null,null,null,null,null,null,null,null,null,null,null,null,null,1]
[]
[null,"Name",{"$f":"IF(_xlfn.XLOOKUP(M5,Startliste!$A$15:$A$60,Startliste!$C$15:$C$60)=\"\",\"\",_xlfn.XLOOKUP($M$5,Startliste!$A$15:$A$60,Startliste!$C$15:$C$60,\"\"))","v":""},null,"Vorname",{"$f":"IF(_xlfn.XLOOKUP(M5,Startliste!$A$15:$A$60,Startliste!$C$15:$C$60)=\"\",\"\",_xlfn.XLOOKUP($M$5,Startliste!$A$15:$A$60,Startliste!$D$15:$D$60,\"\"))","v":""},null,null,null,"St.",{"$f":"IF(_xlfn.XLOOKUP(M5,Startliste!$A$15:$A$60,Startliste!$C$15:$C$60)=\"\",\"\",_xlfn.XLOOKUP($M$5,Startliste!$A$15:$A$60,Startliste!$G$15:$G$60,\"\"))","v":""},null,"Start-Nr.",null,"Lizenz-Nr."]
[null,"Geburtsdatum",{"$f":"IF(_xlfn.XLOOKUP(M5,Startliste!$A$15:$A$60,Startliste!$C$15:$C$60)=\"\",\"\",_xlfn.XLOOKUP($M$5,Startliste!$A$15:$A$60,Startliste!$E$15:$E$60,\"\"))","v":""},null,"Sektion",{"$f":"IF(_xlfn.XLOOKUP(M5,Startliste!$A$15:$A$60,Startliste!$C$15:$C$60)=\"\",\"\",_xlfn.XLOOKUP($M$5,Startliste!$A$15:$A$60,Startliste!$F$15:$F$60,\"\"))","v":""},null,null,null,"Kat.",{"$f":"IF(_xlfn.XLOOKUP(M5,Startliste!$A$15:$A$60,Startliste!$C$15:$C$60)=\"\",\"\",_xlfn.XLOOKUP($M$5,Startliste!$A$15:$A$60,Startliste!$I$15:$I$60,\"\"))","v":""},null,6,null,{"$f":"_xlfn.XLOOKUP($M$5,Startliste!A:A,Startliste!B:B,\"\")","v":0}]
[]
[null,null,null,"Keine Mouchen erfassen, nur Werte zwischen 1-10"]
["Passen","Scheiben-Nr. ",null,"Schüsse",null,null,null,null,null,null,null,null,null,null,"Total"]
[null,"Von","Bis",1,2,3,4,5,6,7,8,9,10]
["1 - 10",null,null,null,null,null,null,null,null,null,null,null,null,null,{"$f":"SUM(D10:M10)+AA10","v":0},null,{"$f":"IF(D10=\"M\",10)","v":false},{"$f":"IF(E10=\"M\",10)","v":false},false,false,false,false,false,false,false,false,{"$f":"SUM(Q10:Z10)","v":0}]
["11 - 20",null,null,null,null,null,null,null,null,null,null,null,null,null,{"$f":"SUM(D11:M11)+AA11","v":0},null,{"$f":"IF(D11=\"M\",10)","v":false},{"$f":"IF(E11=\"M\",10)","v":false},false,false,false,false,false,false,false,false,{"$f":"SUM(Q11:Z11)","v":0}]
["21 - 30",null,null,null,null,null,null,null,null,null,null,null,null,null,{"$f":"SUM(D12:M12)+AA12","v":0},null,{"$f":"IF(D12=\"M\",10)","v":false},{"$f":"IF(E12=\"M\",10)","v":false},false,false,false,false,false,false,false,false,{"$f":"SUM(Q12:Z12)","v":0}]
[null,null,"21 - 40",null,null,null,null,null,null,null,null,null,null,8,{"$f":"SUM(D13:M13)+AA13","v":0},null,{"$f":"IF(D13=\"M\",10)","v":false},{"$f":"IF(E13=\"M\",10)","v":false},{"$f":"IF(F13=\"M\",10)","v":false},{"$f":"IF(G13=\"M\",10)","v":false},{"$f":"IF(H13=\"M\",10)","v":false},{"$f":"IF(I13=\"M\",10)","v":false},{"$f":"IF(J13=\"M\",10)","v":false},{"$f":"IF(K13=\"M\",10)","v":false},{"$f":"IF(L13=\"M\",10)","v":false},{"$f":"IF(M13=\"M\",10)","v":false},{"$f":"SUM(Q13:Z13)","v":0}]
[null,null,null,null,null,null,null,null,null,null,null,"Resultat",null,null,{"$f":"SUM(O10:O13)","v":0}]
[]
[null,null,"Wert",10,9,8,7,6,5,4,3,2,1]
[null,null,"Anzahl",{"$f":"COUNTIF($D10:$M13,\"10\")+O18","v":0},{"$f":"COUNTIF($D10:$M13,\"9\")","v":0},{"$f":"COUNTIF($D10:$M13,\"8\")","v":0},{"$f":"COUNTIF($D10:$M13,\"7\")","v":0},{"$f":"COUNTIF($D10:$M13,\"6\")","v":0},{"$f":"COUNTIF($D10:$M13,\"5\")","v":0},{"$f":"COUNTIF($D10:$M13,\"4\")","v":0},{"$f":"COUNTIF($D10:$M13,\"3\")","v":0},{"$f":"COUNTIF($D10:$M13,\"2\")","v":0},{"$f":"COUNTIF($D10:$M13,\"1\")","v":0}]

{"sheet":"7","index":7,"n_rows":17,"n_cols":27,"rows_kept":17,"cut":false,"hidden":false,"merged":[[7,0,8,0],[7,14,8,14],[13,11,13,12],[4,2,4,3],[0,11,0,12],[0,5,0,10],[4,5,4,8],[7,1,7,2],[7,3,7,12]]}
[null,null,{"$f":"Startliste!D1","v":"Qualifikation"},null,null,{"$f":"Startliste!D2","v":"Meisterschaft der Veteranen"},null,null,null,null,null,{"$f":"Startliste!H2","v":"2025-12-31"}]
[null,null,"Lizenz-Nr.",{"$f":"IF(_xlfn.XLOOKUP($M$5,Startliste!$A$15:$A$60,Startliste!$B$15:$B$60)=\"\",\"\",_xlfn.XLOOKUP($M$5,Startliste!$A$15:$A$60,Startliste!$B$15:$B$60))","v":0},null,null,null,null,null,null,null,null,null,null,null,null,null,null,null,null,null,1]
[]
[null,"Name",{"$f":"IF(_xlfn.XLOOKUP(M5,Startliste!$A$15:$A$60,Startliste!$C$15:$C$60)=\"\",\"\",_xlfn.XLOOKUP($M$5,Startliste!$A$15:$A$60,Startliste!$C$15:$C$60,\"\"))","v":""},null,"Vorname",{"$f":"IF(_xlfn.XLOOKUP(M5,Startliste!$A$15:$A$60,Startliste!$C$15:$C$60)=\"\",\"\",_xlfn.XLOOKUP($M$5,Startliste!$A$15:$A$60,Startliste!$D$15:$D$60,\"\"))","v":""},null,null,null,"St.",{"$f":"IF(_xlfn.XLOOKUP(M5,Startliste!$A$15:$A$60,Startliste!$C$15:$C$60)=\"\",\"\",_xlfn.XLOOKUP($M$5,Startliste!$A$15:$A$60,Startliste!$G$15:$G$60,\"\"))","v":""},null,"Start-Nr.",null,"Lizenz-Nr."]
[null,"Geburtsdatum",{"$f":"IF(_xlfn.XLOOKUP(M5,Startliste!$A$15:$A$60,Startliste!$C$15:$C$60)=\"\",\"\",_xlfn.XLOOKUP($M$5,Startliste!$A$15:$A$60,Startliste!$E$15:$E$60,\"\"))","v":""},null,"Sektion",{"$f":"IF(_xlfn.XLOOKUP(M5,Startliste!$A$15:$A$60,Startliste!$C$15:$C$60)=\"\",\"\",_xlfn.XLOOKUP($M$5,Startliste!$A$15:$A$60,Startliste!$F$15:$F$60,\"\"))","v":""},null,null,null,"Kat.",{"$f":"IF(_xlfn.XLOOKUP(M5,Startliste!$A$15:$A$60,Startliste!$C$15:$C$60)=\"\",\"\",_xlfn.XLOOKUP($M$5,Startliste!$A$15:$A$60,Startliste!$I$15:$I$60,\"\"))","v":""},null,7,null,{"$f":"_xlfn.XLOOKUP($M$5,Startliste!A:A,Startliste!B:B,\"\")","v":0}]
[]
[null,null,null,"Keine Mouchen erfassen, nur Werte zwischen 1-10"]
["Passen","Scheiben-Nr. ",null,"Schüsse",null,null,null,null,null,null,null,null,null,null,"Total"]
[null,"Von","Bis",1,2,3,4,5,6,7,8,9,10]
["1 - 10",null,null,null,null,null,null,null,null,null,null,null,null,null,{"$f":"SUM(D10:M10)+AA10","v":0},null,{"$f":"IF(D10=\"M\",10)","v":false},{"$f":"IF(E10=\"M\",10)","v":false},false,false,false,false,false,false,false,false,{"$f":"SUM(Q10:Z10)","v":0}]
["11 - 20",null,null,null,null,null,null,null,null,null,null,null,null,null,{"$f":"SUM(D11:M11)+AA11","v":0},null,{"$f":"IF(D11=\"M\",10)","v":false},{"$f":"IF(E11=\"M\",10)","v":false},false,false,false,false,false,false,false,false,{"$f":"SUM(Q11:Z11)","v":0}]
["21 - 30",null,null,null,null,null,null,null,null,null,null,null,null,null,{"$f":"SUM(D12:M12)+AA12","v":0},null,{"$f":"IF(D12=\"M\",10)","v":false},{"$f":"IF(E12=\"M\",10)","v":false},false,false,false,false,false,false,false,false,{"$f":"SUM(Q12:Z12)","v":0}]
[null,null,"21 - 40",null,null,null,null,null,null,null,null,null,null,8,{"$f":"SUM(D13:M13)+AA13","v":0},null,{"$f":"IF(D13=\"M\",10)","v":false},{"$f":"IF(E13=\"M\",10)","v":false},{"$f":"IF(F13=\"M\",10)","v":false},{"$f":"IF(G13=\"M\",10)","v":false},{"$f":"IF(H13=\"M\",10)","v":false},{"$f":"IF(I13=\"M\",10)","v":false},{"$f":"IF(J13=\"M\",10)","v":false},{"$f":"IF(K13=\"M\",10)","v":false},{"$f":"IF(L13=\"M\",10)","v":false},{"$f":"IF(M13=\"M\",10)","v":false},{"$f":"SUM(Q13:Z13)","v":0}]
[null,null,null,null,null,null,null,null,null,null,null,"Resultat",null,null,{"$f":"SUM(O10:O13)","v":0}]
[]
[null,null,"Wert",10,9,8,7,6,5,4,3,2,1]
[null,null,"Anzahl",{"$f":"COUNTIF($D10:$M13,\"10\")+O18","v":0},{"$f":"COUNTIF($D10:$M13,\"9\")","v":0},{"$f":"COUNTIF($D10:$M13,\"8\")","v":0},{"$f":"COUNTIF($D10:$M13,\"7\")","v":0},{"$f":"COUNTIF($D10:$M13,\"6\")","v":0},{"$f":"COUNTIF($D10:$M13,\"5\")","v":0},{"$f":"COUNTIF($D10:$M13,\"4\")","v":0},{"$f":"COUNTIF($D10:$M13,\"3\")","v":0},{"$f":"COUNTIF($D10:$M13,\"2\")","v":0},{"$f":"COUNTIF($D10:$M13,\"1\")","v":0}]

{"sheet":"8","index":8,"n_rows":17,"n_cols":27,"rows_kept":17,"cut":false,"hidden":false,"merged":[[7,0,8,0],[7,14,8,14],[13,11,13,12],[4,2,4,3],[0,11,0,12],[0,5,0,10],[4,5,4,8],[7,1,7,2],[7,3,7,12]]}
[null,null,{"$f":"Startliste!D1","v":"Qualifikation"},null,null,{"$f":"Startliste!D2","v":"Meisterschaft der Veteranen"},null,null,null,null,null,{"$f":"Startliste!H2","v":"2025-12-31"}]
[null,null,"Lizenz-Nr.",{"$f":"IF(_xlfn.XLOOKUP($M$5,Startliste!$A$15:$A$60,Startliste!$B$15:$B$60)=\"\",\"\",_xlfn.XLOOKUP($M$5,Startliste!$A$15:$A$60,Startliste!$B$15:$B$60))","v":0},null,null,null,null,null,null,null,null,null,null,null,null,null,null,null,null,null,1]
[]
[null,"Name",{"$f":"IF(_xlfn.XLOOKUP(M5,Startliste!$A$15:$A$60,Startliste!$C$15:$C$60)=\"\",\"\",_xlfn.XLOOKUP($M$5,Startliste!$A$15:$A$60,Startliste!$C$15:$C$60,\"\"))","v":""},null,"Vorname",{"$f":"IF(_xlfn.XLOOKUP(M5,Startliste!$A$15:$A$60,Startliste!$C$15:$C$60)=\"\",\"\",_xlfn.XLOOKUP($M$5,Startliste!$A$15:$A$60,Startliste!$D$15:$D$60,\"\"))","v":""},null,null,null,"St.",{"$f":"IF(_xlfn.XLOOKUP(M5,Startliste!$A$15:$A$60,Startliste!$C$15:$C$60)=\"\",\"\",_xlfn.XLOOKUP($M$5,Startliste!$A$15:$A$60,Startliste!$G$15:$G$60,\"\"))","v":""},null,"Start-Nr.",null,"Lizenz-Nr."]
[null,"Geburtsdatum",{"$f":"IF(_xlfn.XLOOKUP(M5,Startliste!$A$15:$A$60,Startliste!$C$15:$C$60)=\"\",\"\",_xlfn.XLOOKUP($M$5,Startliste!$A$15:$A$60,Startliste!$E$15:$E$60,\"\"))","v":""},null,"Sektion",{"$f":"IF(_xlfn.XLOOKUP(M5,Startliste!$A$15:$A$60,Startliste!$C$15:$C$60)=\"\",\"\",_xlfn.XLOOKUP($M$5,Startliste!$A$15:$A$60,Startliste!$F$15:$F$60,\"\"))","v":""},null,null,null,"Kat.",{"$f":"IF(_xlfn.XLOOKUP(M5,Startliste!$A$15:$A$60,Startliste!$C$15:$C$60)=\"\",\"\",_xlfn.XLOOKUP($M$5,Startliste!$A$15:$A$60,Startliste!$I$15:$I$60,\"\"))","v":""},null,8,null,{"$f":"_xlfn.XLOOKUP($M$5,Startliste!A:A,Startliste!B:B,\"\")","v":0}]
[]
[null,null,null,"Keine Mouchen erfassen, nur Werte zwischen 1-10"]
["Passen","Scheiben-Nr. ",null,"Schüsse",null,null,null,null,null,null,null,null,null,null,"Total"]
[null,"Von","Bis",1,2,3,4,5,6,7,8,9,10]
["1 - 10",null,null,null,null,null,null,null,null,null,null,null,null,null,{"$f":"SUM(D10:M10)+AA10","v":0},null,{"$f":"IF(D10=\"M\",10)","v":false},{"$f":"IF(E10=\"M\",10)","v":false},false,false,false,false,false,false,false,false,{"$f":"SUM(Q10:Z10)","v":0}]
["11 - 20",null,null,null,null,null,null,null,null,null,null,null,null,null,{"$f":"SUM(D11:M11)+AA11","v":0},null,{"$f":"IF(D11=\"M\",10)","v":false},{"$f":"IF(E11=\"M\",10)","v":false},false,false,false,false,false,false,false,false,{"$f":"SUM(Q11:Z11)","v":0}]
["21 - 30",null,null,null,null,null,null,null,null,null,null,null,null,null,{"$f":"SUM(D12:M12)+AA12","v":0},null,{"$f":"IF(D12=\"M\",10)","v":false},{"$f":"IF(E12=\"M\",10)","v":false},false,false,false,false,false,false,false,false,{"$f":"SUM(Q12:Z12)","v":0}]
[null,null,"21 - 40",null,null,null,null,null,null,null,null,null,null,8,{"$f":"SUM(D13:M13)+AA13","v":0},null,{"$f":"IF(D13=\"M\",10)","v":false},{"$f":"IF(E13=\"M\",10)","v":false},{"$f":"IF(F13=\"M\",10)","v":false},{"$f":"IF(G13=\"M\",10)","v":false},{"$f":"IF(H13=\"M\",10)","v":false},{"$f":"IF(I13=\"M\",10)","v":false},{"$f":"IF(J13=\"M\",10)","v":false},{"$f":"IF(K13=\"M\",10)","v":false},{"$f":"IF(L13=\"M\",10)","v":false},{"$f":"IF(M13=\"M\",10)","v":false},{"$f":"SUM(Q13:Z13)","v":0}]
[null,null,null,null,null,null,null,null,null,null,null,"Resultat",null,null,{"$f":"SUM(O10:O13)","v":0}]
[]
[null,null,"Wert",10,9,8,7,6,5,4,3,2,1]
[null,null,"Anzahl",{"$f":"COUNTIF($D10:$M13,\"10\")+O18","v":0},{"$f":"COUNTIF($D10:$M13,\"9\")","v":0},{"$f":"COUNTIF($D10:$M13,\"8\")","v":0},{"$f":"COUNTIF($D10:$M13,\"7\")","v":0},{"$f":"COUNTIF($D10:$M13,\"6\")","v":0},{"$f":"COUNTIF($D10:$M13,\"5\")","v":0},{"$f":"COUNTIF($D10:$M13,\"4\")","v":0},{"$f":"COUNTIF($D10:$M13,\"3\")","v":0},{"$f":"COUNTIF($D10:$M13,\"2\")","v":0},{"$f":"COUNTIF($D10:$M13,\"1\")","v":0}]

{"sheet":"9","index":9,"n_rows":17,"n_cols":27,"rows_kept":17,"cut":false,"hidden":false,"merged":[[7,0,8,0],[7,14,8,14],[13,11,13,12],[4,2,4,3],[0,11,0,12],[0,5,0,10],[4,5,4,8],[7,1,7,2],[7,3,7,12]]}
[null,null,{"$f":"Startliste!D1","v":"Qualifikation"},null,null,{"$f":"Startliste!D2","v":"Meisterschaft der Veteranen"},null,null,null,null,null,{"$f":"Startliste!H2","v":"2025-12-31"}]
[null,null,"Lizenz-Nr.",{"$f":"IF(_xlfn.XLOOKUP($M$5,Startliste!$A$15:$A$60,Startliste!$B$15:$B$60)=\"\",\"\",_xlfn.XLOOKUP($M$5,Startliste!$A$15:$A$60,Startliste!$B$15:$B$60))","v":0},null,null,null,null,null,null,null,null,null,null,null,null,null,null,null,null,null,1]
[]
[null,"Name",{"$f":"IF(_xlfn.XLOOKUP(M5,Startliste!$A$15:$A$60,Startliste!$C$15:$C$60)=\"\",\"\",_xlfn.XLOOKUP($M$5,Startliste!$A$15:$A$60,Startliste!$C$15:$C$60,\"\"))","v":""},null,"Vorname",{"$f":"IF(_xlfn.XLOOKUP(M5,Startliste!$A$15:$A$60,Startliste!$C$15:$C$60)=\"\",\"\",_xlfn.XLOOKUP($M$5,Startliste!$A$15:$A$60,Startliste!$D$15:$D$60,\"\"))","v":""},null,null,null,"St.",{"$f":"IF(_xlfn.XLOOKUP(M5,Startliste!$A$15:$A$60,Startliste!$C$15:$C$60)=\"\",\"\",_xlfn.XLOOKUP($M$5,Startliste!$A$15:$A$60,Startliste!$G$15:$G$60,\"\"))","v":""},null,"Start-Nr.",null,"Lizenz-Nr."]
[null,"Geburtsdatum",{"$f":"IF(_xlfn.XLOOKUP(M5,Startliste!$A$15:$A$60,Startliste!$C$15:$C$60)=\"\",\"\",_xlfn.XLOOKUP($M$5,Startliste!$A$15:$A$60,Startliste!$E$15:$E$60,\"\"))","v":""},null,"Sektion",{"$f":"IF(_xlfn.XLOOKUP(M5,Startliste!$A$15:$A$60,Startliste!$C$15:$C$60)=\"\",\"\",_xlfn.XLOOKUP($M$5,Startliste!$A$15:$A$60,Startliste!$F$15:$F$60,\"\"))","v":""},null,null,null,"Kat.",{"$f":"IF(_xlfn.XLOOKUP(M5,Startliste!$A$15:$A$60,Startliste!$C$15:$C$60)=\"\",\"\",_xlfn.XLOOKUP($M$5,Startliste!$A$15:$A$60,Startliste!$I$15:$I$60,\"\"))","v":""},null,9,null,{"$f":"_xlfn.XLOOKUP($M$5,Startliste!A:A,Startliste!B:B,\"\")","v":0}]
[]
[null,null,null,"Keine Mouchen erfassen, nur Werte zwischen 1-10"]
["Passen","Scheiben-Nr. ",null,"Schüsse",null,null,null,null,null,null,null,null,null,null,"Total"]
[null,"Von","Bis",1,2,3,4,5,6,7,8,9,10]
["1 - 10",null,null,null,null,null,null,null,null,null,null,null,null,null,{"$f":"SUM(D10:M10)+AA10","v":0},null,{"$f":"IF(D10=\"M\",10)","v":false},{"$f":"IF(E10=\"M\",10)","v":false},false,false,false,false,false,false,false,false,{"$f":"SUM(Q10:Z10)","v":0}]
["11 - 20",null,null,null,null,null,null,null,null,null,null,null,null,null,{"$f":"SUM(D11:M11)+AA11","v":0},null,{"$f":"IF(D11=\"M\",10)","v":false},{"$f":"IF(E11=\"M\",10)","v":false},false,false,false,false,false,false,false,false,{"$f":"SUM(Q11:Z11)","v":0}]
["21 - 30",null,null,null,null,null,null,null,null,null,null,null,null,null,{"$f":"SUM(D12:M12)+AA12","v":0},null,{"$f":"IF(D12=\"M\",10)","v":false},{"$f":"IF(E12=\"M\",10)","v":false},false,false,false,false,false,false,false,false,{"$f":"SUM(Q12:Z12)","v":0}]
[null,null,"21 - 40",null,null,null,null,null,null,null,null,null,null,8,{"$f":"SUM(D13:M13)+AA13","v":0},null,{"$f":"IF(D13=\"M\",10)","v":false},{"$f":"IF(E13=\"M\",10)","v":false},{"$f":"IF(F13=\"M\",10)","v":false},{"$f":"IF(G13=\"M\",10)","v":false},{"$f":"IF(H13=\"M\",10)","v":false},{"$f":"IF(I13=\"M\",10)","v":false},{"$f":"IF(J13=\"M\",10)","v":false},{"$f":"IF(K13=\"M\",10)","v":false},{"$f":"IF(L13=\"M\",10)","v":false},{"$f":"IF(M13=\"M\",10)","v":false},{"$f":"SUM(Q13:Z13)","v":0}]
[null,null,null,null,null,null,null,null,null,null,null,"Resultat",null,null,{"$f":"SUM(O10:O13)","v":0}]
[]
[null,null,"Wert",10,9,8,7,6,5,4,3,2,1]
[null,null,"Anzahl",{"$f":"COUNTIF($D10:$M13,\"10\")+O18","v":0},{"$f":"COUNTIF($D10:$M13,\"9\")","v":0},{"$f":"COUNTIF($D10:$M13,\"8\")","v":0},{"$f":"COUNTIF($D10:$M13,\"7\")","v":0},{"$f":"COUNTIF($D10:$M13,\"6\")","v":0},{"$f":"COUNTIF($D10:$M13,\"5\")","v":0},{"$f":"COUNTIF($D10:$M13,\"4\")","v":0},{"$f":"COUNTIF($D10:$M13,\"3\")","v":0},{"$f":"COUNTIF($D10:$M13,\"2\")","v":0},{"$f":"COUNTIF($D10:$M13,\"1\")","v":0}]

{"sheet":"10","index":10,"n_rows":17,"n_cols":27,"rows_kept":17,"cut":false,"hidden":false,"merged":[[7,0,8,0],[7,14,8,14],[13,11,13,12],[4,2,4,3],[0,11,0,12],[0,5,0,10],[4,5,4,8],[7,1,7,2],[7,3,7,12]]}
[null,null,{"$f":"Startliste!D1","v":"Qualifikation"},null,null,{"$f":"Startliste!D2","v":"Meisterschaft der Veteranen"},null,null,null,null,null,{"$f":"Startliste!H2","v":"2025-12-31"}]
[null,null,"Lizenz-Nr.",{"$f":"IF(_xlfn.XLOOKUP($M$5,Startliste!$A$15:$A$60,Startliste!$B$15:$B$60)=\"\",\"\",_xlfn.XLOOKUP($M$5,Startliste!$A$15:$A$60,Startliste!$B$15:$B$60))","v":0},null,null,null,null,null,null,null,null,null,null,null,null,null,null,null,null,null,1]
[]
[null,"Name",{"$f":"IF(_xlfn.XLOOKUP(M5,Startliste!$A$15:$A$60,Startliste!$C$15:$C$60)=\"\",\"\",_xlfn.XLOOKUP($M$5,Startliste!$A$15:$A$60,Startliste!$C$15:$C$60,\"\"))","v":""},null,"Vorname",{"$f":"IF(_xlfn.XLOOKUP(M5,Startliste!$A$15:$A$60,Startliste!$C$15:$C$60)=\"\",\"\",_xlfn.XLOOKUP($M$5,Startliste!$A$15:$A$60,Startliste!$D$15:$D$60,\"\"))","v":""},null,null,null,"St.",{"$f":"IF(_xlfn.XLOOKUP(M5,Startliste!$A$15:$A$60,Startliste!$C$15:$C$60)=\"\",\"\",_xlfn.XLOOKUP($M$5,Startliste!$A$15:$A$60,Startliste!$G$15:$G$60,\"\"))","v":""},null,"Start-Nr.",null,"Lizenz-Nr."]
[null,"Geburtsdatum",{"$f":"IF(_xlfn.XLOOKUP(M5,Startliste!$A$15:$A$60,Startliste!$C$15:$C$60)=\"\",\"\",_xlfn.XLOOKUP($M$5,Startliste!$A$15:$A$60,Startliste!$E$15:$E$60,\"\"))","v":""},null,"Sektion",{"$f":"IF(_xlfn.XLOOKUP(M5,Startliste!$A$15:$A$60,Startliste!$C$15:$C$60)=\"\",\"\",_xlfn.XLOOKUP($M$5,Startliste!$A$15:$A$60,Startliste!$F$15:$F$60,\"\"))","v":""},null,null,null,"Kat.",{"$f":"IF(_xlfn.XLOOKUP(M5,Startliste!$A$15:$A$60,Startliste!$C$15:$C$60)=\"\",\"\",_xlfn.XLOOKUP($M$5,Startliste!$A$15:$A$60,Startliste!$I$15:$I$60,\"\"))","v":""},null,10,null,{"$f":"_xlfn.XLOOKUP($M$5,Startliste!A:A,Startliste!B:B,\"\")","v":0}]
[]
[null,null,null,"Keine Mouchen erfassen, nur Werte zwischen 1-10"]
["Passen","Scheiben-Nr. ",null,"Schüsse",null,null,null,null,null,null,null,null,null,null,"Total"]
[null,"Von","Bis",1,2,3,4,5,6,7,8,9,10]
["1 - 10",null,null,null,null,null,null,null,null,null,null,null,null,null,{"$f":"SUM(D10:M10)+AA10","v":0},null,{"$f":"IF(D10=\"M\",10)","v":false},{"$f":"IF(E10=\"M\",10)","v":false},false,false,false,false,false,false,false,false,{"$f":"SUM(Q10:Z10)","v":0}]
["11 - 20",null,null,null,null,null,null,null,null,null,null,null,null,null,{"$f":"SUM(D11:M11)+AA11","v":0},null,{"$f":"IF(D11=\"M\",10)","v":false},{"$f":"IF(E11=\"M\",10)","v":false},false,false,false,false,false,false,false,false,{"$f":"SUM(Q11:Z11)","v":0}]
["21 - 30",null,null,null,null,null,null,null,null,null,null,null,null,null,{"$f":"SUM(D12:M12)+AA12","v":0},null,{"$f":"IF(D12=\"M\",10)","v":false},{"$f":"IF(E12=\"M\",10)","v":false},false,false,false,false,false,false,false,false,{"$f":"SUM(Q12:Z12)","v":0}]
[null,null,"21 - 40",null,null,null,null,null,null,null,null,null,null,8,{"$f":"SUM(D13:M13)+AA13","v":0},null,{"$f":"IF(D13=\"M\",10)","v":false},{"$f":"IF(E13=\"M\",10)","v":false},{"$f":"IF(F13=\"M\",10)","v":false},{"$f":"IF(G13=\"M\",10)","v":false},{"$f":"IF(H13=\"M\",10)","v":false},{"$f":"IF(I13=\"M\",10)","v":false},{"$f":"IF(J13=\"M\",10)","v":false},{"$f":"IF(K13=\"M\",10)","v":false},{"$f":"IF(L13=\"M\",10)","v":false},{"$f":"IF(M13=\"M\",10)","v":false},{"$f":"SUM(Q13:Z13)","v":0}]
[null,null,null,null,null,null,null,null,null,null,null,"Resultat",null,null,{"$f":"SUM(O10:O13)","v":0}]
[]
[null,null,"Wert",10,9,8,7,6,5,4,3,2,1]
[null,null,"Anzahl",{"$f":"COUNTIF($D10:$M13,\"10\")+O18","v":0},{"$f":"COUNTIF($D10:$M13,\"9\")","v":0},{"$f":"COUNTIF($D10:$M13,\"8\")","v":0},{"$f":"COUNTIF($D10:$M13,\"7\")","v":0},{"$f":"COUNTIF($D10:$M13,\"6\")","v":0},{"$f":"COUNTIF($D10:$M13,\"5\")","v":0},{"$f":"COUNTIF($D10:$M13,\"4\")","v":0},{"$f":"COUNTIF($D10:$M13,\"3\")","v":0},{"$f":"COUNTIF($D10:$M13,\"2\")","v":0},{"$f":"COUNTIF($D10:$M13,\"1\")","v":0}]

{"sheet":"11","index":11,"n_rows":17,"n_cols":27,"rows_kept":17,"cut":false,"hidden":false,"merged":[[7,0,8,0],[7,14,8,14],[13,11,13,12],[4,2,4,3],[0,11,0,12],[0,5,0,10],[4,5,4,8],[7,1,7,2],[7,3,7,12]]}
[null,null,{"$f":"Startliste!D1","v":"Qualifikation"},null,null,{"$f":"Startliste!D2","v":"Meisterschaft der Veteranen"},null,null,null,null,null,{"$f":"Startliste!H2","v":"2025-12-31"}]
[null,null,"Lizenz-Nr.",{"$f":"IF(_xlfn.XLOOKUP($M$5,Startliste!$A$15:$A$60,Startliste!$B$15:$B$60)=\"\",\"\",_xlfn.XLOOKUP($M$5,Startliste!$A$15:$A$60,Startliste!$B$15:$B$60))","v":0},null,null,null,null,null,null,null,null,null,null,null,null,null,null,null,null,null,1]
[]
[null,"Name",{"$f":"IF(_xlfn.XLOOKUP(M5,Startliste!$A$15:$A$60,Startliste!$C$15:$C$60)=\"\",\"\",_xlfn.XLOOKUP($M$5,Startliste!$A$15:$A$60,Startliste!$C$15:$C$60,\"\"))","v":""},null,"Vorname",{"$f":"IF(_xlfn.XLOOKUP(M5,Startliste!$A$15:$A$60,Startliste!$C$15:$C$60)=\"\",\"\",_xlfn.XLOOKUP($M$5,Startliste!$A$15:$A$60,Startliste!$D$15:$D$60,\"\"))","v":""},null,null,null,"St.",{"$f":"IF(_xlfn.XLOOKUP(M5,Startliste!$A$15:$A$60,Startliste!$C$15:$C$60)=\"\",\"\",_xlfn.XLOOKUP($M$5,Startliste!$A$15:$A$60,Startliste!$G$15:$G$60,\"\"))","v":""},null,"Start-Nr.",null,"Lizenz-Nr."]
[null,"Geburtsdatum",{"$f":"IF(_xlfn.XLOOKUP(M5,Startliste!$A$15:$A$60,Startliste!$C$15:$C$60)=\"\",\"\",_xlfn.XLOOKUP($M$5,Startliste!$A$15:$A$60,Startliste!$E$15:$E$60,\"\"))","v":""},null,"Sektion",{"$f":"IF(_xlfn.XLOOKUP(M5,Startliste!$A$15:$A$60,Startliste!$C$15:$C$60)=\"\",\"\",_xlfn.XLOOKUP($M$5,Startliste!$A$15:$A$60,Startliste!$F$15:$F$60,\"\"))","v":""},null,null,null,"Kat.",{"$f":"IF(_xlfn.XLOOKUP(M5,Startliste!$A$15:$A$60,Startliste!$C$15:$C$60)=\"\",\"\",_xlfn.XLOOKUP($M$5,Startliste!$A$15:$A$60,Startliste!$I$15:$I$60,\"\"))","v":""},null,11,null,{"$f":"_xlfn.XLOOKUP($M$5,Startliste!A:A,Startliste!B:B,\"\")","v":0}]
[]
[null,null,null,"Keine Mouchen erfassen, nur Werte zwischen 1-10"]
["Passen","Scheiben-Nr. ",null,"Schüsse",null,null,null,null,null,null,null,null,null,null,"Total"]
[null,"Von","Bis",1,2,3,4,5,6,7,8,9,10]
["1 - 10",null,null,null,null,null,null,null,null,null,null,null,null,null,{"$f":"SUM(D10:M10)+AA10","v":0},null,{"$f":"IF(D10=\"M\",10)","v":false},{"$f":"IF(E10=\"M\",10)","v":false},false,false,false,false,false,false,false,false,{"$f":"SUM(Q10:Z10)","v":0}]
["11 - 20",null,null,null,null,null,null,null,null,null,null,null,null,null,{"$f":"SUM(D11:M11)+AA11","v":0},null,{"$f":"IF(D11=\"M\",10)","v":false},{"$f":"IF(E11=\"M\",10)","v":false},false,false,false,false,false,false,false,false,{"$f":"SUM(Q11:Z11)","v":0}]
["21 - 30",null,null,null,null,null,null,null,null,null,null,null,null,null,{"$f":"SUM(D12:M12)+AA12","v":0},null,{"$f":"IF(D12=\"M\",10)","v":false},{"$f":"IF(E12=\"M\",10)","v":false},false,false,false,false,false,false,false,false,{"$f":"SUM(Q12:Z12)","v":0}]
[null,null,"21 - 40",null,null,null,null,null,null,null,null,null,null,8,{"$f":"SUM(D13:M13)+AA13","v":0},null,{"$f":"IF(D13=\"M\",10)","v":false},{"$f":"IF(E13=\"M\",10)","v":false},{"$f":"IF(F13=\"M\",10)","v":false},{"$f":"IF(G13=\"M\",10)","v":false},{"$f":"IF(H13=\"M\",10)","v":false},{"$f":"IF(I13=\"M\",10)","v":false},{"$f":"IF(J13=\"M\",10)","v":false},{"$f":"IF(K13=\"M\",10)","v":false},{"$f":"IF(L13=\"M\",10)","v":false},{"$f":"IF(M13=\"M\",10)","v":false},{"$f":"SUM(Q13:Z13)","v":0}]
[null,null,null,null,null,null,null,null,null,null,null,"Resultat",null,null,{"$f":"SUM(O10:O13)","v":0}]
[]
[null,null,"Wert",10,9,8,7,6,5,4,3,2,1]
[null,null,"Anzahl",{"$f":"COUNTIF($D10:$M13,\"10\")+O18","v":0},{"$f":"COUNTIF($D10:$M13,\"9\")","v":0},{"$f":"COUNTIF($D10:$M13,\"8\")","v":0},{"$f":"COUNTIF($D10:$M13,\"7\")","v":0},{"$f":"COUNTIF($D10:$M13,\"6\")","v":0},{"$f":"COUNTIF($D10:$M13,\"5\")","v":0},{"$f":"COUNTIF($D10:$M13,\"4\")","v":0},{"$f":"COUNTIF($D10:$M13,\"3\")","v":0},{"$f":"COUNTIF($D10:$M13,\"2\")","v":0},{"$f":"COUNTIF($D10:$M13,\"1\")","v":0}]

{"sheet":"12","index":12,"n_rows":17,"n_cols":27,"rows_kept":17,"cut":false,"hidden":false,"merged":[[7,0,8,0],[7,14,8,14],[13,11,13,12],[4,2,4,3],[0,11,0,12],[0,5,0,10],[4,5,4,8],[7,1,7,2],[7,3,7,12]]}
[null,null,{"$f":"Startliste!D1","v":"Qualifikation"},null,null,{"$f":"Startliste!D2","v":"Meisterschaft der Veteranen"},null,null,null,null,null,{"$f":"Startliste!H2","v":"2025-12-31"}]
[null,null,"Lizenz-Nr.",{"$f":"IF(_xlfn.XLOOKUP($M$5,Startliste!$A$15:$A$60,Startliste!$B$15:$B$60)=\"\",\"\",_xlfn.XLOOKUP($M$5,Startliste!$A$15:$A$60,Startliste!$B$15:$B$60))","v":0},null,null,null,null,null,null,null,null,null,null,null,null,null,null,null,null,null,1]
[]
[null,"Name",{"$f":"IF(_xlfn.XLOOKUP(M5,Startliste!$A$15:$A$60,Startliste!$C$15:$C$60)=\"\",\"\",_xlfn.XLOOKUP($M$5,Startliste!$A$15:$A$60,Startliste!$C$15:$C$60,\"\"))","v":""},null,"Vorname",{"$f":"IF(_xlfn.XLOOKUP(M5,Startliste!$A$15:$A$60,Startliste!$C$15:$C$60)=\"\",\"\",_xlfn.XLOOKUP($M$5,Startliste!$A$15:$A$60,Startliste!$D$15:$D$60,\"\"))","v":""},null,null,null,"St.",{"$f":"IF(_xlfn.XLOOKUP(M5,Startliste!$A$15:$A$60,Startliste!$C$15:$C$60)=\"\",\"\",_xlfn.XLOOKUP($M$5,Startliste!$A$15:$A$60,Startliste!$G$15:$G$60,\"\"))","v":""},null,"Start-Nr.",null,"Lizenz-Nr."]
[null,"Geburtsdatum",{"$f":"IF(_xlfn.XLOOKUP(M5,Startliste!$A$15:$A$60,Startliste!$C$15:$C$60)=\"\",\"\",_xlfn.XLOOKUP($M$5,Startliste!$A$15:$A$60,Startliste!$E$15:$E$60,\"\"))","v":""},null,"Sektion",{"$f":"IF(_xlfn.XLOOKUP(M5,Startliste!$A$15:$A$60,Startliste!$C$15:$C$60)=\"\",\"\",_xlfn.XLOOKUP($M$5,Startliste!$A$15:$A$60,Startliste!$F$15:$F$60,\"\"))","v":""},null,null,null,"Kat.",{"$f":"IF(_xlfn.XLOOKUP(M5,Startliste!$A$15:$A$60,Startliste!$C$15:$C$60)=\"\",\"\",_xlfn.XLOOKUP($M$5,Startliste!$A$15:$A$60,Startliste!$I$15:$I$60,\"\"))","v":""},null,12,null,{"$f":"_xlfn.XLOOKUP($M$5,Startliste!A:A,Startliste!B:B,\"\")","v":0}]
[]
[null,null,null,"Keine Mouchen erfassen, nur Werte zwischen 1-10"]
["Passen","Scheiben-Nr. ",null,"Schüsse",null,null,null,null,null,null,null,null,null,null,"Total"]
[null,"Von","Bis",1,2,3,4,5,6,7,8,9,10]
["1 - 10",null,null,null,null,null,null,null,null,null,null,null,null,null,{"$f":"SUM(D10:M10)+AA10","v":0},null,{"$f":"IF(D10=\"M\",10)","v":false},{"$f":"IF(E10=\"M\",10)","v":false},false,false,false,false,false,false,false,false,{"$f":"SUM(Q10:Z10)","v":0}]
["11 - 20",null,null,null,null,null,null,null,null,null,null,null,null,null,{"$f":"SUM(D11:M11)+AA11","v":0},null,{"$f":"IF(D11=\"M\",10)","v":false},{"$f":"IF(E11=\"M\",10)","v":false},false,false,false,false,false,false,false,false,{"$f":"SUM(Q11:Z11)","v":0}]
["21 - 30",null,null,null,null,null,null,null,null,null,null,null,null,null,{"$f":"SUM(D12:M12)+AA12","v":0},null,{"$f":"IF(D12=\"M\",10)","v":false},{"$f":"IF(E12=\"M\",10)","v":false},false,false,false,false,false,false,false,false,{"$f":"SUM(Q12:Z12)","v":0}]
[null,null,"21 - 40",null,null,null,null,null,null,null,null,null,null,8,{"$f":"SUM(D13:M13)+AA13","v":0},null,{"$f":"IF(D13=\"M\",10)","v":false},{"$f":"IF(E13=\"M\",10)","v":false},{"$f":"IF(F13=\"M\",10)","v":false},{"$f":"IF(G13=\"M\",10)","v":false},{"$f":"IF(H13=\"M\",10)","v":false},{"$f":"IF(I13=\"M\",10)","v":false},{"$f":"IF(J13=\"M\",10)","v":false},{"$f":"IF(K13=\"M\",10)","v":false},{"$f":"IF(L13=\"M\",10)","v":false},{"$f":"IF(M13=\"M\",10)","v":false},{"$f":"SUM(Q13:Z13)","v":0}]
[null,null,null,null,null,null,null,null,null,null,null,"Resultat",null,null,{"$f":"SUM(O10:O13)","v":0}]
[]
[null,null,"Wert",10,9,8,7,6,5,4,3,2,1]
[null,null,"Anzahl",{"$f":"COUNTIF($D10:$M13,\"10\")+O18","v":0},{"$f":"COUNTIF($D10:$M13,\"9\")","v":0},{"$f":"COUNTIF($D10:$M13,\"8\")","v":0},{"$f":"COUNTIF($D10:$M13,\"7\")","v":0},{"$f":"COUNTIF($D10:$M13,\"6\")","v":0},{"$f":"COUNTIF($D10:$M13,\"5\")","v":0},{"$f":"COUNTIF($D10:$M13,\"4\")","v":0},{"$f":"COUNTIF($D10:$M13,\"3\")","v":0},{"$f":"COUNTIF($D10:$M13,\"2\")","v":0},{"$f":"COUNTIF($D10:$M13,\"1\")","v":0}]

{"sheet":"13","index":13,"n_rows":17,"n_cols":27,"rows_kept":17,"cut":false,"hidden":false,"merged":[[7,0,8,0],[7,14,8,14],[13,11,13,12],[4,2,4,3],[0,11,0,12],[0,5,0,10],[4,5,4,8],[7,1,7,2],[7,3,7,12]]}
[null,null,{"$f":"Startliste!D1","v":"Qualifikation"},null,null,{"$f":"Startliste!D2","v":"Meisterschaft der Veteranen"},null,null,null,null,null,{"$f":"Startliste!H2","v":"2025-12-31"}]
[null,null,"Lizenz-Nr.",{"$f":"IF(_xlfn.XLOOKUP($M$5,Startliste!$A$15:$A$60,Startliste!$B$15:$B$60)=\"\",\"\",_xlfn.XLOOKUP($M$5,Startliste!$A$15:$A$60,Startliste!$B$15:$B$60))","v":0},null,null,null,null,null,null,null,null,null,null,null,null,null,null,null,null,null,1]
[]
[null,"Name",{"$f":"IF(_xlfn.XLOOKUP(M5,Startliste!$A$15:$A$60,Startliste!$C$15:$C$60)=\"\",\"\",_xlfn.XLOOKUP($M$5,Startliste!$A$15:$A$60,Startliste!$C$15:$C$60,\"\"))","v":""},null,"Vorname",{"$f":"IF(_xlfn.XLOOKUP(M5,Startliste!$A$15:$A$60,Startliste!$C$15:$C$60)=\"\",\"\",_xlfn.XLOOKUP($M$5,Startliste!$A$15:$A$60,Startliste!$D$15:$D$60,\"\"))","v":""},null,null,null,"St.",{"$f":"IF(_xlfn.XLOOKUP(M5,Startliste!$A$15:$A$60,Startliste!$C$15:$C$60)=\"\",\"\",_xlfn.XLOOKUP($M$5,Startliste!$A$15:$A$60,Startliste!$G$15:$G$60,\"\"))","v":""},null,"Start-Nr.",null,"Lizenz-Nr."]
[null,"Geburtsdatum",{"$f":"IF(_xlfn.XLOOKUP(M5,Startliste!$A$15:$A$60,Startliste!$C$15:$C$60)=\"\",\"\",_xlfn.XLOOKUP($M$5,Startliste!$A$15:$A$60,Startliste!$E$15:$E$60,\"\"))","v":""},null,"Sektion",{"$f":"IF(_xlfn.XLOOKUP(M5,Startliste!$A$15:$A$60,Startliste!$C$15:$C$60)=\"\",\"\",_xlfn.XLOOKUP($M$5,Startliste!$A$15:$A$60,Startliste!$F$15:$F$60,\"\"))","v":""},null,null,null,"Kat.",{"$f":"IF(_xlfn.XLOOKUP(M5,Startliste!$A$15:$A$60,Startliste!$C$15:$C$60)=\"\",\"\",_xlfn.XLOOKUP($M$5,Startliste!$A$15:$A$60,Startliste!$I$15:$I$60,\"\"))","v":""},null,13,null,{"$f":"_xlfn.XLOOKUP($M$5,Startliste!A:A,Startliste!B:B,\"\")","v":0}]
[]
[null,null,null,"Keine Mouchen erfassen, nur Werte zwischen 1-10"]
["Passen","Scheiben-Nr. ",null,"Schüsse",null,null,null,null,null,null,null,null,null,null,"Total"]
[null,"Von","Bis",1,2,3,4,5,6,7,8,9,10]
["1 - 10",null,null,null,null,null,null,null,null,null,null,null,null,null,{"$f":"SUM(D10:M10)+AA10","v":0},null,{"$f":"IF(D10=\"M\",10)","v":false},{"$f":"IF(E10=\"M\",10)","v":false},false,false,false,false,false,false,false,false,{"$f":"SUM(Q10:Z10)","v":0}]
["11 - 20",null,null,null,null,null,null,null,null,null,null,null,null,null,{"$f":"SUM(D11:M11)+AA11","v":0},null,{"$f":"IF(D11=\"M\",10)","v":false},{"$f":"IF(E11=\"M\",10)","v":false},false,false,false,false,false,false,false,false,{"$f":"SUM(Q11:Z11)","v":0}]
["21 - 30",null,null,null,null,null,null,null,null,null,null,null,null,null,{"$f":"SUM(D12:M12)+AA12","v":0},null,{"$f":"IF(D12=\"M\",10)","v":false},{"$f":"IF(E12=\"M\",10)","v":false},false,false,false,false,false,false,false,false,{"$f":"SUM(Q12:Z12)","v":0}]
[null,null,"21 - 40",null,null,null,null,null,null,null,null,null,null,8,{"$f":"SUM(D13:M13)+AA13","v":0},null,{"$f":"IF(D13=\"M\",10)","v":false},{"$f":"IF(E13=\"M\",10)","v":false},{"$f":"IF(F13=\"M\",10)","v":false},{"$f":"IF(G13=\"M\",10)","v":false},{"$f":"IF(H13=\"M\",10)","v":false},{"$f":"IF(I13=\"M\",10)","v":false},{"$f":"IF(J13=\"M\",10)","v":false},{"$f":"IF(K13=\"M\",10)","v":false},{"$f":"IF(L13=\"M\",10)","v":false},{"$f":"IF(M13=\"M\",10)","v":false},{"$f":"SUM(Q13:Z13)","v":0}]
[null,null,null,null,null,null,null,null,null,null,null,"Resultat",null,null,{"$f":"SUM(O10:O13)","v":0}]
[]
[null,null,"Wert",10,9,8,7,6,5,4,3,2,1]
[null,null,"Anzahl",{"$f":"COUNTIF($D10:$M13,\"10\")+O18","v":0},{"$f":"COUNTIF($D10:$M13,\"9\")","v":0},{"$f":"COUNTIF($D10:$M13,\"8\")","v":0},{"$f":"COUNTIF($D10:$M13,\"7\")","v":0},{"$f":"COUNTIF($D10:$M13,\"6\")","v":0},{"$f":"COUNTIF($D10:$M13,\"5\")","v":0},{"$f":"COUNTIF($D10:$M13,\"4\")","v":0},{"$f":"COUNTIF($D10:$M13,\"3\")","v":0},{"$f":"COUNTIF($D10:$M13,\"2\")","v":0},{"$f":"COUNTIF($D10:$M13,\"1\")","v":0}]

{"sheet":"14","index":14,"n_rows":17,"n_cols":27,"rows_kept":17,"cut":false,"hidden":false,"merged":[[7,0,8,0],[7,14,8,14],[13,11,13,12],[4,2,4,3],[0,11,0,12],[0,5,0,10],[4,5,4,8],[7,1,7,2],[7,3,7,12]]}
[null,null,{"$f":"Startliste!D1","v":"Qualifikation"},null,null,{"$f":"Startliste!D2","v":"Meisterschaft der Veteranen"},null,null,null,null,null,{"$f":"Startliste!H2","v":"2025-12-31"}]
[null,null,"Lizenz-Nr.",{"$f":"IF(_xlfn.XLOOKUP($M$5,Startliste!$A$15:$A$60,Startliste!$B$15:$B$60)=\"\",\"\",_xlfn.XLOOKUP($M$5,Startliste!$A$15:$A$60,Startliste!$B$15:$B$60))","v":0},null,null,null,null,null,null,null,null,null,null,null,null,null,null,null,null,null,1]
[]
[null,"Name",{"$f":"IF(_xlfn.XLOOKUP(M5,Startliste!$A$15:$A$60,Startliste!$C$15:$C$60)=\"\",\"\",_xlfn.XLOOKUP($M$5,Startliste!$A$15:$A$60,Startliste!$C$15:$C$60,\"\"))","v":""},null,"Vorname",{"$f":"IF(_xlfn.XLOOKUP(M5,Startliste!$A$15:$A$60,Startliste!$C$15:$C$60)=\"\",\"\",_xlfn.XLOOKUP($M$5,Startliste!$A$15:$A$60,Startliste!$D$15:$D$60,\"\"))","v":""},null,null,null,"St.",{"$f":"IF(_xlfn.XLOOKUP(M5,Startliste!$A$15:$A$60,Startliste!$C$15:$C$60)=\"\",\"\",_xlfn.XLOOKUP($M$5,Startliste!$A$15:$A$60,Startliste!$G$15:$G$60,\"\"))","v":""},null,"Start-Nr.",null,"Lizenz-Nr."]
[null,"Geburtsdatum",{"$f":"IF(_xlfn.XLOOKUP(M5,Startliste!$A$15:$A$60,Startliste!$C$15:$C$60)=\"\",\"\",_xlfn.XLOOKUP($M$5,Startliste!$A$15:$A$60,Startliste!$E$15:$E$60,\"\"))","v":""},null,"Sektion",{"$f":"IF(_xlfn.XLOOKUP(M5,Startliste!$A$15:$A$60,Startliste!$C$15:$C$60)=\"\",\"\",_xlfn.XLOOKUP($M$5,Startliste!$A$15:$A$60,Startliste!$F$15:$F$60,\"\"))","v":""},null,null,null,"Kat.",{"$f":"IF(_xlfn.XLOOKUP(M5,Startliste!$A$15:$A$60,Startliste!$C$15:$C$60)=\"\",\"\",_xlfn.XLOOKUP($M$5,Startliste!$A$15:$A$60,Startliste!$I$15:$I$60,\"\"))","v":""},null,14,null,{"$f":"_xlfn.XLOOKUP($M$5,Startliste!A:A,Startliste!B:B,\"\")","v":0}]
[]
[null,null,null,"Keine Mouchen erfassen, nur Werte zwischen 1-10"]
["Passen","Scheiben-Nr. ",null,"Schüsse",null,null,null,null,null,null,null,null,null,null,"Total"]
[null,"Von","Bis",1,2,3,4,5,6,7,8,9,10]
["1 - 10",null,null,null,null,null,null,null,null,null,null,null,null,null,{"$f":"SUM(D10:M10)+AA10","v":0},null,{"$f":"IF(D10=\"M\",10)","v":false},{"$f":"IF(E10=\"M\",10)","v":false},false,false,false,false,false,false,false,false,{"$f":"SUM(Q10:Z10)","v":0}]
["11 - 20",null,null,null,null,null,null,null,null,null,null,null,null,null,{"$f":"SUM(D11:M11)+AA11","v":0},null,{"$f":"IF(D11=\"M\",10)","v":false},{"$f":"IF(E11=\"M\",10)","v":false},false,false,false,false,false,false,false,false,{"$f":"SUM(Q11:Z11)","v":0}]
["21 - 30",null,null,null,null,null,null,null,null,null,null,null,null,null,{"$f":"SUM(D12:M12)+AA12","v":0},null,{"$f":"IF(D12=\"M\",10)","v":false},{"$f":"IF(E12=\"M\",10)","v":false},false,false,false,false,false,false,false,false,{"$f":"SUM(Q12:Z12)","v":0}]
[null,null,"21 - 40",null,null,null,null,null,null,null,null,null,null,8,{"$f":"SUM(D13:M13)+AA13","v":0},null,{"$f":"IF(D13=\"M\",10)","v":false},{"$f":"IF(E13=\"M\",10)","v":false},{"$f":"IF(F13=\"M\",10)","v":false},{"$f":"IF(G13=\"M\",10)","v":false},{"$f":"IF(H13=\"M\",10)","v":false},{"$f":"IF(I13=\"M\",10)","v":false},{"$f":"IF(J13=\"M\",10)","v":false},{"$f":"IF(K13=\"M\",10)","v":false},{"$f":"IF(L13=\"M\",10)","v":false},{"$f":"IF(M13=\"M\",10)","v":false},{"$f":"SUM(Q13:Z13)","v":0}]
[null,null,null,null,null,null,null,null,null,null,null,"Resultat",null,null,{"$f":"SUM(O10:O13)","v":0}]
[]
[null,null,"Wert",10,9,8,7,6,5,4,3,2,1]
[null,null,"Anzahl",{"$f":"COUNTIF($D10:$M13,\"10\")+O18","v":0},{"$f":"COUNTIF($D10:$M13,\"9\")","v":0},{"$f":"COUNTIF($D10:$M13,\"8\")","v":0},{"$f":"COUNTIF($D10:$M13,\"7\")","v":0},{"$f":"COUNTIF($D10:$M13,\"6\")","v":0},{"$f":"COUNTIF($D10:$M13,\"5\")","v":0},{"$f":"COUNTIF($D10:$M13,\"4\")","v":0},{"$f":"COUNTIF($D10:$M13,\"3\")","v":0},{"$f":"COUNTIF($D10:$M13,\"2\")","v":0},{"$f":"COUNTIF($D10:$M13,\"1\")","v":0}]

{"sheet":"15","index":15,"n_rows":17,"n_cols":27,"rows_kept":17,"cut":false,"hidden":false,"merged":[[7,0,8,0],[7,14,8,14],[13,11,13,12],[4,2,4,3],[0,11,0,12],[0,5,0,10],[4,5,4,8],[7,1,7,2],[7,3,7,12]]}
[null,null,{"$f":"Startliste!D1","v":"Qualifikation"},null,null,{"$f":"Startliste!D2","v":"Meisterschaft der Veteranen"},null,null,null,null,null,{"$f":"Startliste!H2","v":"2025-12-31"}]
[null,null,"Lizenz-Nr.",{"$f":"IF(_xlfn.XLOOKUP($M$5,Startliste!$A$15:$A$60,Startliste!$B$15:$B$60)=\"\",\"\",_xlfn.XLOOKUP($M$5,Startliste!$A$15:$A$60,Startliste!$B$15:$B$60))","v":0},null,null,null,null,null,null,null,null,null,null,null,null,null,null,null,null,null,1]
[]
[null,"Name",{"$f":"IF(_xlfn.XLOOKUP(M5,Startliste!$A$15:$A$60,Startliste!$C$15:$C$60)=\"\",\"\",_xlfn.XLOOKUP($M$5,Startliste!$A$15:$A$60,Startliste!$C$15:$C$60,\"\"))","v":""},null,"Vorname",{"$f":"IF(_xlfn.XLOOKUP(M5,Startliste!$A$15:$A$60,Startliste!$C$15:$C$60)=\"\",\"\",_xlfn.XLOOKUP($M$5,Startliste!$A$15:$A$60,Startliste!$D$15:$D$60,\"\"))","v":""},null,null,null,"St.",{"$f":"IF(_xlfn.XLOOKUP(M5,Startliste!$A$15:$A$60,Startliste!$C$15:$C$60)=\"\",\"\",_xlfn.XLOOKUP($M$5,Startliste!$A$15:$A$60,Startliste!$G$15:$G$60,\"\"))","v":""},null,"Start-Nr.",null,"Lizenz-Nr."]
[null,"Geburtsdatum",{"$f":"IF(_xlfn.XLOOKUP(M5,Startliste!$A$15:$A$60,Startliste!$C$15:$C$60)=\"\",\"\",_xlfn.XLOOKUP($M$5,Startliste!$A$15:$A$60,Startliste!$E$15:$E$60,\"\"))","v":""},null,"Sektion",{"$f":"IF(_xlfn.XLOOKUP(M5,Startliste!$A$15:$A$60,Startliste!$C$15:$C$60)=\"\",\"\",_xlfn.XLOOKUP($M$5,Startliste!$A$15:$A$60,Startliste!$F$15:$F$60,\"\"))","v":""},null,null,null,"Kat.",{"$f":"IF(_xlfn.XLOOKUP(M5,Startliste!$A$15:$A$60,Startliste!$C$15:$C$60)=\"\",\"\",_xlfn.XLOOKUP($M$5,Startliste!$A$15:$A$60,Startliste!$I$15:$I$60,\"\"))","v":""},null,15,null,{"$f":"_xlfn.XLOOKUP($M$5,Startliste!A:A,Startliste!B:B,\"\")","v":0}]
[]
[null,null,null,"Keine Mouchen erfassen, nur Werte zwischen 1-10"]
["Passen","Scheiben-Nr. ",null,"Schüsse",null,null,null,null,null,null,null,null,null,null,"Total"]
[null,"Von","Bis",1,2,3,4,5,6,7,8,9,10]
["1 - 10",null,null,null,null,null,null,null,null,null,null,null,null,null,{"$f":"SUM(D10:M10)+AA10","v":0},null,{"$f":"IF(D10=\"M\",10)","v":false},{"$f":"IF(E10=\"M\",10)","v":false},false,false,false,false,false,false,false,false,{"$f":"SUM(Q10:Z10)","v":0}]
["11 - 20",null,null,null,null,null,null,null,null,null,null,null,null,null,{"$f":"SUM(D11:M11)+AA11","v":0},null,{"$f":"IF(D11=\"M\",10)","v":false},{"$f":"IF(E11=\"M\",10)","v":false},false,false,false,false,false,false,false,false,{"$f":"SUM(Q11:Z11)","v":0}]
["21 - 30",null,null,null,null,null,null,null,null,null,null,null,null,null,{"$f":"SUM(D12:M12)+AA12","v":0},null,{"$f":"IF(D12=\"M\",10)","v":false},{"$f":"IF(E12=\"M\",10)","v":false},false,false,false,false,false,false,false,false,{"$f":"SUM(Q12:Z12)","v":0}]
[null,null,"21 - 40",null,null,null,null,null,null,null,null,null,null,8,{"$f":"SUM(D13:M13)+AA13","v":0},null,{"$f":"IF(D13=\"M\",10)","v":false},{"$f":"IF(E13=\"M\",10)","v":false},{"$f":"IF(F13=\"M\",10)","v":false},{"$f":"IF(G13=\"M\",10)","v":false},{"$f":"IF(H13=\"M\",10)","v":false},{"$f":"IF(I13=\"M\",10)","v":false},{"$f":"IF(J13=\"M\",10)","v":false},{"$f":"IF(K13=\"M\",10)","v":false},{"$f":"IF(L13=\"M\",10)","v":false},{"$f":"IF(M13=\"M\",10)","v":false},{"$f":"SUM(Q13:Z13)","v":0}]
[null,null,null,null,null,null,null,null,null,null,null,"Resultat",null,null,{"$f":"SUM(O10:O13)","v":0}]
[]
[null,null,"Wert",10,9,8,7,6,5,4,3,2,1]
[null,null,"Anzahl",{"$f":"COUNTIF($D10:$M13,\"10\")+O18","v":0},{"$f":"COUNTIF($D10:$M13,\"9\")","v":0},{"$f":"COUNTIF($D10:$M13,\"8\")","v":0},{"$f":"COUNTIF($D10:$M13,\"7\")","v":0},{"$f":"COUNTIF($D10:$M13,\"6\")","v":0},{"$f":"COUNTIF($D10:$M13,\"5\")","v":0},{"$f":"COUNTIF($D10:$M13,\"4\")","v":0},{"$f":"COUNTIF($D10:$M13,\"3\")","v":0},{"$f":"COUNTIF($D10:$M13,\"2\")","v":0},{"$f":"COUNTIF($D10:$M13,\"1\")","v":0}]

{"sheet":"16","index":16,"n_rows":17,"n_cols":27,"rows_kept":17,"cut":false,"hidden":false,"merged":[[7,0,8,0],[7,14,8,14],[13,11,13,12],[4,2,4,3],[0,11,0,12],[0,5,0,10],[4,5,4,8],[7,1,7,2],[7,3,7,12]]}
[null,null,{"$f":"Startliste!D1","v":"Qualifikation"},null,null,{"$f":"Startliste!D2","v":"Meisterschaft der Veteranen"},null,null,null,null,null,{"$f":"Startliste!H2","v":"2025-12-31"}]
[null,null,"Lizenz-Nr.",{"$f":"IF(_xlfn.XLOOKUP($M$5,Startliste!$A$15:$A$60,Startliste!$B$15:$B$60)=\"\",\"\",_xlfn.XLOOKUP($M$5,Startliste!$A$15:$A$60,Startliste!$B$15:$B$60))","v":0},null,null,null,null,null,null,null,null,null,null,null,null,null,null,null,null,null,1]
[]
[null,"Name",{"$f":"IF(_xlfn.XLOOKUP(M5,Startliste!$A$15:$A$60,Startliste!$C$15:$C$60)=\"\",\"\",_xlfn.XLOOKUP($M$5,Startliste!$A$15:$A$60,Startliste!$C$15:$C$60,\"\"))","v":""},null,"Vorname",{"$f":"IF(_xlfn.XLOOKUP(M5,Startliste!$A$15:$A$60,Startliste!$C$15:$C$60)=\"\",\"\",_xlfn.XLOOKUP($M$5,Startliste!$A$15:$A$60,Startliste!$D$15:$D$60,\"\"))","v":""},null,null,null,"St.",{"$f":"IF(_xlfn.XLOOKUP(M5,Startliste!$A$15:$A$60,Startliste!$C$15:$C$60)=\"\",\"\",_xlfn.XLOOKUP($M$5,Startliste!$A$15:$A$60,Startliste!$G$15:$G$60,\"\"))","v":""},null,"Start-Nr.",null,"Lizenz-Nr."]
[null,"Geburtsdatum",{"$f":"IF(_xlfn.XLOOKUP(M5,Startliste!$A$15:$A$60,Startliste!$C$15:$C$60)=\"\",\"\",_xlfn.XLOOKUP($M$5,Startliste!$A$15:$A$60,Startliste!$E$15:$E$60,\"\"))","v":""},null,"Sektion",{"$f":"IF(_xlfn.XLOOKUP(M5,Startliste!$A$15:$A$60,Startliste!$C$15:$C$60)=\"\",\"\",_xlfn.XLOOKUP($M$5,Startliste!$A$15:$A$60,Startliste!$F$15:$F$60,\"\"))","v":""},null,null,null,"Kat.",{"$f":"IF(_xlfn.XLOOKUP(M5,Startliste!$A$15:$A$60,Startliste!$C$15:$C$60)=\"\",\"\",_xlfn.XLOOKUP($M$5,Startliste!$A$15:$A$60,Startliste!$I$15:$I$60,\"\"))","v":""},null,16,null,{"$f":"_xlfn.XLOOKUP($M$5,Startliste!A:A,Startliste!B:B,\"\")","v":0}]
[]
[null,null,null,"Keine Mouchen erfassen, nur Werte zwischen 1-10"]
["Passen","Scheiben-Nr. ",null,"Schüsse",null,null,null,null,null,null,null,null,null,null,"Total"]
[null,"Von","Bis",1,2,3,4,5,6,7,8,9,10]
["1 - 10",null,null,null,null,null,null,null,null,null,null,null,null,null,{"$f":"SUM(D10:M10)+AA10","v":0},null,{"$f":"IF(D10=\"M\",10)","v":false},{"$f":"IF(E10=\"M\",10)","v":false},false,false,false,false,false,false,false,false,{"$f":"SUM(Q10:Z10)","v":0}]
["11 - 20",null,null,null,null,null,null,null,null,null,null,null,null,null,{"$f":"SUM(D11:M11)+AA11","v":0},null,{"$f":"IF(D11=\"M\",10)","v":false},{"$f":"IF(E11=\"M\",10)","v":false},false,false,false,false,false,false,false,false,{"$f":"SUM(Q11:Z11)","v":0}]
["21 - 30",null,null,null,null,null,null,null,null,null,null,null,null,null,{"$f":"SUM(D12:M12)+AA12","v":0},null,{"$f":"IF(D12=\"M\",10)","v":false},{"$f":"IF(E12=\"M\",10)","v":false},false,false,false,false,false,false,false,false,{"$f":"SUM(Q12:Z12)","v":0}]
[null,null,"21 - 40",null,null,null,null,null,null,null,null,null,null,8,{"$f":"SUM(D13:M13)+AA13","v":0},null,{"$f":"IF(D13=\"M\",10)","v":false},{"$f":"IF(E13=\"M\",10)","v":false},{"$f":"IF(F13=\"M\",10)","v":false},{"$f":"IF(G13=\"M\",10)","v":false},{"$f":"IF(H13=\"M\",10)","v":false},{"$f":"IF(I13=\"M\",10)","v":false},{"$f":"IF(J13=\"M\",10)","v":false},{"$f":"IF(K13=\"M\",10)","v":false},{"$f":"IF(L13=\"M\",10)","v":false},{"$f":"IF(M13=\"M\",10)","v":false},{"$f":"SUM(Q13:Z13)","v":0}]
[null,null,null,null,null,null,null,null,null,null,null,"Resultat",null,null,{"$f":"SUM(O10:O13)","v":0}]
[]
[null,null,"Wert",10,9,8,7,6,5,4,3,2,1]
[null,null,"Anzahl",{"$f":"COUNTIF($D10:$M13,\"10\")+O18","v":0},{"$f":"COUNTIF($D10:$M13,\"9\")","v":0},{"$f":"COUNTIF($D10:$M13,\"8\")","v":0},{"$f":"COUNTIF($D10:$M13,\"7\")","v":0},{"$f":"COUNTIF($D10:$M13,\"6\")","v":0},{"$f":"COUNTIF($D10:$M13,\"5\")","v":0},{"$f":"COUNTIF($D10:$M13,\"4\")","v":0},{"$f":"COUNTIF($D10:$M13,\"3\")","v":0},{"$f":"COUNTIF($D10:$M13,\"2\")","v":0},{"$f":"COUNTIF($D10:$M13,\"1\")","v":0}]

{"sheet":"17","index":17,"n_rows":17,"n_cols":27,"rows_kept":17,"cut":false,"hidden":false,"merged":[[7,0,8,0],[7,14,8,14],[13,11,13,12],[4,2,4,3],[0,11,0,12],[0,5,0,10],[4,5,4,8],[7,1,7,2],[7,3,7,12]]}
[null,null,{"$f":"Startliste!D1","v":"Qualifikation"},null,null,{"$f":"Startliste!D2","v":"Meisterschaft der Veteranen"},null,null,null,null,null,{"$f":"Startliste!H2","v":"2025-12-31"}]
[null,null,"Lizenz-Nr.",{"$f":"IF(_xlfn.XLOOKUP($M$5,Startliste!$A$15:$A$60,Startliste!$B$15:$B$60)=\"\",\"\",_xlfn.XLOOKUP($M$5,Startliste!$A$15:$A$60,Startliste!$B$15:$B$60))","v":0},null,null,null,null,null,null,null,null,null,null,null,null,null,null,null,null,null,1]
[]
[null,"Name",{"$f":"IF(_xlfn.XLOOKUP(M5,Startliste!$A$15:$A$60,Startliste!$C$15:$C$60)=\"\",\"\",_xlfn.XLOOKUP($M$5,Startliste!$A$15:$A$60,Startliste!$C$15:$C$60,\"\"))","v":""},null,"Vorname",{"$f":"IF(_xlfn.XLOOKUP(M5,Startliste!$A$15:$A$60,Startliste!$C$15:$C$60)=\"\",\"\",_xlfn.XLOOKUP($M$5,Startliste!$A$15:$A$60,Startliste!$D$15:$D$60,\"\"))","v":""},null,null,null,"St.",{"$f":"IF(_xlfn.XLOOKUP(M5,Startliste!$A$15:$A$60,Startliste!$C$15:$C$60)=\"\",\"\",_xlfn.XLOOKUP($M$5,Startliste!$A$15:$A$60,Startliste!$G$15:$G$60,\"\"))","v":""},null,"Start-Nr.",null,"Lizenz-Nr."]
[null,"Geburtsdatum",{"$f":"IF(_xlfn.XLOOKUP(M5,Startliste!$A$15:$A$60,Startliste!$C$15:$C$60)=\"\",\"\",_xlfn.XLOOKUP($M$5,Startliste!$A$15:$A$60,Startliste!$E$15:$E$60,\"\"))","v":""},null,"Sektion",{"$f":"IF(_xlfn.XLOOKUP(M5,Startliste!$A$15:$A$60,Startliste!$C$15:$C$60)=\"\",\"\",_xlfn.XLOOKUP($M$5,Startliste!$A$15:$A$60,Startliste!$F$15:$F$60,\"\"))","v":""},null,null,null,"Kat.",{"$f":"IF(_xlfn.XLOOKUP(M5,Startliste!$A$15:$A$60,Startliste!$C$15:$C$60)=\"\",\"\",_xlfn.XLOOKUP($M$5,Startliste!$A$15:$A$60,Startliste!$I$15:$I$60,\"\"))","v":""},null,17,null,{"$f":"_xlfn.XLOOKUP($M$5,Startliste!A:A,Startliste!B:B,\"\")","v":0}]
[]
[null,null,null,"Keine Mouchen erfassen, nur Werte zwischen 1-10"]
["Passen","Scheiben-Nr. ",null,"Schüsse",null,null,null,null,null,null,null,null,null,null,"Total"]
[null,"Von","Bis",1,2,3,4,5,6,7,8,9,10]
["1 - 10",null,null,null,null,null,null,null,null,null,null,null,null,null,{"$f":"SUM(D10:M10)+AA10","v":0},null,{"$f":"IF(D10=\"M\",10)","v":false},{"$f":"IF(E10=\"M\",10)","v":false},false,false,false,false,false,false,false,false,{"$f":"SUM(Q10:Z10)","v":0}]
["11 - 20",null,null,null,null,null,null,null,null,null,null,null,null,null,{"$f":"SUM(D11:M11)+AA11","v":0},null,{"$f":"IF(D11=\"M\",10)","v":false},{"$f":"IF(E11=\"M\",10)","v":false},false,false,false,false,false,false,false,false,{"$f":"SUM(Q11:Z11)","v":0}]
["21 - 30",null,null,null,null,null,null,null,null,null,null,null,null,null,{"$f":"SUM(D12:M12)+AA12","v":0},null,{"$f":"IF(D12=\"M\",10)","v":false},{"$f":"IF(E12=\"M\",10)","v":false},false,false,false,false,false,false,false,false,{"$f":"SUM(Q12:Z12)","v":0}]
[null,null,"21 - 40",null,null,null,null,null,null,null,null,null,null,8,{"$f":"SUM(D13:M13)+AA13","v":0},null,{"$f":"IF(D13=\"M\",10)","v":false},{"$f":"IF(E13=\"M\",10)","v":false},{"$f":"IF(F13=\"M\",10)","v":false},{"$f":"IF(G13=\"M\",10)","v":false},{"$f":"IF(H13=\"M\",10)","v":false},{"$f":"IF(I13=\"M\",10)","v":false},{"$f":"IF(J13=\"M\",10)","v":false},{"$f":"IF(K13=\"M\",10)","v":false},{"$f":"IF(L13=\"M\",10)","v":false},{"$f":"IF(M13=\"M\",10)","v":false},{"$f":"SUM(Q13:Z13)","v":0}]
[null,null,null,null,null,null,null,null,null,null,null,"Resultat",null,null,{"$f":"SUM(O10:O13)","v":0}]
[]
[null,null,"Wert",10,9,8,7,6,5,4,3,2,1]
[null,null,"Anzahl",{"$f":"COUNTIF($D10:$M13,\"10\")+O18","v":0},{"$f":"COUNTIF($D10:$M13,\"9\")","v":0},{"$f":"COUNTIF($D10:$M13,\"8\")","v":0},{"$f":"COUNTIF($D10:$M13,\"7\")","v":0},{"$f":"COUNTIF($D10:$M13,\"6\")","v":0},{"$f":"COUNTIF($D10:$M13,\"5\")","v":0},{"$f":"COUNTIF($D10:$M13,\"4\")","v":0},{"$f":"COUNTIF($D10:$M13,\"3\")","v":0},{"$f":"COUNTIF($D10:$M13,\"2\")","v":0},{"$f":"COUNTIF($D10:$M13,\"1\")","v":0}]

{"sheet":"18","index":18,"n_rows":17,"n_cols":27,"rows_kept":17,"cut":false,"hidden":false,"merged":[[7,0,8,0],[7,14,8,14],[13,11,13,12],[4,2,4,3],[0,11,0,12],[0,5,0,10],[4,5,4,8],[7,1,7,2],[7,3,7,12]]}
[null,null,{"$f":"Startliste!D1","v":"Qualifikation"},null,null,{"$f":"Startliste!D2","v":"Meisterschaft der Veteranen"},null,null,null,null,null,{"$f":"Startliste!H2","v":"2025-12-31"}]
[null,null,"Lizenz-Nr.",{"$f":"IF(_xlfn.XLOOKUP($M$5,Startliste!$A$15:$A$60,Startliste!$B$15:$B$60)=\"\",\"\",_xlfn.XLOOKUP($M$5,Startliste!$A$15:$A$60,Startliste!$B$15:$B$60))","v":0},null,null,null,null,null,null,null,null,null,null,null,null,null,null,null,null,null,1]
[]
[null,"Name",{"$f":"IF(_xlfn.XLOOKUP(M5,Startliste!$A$15:$A$60,Startliste!$C$15:$C$60)=\"\",\"\",_xlfn.XLOOKUP($M$5,Startliste!$A$15:$A$60,Startliste!$C$15:$C$60,\"\"))","v":""},null,"Vorname",{"$f":"IF(_xlfn.XLOOKUP(M5,Startliste!$A$15:$A$60,Startliste!$C$15:$C$60)=\"\",\"\",_xlfn.XLOOKUP($M$5,Startliste!$A$15:$A$60,Startliste!$D$15:$D$60,\"\"))","v":""},null,null,null,"St.",{"$f":"IF(_xlfn.XLOOKUP(M5,Startliste!$A$15:$A$60,Startliste!$C$15:$C$60)=\"\",\"\",_xlfn.XLOOKUP($M$5,Startliste!$A$15:$A$60,Startliste!$G$15:$G$60,\"\"))","v":""},null,"Start-Nr.",null,"Lizenz-Nr."]
[null,"Geburtsdatum",{"$f":"IF(_xlfn.XLOOKUP(M5,Startliste!$A$15:$A$60,Startliste!$C$15:$C$60)=\"\",\"\",_xlfn.XLOOKUP($M$5,Startliste!$A$15:$A$60,Startliste!$E$15:$E$60,\"\"))","v":""},null,"Sektion",{"$f":"IF(_xlfn.XLOOKUP(M5,Startliste!$A$15:$A$60,Startliste!$C$15:$C$60)=\"\",\"\",_xlfn.XLOOKUP($M$5,Startliste!$A$15:$A$60,Startliste!$F$15:$F$60,\"\"))","v":""},null,null,null,"Kat.",{"$f":"IF(_xlfn.XLOOKUP(M5,Startliste!$A$15:$A$60,Startliste!$C$15:$C$60)=\"\",\"\",_xlfn.XLOOKUP($M$5,Startliste!$A$15:$A$60,Startliste!$I$15:$I$60,\"\"))","v":""},null,18,null,{"$f":"_xlfn.XLOOKUP($M$5,Startliste!A:A,Startliste!B:B,\"\")","v":0}]
[]
[null,null,null,"Keine Mouchen erfassen, nur Werte zwischen 1-10"]
["Passen","Scheiben-Nr. ",null,"Schüsse",null,null,null,null,null,null,null,null,null,null,"Total"]
[null,"Von","Bis",1,2,3,4,5,6,7,8,9,10]
["1 - 10",null,null,null,null,null,null,null,null,null,null,null,null,null,{"$f":"SUM(D10:M10)+AA10","v":0},null,{"$f":"IF(D10=\"M\",10)","v":false},{"$f":"IF(E10=\"M\",10)","v":false},false,false,false,false,false,false,false,false,{"$f":"SUM(Q10:Z10)","v":0}]
["11 - 20",null,null,null,null,null,null,null,null,null,null,null,null,null,{"$f":"SUM(D11:M11)+AA11","v":0},null,{"$f":"IF(D11=\"M\",10)","v":false},{"$f":"IF(E11=\"M\",10)","v":false},false,false,false,false,false,false,false,false,{"$f":"SUM(Q11:Z11)","v":0}]
["21 - 30",null,null,null,null,null,null,null,null,null,null,null,null,null,{"$f":"SUM(D12:M12)+AA12","v":0},null,{"$f":"IF(D12=\"M\",10)","v":false},{"$f":"IF(E12=\"M\",10)","v":false},false,false,false,false,false,false,false,false,{"$f":"SUM(Q12:Z12)","v":0}]
[null,null,"21 - 40",null,null,null,null,null,null,null,null,null,null,8,{"$f":"SUM(D13:M13)+AA13","v":0},null,{"$f":"IF(D13=\"M\",10)","v":false},{"$f":"IF(E13=\"M\",10)","v":false},{"$f":"IF(F13=\"M\",10)","v":false},{"$f":"IF(G13=\"M\",10)","v":false},{"$f":"IF(H13=\"M\",10)","v":false},{"$f":"IF(I13=\"M\",10)","v":false},{"$f":"IF(J13=\"M\",10)","v":false},{"$f":"IF(K13=\"M\",10)","v":false},{"$f":"IF(L13=\"M\",10)","v":false},{"$f":"IF(M13=\"M\",10)","v":false},{"$f":"SUM(Q13:Z13)","v":0}]
[null,null,null,null,null,null,null,null,null,null,null,"Resultat",null,null,{"$f":"SUM(O10:O13)","v":0}]
[]
[null,null,"Wert",10,9,8,7,6,5,4,3,2,1]
[null,null,"Anzahl",{"$f":"COUNTIF($D10:$M13,\"10\")+O18","v":0},{"$f":"COUNTIF($D10:$M13,\"9\")","v":0},{"$f":"COUNTIF($D10:$M13,\"8\")","v":0},{"$f":"COUNTIF($D10:$M13,\"7\")","v":0},{"$f":"COUNTIF($D10:$M13,\"6\")","v":0},{"$f":"COUNTIF($D10:$M13,\"5\")","v":0},{"$f":"COUNTIF($D10:$M13,\"4\")","v":0},{"$f":"COUNTIF($D10:$M13,\"3\")","v":0},{"$f":"COUNTIF($D10:$M13,\"2\")","v":0},{"$f":"COUNTIF($D10:$M13,\"1\")","v":0}]

{"sheet":"19","index":19,"n_rows":17,"n_cols":27,"rows_kept":17,"cut":false,"hidden":false,"merged":[[7,0,8,0],[7,14,8,14],[13,11,13,12],[4,2,4,3],[0,11,0,12],[0,5,0,10],[4,5,4,8],[7,1,7,2],[7,3,7,12]]}
[null,null,{"$f":"Startliste!D1","v":"Qualifikation"},null,null,{"$f":"Startliste!D2","v":"Meisterschaft der Veteranen"},null,null,null,null,null,{"$f":"Startliste!H2","v":"2025-12-31"}]
[null,null,"Lizenz-Nr.",{"$f":"IF(_xlfn.XLOOKUP($M$5,Startliste!$A$15:$A$60,Startliste!$B$15:$B$60)=\"\",\"\",_xlfn.XLOOKUP($M$5,Startliste!$A$15:$A$60,Startliste!$B$15:$B$60))","v":0},null,null,null,null,null,null,null,null,null,null,null,null,null,null,null,null,null,1]
[]
[null,"Name",{"$f":"IF(_xlfn.XLOOKUP(M5,Startliste!$A$15:$A$60,Startliste!$C$15:$C$60)=\"\",\"\",_xlfn.XLOOKUP($M$5,Startliste!$A$15:$A$60,Startliste!$C$15:$C$60,\"\"))","v":""},null,"Vorname",{"$f":"IF(_xlfn.XLOOKUP(M5,Startliste!$A$15:$A$60,Startliste!$C$15:$C$60)=\"\",\"\",_xlfn.XLOOKUP($M$5,Startliste!$A$15:$A$60,Startliste!$D$15:$D$60,\"\"))","v":""},null,null,null,"St.",{"$f":"IF(_xlfn.XLOOKUP(M5,Startliste!$A$15:$A$60,Startliste!$C$15:$C$60)=\"\",\"\",_xlfn.XLOOKUP($M$5,Startliste!$A$15:$A$60,Startliste!$G$15:$G$60,\"\"))","v":""},null,"Start-Nr.",null,"Lizenz-Nr."]
[null,"Geburtsdatum",{"$f":"IF(_xlfn.XLOOKUP(M5,Startliste!$A$15:$A$60,Startliste!$C$15:$C$60)=\"\",\"\",_xlfn.XLOOKUP($M$5,Startliste!$A$15:$A$60,Startliste!$E$15:$E$60,\"\"))","v":""},null,"Sektion",{"$f":"IF(_xlfn.XLOOKUP(M5,Startliste!$A$15:$A$60,Startliste!$C$15:$C$60)=\"\",\"\",_xlfn.XLOOKUP($M$5,Startliste!$A$15:$A$60,Startliste!$F$15:$F$60,\"\"))","v":""},null,null,null,"Kat.",{"$f":"IF(_xlfn.XLOOKUP(M5,Startliste!$A$15:$A$60,Startliste!$C$15:$C$60)=\"\",\"\",_xlfn.XLOOKUP($M$5,Startliste!$A$15:$A$60,Startliste!$I$15:$I$60,\"\"))","v":""},null,19,null,{"$f":"_xlfn.XLOOKUP($M$5,Startliste!A:A,Startliste!B:B,\"\")","v":0}]
[]
[null,null,null,"Keine Mouchen erfassen, nur Werte zwischen 1-10"]
["Passen","Scheiben-Nr. ",null,"Schüsse",null,null,null,null,null,null,null,null,null,null,"Total"]
[null,"Von","Bis",1,2,3,4,5,6,7,8,9,10]
["1 - 10",null,null,null,null,null,null,null,null,null,null,null,null,null,{"$f":"SUM(D10:M10)+AA10","v":0},null,{"$f":"IF(D10=\"M\",10)","v":false},{"$f":"IF(E10=\"M\",10)","v":false},false,false,false,false,false,false,false,false,{"$f":"SUM(Q10:Z10)","v":0}]
["11 - 20",null,null,null,null,null,null,null,null,null,null,null,null,null,{"$f":"SUM(D11:M11)+AA11","v":0},null,{"$f":"IF(D11=\"M\",10)","v":false},{"$f":"IF(E11=\"M\",10)","v":false},false,false,false,false,false,false,false,false,{"$f":"SUM(Q11:Z11)","v":0}]
["21 - 30",null,null,null,null,null,null,null,null,null,null,null,null,null,{"$f":"SUM(D12:M12)+AA12","v":0},null,{"$f":"IF(D12=\"M\",10)","v":false},{"$f":"IF(E12=\"M\",10)","v":false},false,false,false,false,false,false,false,false,{"$f":"SUM(Q12:Z12)","v":0}]
[null,null,"21 - 40",null,null,null,null,null,null,null,null,null,null,8,{"$f":"SUM(D13:M13)+AA13","v":0},null,{"$f":"IF(D13=\"M\",10)","v":false},{"$f":"IF(E13=\"M\",10)","v":false},{"$f":"IF(F13=\"M\",10)","v":false},{"$f":"IF(G13=\"M\",10)","v":false},{"$f":"IF(H13=\"M\",10)","v":false},{"$f":"IF(I13=\"M\",10)","v":false},{"$f":"IF(J13=\"M\",10)","v":false},{"$f":"IF(K13=\"M\",10)","v":false},{"$f":"IF(L13=\"M\",10)","v":false},{"$f":"IF(M13=\"M\",10)","v":false},{"$f":"SUM(Q13:Z13)","v":0}]
[null,null,null,null,null,null,null,null,null,null,null,"Resultat",null,null,{"$f":"SUM(O10:O13)","v":0}]
[]
[null,null,"Wert",10,9,8,7,6,5,4,3,2,1]
[null,null,"Anzahl",{"$f":"COUNTIF($D10:$M13,\"10\")+O18","v":0},{"$f":"COUNTIF($D10:$M13,\"9\")","v":0},{"$f":"COUNTIF($D10:$M13,\"8\")","v":0},{"$f":"COUNTIF($D10:$M13,\"7\")","v":0},{"$f":"COUNTIF($D10:$M13,\"6\")","v":0},{"$f":"COUNTIF($D10:$M13,\"5\")","v":0},{"$f":"COUNTIF($D10:$M13,\"4\")","v":0},{"$f":"COUNTIF($D10:$M13,\"3\")","v":0},{"$f":"COUNTIF($D10:$M13,\"2\")","v":0},{"$f":"COUNTIF($D10:$M13,\"1\")","v":0}]

{"sheet":"20","index":20,"n_rows":17,"n_cols":27,"rows_kept":17,"cut":false,"hidden":false,"merged":[[7,0,8,0],[7,14,8,14],[13,11,13,12],[4,2,4,3],[0,11,0,12],[0,5,0,10],[4,5,4,8],[7,1,7,2],[7,3,7,12]]}
[null,null,{"$f":"Startliste!D1","v":"Qualifikation"},null,null,{"$f":"Startliste!D2","v":"Meisterschaft der Veteranen"},null,null,null,null,null,{"$f":"Startliste!H2","v":"2025-12-31"}]
[null,null,"Lizenz-Nr.",{"$f":"IF(_xlfn.XLOOKUP($M$5,Startliste!$A$15:$A$60,Startliste!$B$15:$B$60)=\"\",\"\",_xlfn.XLOOKUP($M$5,Startliste!$A$15:$A$60,Startliste!$B$15:$B$60))","v":0},null,null,null,null,null,null,null,null,null,null,null,null,null,null,null,null,null,1]
[]
[null,"Name",{"$f":"IF(_xlfn.XLOOKUP(M5,Startliste!$A$15:$A$60,Startliste!$C$15:$C$60)=\"\",\"\",_xlfn.XLOOKUP($M$5,Startliste!$A$15:$A$60,Startliste!$C$15:$C$60,\"\"))","v":""},null,"Vorname",{"$f":"IF(_xlfn.XLOOKUP(M5,Startliste!$A$15:$A$60,Startliste!$C$15:$C$60)=\"\",\"\",_xlfn.XLOOKUP($M$5,Startliste!$A$15:$A$60,Startliste!$D$15:$D$60,\"\"))","v":""},null,null,null,"St.",{"$f":"IF(_xlfn.XLOOKUP(M5,Startliste!$A$15:$A$60,Startliste!$C$15:$C$60)=\"\",\"\",_xlfn.XLOOKUP($M$5,Startliste!$A$15:$A$60,Startliste!$G$15:$G$60,\"\"))","v":""},null,"Start-Nr.",null,"Lizenz-Nr."]
[null,"Geburtsdatum",{"$f":"IF(_xlfn.XLOOKUP(M5,Startliste!$A$15:$A$60,Startliste!$C$15:$C$60)=\"\",\"\",_xlfn.XLOOKUP($M$5,Startliste!$A$15:$A$60,Startliste!$E$15:$E$60,\"\"))","v":""},null,"Sektion",{"$f":"IF(_xlfn.XLOOKUP(M5,Startliste!$A$15:$A$60,Startliste!$C$15:$C$60)=\"\",\"\",_xlfn.XLOOKUP($M$5,Startliste!$A$15:$A$60,Startliste!$F$15:$F$60,\"\"))","v":""},null,null,null,"Kat.",{"$f":"IF(_xlfn.XLOOKUP(M5,Startliste!$A$15:$A$60,Startliste!$C$15:$C$60)=\"\",\"\",_xlfn.XLOOKUP($M$5,Startliste!$A$15:$A$60,Startliste!$I$15:$I$60,\"\"))","v":""},null,20,null,{"$f":"_xlfn.XLOOKUP($M$5,Startliste!A:A,Startliste!B:B,\"\")","v":0}]
[]
[null,null,null,"Keine Mouchen erfassen, nur Werte zwischen 1-10"]
["Passen","Scheiben-Nr. ",null,"Schüsse",null,null,null,null,null,null,null,null,null,null,"Total"]
[null,"Von","Bis",1,2,3,4,5,6,7,8,9,10]
["1 - 10",null,null,null,null,null,null,null,null,null,null,null,null,null,{"$f":"SUM(D10:M10)+AA10","v":0},null,{"$f":"IF(D10=\"M\",10)","v":false},{"$f":"IF(E10=\"M\",10)","v":false},false,false,false,false,false,false,false,false,{"$f":"SUM(Q10:Z10)","v":0}]
["11 - 20",null,null,null,null,null,null,null,null,null,null,null,null,null,{"$f":"SUM(D11:M11)+AA11","v":0},null,{"$f":"IF(D11=\"M\",10)","v":false},{"$f":"IF(E11=\"M\",10)","v":false},false,false,false,false,false,false,false,false,{"$f":"SUM(Q11:Z11)","v":0}]
["21 - 30",null,null,null,null,null,null,null,null,null,null,null,null,null,{"$f":"SUM(D12:M12)+AA12","v":0},null,{"$f":"IF(D12=\"M\",10)","v":false},{"$f":"IF(E12=\"M\",10)","v":false},false,false,false,false,false,false,false,false,{"$f":"SUM(Q12:Z12)","v":0}]
[null,null,"21 - 40",null,null,null,null,null,null,null,null,null,null,8,{"$f":"SUM(D13:M13)+AA13","v":0},null,{"$f":"IF(D13=\"M\",10)","v":false},{"$f":"IF(E13=\"M\",10)","v":false},{"$f":"IF(F13=\"M\",10)","v":false},{"$f":"IF(G13=\"M\",10)","v":false},{"$f":"IF(H13=\"M\",10)","v":false},{"$f":"IF(I13=\"M\",10)","v":false},{"$f":"IF(J13=\"M\",10)","v":false},{"$f":"IF(K13=\"M\",10)","v":false},{"$f":"IF(L13=\"M\",10)","v":false},{"$f":"IF(M13=\"M\",10)","v":false},{"$f":"SUM(Q13:Z13)","v":0}]
[null,null,null,null,null,null,null,null,null,null,null,"Resultat",null,null,{"$f":"SUM(O10:O13)","v":0}]
[]
[null,null,"Wert",10,9,8,7,6,5,4,3,2,1]
[null,null,"Anzahl",{"$f":"COUNTIF($D10:$M13,\"10\")+O18","v":0},{"$f":"COUNTIF($D10:$M13,\"9\")","v":0},{"$f":"COUNTIF($D10:$M13,\"8\")","v":0},{"$f":"COUNTIF($D10:$M13,\"7\")","v":0},{"$f":"COUNTIF($D10:$M13,\"6\")","v":0},{"$f":"COUNTIF($D10:$M13,\"5\")","v":0},{"$f":"COUNTIF($D10:$M13,\"4\")","v":0},{"$f":"COUNTIF($D10:$M13,\"3\")","v":0},{"$f":"COUNTIF($D10:$M13,\"2\")","v":0},{"$f":"COUNTIF($D10:$M13,\"1\")","v":0}]

{"sheet":"21","index":21,"n_rows":17,"n_cols":27,"rows_kept":17,"cut":false,"hidden":true,"merged":[[7,0,8,0],[7,14,8,14],[13,11,13,12],[4,2,4,3],[0,11,0,12],[0,5,0,10],[4,5,4,8],[7,1,7,2],[7,3,7,12]]}
[null,null,{"$f":"Startliste!D1","v":"Qualifikation"},null,null,{"$f":"Startliste!D2","v":"Meisterschaft der Veteranen"},null,null,null,null,null,{"$f":"Startliste!H2","v":"2025-12-31"}]
[null,null,"Lizenz-Nr.",{"$f":"IF(_xlfn.XLOOKUP($M$5,Startliste!$A$15:$A$60,Startliste!$B$15:$B$60)=\"\",\"\",_xlfn.XLOOKUP($M$5,Startliste!$A$15:$A$60,Startliste!$B$15:$B$60))","v":0},null,null,null,null,null,null,null,null,null,null,null,null,null,null,null,null,null,1]
[]
[null,"Name",{"$f":"IF(_xlfn.XLOOKUP(M5,Startliste!$A$15:$A$60,Startliste!$C$15:$C$60)=\"\",\"\",_xlfn.XLOOKUP($M$5,Startliste!$A$15:$A$60,Startliste!$C$15:$C$60,\"\"))","v":""},null,"Vorname",{"$f":"IF(_xlfn.XLOOKUP(M5,Startliste!$A$15:$A$60,Startliste!$C$15:$C$60)=\"\",\"\",_xlfn.XLOOKUP($M$5,Startliste!$A$15:$A$60,Startliste!$D$15:$D$60,\"\"))","v":""},null,null,null,"St.",{"$f":"IF(_xlfn.XLOOKUP(M5,Startliste!$A$15:$A$60,Startliste!$C$15:$C$60)=\"\",\"\",_xlfn.XLOOKUP($M$5,Startliste!$A$15:$A$60,Startliste!$G$15:$G$60,\"\"))","v":""},null,"Start-Nr.",null,"Lizenz-Nr."]
[null,"Geburtsdatum",{"$f":"IF(_xlfn.XLOOKUP(M5,Startliste!$A$15:$A$60,Startliste!$C$15:$C$60)=\"\",\"\",_xlfn.XLOOKUP($M$5,Startliste!$A$15:$A$60,Startliste!$E$15:$E$60,\"\"))","v":""},null,"Sektion",{"$f":"IF(_xlfn.XLOOKUP(M5,Startliste!$A$15:$A$60,Startliste!$C$15:$C$60)=\"\",\"\",_xlfn.XLOOKUP($M$5,Startliste!$A$15:$A$60,Startliste!$F$15:$F$60,\"\"))","v":""},null,null,null,"Kat.",{"$f":"IF(_xlfn.XLOOKUP(M5,Startliste!$A$15:$A$60,Startliste!$C$15:$C$60)=\"\",\"\",_xlfn.XLOOKUP($M$5,Startliste!$A$15:$A$60,Startliste!$I$15:$I$60,\"\"))","v":""},null,21,null,{"$f":"_xlfn.XLOOKUP($M$5,Startliste!A:A,Startliste!B:B,\"\")","v":0}]
[]
[null,null,null,"Keine Mouchen erfassen, nur Werte zwischen 1-10"]
["Passen","Scheiben-Nr. ",null,"Schüsse",null,null,null,null,null,null,null,null,null,null,"Total"]
[null,"Von","Bis",1,2,3,4,5,6,7,8,9,10]
["1 - 10",null,null,null,null,null,null,null,null,null,null,null,null,null,{"$f":"SUM(D10:M10)+AA10","v":0},null,{"$f":"IF(D10=\"M\",10)","v":false},{"$f":"IF(E10=\"M\",10)","v":false},false,false,false,false,false,false,false,false,{"$f":"SUM(Q10:Z10)","v":0}]
["11 - 20",null,null,null,null,null,null,null,null,null,null,null,null,null,{"$f":"SUM(D11:M11)+AA11","v":0},null,{"$f":"IF(D11=\"M\",10)","v":false},{"$f":"IF(E11=\"M\",10)","v":false},false,false,false,false,false,false,false,false,{"$f":"SUM(Q11:Z11)","v":0}]
["21 - 30",null,null,null,null,null,null,null,null,null,null,null,null,null,{"$f":"SUM(D12:M12)+AA12","v":0},null,{"$f":"IF(D12=\"M\",10)","v":false},{"$f":"IF(E12=\"M\",10)","v":false},false,false,false,false,false,false,false,false,{"$f":"SUM(Q12:Z12)","v":0}]
[null,null,"21 - 40",null,null,null,null,null,null,null,null,null,null,8,{"$f":"SUM(D13:M13)+AA13","v":0},null,{"$f":"IF(D13=\"M\",10)","v":false},{"$f":"IF(E13=\"M\",10)","v":false},{"$f":"IF(F13=\"M\",10)","v":false},{"$f":"IF(G13=\"M\",10)","v":false},{"$f":"IF(H13=\"M\",10)","v":false},{"$f":"IF(I13=\"M\",10)","v":false},{"$f":"IF(J13=\"M\",10)","v":false},{"$f":"IF(K13=\"M\",10)","v":false},{"$f":"IF(L13=\"M\",10)","v":false},{"$f":"IF(M13=\"M\",10)","v":false},{"$f":"SUM(Q13:Z13)","v":0}]
[null,null,null,null,null,null,null,null,null,null,null,"Resultat",null,null,{"$f":"SUM(O10:O13)","v":0}]
[]
[null,null,"Wert",10,9,8,7,6,5,4,3,2,1]
[null,null,"Anzahl",{"$f":"COUNTIF($D10:$M13,\"10\")+O18","v":0},{"$f":"COUNTIF($D10:$M13,\"9\")","v":0},{"$f":"COUNTIF($D10:$M13,\"8\")","v":0},{"$f":"COUNTIF($D10:$M13,\"7\")","v":0},{"$f":"COUNTIF($D10:$M13,\"6\")","v":0},{"$f":"COUNTIF($D10:$M13,\"5\")","v":0},{"$f":"COUNTIF($D10:$M13,\"4\")","v":0},{"$f":"COUNTIF($D10:$M13,\"3\")","v":0},{"$f":"COUNTIF($D10:$M13,\"2\")","v":0},{"$f":"COUNTIF($D10:$M13,\"1\")","v":0}]

{"sheet":"22","index":22,"n_rows":17,"n_cols":27,"rows_kept":17,"cut":false,"hidden":true,"merged":[[7,0,8,0],[7,14,8,14],[13,11,13,12],[4,2,4,3],[0,11,0,12],[0,5,0,10],[4,5,4,8],[7,1,7,2],[7,3,7,12]]}
[null,null,{"$f":"Startliste!D1","v":"Qualifikation"},null,null,{"$f":"Startliste!D2","v":"Meisterschaft der Veteranen"},null,null,null,null,null,{"$f":"Startliste!H2","v":"2025-12-31"}]
[null,null,"Lizenz-Nr.",{"$f":"IF(_xlfn.XLOOKUP($M$5,Startliste!$A$15:$A$60,Startliste!$B$15:$B$60)=\"\",\"\",_xlfn.XLOOKUP($M$5,Startliste!$A$15:$A$60,Startliste!$B$15:$B$60))","v":0},null,null,null,null,null,null,null,null,null,null,null,null,null,null,null,null,null,1]
[]
[null,"Name",{"$f":"IF(_xlfn.XLOOKUP(M5,Startliste!$A$15:$A$60,Startliste!$C$15:$C$60)=\"\",\"\",_xlfn.XLOOKUP($M$5,Startliste!$A$15:$A$60,Startliste!$C$15:$C$60,\"\"))","v":""},null,"Vorname",{"$f":"IF(_xlfn.XLOOKUP(M5,Startliste!$A$15:$A$60,Startliste!$C$15:$C$60)=\"\",\"\",_xlfn.XLOOKUP($M$5,Startliste!$A$15:$A$60,Startliste!$D$15:$D$60,\"\"))","v":""},null,null,null,"St.",{"$f":"IF(_xlfn.XLOOKUP(M5,Startliste!$A$15:$A$60,Startliste!$C$15:$C$60)=\"\",\"\",_xlfn.XLOOKUP($M$5,Startliste!$A$15:$A$60,Startliste!$G$15:$G$60,\"\"))","v":""},null,"Start-Nr.",null,"Lizenz-Nr."]
[null,"Geburtsdatum",{"$f":"IF(_xlfn.XLOOKUP(M5,Startliste!$A$15:$A$60,Startliste!$C$15:$C$60)=\"\",\"\",_xlfn.XLOOKUP($M$5,Startliste!$A$15:$A$60,Startliste!$E$15:$E$60,\"\"))","v":""},null,"Sektion",{"$f":"IF(_xlfn.XLOOKUP(M5,Startliste!$A$15:$A$60,Startliste!$C$15:$C$60)=\"\",\"\",_xlfn.XLOOKUP($M$5,Startliste!$A$15:$A$60,Startliste!$F$15:$F$60,\"\"))","v":""},null,null,null,"Kat.",{"$f":"IF(_xlfn.XLOOKUP(M5,Startliste!$A$15:$A$60,Startliste!$C$15:$C$60)=\"\",\"\",_xlfn.XLOOKUP($M$5,Startliste!$A$15:$A$60,Startliste!$I$15:$I$60,\"\"))","v":""},null,22,null,{"$f":"_xlfn.XLOOKUP($M$5,Startliste!A:A,Startliste!B:B,\"\")","v":0}]
[]
[null,null,null,"Keine Mouchen erfassen, nur Werte zwischen 1-10"]
["Passen","Scheiben-Nr. ",null,"Schüsse",null,null,null,null,null,null,null,null,null,null,"Total"]
[null,"Von","Bis",1,2,3,4,5,6,7,8,9,10]
["1 - 10",null,null,null,null,null,null,null,null,null,null,null,null,null,{"$f":"SUM(D10:M10)+AA10","v":0},null,{"$f":"IF(D10=\"M\",10)","v":false},{"$f":"IF(E10=\"M\",10)","v":false},false,false,false,false,false,false,false,false,{"$f":"SUM(Q10:Z10)","v":0}]
["11 - 20",null,null,null,null,null,null,null,null,null,null,null,null,null,{"$f":"SUM(D11:M11)+AA11","v":0},null,{"$f":"IF(D11=\"M\",10)","v":false},{"$f":"IF(E11=\"M\",10)","v":false},false,false,false,false,false,false,false,false,{"$f":"SUM(Q11:Z11)","v":0}]
["21 - 30",null,null,null,null,null,null,null,null,null,null,null,null,null,{"$f":"SUM(D12:M12)+AA12","v":0},null,{"$f":"IF(D12=\"M\",10)","v":false},{"$f":"IF(E12=\"M\",10)","v":false},false,false,false,false,false,false,false,false,{"$f":"SUM(Q12:Z12)","v":0}]
[null,null,"21 - 40",null,null,null,null,null,null,null,null,null,null,8,{"$f":"SUM(D13:M13)+AA13","v":0},null,{"$f":"IF(D13=\"M\",10)","v":false},{"$f":"IF(E13=\"M\",10)","v":false},{"$f":"IF(F13=\"M\",10)","v":false},{"$f":"IF(G13=\"M\",10)","v":false},{"$f":"IF(H13=\"M\",10)","v":false},{"$f":"IF(I13=\"M\",10)","v":false},{"$f":"IF(J13=\"M\",10)","v":false},{"$f":"IF(K13=\"M\",10)","v":false},{"$f":"IF(L13=\"M\",10)","v":false},{"$f":"IF(M13=\"M\",10)","v":false},{"$f":"SUM(Q13:Z13)","v":0}]
[null,null,null,null,null,null,null,null,null,null,null,"Resultat",null,null,{"$f":"SUM(O10:O13)","v":0}]
[]
[null,null,"Wert",10,9,8,7,6,5,4,3,2,1]
[null,null,"Anzahl",{"$f":"COUNTIF($D10:$M13,\"10\")+O18","v":0},{"$f":"COUNTIF($D10:$M13,\"9\")","v":0},{"$f":"COUNTIF($D10:$M13,\"8\")","v":0},{"$f":"COUNTIF($D10:$M13,\"7\")","v":0},{"$f":"COUNTIF($D10:$M13,\"6\")","v":0},{"$f":"COUNTIF($D10:$M13,\"5\")","v":0},{"$f":"COUNTIF($D10:$M13,\"4\")","v":0},{"$f":"COUNTIF($D10:$M13,\"3\")","v":0},{"$f":"COUNTIF($D10:$M13,\"2\")","v":0},{"$f":"COUNTIF($D10:$M13,\"1\")","v":0}]

{"sheet":"23","index":23,"n_rows":17,"n_cols":27,"rows_kept":17,"cut":false,"hidden":true,"merged":[[7,0,8,0],[7,14,8,14],[13,11,13,12],[4,2,4,3],[0,11,0,12],[0,5,0,10],[4,5,4,8],[7,1,7,2],[7,3,7,12]]}
[null,null,{"$f":"Startliste!D1","v":"Qualifikation"},null,null,{"$f":"Startliste!D2","v":"Meisterschaft der Veteranen"},null,null,null,null,null,{"$f":"Startliste!H2","v":"2025-12-31"}]
[null,null,"Lizenz-Nr.",{"$f":"IF(_xlfn.XLOOKUP($M$5,Startliste!$A$15:$A$60,Startliste!$B$15:$B$60)=\"\",\"\",_xlfn.XLOOKUP($M$5,Startliste!$A$15:$A$60,Startliste!$B$15:$B$60))","v":0},null,null,null,null,null,null,null,null,null,null,null,null,null,null,null,null,null,1]
[]
[null,"Name",{"$f":"IF(_xlfn.XLOOKUP(M5,Startliste!$A$15:$A$60,Startliste!$C$15:$C$60)=\"\",\"\",_xlfn.XLOOKUP($M$5,Startliste!$A$15:$A$60,Startliste!$C$15:$C$60,\"\"))","v":""},null,"Vorname",{"$f":"IF(_xlfn.XLOOKUP(M5,Startliste!$A$15:$A$60,Startliste!$C$15:$C$60)=\"\",\"\",_xlfn.XLOOKUP($M$5,Startliste!$A$15:$A$60,Startliste!$D$15:$D$60,\"\"))","v":""},null,null,null,"St.",{"$f":"IF(_xlfn.XLOOKUP(M5,Startliste!$A$15:$A$60,Startliste!$C$15:$C$60)=\"\",\"\",_xlfn.XLOOKUP($M$5,Startliste!$A$15:$A$60,Startliste!$G$15:$G$60,\"\"))","v":""},null,"Start-Nr.",null,"Lizenz-Nr."]
[null,"Geburtsdatum",{"$f":"IF(_xlfn.XLOOKUP(M5,Startliste!$A$15:$A$60,Startliste!$C$15:$C$60)=\"\",\"\",_xlfn.XLOOKUP($M$5,Startliste!$A$15:$A$60,Startliste!$E$15:$E$60,\"\"))","v":""},null,"Sektion",{"$f":"IF(_xlfn.XLOOKUP(M5,Startliste!$A$15:$A$60,Startliste!$C$15:$C$60)=\"\",\"\",_xlfn.XLOOKUP($M$5,Startliste!$A$15:$A$60,Startliste!$F$15:$F$60,\"\"))","v":""},null,null,null,"Kat.",{"$f":"IF(_xlfn.XLOOKUP(M5,Startliste!$A$15:$A$60,Startliste!$C$15:$C$60)=\"\",\"\",_xlfn.XLOOKUP($M$5,Startliste!$A$15:$A$60,Startliste!$I$15:$I$60,\"\"))","v":""},null,23,null,{"$f":"_xlfn.XLOOKUP($M$5,Startliste!A:A,Startliste!B:B,\"\")","v":0}]
[]
[null,null,null,"Keine Mouchen erfassen, nur Werte zwischen 1-10"]
["Passen","Scheiben-Nr. ",null,"Schüsse",null,null,null,null,null,null,null,null,null,null,"Total"]
[null,"Von","Bis",1,2,3,4,5,6,7,8,9,10]
["1 - 10",null,null,null,null,null,null,null,null,null,null,null,null,null,{"$f":"SUM(D10:M10)+AA10","v":0},null,{"$f":"IF(D10=\"M\",10)","v":false},{"$f":"IF(E10=\"M\",10)","v":false},false,false,false,false,false,false,false,false,{"$f":"SUM(Q10:Z10)","v":0}]
["11 - 20",null,null,null,null,null,null,null,null,null,null,null,null,null,{"$f":"SUM(D11:M11)+AA11","v":0},null,{"$f":"IF(D11=\"M\",10)","v":false},{"$f":"IF(E11=\"M\",10)","v":false},false,false,false,false,false,false,false,false,{"$f":"SUM(Q11:Z11)","v":0}]
["21 - 30",null,null,null,null,null,null,null,null,null,null,null,null,null,{"$f":"SUM(D12:M12)+AA12","v":0},null,{"$f":"IF(D12=\"M\",10)","v":false},{"$f":"IF(E12=\"M\",10)","v":false},false,false,false,false,false,false,false,false,{"$f":"SUM(Q12:Z12)","v":0}]
[null,null,"21 - 40",null,null,null,null,null,null,null,null,null,null,8,{"$f":"SUM(D13:M13)+AA13","v":0},null,{"$f":"IF(D13=\"M\",10)","v":false},{"$f":"IF(E13=\"M\",10)","v":false},{"$f":"IF(F13=\"M\",10)","v":false},{"$f":"IF(G13=\"M\",10)","v":false},{"$f":"IF(H13=\"M\",10)","v":false},{"$f":"IF(I13=\"M\",10)","v":false},{"$f":"IF(J13=\"M\",10)","v":false},{"$f":"IF(K13=\"M\",10)","v":false},{"$f":"IF(L13=\"M\",10)","v":false},{"$f":"IF(M13=\"M\",10)","v":false},{"$f":"SUM(Q13:Z13)","v":0}]
[null,null,null,null,null,null,null,null,null,null,null,"Resultat",null,null,{"$f":"SUM(O10:O13)","v":0}]
[]
[null,null,"Wert",10,9,8,7,6,5,4,3,2,1]
[null,null,"Anzahl",{"$f":"COUNTIF($D10:$M13,\"10\")+O18","v":0},{"$f":"COUNTIF($D10:$M13,\"9\")","v":0},{"$f":"COUNTIF($D10:$M13,\"8\")","v":0},{"$f":"COUNTIF($D10:$M13,\"7\")","v":0},{"$f":"COUNTIF($D10:$M13,\"6\")","v":0},{"$f":"COUNTIF($D10:$M13,\"5\")","v":0},{"$f":"COUNTIF($D10:$M13,\"4\")","v":0},{"$f":"COUNTIF($D10:$M13,\"3\")","v":0},{"$f":"COUNTIF($D10:$M13,\"2\")","v":0},{"$f":"COUNTIF($D10:$M13,\"1\")","v":0}]

{"sheet":"24","index":24,"n_rows":17,"n_cols":27,"rows_kept":17,"cut":false,"hidden":true,"merged":[[7,0,8,0],[7,14,8,14],[13,11,13,12],[4,2,4,3],[0,11,0,12],[0,5,0,10],[4,5,4,8],[7,1,7,2],[7,3,7,12]]}
[null,null,{"$f":"Startliste!D1","v":"Qualifikation"},null,null,{"$f":"Startliste!D2","v":"Meisterschaft der Veteranen"},null,null,null,null,null,{"$f":"Startliste!H2","v":"2025-12-31"}]
[null,null,"Lizenz-Nr.",{"$f":"IF(_xlfn.XLOOKUP($M$5,Startliste!$A$15:$A$60,Startliste!$B$15:$B$60)=\"\",\"\",_xlfn.XLOOKUP($M$5,Startliste!$A$15:$A$60,Startliste!$B$15:$B$60))","v":0},null,null,null,null,null,null,null,null,null,null,null,null,null,null,null,null,null,1]
[]
[null,"Name",{"$f":"IF(_xlfn.XLOOKUP(M5,Startliste!$A$15:$A$60,Startliste!$C$15:$C$60)=\"\",\"\",_xlfn.XLOOKUP($M$5,Startliste!$A$15:$A$60,Startliste!$C$15:$C$60,\"\"))","v":""},null,"Vorname",{"$f":"IF(_xlfn.XLOOKUP(M5,Startliste!$A$15:$A$60,Startliste!$C$15:$C$60)=\"\",\"\",_xlfn.XLOOKUP($M$5,Startliste!$A$15:$A$60,Startliste!$D$15:$D$60,\"\"))","v":""},null,null,null,"St.",{"$f":"IF(_xlfn.XLOOKUP(M5,Startliste!$A$15:$A$60,Startliste!$C$15:$C$60)=\"\",\"\",_xlfn.XLOOKUP($M$5,Startliste!$A$15:$A$60,Startliste!$G$15:$G$60,\"\"))","v":""},null,"Start-Nr.",null,"Lizenz-Nr."]
[null,"Geburtsdatum",{"$f":"IF(_xlfn.XLOOKUP(M5,Startliste!$A$15:$A$60,Startliste!$C$15:$C$60)=\"\",\"\",_xlfn.XLOOKUP($M$5,Startliste!$A$15:$A$60,Startliste!$E$15:$E$60,\"\"))","v":""},null,"Sektion",{"$f":"IF(_xlfn.XLOOKUP(M5,Startliste!$A$15:$A$60,Startliste!$C$15:$C$60)=\"\",\"\",_xlfn.XLOOKUP($M$5,Startliste!$A$15:$A$60,Startliste!$F$15:$F$60,\"\"))","v":""},null,null,null,"Kat.",{"$f":"IF(_xlfn.XLOOKUP(M5,Startliste!$A$15:$A$60,Startliste!$C$15:$C$60)=\"\",\"\",_xlfn.XLOOKUP($M$5,Startliste!$A$15:$A$60,Startliste!$I$15:$I$60,\"\"))","v":""},null,24,null,{"$f":"_xlfn.XLOOKUP($M$5,Startliste!A:A,Startliste!B:B,\"\")","v":0}]
[]
[null,null,null,"Keine Mouchen erfassen, nur Werte zwischen 1-10"]
["Passen","Scheiben-Nr. ",null,"Schüsse",null,null,null,null,null,null,null,null,null,null,"Total"]
[null,"Von","Bis",1,2,3,4,5,6,7,8,9,10]
["1 - 10",null,null,null,null,null,null,null,null,null,null,null,null,null,{"$f":"SUM(D10:M10)+AA10","v":0},null,{"$f":"IF(D10=\"M\",10)","v":false},{"$f":"IF(E10=\"M\",10)","v":false},false,false,false,false,false,false,false,false,{"$f":"SUM(Q10:Z10)","v":0}]
["11 - 20",null,null,null,null,null,null,null,null,null,null,null,null,null,{"$f":"SUM(D11:M11)+AA11","v":0},null,{"$f":"IF(D11=\"M\",10)","v":false},{"$f":"IF(E11=\"M\",10)","v":false},false,false,false,false,false,false,false,false,{"$f":"SUM(Q11:Z11)","v":0}]
["21 - 30",null,null,null,null,null,null,null,null,null,null,null,null,null,{"$f":"SUM(D12:M12)+AA12","v":0},null,{"$f":"IF(D12=\"M\",10)","v":false},{"$f":"IF(E12=\"M\",10)","v":false},false,false,false,false,false,false,false,false,{"$f":"SUM(Q12:Z12)","v":0}]
[null,null,"21 - 40",null,null,null,null,null,null,null,null,null,null,8,{"$f":"SUM(D13:M13)+AA13","v":0},null,{"$f":"IF(D13=\"M\",10)","v":false},{"$f":"IF(E13=\"M\",10)","v":false},{"$f":"IF(F13=\"M\",10)","v":false},{"$f":"IF(G13=\"M\",10)","v":false},{"$f":"IF(H13=\"M\",10)","v":false},{"$f":"IF(I13=\"M\",10)","v":false},{"$f":"IF(J13=\"M\",10)","v":false},{"$f":"IF(K13=\"M\",10)","v":false},{"$f":"IF(L13=\"M\",10)","v":false},{"$f":"IF(M13=\"M\",10)","v":false},{"$f":"SUM(Q13:Z13)","v":0}]
[null,null,null,null,null,null,null,null,null,null,null,"Resultat",null,null,{"$f":"SUM(O10:O13)","v":0}]
[]
[null,null,"Wert",10,9,8,7,6,5,4,3,2,1]
[null,null,"Anzahl",{"$f":"COUNTIF($D10:$M13,\"10\")+O18","v":0},{"$f":"COUNTIF($D10:$M13,\"9\")","v":0},{"$f":"COUNTIF($D10:$M13,\"8\")","v":0},{"$f":"COUNTIF($D10:$M13,\"7\")","v":0},{"$f":"COUNTIF($D10:$M13,\"6\")","v":0},{"$f":"COUNTIF($D10:$M13,\"5\")","v":0},{"$f":"COUNTIF($D10:$M13,\"4\")","v":0},{"$f":"COUNTIF($D10:$M13,\"3\")","v":0},{"$f":"COUNTIF($D10:$M13,\"2\")","v":0},{"$f":"COUNTIF($D10:$M13,\"1\")","v":0}]

{"sheet":"25","index":25,"n_rows":17,"n_cols":27,"rows_kept":17,"cut":false,"hidden":true,"merged":[[7,0,8,0],[7,14,8,14],[13,11,13,12],[4,2,4,3],[0,11,0,12],[0,5,0,10],[4,5,4,8],[7,1,7,2],[7,3,7,12]]}
[null,null,{"$f":"Startliste!D1","v":"Qualifikation"},null,null,{"$f":"Startliste!D2","v":"Meisterschaft der Veteranen"},null,null,null,null,null,{"$f":"Startliste!H2","v":"2025-12-31"}]
[null,null,"Lizenz-Nr.",{"$f":"IF(_xlfn.XLOOKUP($M$5,Startliste!$A$15:$A$60,Startliste!$B$15:$B$60)=\"\",\"\",_xlfn.XLOOKUP($M$5,Startliste!$A$15:$A$60,Startliste!$B$15:$B$60))","v":0},null,null,null,null,null,null,null,null,null,null,null,null,null,null,null,null,null,1]
[]
[null,"Name",{"$f":"IF(_xlfn.XLOOKUP(M5,Startliste!$A$15:$A$60,Startliste!$C$15:$C$60)=\"\",\"\",_xlfn.XLOOKUP($M$5,Startliste!$A$15:$A$60,Startliste!$C$15:$C$60,\"\"))","v":""},null,"Vorname",{"$f":"IF(_xlfn.XLOOKUP(M5,Startliste!$A$15:$A$60,Startliste!$C$15:$C$60)=\"\",\"\",_xlfn.XLOOKUP($M$5,Startliste!$A$15:$A$60,Startliste!$D$15:$D$60,\"\"))","v":""},null,null,null,"St.",{"$f":"IF(_xlfn.XLOOKUP(M5,Startliste!$A$15:$A$60,Startliste!$C$15:$C$60)=\"\",\"\",_xlfn.XLOOKUP($M$5,Startliste!$A$15:$A$60,Startliste!$G$15:$G$60,\"\"))","v":""},null,"Start-Nr.",null,"Lizenz-Nr."]
[null,"Geburtsdatum",{"$f":"IF(_xlfn.XLOOKUP(M5,Startliste!$A$15:$A$60,Startliste!$C$15:$C$60)=\"\",\"\",_xlfn.XLOOKUP($M$5,Startliste!$A$15:$A$60,Startliste!$E$15:$E$60,\"\"))","v":""},null,"Sektion",{"$f":"IF(_xlfn.XLOOKUP(M5,Startliste!$A$15:$A$60,Startliste!$C$15:$C$60)=\"\",\"\",_xlfn.XLOOKUP($M$5,Startliste!$A$15:$A$60,Startliste!$F$15:$F$60,\"\"))","v":""},null,null,null,"Kat.",{"$f":"IF(_xlfn.XLOOKUP(M5,Startliste!$A$15:$A$60,Startliste!$C$15:$C$60)=\"\",\"\",_xlfn.XLOOKUP($M$5,Startliste!$A$15:$A$60,Startliste!$I$15:$I$60,\"\"))","v":""},null,25,null,{"$f":"_xlfn.XLOOKUP($M$5,Startliste!A:A,Startliste!B:B,\"\")","v":0}]
[]
[null,null,null,"Keine Mouchen erfassen, nur Werte zwischen 1-10"]
["Passen","Scheiben-Nr. ",null,"Schüsse",null,null,null,null,null,null,null,null,null,null,"Total"]
[null,"Von","Bis",1,2,3,4,5,6,7,8,9,10]
["1 - 10",null,null,null,null,null,null,null,null,null,null,null,null,null,{"$f":"SUM(D10:M10)+AA10","v":0},null,{"$f":"IF(D10=\"M\",10)","v":false},{"$f":"IF(E10=\"M\",10)","v":false},false,false,false,false,false,false,false,false,{"$f":"SUM(Q10:Z10)","v":0}]
["11 - 20",null,null,null,null,null,null,null,null,null,null,null,null,null,{"$f":"SUM(D11:M11)+AA11","v":0},null,{"$f":"IF(D11=\"M\",10)","v":false},{"$f":"IF(E11=\"M\",10)","v":false},false,false,false,false,false,false,false,false,{"$f":"SUM(Q11:Z11)","v":0}]
["21 - 30",null,null,null,null,null,null,null,null,null,null,null,null,null,{"$f":"SUM(D12:M12)+AA12","v":0},null,{"$f":"IF(D12=\"M\",10)","v":false},{"$f":"IF(E12=\"M\",10)","v":false},false,false,false,false,false,false,false,false,{"$f":"SUM(Q12:Z12)","v":0}]
[null,null,"21 - 40",null,null,null,null,null,null,null,null,null,null,8,{"$f":"SUM(D13:M13)+AA13","v":0},null,{"$f":"IF(D13=\"M\",10)","v":false},{"$f":"IF(E13=\"M\",10)","v":false},{"$f":"IF(F13=\"M\",10)","v":false},{"$f":"IF(G13=\"M\",10)","v":false},{"$f":"IF(H13=\"M\",10)","v":false},{"$f":"IF(I13=\"M\",10)","v":false},{"$f":"IF(J13=\"M\",10)","v":false},{"$f":"IF(K13=\"M\",10)","v":false},{"$f":"IF(L13=\"M\",10)","v":false},{"$f":"IF(M13=\"M\",10)","v":false},{"$f":"SUM(Q13:Z13)","v":0}]
[null,null,null,null,null,null,null,null,null,null,null,"Resultat",null,null,{"$f":"SUM(O10:O13)","v":0}]
[]
[null,null,"Wert",10,9,8,7,6,5,4,3,2,1]
[null,null,"Anzahl",{"$f":"COUNTIF($D10:$M13,\"10\")+O18","v":0},{"$f":"COUNTIF($D10:$M13,\"9\")","v":0},{"$f":"COUNTIF($D10:$M13,\"8\")","v":0},{"$f":"COUNTIF($D10:$M13,\"7\")","v":0},{"$f":"COUNTIF($D10:$M13,\"6\")","v":0},{"$f":"COUNTIF($D10:$M13,\"5\")","v":0},{"$f":"COUNTIF($D10:$M13,\"4\")","v":0},{"$f":"COUNTIF($D10:$M13,\"3\")","v":0},{"$f":"COUNTIF($D10:$M13,\"2\")","v":0},{"$f":"COUNTIF($D10:$M13,\"1\")","v":0}]

{"sheet":"26","index":26,"n_rows":17,"n_cols":27,"rows_kept":17,"cut":false,"hidden":true,"merged":[[7,0,8,0],[7,14,8,14],[13,11,13,12],[4,2,4,3],[0,11,0,12],[0,5,0,10],[4,5,4,8],[7,1,7,2],[7,3,7,12]]}
[null,null,{"$f":"Startliste!D1","v":"Qualifikation"},null,null,{"$f":"Startliste!D2","v":"Meisterschaft der Veteranen"},null,null,null,null,null,{"$f":"Startliste!H2","v":"2025-12-31"}]
[null,null,"Lizenz-Nr.",{"$f":"IF(_xlfn.XLOOKUP($M$5,Startliste!$A$15:$A$60,Startliste!$B$15:$B$60)=\"\",\"\",_xlfn.XLOOKUP($M$5,Startliste!$A$15:$A$60,Startliste!$B$15:$B$60))","v":0},null,null,null,null,null,null,null,null,null,null,null,null,null,null,null,null,null,1]
[]
[null,"Name",{"$f":"IF(_xlfn.XLOOKUP(M5,Startliste!$A$15:$A$60,Startliste!$C$15:$C$60)=\"\",\"\",_xlfn.XLOOKUP($M$5,Startliste!$A$15:$A$60,Startliste!$C$15:$C$60,\"\"))","v":""},null,"Vorname",{"$f":"IF(_xlfn.XLOOKUP(M5,Startliste!$A$15:$A$60,Startliste!$C$15:$C$60)=\"\",\"\",_xlfn.XLOOKUP($M$5,Startliste!$A$15:$A$60,Startliste!$D$15:$D$60,\"\"))","v":""},null,null,null,"St.",{"$f":"IF(_xlfn.XLOOKUP(M5,Startliste!$A$15:$A$60,Startliste!$C$15:$C$60)=\"\",\"\",_xlfn.XLOOKUP($M$5,Startliste!$A$15:$A$60,Startliste!$G$15:$G$60,\"\"))","v":""},null,"Start-Nr.",null,"Lizenz-Nr."]
[null,"Geburtsdatum",{"$f":"IF(_xlfn.XLOOKUP(M5,Startliste!$A$15:$A$60,Startliste!$C$15:$C$60)=\"\",\"\",_xlfn.XLOOKUP($M$5,Startliste!$A$15:$A$60,Startliste!$E$15:$E$60,\"\"))","v":""},null,"Sektion",{"$f":"IF(_xlfn.XLOOKUP(M5,Startliste!$A$15:$A$60,Startliste!$C$15:$C$60)=\"\",\"\",_xlfn.XLOOKUP($M$5,Startliste!$A$15:$A$60,Startliste!$F$15:$F$60,\"\"))","v":""},null,null,null,"Kat.",{"$f":"IF(_xlfn.XLOOKUP(M5,Startliste!$A$15:$A$60,Startliste!$C$15:$C$60)=\"\",\"\",_xlfn.XLOOKUP($M$5,Startliste!$A$15:$A$60,Startliste!$I$15:$I$60,\"\"))","v":""},null,26,null,{"$f":"_xlfn.XLOOKUP($M$5,Startliste!A:A,Startliste!B:B,\"\")","v":0}]
[]
[null,null,null,"Keine Mouchen erfassen, nur Werte zwischen 1-10"]
["Passen","Scheiben-Nr. ",null,"Schüsse",null,null,null,null,null,null,null,null,null,null,"Total"]
[null,"Von","Bis",1,2,3,4,5,6,7,8,9,10]
["1 - 10",null,null,null,null,null,null,null,null,null,null,null,null,null,{"$f":"SUM(D10:M10)+AA10","v":0},null,{"$f":"IF(D10=\"M\",10)","v":false},{"$f":"IF(E10=\"M\",10)","v":false},false,false,false,false,false,false,false,false,{"$f":"SUM(Q10:Z10)","v":0}]
["11 - 20",null,null,null,null,null,null,null,null,null,null,null,null,null,{"$f":"SUM(D11:M11)+AA11","v":0},null,{"$f":"IF(D11=\"M\",10)","v":false},{"$f":"IF(E11=\"M\",10)","v":false},false,false,false,false,false,false,false,false,{"$f":"SUM(Q11:Z11)","v":0}]
["21 - 30",null,null,null,null,null,null,null,null,null,null,null,null,null,{"$f":"SUM(D12:M12)+AA12","v":0},null,{"$f":"IF(D12=\"M\",10)","v":false},{"$f":"IF(E12=\"M\",10)","v":false},false,false,false,false,false,false,false,false,{"$f":"SUM(Q12:Z12)","v":0}]
[null,null,"21 - 40",null,null,null,null,null,null,null,null,null,null,8,{"$f":"SUM(D13:M13)+AA13","v":0},null,{"$f":"IF(D13=\"M\",10)","v":false},{"$f":"IF(E13=\"M\",10)","v":false},{"$f":"IF(F13=\"M\",10)","v":false},{"$f":"IF(G13=\"M\",10)","v":false},{"$f":"IF(H13=\"M\",10)","v":false},{"$f":"IF(I13=\"M\",10)","v":false},{"$f":"IF(J13=\"M\",10)","v":false},{"$f":"IF(K13=\"M\",10)","v":false},{"$f":"IF(L13=\"M\",10)","v":false},{"$f":"IF(M13=\"M\",10)","v":false},{"$f":"SUM(Q13:Z13)","v":0}]
[null,null,null,null,null,null,null,null,null,null,null,"Resultat",null,null,{"$f":"SUM(O10:O13)","v":0}]
[]
[null,null,"Wert",10,9,8,7,6,5,4,3,2,1]
[null,null,"Anzahl",{"$f":"COUNTIF($D10:$M13,\"10\")+O18","v":0},{"$f":"COUNTIF($D10:$M13,\"9\")","v":0},{"$f":"COUNTIF($D10:$M13,\"8\")","v":0},{"$f":"COUNTIF($D10:$M13,\"7\")","v":0},{"$f":"COUNTIF($D10:$M13,\"6\")","v":0},{"$f":"COUNTIF($D10:$M13,\"5\")","v":0},{"$f":"COUNTIF($D10:$M13,\"4\")","v":0},{"$f":"COUNTIF($D10:$M13,\"3\")","v":0},{"$f":"COUNTIF($D10:$M13,\"2\")","v":0},{"$f":"COUNTIF($D10:$M13,\"1\")","v":0}]

{"sheet":"27","index":27,"n_rows":17,"n_cols":27,"rows_kept":17,"cut":false,"hidden":true,"merged":[[7,0,8,0],[7,14,8,14],[13,11,13,12],[4,2,4,3],[0,11,0,12],[0,5,0,10],[4,5,4,8],[7,1,7,2],[7,3,7,12]]}
[null,null,{"$f":"Startliste!D1","v":"Qualifikation"},null,null,{"$f":"Startliste!D2","v":"Meisterschaft der Veteranen"},null,null,null,null,null,{"$f":"Startliste!H2","v":"2025-12-31"}]
[null,null,"Lizenz-Nr.",{"$f":"IF(_xlfn.XLOOKUP($M$5,Startliste!$A$15:$A$60,Startliste!$B$15:$B$60)=\"\",\"\",_xlfn.XLOOKUP($M$5,Startliste!$A$15:$A$60,Startliste!$B$15:$B$60))","v":0},null,null,null,null,null,null,null,null,null,null,null,null,null,null,null,null,null,1]
[]
[null,"Name",{"$f":"IF(_xlfn.XLOOKUP(M5,Startliste!$A$15:$A$60,Startliste!$C$15:$C$60)=\"\",\"\",_xlfn.XLOOKUP($M$5,Startliste!$A$15:$A$60,Startliste!$C$15:$C$60,\"\"))","v":""},null,"Vorname",{"$f":"IF(_xlfn.XLOOKUP(M5,Startliste!$A$15:$A$60,Startliste!$C$15:$C$60)=\"\",\"\",_xlfn.XLOOKUP($M$5,Startliste!$A$15:$A$60,Startliste!$D$15:$D$60,\"\"))","v":""},null,null,null,"St.",{"$f":"IF(_xlfn.XLOOKUP(M5,Startliste!$A$15:$A$60,Startliste!$C$15:$C$60)=\"\",\"\",_xlfn.XLOOKUP($M$5,Startliste!$A$15:$A$60,Startliste!$G$15:$G$60,\"\"))","v":""},null,"Start-Nr.",null,"Lizenz-Nr."]
[null,"Geburtsdatum",{"$f":"IF(_xlfn.XLOOKUP(M5,Startliste!$A$15:$A$60,Startliste!$C$15:$C$60)=\"\",\"\",_xlfn.XLOOKUP($M$5,Startliste!$A$15:$A$60,Startliste!$E$15:$E$60,\"\"))","v":""},null,"Sektion",{"$f":"IF(_xlfn.XLOOKUP(M5,Startliste!$A$15:$A$60,Startliste!$C$15:$C$60)=\"\",\"\",_xlfn.XLOOKUP($M$5,Startliste!$A$15:$A$60,Startliste!$F$15:$F$60,\"\"))","v":""},null,null,null,"Kat.",{"$f":"IF(_xlfn.XLOOKUP(M5,Startliste!$A$15:$A$60,Startliste!$C$15:$C$60)=\"\",\"\",_xlfn.XLOOKUP($M$5,Startliste!$A$15:$A$60,Startliste!$I$15:$I$60,\"\"))","v":""},null,27,null,{"$f":"_xlfn.XLOOKUP($M$5,Startliste!A:A,Startliste!B:B,\"\")","v":0}]
[]
[null,null,null,"Keine Mouchen erfassen, nur Werte zwischen 1-10"]
["Passen","Scheiben-Nr. ",null,"Schüsse",null,null,null,null,null,null,null,null,null,null,"Total"]
[null,"Von","Bis",1,2,3,4,5,6,7,8,9,10]
["1 - 10",null,null,null,null,null,null,null,null,null,null,null,null,null,{"$f":"SUM(D10:M10)+AA10","v":0},null,{"$f":"IF(D10=\"M\",10)","v":false},{"$f":"IF(E10=\"M\",10)","v":false},false,false,false,false,false,false,false,false,{"$f":"SUM(Q10:Z10)","v":0}]
["11 - 20",null,null,null,null,null,null,null,null,null,null,null,null,null,{"$f":"SUM(D11:M11)+AA11","v":0},null,{"$f":"IF(D11=\"M\",10)","v":false},{"$f":"IF(E11=\"M\",10)","v":false},false,false,false,false,false,false,false,false,{"$f":"SUM(Q11:Z11)","v":0}]
["21 - 30",null,null,null,null,null,null,null,null,null,null,null,null,null,{"$f":"SUM(D12:M12)+AA12","v":0},null,{"$f":"IF(D12=\"M\",10)","v":false},{"$f":"IF(E12=\"M\",10)","v":false},false,false,false,false,false,false,false,false,{"$f":"SUM(Q12:Z12)","v":0}]
[null,null,"21 - 40",null,null,null,null,null,null,null,null,null,null,8,{"$f":"SUM(D13:M13)+AA13","v":0},null,{"$f":"IF(D13=\"M\",10)","v":false},{"$f":"IF(E13=\"M\",10)","v":false},{"$f":"IF(F13=\"M\",10)","v":false},{"$f":"IF(G13=\"M\",10)","v":false},{"$f":"IF(H13=\"M\",10)","v":false},{"$f":"IF(I13=\"M\",10)","v":false},{"$f":"IF(J13=\"M\",10)","v":false},{"$f":"IF(K13=\"M\",10)","v":false},{"$f":"IF(L13=\"M\",10)","v":false},{"$f":"IF(M13=\"M\",10)","v":false},{"$f":"SUM(Q13:Z13)","v":0}]
[null,null,null,null,null,null,null,null,null,null,null,"Resultat",null,null,{"$f":"SUM(O10:O13)","v":0}]
[]
[null,null,"Wert",10,9,8,7,6,5,4,3,2,1]
[null,null,"Anzahl",{"$f":"COUNTIF($D10:$M13,\"10\")+O18","v":0},{"$f":"COUNTIF($D10:$M13,\"9\")","v":0},{"$f":"COUNTIF($D10:$M13,\"8\")","v":0},{"$f":"COUNTIF($D10:$M13,\"7\")","v":0},{"$f":"COUNTIF($D10:$M13,\"6\")","v":0},{"$f":"COUNTIF($D10:$M13,\"5\")","v":0},{"$f":"COUNTIF($D10:$M13,\"4\")","v":0},{"$f":"COUNTIF($D10:$M13,\"3\")","v":0},{"$f":"COUNTIF($D10:$M13,\"2\")","v":0},{"$f":"COUNTIF($D10:$M13,\"1\")","v":0}]

{"sheet":"28","index":28,"n_rows":17,"n_cols":27,"rows_kept":17,"cut":false,"hidden":true,"merged":[[7,0,8,0],[7,14,8,14],[13,11,13,12],[4,2,4,3],[0,11,0,12],[0,5,0,10],[4,5,4,8],[7,1,7,2],[7,3,7,12]]}
[null,null,{"$f":"Startliste!D1","v":"Qualifikation"},null,null,{"$f":"Startliste!D2","v":"Meisterschaft der Veteranen"},null,null,null,null,null,{"$f":"Startliste!H2","v":"2025-12-31"}]
[null,null,"Lizenz-Nr.",{"$f":"IF(_xlfn.XLOOKUP($M$5,Startliste!$A$15:$A$60,Startliste!$B$15:$B$60)=\"\",\"\",_xlfn.XLOOKUP($M$5,Startliste!$A$15:$A$60,Startliste!$B$15:$B$60))","v":0},null,null,null,null,null,null,null,null,null,null,null,null,null,null,null,null,null,1]
[]
[null,"Name",{"$f":"IF(_xlfn.XLOOKUP(M5,Startliste!$A$15:$A$60,Startliste!$C$15:$C$60)=\"\",\"\",_xlfn.XLOOKUP($M$5,Startliste!$A$15:$A$60,Startliste!$C$15:$C$60,\"\"))","v":""},null,"Vorname",{"$f":"IF(_xlfn.XLOOKUP(M5,Startliste!$A$15:$A$60,Startliste!$C$15:$C$60)=\"\",\"\",_xlfn.XLOOKUP($M$5,Startliste!$A$15:$A$60,Startliste!$D$15:$D$60,\"\"))","v":""},null,null,null,"St.",{"$f":"IF(_xlfn.XLOOKUP(M5,Startliste!$A$15:$A$60,Startliste!$C$15:$C$60)=\"\",\"\",_xlfn.XLOOKUP($M$5,Startliste!$A$15:$A$60,Startliste!$G$15:$G$60,\"\"))","v":""},null,"Start-Nr.",null,"Lizenz-Nr."]
[null,"Geburtsdatum",{"$f":"IF(_xlfn.XLOOKUP(M5,Startliste!$A$15:$A$60,Startliste!$C$15:$C$60)=\"\",\"\",_xlfn.XLOOKUP($M$5,Startliste!$A$15:$A$60,Startliste!$E$15:$E$60,\"\"))","v":""},null,"Sektion",{"$f":"IF(_xlfn.XLOOKUP(M5,Startliste!$A$15:$A$60,Startliste!$C$15:$C$60)=\"\",\"\",_xlfn.XLOOKUP($M$5,Startliste!$A$15:$A$60,Startliste!$F$15:$F$60,\"\"))","v":""},null,null,null,"Kat.",{"$f":"IF(_xlfn.XLOOKUP(M5,Startliste!$A$15:$A$60,Startliste!$C$15:$C$60)=\"\",\"\",_xlfn.XLOOKUP($M$5,Startliste!$A$15:$A$60,Startliste!$I$15:$I$60,\"\"))","v":""},null,28,null,{"$f":"_xlfn.XLOOKUP($M$5,Startliste!A:A,Startliste!B:B,\"\")","v":0}]
[]
[null,null,null,"Keine Mouchen erfassen, nur Werte zwischen 1-10"]
["Passen","Scheiben-Nr. ",null,"Schüsse",null,null,null,null,null,null,null,null,null,null,"Total"]
[null,"Von","Bis",1,2,3,4,5,6,7,8,9,10]
["1 - 10",null,null,null,null,null,null,null,null,null,null,null,null,null,{"$f":"SUM(D10:M10)+AA10","v":0},null,{"$f":"IF(D10=\"M\",10)","v":false},{"$f":"IF(E10=\"M\",10)","v":false},false,false,false,false,false,false,false,false,{"$f":"SUM(Q10:Z10)","v":0}]
["11 - 20",null,null,null,null,null,null,null,null,null,null,null,null,null,{"$f":"SUM(D11:M11)+AA11","v":0},null,{"$f":"IF(D11=\"M\",10)","v":false},{"$f":"IF(E11=\"M\",10)","v":false},false,false,false,false,false,false,false,false,{"$f":"SUM(Q11:Z11)","v":0}]
["21 - 30",null,null,null,null,null,null,null,null,null,null,null,null,null,{"$f":"SUM(D12:M12)+AA12","v":0},null,{"$f":"IF(D12=\"M\",10)","v":false},{"$f":"IF(E12=\"M\",10)","v":false},false,false,false,false,false,false,false,false,{"$f":"SUM(Q12:Z12)","v":0}]
[null,null,"21 - 40",null,null,null,null,null,null,null,null,null,null,8,{"$f":"SUM(D13:M13)+AA13","v":0},null,{"$f":"IF(D13=\"M\",10)","v":false},{"$f":"IF(E13=\"M\",10)","v":false},{"$f":"IF(F13=\"M\",10)","v":false},{"$f":"IF(G13=\"M\",10)","v":false},{"$f":"IF(H13=\"M\",10)","v":false},{"$f":"IF(I13=\"M\",10)","v":false},{"$f":"IF(J13=\"M\",10)","v":false},{"$f":"IF(K13=\"M\",10)","v":false},{"$f":"IF(L13=\"M\",10)","v":false},{"$f":"IF(M13=\"M\",10)","v":false},{"$f":"SUM(Q13:Z13)","v":0}]
[null,null,null,null,null,null,null,null,null,null,null,"Resultat",null,null,{"$f":"SUM(O10:O13)","v":0}]
[]
[null,null,"Wert",10,9,8,7,6,5,4,3,2,1]
[null,null,"Anzahl",{"$f":"COUNTIF($D10:$M13,\"10\")+O18","v":0},{"$f":"COUNTIF($D10:$M13,\"9\")","v":0},{"$f":"COUNTIF($D10:$M13,\"8\")","v":0},{"$f":"COUNTIF($D10:$M13,\"7\")","v":0},{"$f":"COUNTIF($D10:$M13,\"6\")","v":0},{"$f":"COUNTIF($D10:$M13,\"5\")","v":0},{"$f":"COUNTIF($D10:$M13,\"4\")","v":0},{"$f":"COUNTIF($D10:$M13,\"3\")","v":0},{"$f":"COUNTIF($D10:$M13,\"2\")","v":0},{"$f":"COUNTIF($D10:$M13,\"1\")","v":0}]

{"sheet":"29","index":29,"n_rows":17,"n_cols":27,"rows_kept":17,"cut":false,"hidden":true,"merged":[[7,0,8,0],[7,14,8,14],[13,11,13,12],[4,2,4,3],[0,11,0,12],[0,5,0,10],[4,5,4,8],[7,1,7,2],[7,3,7,12]]}
[null,null,{"$f":"Startliste!D1","v":"Qualifikation"},null,null,{"$f":"Startliste!D2","v":"Meisterschaft der Veteranen"},null,null,null,null,null,{"$f":"Startliste!H2","v":"2025-12-31"}]
[null,null,"Lizenz-Nr.",{"$f":"IF(_xlfn.XLOOKUP($M$5,Startliste!$A$15:$A$60,Startliste!$B$15:$B$60)=\"\",\"\",_xlfn.XLOOKUP($M$5,Startliste!$A$15:$A$60,Startliste!$B$15:$B$60))","v":0},null,null,null,null,null,null,null,null,null,null,null,null,null,null,null,null,null,1]
[]
[null,"Name",{"$f":"IF(_xlfn.XLOOKUP(M5,Startliste!$A$15:$A$60,Startliste!$C$15:$C$60)=\"\",\"\",_xlfn.XLOOKUP($M$5,Startliste!$A$15:$A$60,Startliste!$C$15:$C$60,\"\"))","v":""},null,"Vorname",{"$f":"IF(_xlfn.XLOOKUP(M5,Startliste!$A$15:$A$60,Startliste!$C$15:$C$60)=\"\",\"\",_xlfn.XLOOKUP($M$5,Startliste!$A$15:$A$60,Startliste!$D$15:$D$60,\"\"))","v":""},null,null,null,"St.",{"$f":"IF(_xlfn.XLOOKUP(M5,Startliste!$A$15:$A$60,Startliste!$C$15:$C$60)=\"\",\"\",_xlfn.XLOOKUP($M$5,Startliste!$A$15:$A$60,Startliste!$G$15:$G$60,\"\"))","v":""},null,"Start-Nr.",null,"Lizenz-Nr."]
[null,"Geburtsdatum",{"$f":"IF(_xlfn.XLOOKUP(M5,Startliste!$A$15:$A$60,Startliste!$C$15:$C$60)=\"\",\"\",_xlfn.XLOOKUP($M$5,Startliste!$A$15:$A$60,Startliste!$E$15:$E$60,\"\"))","v":""},null,"Sektion",{"$f":"IF(_xlfn.XLOOKUP(M5,Startliste!$A$15:$A$60,Startliste!$C$15:$C$60)=\"\",\"\",_xlfn.XLOOKUP($M$5,Startliste!$A$15:$A$60,Startliste!$F$15:$F$60,\"\"))","v":""},null,null,null,"Kat.",{"$f":"IF(_xlfn.XLOOKUP(M5,Startliste!$A$15:$A$60,Startliste!$C$15:$C$60)=\"\",\"\",_xlfn.XLOOKUP($M$5,Startliste!$A$15:$A$60,Startliste!$I$15:$I$60,\"\"))","v":""},null,29,null,{"$f":"_xlfn.XLOOKUP($M$5,Startliste!A:A,Startliste!B:B,\"\")","v":0}]
[]
[null,null,null,"Keine Mouchen erfassen, nur Werte zwischen 1-10"]
["Passen","Scheiben-Nr. ",null,"Schüsse",null,null,null,null,null,null,null,null,null,null,"Total"]
[null,"Von","Bis",1,2,3,4,5,6,7,8,9,10]
["1 - 10",null,null,null,null,null,null,null,null,null,null,null,null,null,{"$f":"SUM(D10:M10)+AA10","v":0},null,{"$f":"IF(D10=\"M\",10)","v":false},{"$f":"IF(E10=\"M\",10)","v":false},false,false,false,false,false,false,false,false,{"$f":"SUM(Q10:Z10)","v":0}]
["11 - 20",null,null,null,null,null,null,null,null,null,null,null,null,null,{"$f":"SUM(D11:M11)+AA11","v":0},null,{"$f":"IF(D11=\"M\",10)","v":false},{"$f":"IF(E11=\"M\",10)","v":false},false,false,false,false,false,false,false,false,{"$f":"SUM(Q11:Z11)","v":0}]
["21 - 30",null,null,null,null,null,null,null,null,null,null,null,null,null,{"$f":"SUM(D12:M12)+AA12","v":0},null,{"$f":"IF(D12=\"M\",10)","v":false},{"$f":"IF(E12=\"M\",10)","v":false},false,false,false,false,false,false,false,false,{"$f":"SUM(Q12:Z12)","v":0}]
[null,null,"21 - 40",null,null,null,null,null,null,null,null,null,null,8,{"$f":"SUM(D13:M13)+AA13","v":0},null,{"$f":"IF(D13=\"M\",10)","v":false},{"$f":"IF(E13=\"M\",10)","v":false},{"$f":"IF(F13=\"M\",10)","v":false},{"$f":"IF(G13=\"M\",10)","v":false},{"$f":"IF(H13=\"M\",10)","v":false},{"$f":"IF(I13=\"M\",10)","v":false},{"$f":"IF(J13=\"M\",10)","v":false},{"$f":"IF(K13=\"M\",10)","v":false},{"$f":"IF(L13=\"M\",10)","v":false},{"$f":"IF(M13=\"M\",10)","v":false},{"$f":"SUM(Q13:Z13)","v":0}]
[null,null,null,null,null,null,null,null,null,null,null,"Resultat",null,null,{"$f":"SUM(O10:O13)","v":0}]
[]
[null,null,"Wert",10,9,8,7,6,5,4,3,2,1]
[null,null,"Anzahl",{"$f":"COUNTIF($D10:$M13,\"10\")+O18","v":0},{"$f":"COUNTIF($D10:$M13,\"9\")","v":0},{"$f":"COUNTIF($D10:$M13,\"8\")","v":0},{"$f":"COUNTIF($D10:$M13,\"7\")","v":0},{"$f":"COUNTIF($D10:$M13,\"6\")","v":0},{"$f":"COUNTIF($D10:$M13,\"5\")","v":0},{"$f":"COUNTIF($D10:$M13,\"4\")","v":0},{"$f":"COUNTIF($D10:$M13,\"3\")","v":0},{"$f":"COUNTIF($D10:$M13,\"2\")","v":0},{"$f":"COUNTIF($D10:$M13,\"1\")","v":0}]

{"sheet":"30","index":30,"n_rows":17,"n_cols":27,"rows_kept":17,"cut":false,"hidden":true,"merged":[[7,0,8,0],[7,14,8,14],[13,11,13,12],[4,2,4,3],[0,11,0,12],[0,5,0,10],[4,5,4,8],[7,1,7,2],[7,3,7,12]]}
[null,null,{"$f":"Startliste!D1","v":"Qualifikation"},null,null,{"$f":"Startliste!D2","v":"Meisterschaft der Veteranen"},null,null,null,null,null,{"$f":"Startliste!H2","v":"2025-12-31"}]
[null,null,"Lizenz-Nr.",{"$f":"IF(_xlfn.XLOOKUP($M$5,Startliste!$A$15:$A$60,Startliste!$B$15:$B$60)=\"\",\"\",_xlfn.XLOOKUP($M$5,Startliste!$A$15:$A$60,Startliste!$B$15:$B$60))","v":0},null,null,null,null,null,null,null,null,null,null,null,null,null,null,null,null,null,1]
[]
[null,"Name",{"$f":"IF(_xlfn.XLOOKUP(M5,Startliste!$A$15:$A$60,Startliste!$C$15:$C$60)=\"\",\"\",_xlfn.XLOOKUP($M$5,Startliste!$A$15:$A$60,Startliste!$C$15:$C$60,\"\"))","v":""},null,"Vorname",{"$f":"IF(_xlfn.XLOOKUP(M5,Startliste!$A$15:$A$60,Startliste!$C$15:$C$60)=\"\",\"\",_xlfn.XLOOKUP($M$5,Startliste!$A$15:$A$60,Startliste!$D$15:$D$60,\"\"))","v":""},null,null,null,"St.",{"$f":"IF(_xlfn.XLOOKUP(M5,Startliste!$A$15:$A$60,Startliste!$C$15:$C$60)=\"\",\"\",_xlfn.XLOOKUP($M$5,Startliste!$A$15:$A$60,Startliste!$G$15:$G$60,\"\"))","v":""},null,"Start-Nr.",null,"Lizenz-Nr."]
[null,"Geburtsdatum",{"$f":"IF(_xlfn.XLOOKUP(M5,Startliste!$A$15:$A$60,Startliste!$C$15:$C$60)=\"\",\"\",_xlfn.XLOOKUP($M$5,Startliste!$A$15:$A$60,Startliste!$E$15:$E$60,\"\"))","v":""},null,"Sektion",{"$f":"IF(_xlfn.XLOOKUP(M5,Startliste!$A$15:$A$60,Startliste!$C$15:$C$60)=\"\",\"\",_xlfn.XLOOKUP($M$5,Startliste!$A$15:$A$60,Startliste!$F$15:$F$60,\"\"))","v":""},null,null,null,"Kat.",{"$f":"IF(_xlfn.XLOOKUP(M5,Startliste!$A$15:$A$60,Startliste!$C$15:$C$60)=\"\",\"\",_xlfn.XLOOKUP($M$5,Startliste!$A$15:$A$60,Startliste!$I$15:$I$60,\"\"))","v":""},null,30,null,{"$f":"_xlfn.XLOOKUP($M$5,Startliste!A:A,Startliste!B:B,\"\")","v":0}]
[]
[null,null,null,"Keine Mouchen erfassen, nur Werte zwischen 1-10"]
["Passen","Scheiben-Nr. ",null,"Schüsse",null,null,null,null,null,null,null,null,null,null,"Total"]
[null,"Von","Bis",1,2,3,4,5,6,7,8,9,10]
["1 - 10",null,null,null,null,null,null,null,null,null,null,null,null,null,{"$f":"SUM(D10:M10)+AA10","v":0},null,{"$f":"IF(D10=\"M\",10)","v":false},{"$f":"IF(E10=\"M\",10)","v":false},false,false,false,false,false,false,false,false,{"$f":"SUM(Q10:Z10)","v":0}]
["11 - 20",null,null,null,null,null,null,null,null,null,null,null,null,null,{"$f":"SUM(D11:M11)+AA11","v":0},null,{"$f":"IF(D11=\"M\",10)","v":false},{"$f":"IF(E11=\"M\",10)","v":false},false,false,false,false,false,false,false,false,{"$f":"SUM(Q11:Z11)","v":0}]
["21 - 30",null,null,null,null,null,null,null,null,null,null,null,null,null,{"$f":"SUM(D12:M12)+AA12","v":0},null,{"$f":"IF(D12=\"M\",10)","v":false},{"$f":"IF(E12=\"M\",10)","v":false},false,false,false,false,false,false,false,false,{"$f":"SUM(Q12:Z12)","v":0}]
[null,null,"21 - 40",null,null,null,null,null,null,null,null,null,null,8,{"$f":"SUM(D13:M13)+AA13","v":0},null,{"$f":"IF(D13=\"M\",10)","v":false},{"$f":"IF(E13=\"M\",10)","v":false},{"$f":"IF(F13=\"M\",10)","v":false},{"$f":"IF(G13=\"M\",10)","v":false},{"$f":"IF(H13=\"M\",10)","v":false},{"$f":"IF(I13=\"M\",10)","v":false},{"$f":"IF(J13=\"M\",10)","v":false},{"$f":"IF(K13=\"M\",10)","v":false},{"$f":"IF(L13=\"M\",10)","v":false},{"$f":"IF(M13=\"M\",10)","v":false},{"$f":"SUM(Q13:Z13)","v":0}]
[null,null,null,null,null,null,null,null,null,null,null,"Resultat",null,null,{"$f":"SUM(O10:O13)","v":0}]
[]
[null,null,"Wert",10,9,8,7,6,5,4,3,2,1]
[null,null,"Anzahl",{"$f":"COUNTIF($D10:$M13,\"10\")+O18","v":0},{"$f":"COUNTIF($D10:$M13,\"9\")","v":0},{"$f":"COUNTIF($D10:$M13,\"8\")","v":0},{"$f":"COUNTIF($D10:$M13,\"7\")","v":0},{"$f":"COUNTIF($D10:$M13,\"6\")","v":0},{"$f":"COUNTIF($D10:$M13,\"5\")","v":0},{"$f":"COUNTIF($D10:$M13,\"4\")","v":0},{"$f":"COUNTIF($D10:$M13,\"3\")","v":0},{"$f":"COUNTIF($D10:$M13,\"2\")","v":0},{"$f":"COUNTIF($D10:$M13,\"1\")","v":0}]

{"sheet":"31","index":31,"n_rows":17,"n_cols":27,"rows_kept":17,"cut":false,"hidden":true,"merged":[[7,0,8,0],[7,14,8,14],[13,11,13,12],[4,2,4,3],[0,11,0,12],[0,5,0,10],[4,5,4,8],[7,1,7,2],[7,3,7,12]]}
[null,null,{"$f":"Startliste!D1","v":"Qualifikation"},null,null,{"$f":"Startliste!D2","v":"Meisterschaft der Veteranen"},null,null,null,null,null,{"$f":"Startliste!H2","v":"2025-12-31"}]
[null,null,"Lizenz-Nr.",{"$f":"IF(_xlfn.XLOOKUP($M$5,Startliste!$A$15:$A$60,Startliste!$B$15:$B$60)=\"\",\"\",_xlfn.XLOOKUP($M$5,Startliste!$A$15:$A$60,Startliste!$B$15:$B$60))","v":0},null,null,null,null,null,null,null,null,null,null,null,null,null,null,null,null,null,1]
[]
[null,"Name",{"$f":"IF(_xlfn.XLOOKUP(M5,Startliste!$A$15:$A$60,Startliste!$C$15:$C$60)=\"\",\"\",_xlfn.XLOOKUP($M$5,Startliste!$A$15:$A$60,Startliste!$C$15:$C$60,\"\"))","v":""},null,"Vorname",{"$f":"IF(_xlfn.XLOOKUP(M5,Startliste!$A$15:$A$60,Startliste!$C$15:$C$60)=\"\",\"\",_xlfn.XLOOKUP($M$5,Startliste!$A$15:$A$60,Startliste!$D$15:$D$60,\"\"))","v":""},null,null,null,"St.",{"$f":"IF(_xlfn.XLOOKUP(M5,Startliste!$A$15:$A$60,Startliste!$C$15:$C$60)=\"\",\"\",_xlfn.XLOOKUP($M$5,Startliste!$A$15:$A$60,Startliste!$G$15:$G$60,\"\"))","v":""},null,"Start-Nr.",null,"Lizenz-Nr."]
[null,"Geburtsdatum",{"$f":"IF(_xlfn.XLOOKUP(M5,Startliste!$A$15:$A$60,Startliste!$C$15:$C$60)=\"\",\"\",_xlfn.XLOOKUP($M$5,Startliste!$A$15:$A$60,Startliste!$E$15:$E$60,\"\"))","v":""},null,"Sektion",{"$f":"IF(_xlfn.XLOOKUP(M5,Startliste!$A$15:$A$60,Startliste!$C$15:$C$60)=\"\",\"\",_xlfn.XLOOKUP($M$5,Startliste!$A$15:$A$60,Startliste!$F$15:$F$60,\"\"))","v":""},null,null,null,"Kat.",{"$f":"IF(_xlfn.XLOOKUP(M5,Startliste!$A$15:$A$60,Startliste!$C$15:$C$60)=\"\",\"\",_xlfn.XLOOKUP($M$5,Startliste!$A$15:$A$60,Startliste!$I$15:$I$60,\"\"))","v":""},null,31,null,{"$f":"_xlfn.XLOOKUP($M$5,Startliste!A:A,Startliste!B:B,\"\")","v":0}]
[]
[null,null,null,"Keine Mouchen erfassen, nur Werte zwischen 1-10"]
["Passen","Scheiben-Nr. ",null,"Schüsse",null,null,null,null,null,null,null,null,null,null,"Total"]
[null,"Von","Bis",1,2,3,4,5,6,7,8,9,10]
["1 - 10",null,null,null,null,null,null,null,null,null,null,null,null,null,{"$f":"SUM(D10:M10)+AA10","v":0},null,{"$f":"IF(D10=\"M\",10)","v":false},{"$f":"IF(E10=\"M\",10)","v":false},false,false,false,false,false,false,false,false,{"$f":"SUM(Q10:Z10)","v":0}]
["11 - 20",null,null,null,null,null,null,null,null,null,null,null,null,null,{"$f":"SUM(D11:M11)+AA11","v":0},null,{"$f":"IF(D11=\"M\",10)","v":false},{"$f":"IF(E11=\"M\",10)","v":false},false,false,false,false,false,false,false,false,{"$f":"SUM(Q11:Z11)","v":0}]
["21 - 30",null,null,null,null,null,null,null,null,null,null,null,null,null,{"$f":"SUM(D12:M12)+AA12","v":0},null,{"$f":"IF(D12=\"M\",10)","v":false},{"$f":"IF(E12=\"M\",10)","v":false},false,false,false,false,false,false,false,false,{"$f":"SUM(Q12:Z12)","v":0}]
[null,null,"21 - 40",null,null,null,null,null,null,null,null,null,null,8,{"$f":"SUM(D13:M13)+AA13","v":0},null,{"$f":"IF(D13=\"M\",10)","v":false},{"$f":"IF(E13=\"M\",10)","v":false},{"$f":"IF(F13=\"M\",10)","v":false},{"$f":"IF(G13=\"M\",10)","v":false},{"$f":"IF(H13=\"M\",10)","v":false},{"$f":"IF(I13=\"M\",10)","v":false},{"$f":"IF(J13=\"M\",10)","v":false},{"$f":"IF(K13=\"M\",10)","v":false},{"$f":"IF(L13=\"M\",10)","v":false},{"$f":"IF(M13=\"M\",10)","v":false},{"$f":"SUM(Q13:Z13)","v":0}]
[null,null,null,null,null,null,null,null,null,null,null,"Resultat",null,null,{"$f":"SUM(O10:O13)","v":0}]
[]
[null,null,"Wert",10,9,8,7,6,5,4,3,2,1]
[null,null,"Anzahl",{"$f":"COUNTIF($D10:$M13,\"10\")+O18","v":0},{"$f":"COUNTIF($D10:$M13,\"9\")","v":0},{"$f":"COUNTIF($D10:$M13,\"8\")","v":0},{"$f":"COUNTIF($D10:$M13,\"7\")","v":0},{"$f":"COUNTIF($D10:$M13,\"6\")","v":0},{"$f":"COUNTIF($D10:$M13,\"5\")","v":0},{"$f":"COUNTIF($D10:$M13,\"4\")","v":0},{"$f":"COUNTIF($D10:$M13,\"3\")","v":0},{"$f":"COUNTIF($D10:$M13,\"2\")","v":0},{"$f":"COUNTIF($D10:$M13,\"1\")","v":0}]

{"sheet":"32","index":32,"n_rows":17,"n_cols":27,"rows_kept":17,"cut":false,"hidden":true,"merged":[[7,0,8,0],[7,14,8,14],[13,11,13,12],[4,2,4,3],[0,11,0,12],[0,5,0,10],[4,5,4,8],[7,1,7,2],[7,3,7,12]]}
[null,null,{"$f":"Startliste!D1","v":"Qualifikation"},null,null,{"$f":"Startliste!D2","v":"Meisterschaft der Veteranen"},null,null,null,null,null,{"$f":"Startliste!H2","v":"2025-12-31"}]
[null,null,"Lizenz-Nr.",{"$f":"IF(_xlfn.XLOOKUP($M$5,Startliste!$A$15:$A$60,Startliste!$B$15:$B$60)=\"\",\"\",_xlfn.XLOOKUP($M$5,Startliste!$A$15:$A$60,Startliste!$B$15:$B$60))","v":0},null,null,null,null,null,null,null,null,null,null,null,null,null,null,null,null,null,1]
[]
[null,"Name",{"$f":"IF(_xlfn.XLOOKUP(M5,Startliste!$A$15:$A$60,Startliste!$C$15:$C$60)=\"\",\"\",_xlfn.XLOOKUP($M$5,Startliste!$A$15:$A$60,Startliste!$C$15:$C$60,\"\"))","v":""},null,"Vorname",{"$f":"IF(_xlfn.XLOOKUP(M5,Startliste!$A$15:$A$60,Startliste!$C$15:$C$60)=\"\",\"\",_xlfn.XLOOKUP($M$5,Startliste!$A$15:$A$60,Startliste!$D$15:$D$60,\"\"))","v":""},null,null,null,"St.",{"$f":"IF(_xlfn.XLOOKUP(M5,Startliste!$A$15:$A$60,Startliste!$C$15:$C$60)=\"\",\"\",_xlfn.XLOOKUP($M$5,Startliste!$A$15:$A$60,Startliste!$G$15:$G$60,\"\"))","v":""},null,"Start-Nr.",null,"Lizenz-Nr."]
[null,"Geburtsdatum",{"$f":"IF(_xlfn.XLOOKUP(M5,Startliste!$A$15:$A$60,Startliste!$C$15:$C$60)=\"\",\"\",_xlfn.XLOOKUP($M$5,Startliste!$A$15:$A$60,Startliste!$E$15:$E$60,\"\"))","v":""},null,"Sektion",{"$f":"IF(_xlfn.XLOOKUP(M5,Startliste!$A$15:$A$60,Startliste!$C$15:$C$60)=\"\",\"\",_xlfn.XLOOKUP($M$5,Startliste!$A$15:$A$60,Startliste!$F$15:$F$60,\"\"))","v":""},null,null,null,"Kat.",{"$f":"IF(_xlfn.XLOOKUP(M5,Startliste!$A$15:$A$60,Startliste!$C$15:$C$60)=\"\",\"\",_xlfn.XLOOKUP($M$5,Startliste!$A$15:$A$60,Startliste!$I$15:$I$60,\"\"))","v":""},null,32,null,{"$f":"_xlfn.XLOOKUP($M$5,Startliste!A:A,Startliste!B:B,\"\")","v":0}]
[]
[null,null,null,"Keine Mouchen erfassen, nur Werte zwischen 1-10"]
["Passen","Scheiben-Nr. ",null,"Schüsse",null,null,null,null,null,null,null,null,null,null,"Total"]
[null,"Von","Bis",1,2,3,4,5,6,7,8,9,10]
["1 - 10",null,null,null,null,null,null,null,null,null,null,null,null,null,{"$f":"SUM(D10:M10)+AA10","v":0},null,{"$f":"IF(D10=\"M\",10)","v":false},{"$f":"IF(E10=\"M\",10)","v":false},false,false,false,false,false,false,false,false,{"$f":"SUM(Q10:Z10)","v":0}]
["11 - 20",null,null,null,null,null,null,null,null,null,null,null,null,null,{"$f":"SUM(D11:M11)+AA11","v":0},null,{"$f":"IF(D11=\"M\",10)","v":false},{"$f":"IF(E11=\"M\",10)","v":false},false,false,false,false,false,false,false,false,{"$f":"SUM(Q11:Z11)","v":0}]
["21 - 30",null,null,null,null,null,null,null,null,null,null,null,null,null,{"$f":"SUM(D12:M12)+AA12","v":0},null,{"$f":"IF(D12=\"M\",10)","v":false},{"$f":"IF(E12=\"M\",10)","v":false},false,false,false,false,false,false,false,false,{"$f":"SUM(Q12:Z12)","v":0}]
[null,null,"21 - 40",null,null,null,null,null,null,null,null,null,null,8,{"$f":"SUM(D13:M13)+AA13","v":0},null,{"$f":"IF(D13=\"M\",10)","v":false},{"$f":"IF(E13=\"M\",10)","v":false},{"$f":"IF(F13=\"M\",10)","v":false},{"$f":"IF(G13=\"M\",10)","v":false},{"$f":"IF(H13=\"M\",10)","v":false},{"$f":"IF(I13=\"M\",10)","v":false},{"$f":"IF(J13=\"M\",10)","v":false},{"$f":"IF(K13=\"M\",10)","v":false},{"$f":"IF(L13=\"M\",10)","v":false},{"$f":"IF(M13=\"M\",10)","v":false},{"$f":"SUM(Q13:Z13)","v":0}]
[null,null,null,null,null,null,null,null,null,null,null,"Resultat",null,null,{"$f":"SUM(O10:O13)","v":0}]
[]
[null,null,"Wert",10,9,8,7,6,5,4,3,2,1]
[null,null,"Anzahl",{"$f":"COUNTIF($D10:$M13,\"10\")+O18","v":0},{"$f":"COUNTIF($D10:$M13,\"9\")","v":0},{"$f":"COUNTIF($D10:$M13,\"8\")","v":0},{"$f":"COUNTIF($D10:$M13,\"7\")","v":0},{"$f":"COUNTIF($D10:$M13,\"6\")","v":0},{"$f":"COUNTIF($D10:$M13,\"5\")","v":0},{"$f":"COUNTIF($D10:$M13,\"4\")","v":0},{"$f":"COUNTIF($D10:$M13,\"3\")","v":0},{"$f":"COUNTIF($D10:$M13,\"2\")","v":0},{"$f":"COUNTIF($D10:$M13,\"1\")","v":0}]

{"sheet":"33","index":33,"n_rows":17,"n_cols":27,"rows_kept":17,"cut":false,"hidden":true,"merged":[[7,0,8,0],[7,14,8,14],[13,11,13,12],[4,2,4,3],[0,11,0,12],[0,5,0,10],[4,5,4,8],[7,1,7,2],[7,3,7,12]]}
[null,null,{"$f":"Startliste!D1","v":"Qualifikation"},null,null,{"$f":"Startliste!D2","v":"Meisterschaft der Veteranen"},null,null,null,null,null,{"$f":"Startliste!H2","v":"2025-12-31"}]
[null,null,"Lizenz-Nr.",{"$f":"IF(_xlfn.XLOOKUP($M$5,Startliste!$A$15:$A$60,Startliste!$B$15:$B$60)=\"\",\"\",_xlfn.XLOOKUP($M$5,Startliste!$A$15:$A$60,Startliste!$B$15:$B$60))","v":0},null,null,null,null,null,null,null,null,null,null,null,null,null,null,null,null,null,1]
[]
[null,"Name",{"$f":"IF(_xlfn.XLOOKUP(M5,Startliste!$A$15:$A$60,Startliste!$C$15:$C$60)=\"\",\"\",_xlfn.XLOOKUP($M$5,Startliste!$A$15:$A$60,Startliste!$C$15:$C$60,\"\"))","v":""},null,"Vorname",{"$f":"IF(_xlfn.XLOOKUP(M5,Startliste!$A$15:$A$60,Startliste!$C$15:$C$60)=\"\",\"\",_xlfn.XLOOKUP($M$5,Startliste!$A$15:$A$60,Startliste!$D$15:$D$60,\"\"))","v":""},null,null,null,"St.",{"$f":"IF(_xlfn.XLOOKUP(M5,Startliste!$A$15:$A$60,Startliste!$C$15:$C$60)=\"\",\"\",_xlfn.XLOOKUP($M$5,Startliste!$A$15:$A$60,Startliste!$G$15:$G$60,\"\"))","v":""},null,"Start-Nr.",null,"Lizenz-Nr."]
[null,"Geburtsdatum",{"$f":"IF(_xlfn.XLOOKUP(M5,Startliste!$A$15:$A$60,Startliste!$C$15:$C$60)=\"\",\"\",_xlfn.XLOOKUP($M$5,Startliste!$A$15:$A$60,Startliste!$E$15:$E$60,\"\"))","v":""},null,"Sektion",{"$f":"IF(_xlfn.XLOOKUP(M5,Startliste!$A$15:$A$60,Startliste!$C$15:$C$60)=\"\",\"\",_xlfn.XLOOKUP($M$5,Startliste!$A$15:$A$60,Startliste!$F$15:$F$60,\"\"))","v":""},null,null,null,"Kat.",{"$f":"IF(_xlfn.XLOOKUP(M5,Startliste!$A$15:$A$60,Startliste!$C$15:$C$60)=\"\",\"\",_xlfn.XLOOKUP($M$5,Startliste!$A$15:$A$60,Startliste!$I$15:$I$60,\"\"))","v":""},null,33,null,{"$f":"_xlfn.XLOOKUP($M$5,Startliste!A:A,Startliste!B:B,\"\")","v":0}]
[]
[null,null,null,"Keine Mouchen erfassen, nur Werte zwischen 1-10"]
["Passen","Scheiben-Nr. ",null,"Schüsse",null,null,null,null,null,null,null,null,null,null,"Total"]
[null,"Von","Bis",1,2,3,4,5,6,7,8,9,10]
["1 - 10",null,null,null,null,null,null,null,null,null,null,null,null,null,{"$f":"SUM(D10:M10)+AA10","v":0},null,{"$f":"IF(D10=\"M\",10)","v":false},{"$f":"IF(E10=\"M\",10)","v":false},false,false,false,false,false,false,false,false,{"$f":"SUM(Q10:Z10)","v":0}]
["11 - 20",null,null,null,null,null,null,null,null,null,null,null,null,null,{"$f":"SUM(D11:M11)+AA11","v":0},null,{"$f":"IF(D11=\"M\",10)","v":false},{"$f":"IF(E11=\"M\",10)","v":false},false,false,false,false,false,false,false,false,{"$f":"SUM(Q11:Z11)","v":0}]
["21 - 30",null,null,null,null,null,null,null,null,null,null,null,null,null,{"$f":"SUM(D12:M12)+AA12","v":0},null,{"$f":"IF(D12=\"M\",10)","v":false},{"$f":"IF(E12=\"M\",10)","v":false},false,false,false,false,false,false,false,false,{"$f":"SUM(Q12:Z12)","v":0}]
[null,null,"21 - 40",null,null,null,null,null,null,null,null,null,null,8,{"$f":"SUM(D13:M13)+AA13","v":0},null,{"$f":"IF(D13=\"M\",10)","v":false},{"$f":"IF(E13=\"M\",10)","v":false},{"$f":"IF(F13=\"M\",10)","v":false},{"$f":"IF(G13=\"M\",10)","v":false},{"$f":"IF(H13=\"M\",10)","v":false},{"$f":"IF(I13=\"M\",10)","v":false},{"$f":"IF(J13=\"M\",10)","v":false},{"$f":"IF(K13=\"M\",10)","v":false},{"$f":"IF(L13=\"M\",10)","v":false},{"$f":"IF(M13=\"M\",10)","v":false},{"$f":"SUM(Q13:Z13)","v":0}]
[null,null,null,null,null,null,null,null,null,null,null,"Resultat",null,null,{"$f":"SUM(O10:O13)","v":0}]
[]
[null,null,"Wert",10,9,8,7,6,5,4,3,2,1]
[null,null,"Anzahl",{"$f":"COUNTIF($D10:$M13,\"10\")+O18","v":0},{"$f":"COUNTIF($D10:$M13,\"9\")","v":0},{"$f":"COUNTIF($D10:$M13,\"8\")","v":0},{"$f":"COUNTIF($D10:$M13,\"7\")","v":0},{"$f":"COUNTIF($D10:$M13,\"6\")","v":0},{"$f":"COUNTIF($D10:$M13,\"5\")","v":0},{"$f":"COUNTIF($D10:$M13,\"4\")","v":0},{"$f":"COUNTIF($D10:$M13,\"3\")","v":0},{"$f":"COUNTIF($D10:$M13,\"2\")","v":0},{"$f":"COUNTIF($D10:$M13,\"1\")","v":0}]

{"sheet":"34","index":34,"n_rows":17,"n_cols":27,"rows_kept":17,"cut":false,"hidden":true,"merged":[[7,0,8,0],[7,14,8,14],[13,11,13,12],[4,2,4,3],[0,11,0,12],[0,5,0,10],[4,5,4,8],[7,1,7,2],[7,3,7,12]]}
[null,null,{"$f":"Startliste!D1","v":"Qualifikation"},null,null,{"$f":"Startliste!D2","v":"Meisterschaft der Veteranen"},null,null,null,null,null,{"$f":"Startliste!H2","v":"2025-12-31"}]
[null,null,"Lizenz-Nr.",{"$f":"IF(_xlfn.XLOOKUP($M$5,Startliste!$A$15:$A$60,Startliste!$B$15:$B$60)=\"\",\"\",_xlfn.XLOOKUP($M$5,Startliste!$A$15:$A$60,Startliste!$B$15:$B$60))","v":0},null,null,null,null,null,null,null,null,null,null,null,null,null,null,null,null,null,1]
[]
[null,"Name",{"$f":"IF(_xlfn.XLOOKUP(M5,Startliste!$A$15:$A$60,Startliste!$C$15:$C$60)=\"\",\"\",_xlfn.XLOOKUP($M$5,Startliste!$A$15:$A$60,Startliste!$C$15:$C$60,\"\"))","v":""},null,"Vorname",{"$f":"IF(_xlfn.XLOOKUP(M5,Startliste!$A$15:$A$60,Startliste!$C$15:$C$60)=\"\",\"\",_xlfn.XLOOKUP($M$5,Startliste!$A$15:$A$60,Startliste!$D$15:$D$60,\"\"))","v":""},null,null,null,"St.",{"$f":"IF(_xlfn.XLOOKUP(M5,Startliste!$A$15:$A$60,Startliste!$C$15:$C$60)=\"\",\"\",_xlfn.XLOOKUP($M$5,Startliste!$A$15:$A$60,Startliste!$G$15:$G$60,\"\"))","v":""},null,"Start-Nr.",null,"Lizenz-Nr."]
[null,"Geburtsdatum",{"$f":"IF(_xlfn.XLOOKUP(M5,Startliste!$A$15:$A$60,Startliste!$C$15:$C$60)=\"\",\"\",_xlfn.XLOOKUP($M$5,Startliste!$A$15:$A$60,Startliste!$E$15:$E$60,\"\"))","v":""},null,"Sektion",{"$f":"IF(_xlfn.XLOOKUP(M5,Startliste!$A$15:$A$60,Startliste!$C$15:$C$60)=\"\",\"\",_xlfn.XLOOKUP($M$5,Startliste!$A$15:$A$60,Startliste!$F$15:$F$60,\"\"))","v":""},null,null,null,"Kat.",{"$f":"IF(_xlfn.XLOOKUP(M5,Startliste!$A$15:$A$60,Startliste!$C$15:$C$60)=\"\",\"\",_xlfn.XLOOKUP($M$5,Startliste!$A$15:$A$60,Startliste!$I$15:$I$60,\"\"))","v":""},null,34,null,{"$f":"_xlfn.XLOOKUP($M$5,Startliste!A:A,Startliste!B:B,\"\")","v":0}]
[]
[null,null,null,"Keine Mouchen erfassen, nur Werte zwischen 1-10"]
["Passen","Scheiben-Nr. ",null,"Schüsse",null,null,null,null,null,null,null,null,null,null,"Total"]
[null,"Von","Bis",1,2,3,4,5,6,7,8,9,10]
["1 - 10",null,null,null,null,null,null,null,null,null,null,null,null,null,{"$f":"SUM(D10:M10)+AA10","v":0},null,{"$f":"IF(D10=\"M\",10)","v":false},{"$f":"IF(E10=\"M\",10)","v":false},false,false,false,false,false,false,false,false,{"$f":"SUM(Q10:Z10)","v":0}]
["11 - 20",null,null,null,null,null,null,null,null,null,null,null,null,null,{"$f":"SUM(D11:M11)+AA11","v":0},null,{"$f":"IF(D11=\"M\",10)","v":false},{"$f":"IF(E11=\"M\",10)","v":false},false,false,false,false,false,false,false,false,{"$f":"SUM(Q11:Z11)","v":0}]
["21 - 30",null,null,null,null,null,null,null,null,null,null,null,null,null,{"$f":"SUM(D12:M12)+AA12","v":0},null,{"$f":"IF(D12=\"M\",10)","v":false},{"$f":"IF(E12=\"M\",10)","v":false},false,false,false,false,false,false,false,false,{"$f":"SUM(Q12:Z12)","v":0}]
[null,null,"21 - 40",null,null,null,null,null,null,null,null,null,null,8,{"$f":"SUM(D13:M13)+AA13","v":0},null,{"$f":"IF(D13=\"M\",10)","v":false},{"$f":"IF(E13=\"M\",10)","v":false},{"$f":"IF(F13=\"M\",10)","v":false},{"$f":"IF(G13=\"M\",10)","v":false},{"$f":"IF(H13=\"M\",10)","v":false},{"$f":"IF(I13=\"M\",10)","v":false},{"$f":"IF(J13=\"M\",10)","v":false},{"$f":"IF(K13=\"M\",10)","v":false},{"$f":"IF(L13=\"M\",10)","v":false},{"$f":"IF(M13=\"M\",10)","v":false},{"$f":"SUM(Q13:Z13)","v":0}]
[null,null,null,null,null,null,null,null,null,null,null,"Resultat",null,null,{"$f":"SUM(O10:O13)","v":0}]
[]
[null,null,"Wert",10,9,8,7,6,5,4,3,2,1]
[null,null,"Anzahl",{"$f":"COUNTIF($D10:$M13,\"10\")+O18","v":0},{"$f":"COUNTIF($D10:$M13,\"9\")","v":0},{"$f":"COUNTIF($D10:$M13,\"8\")","v":0},{"$f":"COUNTIF($D10:$M13,\"7\")","v":0},{"$f":"COUNTIF($D10:$M13,\"6\")","v":0},{"$f":"COUNTIF($D10:$M13,\"5\")","v":0},{"$f":"COUNTIF($D10:$M13,\"4\")","v":0},{"$f":"COUNTIF($D10:$M13,\"3\")","v":0},{"$f":"COUNTIF($D10:$M13,\"2\")","v":0},{"$f":"COUNTIF($D10:$M13,\"1\")","v":0}]

{"sheet":"35","index":35,"n_rows":17,"n_cols":27,"rows_kept":17,"cut":false,"hidden":true,"merged":[[7,0,8,0],[7,14,8,14],[13,11,13,12],[4,2,4,3],[0,11,0,12],[0,5,0,10],[4,5,4,8],[7,1,7,2],[7,3,7,12]]}
[null,null,{"$f":"Startliste!D1","v":"Qualifikation"},null,null,{"$f":"Startliste!D2","v":"Meisterschaft der Veteranen"},null,null,null,null,null,{"$f":"Startliste!H2","v":"2025-12-31"}]
[null,null,"Lizenz-Nr.",{"$f":"IF(_xlfn.XLOOKUP($M$5,Startliste!$A$15:$A$60,Startliste!$B$15:$B$60)=\"\",\"\",_xlfn.XLOOKUP($M$5,Startliste!$A$15:$A$60,Startliste!$B$15:$B$60))","v":0},null,null,null,null,null,null,null,null,null,null,null,null,null,null,null,null,null,1]
[]
[null,"Name",{"$f":"IF(_xlfn.XLOOKUP(M5,Startliste!$A$15:$A$60,Startliste!$C$15:$C$60)=\"\",\"\",_xlfn.XLOOKUP($M$5,Startliste!$A$15:$A$60,Startliste!$C$15:$C$60,\"\"))","v":""},null,"Vorname",{"$f":"IF(_xlfn.XLOOKUP(M5,Startliste!$A$15:$A$60,Startliste!$C$15:$C$60)=\"\",\"\",_xlfn.XLOOKUP($M$5,Startliste!$A$15:$A$60,Startliste!$D$15:$D$60,\"\"))","v":""},null,null,null,"St.",{"$f":"IF(_xlfn.XLOOKUP(M5,Startliste!$A$15:$A$60,Startliste!$C$15:$C$60)=\"\",\"\",_xlfn.XLOOKUP($M$5,Startliste!$A$15:$A$60,Startliste!$G$15:$G$60,\"\"))","v":""},null,"Start-Nr.",null,"Lizenz-Nr."]
[null,"Geburtsdatum",{"$f":"IF(_xlfn.XLOOKUP(M5,Startliste!$A$15:$A$60,Startliste!$C$15:$C$60)=\"\",\"\",_xlfn.XLOOKUP($M$5,Startliste!$A$15:$A$60,Startliste!$E$15:$E$60,\"\"))","v":""},null,"Sektion",{"$f":"IF(_xlfn.XLOOKUP(M5,Startliste!$A$15:$A$60,Startliste!$C$15:$C$60)=\"\",\"\",_xlfn.XLOOKUP($M$5,Startliste!$A$15:$A$60,Startliste!$F$15:$F$60,\"\"))","v":""},null,null,null,"Kat.",{"$f":"IF(_xlfn.XLOOKUP(M5,Startliste!$A$15:$A$60,Startliste!$C$15:$C$60)=\"\",\"\",_xlfn.XLOOKUP($M$5,Startliste!$A$15:$A$60,Startliste!$I$15:$I$60,\"\"))","v":""},null,35,null,{"$f":"_xlfn.XLOOKUP($M$5,Startliste!A:A,Startliste!B:B,\"\")","v":0}]
[]
[null,null,null,"Keine Mouchen erfassen, nur Werte zwischen 1-10"]
["Passen","Scheiben-Nr. ",null,"Schüsse",null,null,null,null,null,null,null,null,null,null,"Total"]
[null,"Von","Bis",1,2,3,4,5,6,7,8,9,10]
["1 - 10",null,null,null,null,null,null,null,null,null,null,null,null,null,{"$f":"SUM(D10:M10)+AA10","v":0},null,{"$f":"IF(D10=\"M\",10)","v":false},{"$f":"IF(E10=\"M\",10)","v":false},false,false,false,false,false,false,false,false,{"$f":"SUM(Q10:Z10)","v":0}]
["11 - 20",null,null,null,null,null,null,null,null,null,null,null,null,null,{"$f":"SUM(D11:M11)+AA11","v":0},null,{"$f":"IF(D11=\"M\",10)","v":false},{"$f":"IF(E11=\"M\",10)","v":false},false,false,false,false,false,false,false,false,{"$f":"SUM(Q11:Z11)","v":0}]
["21 - 30",null,null,null,null,null,null,null,null,null,null,null,null,null,{"$f":"SUM(D12:M12)+AA12","v":0},null,{"$f":"IF(D12=\"M\",10)","v":false},{"$f":"IF(E12=\"M\",10)","v":false},false,false,false,false,false,false,false,false,{"$f":"SUM(Q12:Z12)","v":0}]
[null,null,"21 - 40",null,null,null,null,null,null,null,null,null,null,8,{"$f":"SUM(D13:M13)+AA13","v":0},null,{"$f":"IF(D13=\"M\",10)","v":false},{"$f":"IF(E13=\"M\",10)","v":false},{"$f":"IF(F13=\"M\",10)","v":false},{"$f":"IF(G13=\"M\",10)","v":false},{"$f":"IF(H13=\"M\",10)","v":false},{"$f":"IF(I13=\"M\",10)","v":false},{"$f":"IF(J13=\"M\",10)","v":false},{"$f":"IF(K13=\"M\",10)","v":false},{"$f":"IF(L13=\"M\",10)","v":false},{"$f":"IF(M13=\"M\",10)","v":false},{"$f":"SUM(Q13:Z13)","v":0}]
[null,null,null,null,null,null,null,null,null,null,null,"Resultat",null,null,{"$f":"SUM(O10:O13)","v":0}]
[]
[null,null,"Wert",10,9,8,7,6,5,4,3,2,1]
[null,null,"Anzahl",{"$f":"COUNTIF($D10:$M13,\"10\")+O18","v":0},{"$f":"COUNTIF($D10:$M13,\"9\")","v":0},{"$f":"COUNTIF($D10:$M13,\"8\")","v":0},{"$f":"COUNTIF($D10:$M13,\"7\")","v":0},{"$f":"COUNTIF($D10:$M13,\"6\")","v":0},{"$f":"COUNTIF($D10:$M13,\"5\")","v":0},{"$f":"COUNTIF($D10:$M13,\"4\")","v":0},{"$f":"COUNTIF($D10:$M13,\"3\")","v":0},{"$f":"COUNTIF($D10:$M13,\"2\")","v":0},{"$f":"COUNTIF($D10:$M13,\"1\")","v":0}]

{"sheet":"36","index":36,"n_rows":17,"n_cols":27,"rows_kept":17,"cut":false,"hidden":true,"merged":[[7,0,8,0],[7,14,8,14],[13,11,13,12],[4,2,4,3],[0,11,0,12],[0,5,0,10],[4,5,4,8],[7,1,7,2],[7,3,7,12]]}
[null,null,{"$f":"Startliste!D1","v":"Qualifikation"},null,null,{"$f":"Startliste!D2","v":"Meisterschaft der Veteranen"},null,null,null,null,null,{"$f":"Startliste!H2","v":"2025-12-31"}]
[null,null,"Lizenz-Nr.",{"$f":"IF(_xlfn.XLOOKUP($M$5,Startliste!$A$15:$A$60,Startliste!$B$15:$B$60)=\"\",\"\",_xlfn.XLOOKUP($M$5,Startliste!$A$15:$A$60,Startliste!$B$15:$B$60))","v":0},null,null,null,null,null,null,null,null,null,null,null,null,null,null,null,null,null,1]
[]
[null,"Name",{"$f":"IF(_xlfn.XLOOKUP(M5,Startliste!$A$15:$A$60,Startliste!$C$15:$C$60)=\"\",\"\",_xlfn.XLOOKUP($M$5,Startliste!$A$15:$A$60,Startliste!$C$15:$C$60,\"\"))","v":""},null,"Vorname",{"$f":"IF(_xlfn.XLOOKUP(M5,Startliste!$A$15:$A$60,Startliste!$C$15:$C$60)=\"\",\"\",_xlfn.XLOOKUP($M$5,Startliste!$A$15:$A$60,Startliste!$D$15:$D$60,\"\"))","v":""},null,null,null,"St.",{"$f":"IF(_xlfn.XLOOKUP(M5,Startliste!$A$15:$A$60,Startliste!$C$15:$C$60)=\"\",\"\",_xlfn.XLOOKUP($M$5,Startliste!$A$15:$A$60,Startliste!$G$15:$G$60,\"\"))","v":""},null,"Start-Nr.",null,"Lizenz-Nr."]
[null,"Geburtsdatum",{"$f":"IF(_xlfn.XLOOKUP(M5,Startliste!$A$15:$A$60,Startliste!$C$15:$C$60)=\"\",\"\",_xlfn.XLOOKUP($M$5,Startliste!$A$15:$A$60,Startliste!$E$15:$E$60,\"\"))","v":""},null,"Sektion",{"$f":"IF(_xlfn.XLOOKUP(M5,Startliste!$A$15:$A$60,Startliste!$C$15:$C$60)=\"\",\"\",_xlfn.XLOOKUP($M$5,Startliste!$A$15:$A$60,Startliste!$F$15:$F$60,\"\"))","v":""},null,null,null,"Kat.",{"$f":"IF(_xlfn.XLOOKUP(M5,Startliste!$A$15:$A$60,Startliste!$C$15:$C$60)=\"\",\"\",_xlfn.XLOOKUP($M$5,Startliste!$A$15:$A$60,Startliste!$I$15:$I$60,\"\"))","v":""},null,36,null,{"$f":"_xlfn.XLOOKUP($M$5,Startliste!A:A,Startliste!B:B,\"\")","v":0}]
[]
[null,null,null,"Keine Mouchen erfassen, nur Werte zwischen 1-10"]
["Passen","Scheiben-Nr. ",null,"Schüsse",null,null,null,null,null,null,null,null,null,null,"Total"]
[null,"Von","Bis",1,2,3,4,5,6,7,8,9,10]
["1 - 10",null,null,null,null,null,null,null,null,null,null,null,null,null,{"$f":"SUM(D10:M10)+AA10","v":0},null,{"$f":"IF(D10=\"M\",10)","v":false},{"$f":"IF(E10=\"M\",10)","v":false},false,false,false,false,false,false,false,false,{"$f":"SUM(Q10:Z10)","v":0}]
["11 - 20",null,null,null,null,null,null,null,null,null,null,null,null,null,{"$f":"SUM(D11:M11)+AA11","v":0},null,{"$f":"IF(D11=\"M\",10)","v":false},{"$f":"IF(E11=\"M\",10)","v":false},false,false,false,false,false,false,false,false,{"$f":"SUM(Q11:Z11)","v":0}]
["21 - 30",null,null,null,null,null,null,null,null,null,null,null,null,null,{"$f":"SUM(D12:M12)+AA12","v":0},null,{"$f":"IF(D12=\"M\",10)","v":false},{"$f":"IF(E12=\"M\",10)","v":false},false,false,false,false,false,false,false,false,{"$f":"SUM(Q12:Z12)","v":0}]
[null,null,"21 - 40",null,null,null,null,null,null,null,null,null,null,8,{"$f":"SUM(D13:M13)+AA13","v":0},null,{"$f":"IF(D13=\"M\",10)","v":false},{"$f":"IF(E13=\"M\",10)","v":false},{"$f":"IF(F13=\"M\",10)","v":false},{"$f":"IF(G13=\"M\",10)","v":false},{"$f":"IF(H13=\"M\",10)","v":false},{"$f":"IF(I13=\"M\",10)","v":false},{"$f":"IF(J13=\"M\",10)","v":false},{"$f":"IF(K13=\"M\",10)","v":false},{"$f":"IF(L13=\"M\",10)","v":false},{"$f":"IF(M13=\"M\",10)","v":false},{"$f":"SUM(Q13:Z13)","v":0}]
[null,null,null,null,null,null,null,null,null,null,null,"Resultat",null,null,{"$f":"SUM(O10:O13)","v":0}]
[]
[null,null,"Wert",10,9,8,7,6,5,4,3,2,1]
[null,null,"Anzahl",{"$f":"COUNTIF($D10:$M13,\"10\")+O18","v":0},{"$f":"COUNTIF($D10:$M13,\"9\")","v":0},{"$f":"COUNTIF($D10:$M13,\"8\")","v":0},{"$f":"COUNTIF($D10:$M13,\"7\")","v":0},{"$f":"COUNTIF($D10:$M13,\"6\")","v":0},{"$f":"COUNTIF($D10:$M13,\"5\")","v":0},{"$f":"COUNTIF($D10:$M13,\"4\")","v":0},{"$f":"COUNTIF($D10:$M13,\"3\")","v":0},{"$f":"COUNTIF($D10:$M13,\"2\")","v":0},{"$f":"COUNTIF($D10:$M13,\"1\")","v":0}]

{"sheet":"37","index":37,"n_rows":17,"n_cols":27,"rows_kept":17,"cut":false,"hidden":true,"merged":[[7,0,8,0],[7,14,8,14],[13,11,13,12],[4,2,4,3],[0,11,0,12],[0,5,0,10],[4,5,4,8],[7,1,7,2],[7,3,7,12]]}
[null,null,{"$f":"Startliste!D1","v":"Qualifikation"},null,null,{"$f":"Startliste!D2","v":"Meisterschaft der Veteranen"},null,null,null,null,null,{"$f":"Startliste!H2","v":"2025-12-31"}]
[null,null,"Lizenz-Nr.",{"$f":"IF(_xlfn.XLOOKUP($M$5,Startliste!$A$15:$A$60,Startliste!$B$15:$B$60)=\"\",\"\",_xlfn.XLOOKUP($M$5,Startliste!$A$15:$A$60,Startliste!$B$15:$B$60))","v":0},null,null,null,null,null,null,null,null,null,null,null,null,null,null,null,null,null,1]
[]
[null,"Name",{"$f":"IF(_xlfn.XLOOKUP(M5,Startliste!$A$15:$A$60,Startliste!$C$15:$C$60)=\"\",\"\",_xlfn.XLOOKUP($M$5,Startliste!$A$15:$A$60,Startliste!$C$15:$C$60,\"\"))","v":""},null,"Vorname",{"$f":"IF(_xlfn.XLOOKUP(M5,Startliste!$A$15:$A$60,Startliste!$C$15:$C$60)=\"\",\"\",_xlfn.XLOOKUP($M$5,Startliste!$A$15:$A$60,Startliste!$D$15:$D$60,\"\"))","v":""},null,null,null,"St.",{"$f":"IF(_xlfn.XLOOKUP(M5,Startliste!$A$15:$A$60,Startliste!$C$15:$C$60)=\"\",\"\",_xlfn.XLOOKUP($M$5,Startliste!$A$15:$A$60,Startliste!$G$15:$G$60,\"\"))","v":""},null,"Start-Nr.",null,"Lizenz-Nr."]
[null,"Geburtsdatum",{"$f":"IF(_xlfn.XLOOKUP(M5,Startliste!$A$15:$A$60,Startliste!$C$15:$C$60)=\"\",\"\",_xlfn.XLOOKUP($M$5,Startliste!$A$15:$A$60,Startliste!$E$15:$E$60,\"\"))","v":""},null,"Sektion",{"$f":"IF(_xlfn.XLOOKUP(M5,Startliste!$A$15:$A$60,Startliste!$C$15:$C$60)=\"\",\"\",_xlfn.XLOOKUP($M$5,Startliste!$A$15:$A$60,Startliste!$F$15:$F$60,\"\"))","v":""},null,null,null,"Kat.",{"$f":"IF(_xlfn.XLOOKUP(M5,Startliste!$A$15:$A$60,Startliste!$C$15:$C$60)=\"\",\"\",_xlfn.XLOOKUP($M$5,Startliste!$A$15:$A$60,Startliste!$I$15:$I$60,\"\"))","v":""},null,37,null,{"$f":"_xlfn.XLOOKUP($M$5,Startliste!A:A,Startliste!B:B,\"\")","v":0}]
[]
[null,null,null,"Keine Mouchen erfassen, nur Werte zwischen 1-10"]
["Passen","Scheiben-Nr. ",null,"Schüsse",null,null,null,null,null,null,null,null,null,null,"Total"]
[null,"Von","Bis",1,2,3,4,5,6,7,8,9,10]
["1 - 10",null,null,null,null,null,null,null,null,null,null,null,null,null,{"$f":"SUM(D10:M10)+AA10","v":0},null,{"$f":"IF(D10=\"M\",10)","v":false},{"$f":"IF(E10=\"M\",10)","v":false},false,false,false,false,false,false,false,false,{"$f":"SUM(Q10:Z10)","v":0}]
["11 - 20",null,null,null,null,null,null,null,null,null,null,null,null,null,{"$f":"SUM(D11:M11)+AA11","v":0},null,{"$f":"IF(D11=\"M\",10)","v":false},{"$f":"IF(E11=\"M\",10)","v":false},false,false,false,false,false,false,false,false,{"$f":"SUM(Q11:Z11)","v":0}]
["21 - 30",null,null,null,null,null,null,null,null,null,null,null,null,null,{"$f":"SUM(D12:M12)+AA12","v":0},null,{"$f":"IF(D12=\"M\",10)","v":false},{"$f":"IF(E12=\"M\",10)","v":false},false,false,false,false,false,false,false,false,{"$f":"SUM(Q12:Z12)","v":0}]
[null,null,"21 - 40",null,null,null,null,null,null,null,null,null,null,8,{"$f":"SUM(D13:M13)+AA13","v":0},null,{"$f":"IF(D13=\"M\",10)","v":false},{"$f":"IF(E13=\"M\",10)","v":false},{"$f":"IF(F13=\"M\",10)","v":false},{"$f":"IF(G13=\"M\",10)","v":false},{"$f":"IF(H13=\"M\",10)","v":false},{"$f":"IF(I13=\"M\",10)","v":false},{"$f":"IF(J13=\"M\",10)","v":false},{"$f":"IF(K13=\"M\",10)","v":false},{"$f":"IF(L13=\"M\",10)","v":false},{"$f":"IF(M13=\"M\",10)","v":false},{"$f":"SUM(Q13:Z13)","v":0}]
[null,null,null,null,null,null,null,null,null,null,null,"Resultat",null,null,{"$f":"SUM(O10:O13)","v":0}]
[]
[null,null,"Wert",10,9,8,7,6,5,4,3,2,1]
[null,null,"Anzahl",{"$f":"COUNTIF($D10:$M13,\"10\")+O18","v":0},{"$f":"COUNTIF($D10:$M13,\"9\")","v":0},{"$f":"COUNTIF($D10:$M13,\"8\")","v":0},{"$f":"COUNTIF($D10:$M13,\"7\")","v":0},{"$f":"COUNTIF($D10:$M13,\"6\")","v":0},{"$f":"COUNTIF($D10:$M13,\"5\")","v":0},{"$f":"COUNTIF($D10:$M13,\"4\")","v":0},{"$f":"COUNTIF($D10:$M13,\"3\")","v":0},{"$f":"COUNTIF($D10:$M13,\"2\")","v":0},{"$f":"COUNTIF($D10:$M13,\"1\")","v":0}]

{"sheet":"38","index":38,"n_rows":17,"n_cols":27,"rows_kept":17,"cut":false,"hidden":true,"merged":[[7,0,8,0],[7,14,8,14],[13,11,13,12],[4,2,4,3],[0,11,0,12],[0,5,0,10],[4,5,4,8],[7,1,7,2],[7,3,7,12]]}
[null,null,{"$f":"Startliste!D1","v":"Qualifikation"},null,null,{"$f":"Startliste!D2","v":"Meisterschaft der Veteranen"},null,null,null,null,null,{"$f":"Startliste!H2","v":"2025-12-31"}]
[null,null,"Lizenz-Nr.",{"$f":"IF(_xlfn.XLOOKUP($M$5,Startliste!$A$15:$A$60,Startliste!$B$15:$B$60)=\"\",\"\",_xlfn.XLOOKUP($M$5,Startliste!$A$15:$A$60,Startliste!$B$15:$B$60))","v":0},null,null,null,null,null,null,null,null,null,null,null,null,null,null,null,null,null,1]
[]
[null,"Name",{"$f":"IF(_xlfn.XLOOKUP(M5,Startliste!$A$15:$A$60,Startliste!$C$15:$C$60)=\"\",\"\",_xlfn.XLOOKUP($M$5,Startliste!$A$15:$A$60,Startliste!$C$15:$C$60,\"\"))","v":""},null,"Vorname",{"$f":"IF(_xlfn.XLOOKUP(M5,Startliste!$A$15:$A$60,Startliste!$C$15:$C$60)=\"\",\"\",_xlfn.XLOOKUP($M$5,Startliste!$A$15:$A$60,Startliste!$D$15:$D$60,\"\"))","v":""},null,null,null,"St.",{"$f":"IF(_xlfn.XLOOKUP(M5,Startliste!$A$15:$A$60,Startliste!$C$15:$C$60)=\"\",\"\",_xlfn.XLOOKUP($M$5,Startliste!$A$15:$A$60,Startliste!$G$15:$G$60,\"\"))","v":""},null,"Start-Nr.",null,"Lizenz-Nr."]
[null,"Geburtsdatum",{"$f":"IF(_xlfn.XLOOKUP(M5,Startliste!$A$15:$A$60,Startliste!$C$15:$C$60)=\"\",\"\",_xlfn.XLOOKUP($M$5,Startliste!$A$15:$A$60,Startliste!$E$15:$E$60,\"\"))","v":""},null,"Sektion",{"$f":"IF(_xlfn.XLOOKUP(M5,Startliste!$A$15:$A$60,Startliste!$C$15:$C$60)=\"\",\"\",_xlfn.XLOOKUP($M$5,Startliste!$A$15:$A$60,Startliste!$F$15:$F$60,\"\"))","v":""},null,null,null,"Kat.",{"$f":"IF(_xlfn.XLOOKUP(M5,Startliste!$A$15:$A$60,Startliste!$C$15:$C$60)=\"\",\"\",_xlfn.XLOOKUP($M$5,Startliste!$A$15:$A$60,Startliste!$I$15:$I$60,\"\"))","v":""},null,38,null,{"$f":"_xlfn.XLOOKUP($M$5,Startliste!A:A,Startliste!B:B,\"\")","v":0}]
[]
[null,null,null,"Keine Mouchen erfassen, nur Werte zwischen 1-10"]
["Passen","Scheiben-Nr. ",null,"Schüsse",null,null,null,null,null,null,null,null,null,null,"Total"]
[null,"Von","Bis",1,2,3,4,5,6,7,8,9,10]
["1 - 10",null,null,null,null,null,null,null,null,null,null,null,null,null,{"$f":"SUM(D10:M10)+AA10","v":0},null,{"$f":"IF(D10=\"M\",10)","v":false},{"$f":"IF(E10=\"M\",10)","v":false},false,false,false,false,false,false,false,false,{"$f":"SUM(Q10:Z10)","v":0}]
["11 - 20",null,null,null,null,null,null,null,null,null,null,null,null,null,{"$f":"SUM(D11:M11)+AA11","v":0},null,{"$f":"IF(D11=\"M\",10)","v":false},{"$f":"IF(E11=\"M\",10)","v":false},false,false,false,false,false,false,false,false,{"$f":"SUM(Q11:Z11)","v":0}]
["21 - 30",null,null,null,null,null,null,null,null,null,null,null,null,null,{"$f":"SUM(D12:M12)+AA12","v":0},null,{"$f":"IF(D12=\"M\",10)","v":false},{"$f":"IF(E12=\"M\",10)","v":false},false,false,false,false,false,false,false,false,{"$f":"SUM(Q12:Z12)","v":0}]
[null,null,"21 - 40",null,null,null,null,null,null,null,null,null,null,8,{"$f":"SUM(D13:M13)+AA13","v":0},null,{"$f":"IF(D13=\"M\",10)","v":false},{"$f":"IF(E13=\"M\",10)","v":false},{"$f":"IF(F13=\"M\",10)","v":false},{"$f":"IF(G13=\"M\",10)","v":false},{"$f":"IF(H13=\"M\",10)","v":false},{"$f":"IF(I13=\"M\",10)","v":false},{"$f":"IF(J13=\"M\",10)","v":false},{"$f":"IF(K13=\"M\",10)","v":false},{"$f":"IF(L13=\"M\",10)","v":false},{"$f":"IF(M13=\"M\",10)","v":false},{"$f":"SUM(Q13:Z13)","v":0}]
[null,null,null,null,null,null,null,null,null,null,null,"Resultat",null,null,{"$f":"SUM(O10:O13)","v":0}]
[]
[null,null,"Wert",10,9,8,7,6,5,4,3,2,1]
[null,null,"Anzahl",{"$f":"COUNTIF($D10:$M13,\"10\")+O18","v":0},{"$f":"COUNTIF($D10:$M13,\"9\")","v":0},{"$f":"COUNTIF($D10:$M13,\"8\")","v":0},{"$f":"COUNTIF($D10:$M13,\"7\")","v":0},{"$f":"COUNTIF($D10:$M13,\"6\")","v":0},{"$f":"COUNTIF($D10:$M13,\"5\")","v":0},{"$f":"COUNTIF($D10:$M13,\"4\")","v":0},{"$f":"COUNTIF($D10:$M13,\"3\")","v":0},{"$f":"COUNTIF($D10:$M13,\"2\")","v":0},{"$f":"COUNTIF($D10:$M13,\"1\")","v":0}]

{"sheet":"39","index":39,"n_rows":17,"n_cols":27,"rows_kept":17,"cut":false,"hidden":true,"merged":[[7,0,8,0],[7,14,8,14],[13,11,13,12],[4,2,4,3],[0,11,0,12],[0,5,0,10],[4,5,4,8],[7,1,7,2],[7,3,7,12]]}
[null,null,{"$f":"Startliste!D1","v":"Qualifikation"},null,null,{"$f":"Startliste!D2","v":"Meisterschaft der Veteranen"},null,null,null,null,null,{"$f":"Startliste!H2","v":"2025-12-31"}]
[null,null,"Lizenz-Nr.",{"$f":"IF(_xlfn.XLOOKUP($M$5,Startliste!$A$15:$A$60,Startliste!$B$15:$B$60)=\"\",\"\",_xlfn.XLOOKUP($M$5,Startliste!$A$15:$A$60,Startliste!$B$15:$B$60))","v":0},null,null,null,null,null,null,null,null,null,null,null,null,null,null,null,null,null,1]
[]
[null,"Name",{"$f":"IF(_xlfn.XLOOKUP(M5,Startliste!$A$15:$A$60,Startliste!$C$15:$C$60)=\"\",\"\",_xlfn.XLOOKUP($M$5,Startliste!$A$15:$A$60,Startliste!$C$15:$C$60,\"\"))","v":""},null,"Vorname",{"$f":"IF(_xlfn.XLOOKUP(M5,Startliste!$A$15:$A$60,Startliste!$C$15:$C$60)=\"\",\"\",_xlfn.XLOOKUP($M$5,Startliste!$A$15:$A$60,Startliste!$D$15:$D$60,\"\"))","v":""},null,null,null,"St.",{"$f":"IF(_xlfn.XLOOKUP(M5,Startliste!$A$15:$A$60,Startliste!$C$15:$C$60)=\"\",\"\",_xlfn.XLOOKUP($M$5,Startliste!$A$15:$A$60,Startliste!$G$15:$G$60,\"\"))","v":""},null,"Start-Nr.",null,"Lizenz-Nr."]
[null,"Geburtsdatum",{"$f":"IF(_xlfn.XLOOKUP(M5,Startliste!$A$15:$A$60,Startliste!$C$15:$C$60)=\"\",\"\",_xlfn.XLOOKUP($M$5,Startliste!$A$15:$A$60,Startliste!$E$15:$E$60,\"\"))","v":""},null,"Sektion",{"$f":"IF(_xlfn.XLOOKUP(M5,Startliste!$A$15:$A$60,Startliste!$C$15:$C$60)=\"\",\"\",_xlfn.XLOOKUP($M$5,Startliste!$A$15:$A$60,Startliste!$F$15:$F$60,\"\"))","v":""},null,null,null,"Kat.",{"$f":"IF(_xlfn.XLOOKUP(M5,Startliste!$A$15:$A$60,Startliste!$C$15:$C$60)=\"\",\"\",_xlfn.XLOOKUP($M$5,Startliste!$A$15:$A$60,Startliste!$I$15:$I$60,\"\"))","v":""},null,39,null,{"$f":"_xlfn.XLOOKUP($M$5,Startliste!A:A,Startliste!B:B,\"\")","v":0}]
[]
[null,null,null,"Keine Mouchen erfassen, nur Werte zwischen 1-10"]
["Passen","Scheiben-Nr. ",null,"Schüsse",null,null,null,null,null,null,null,null,null,null,"Total"]
[null,"Von","Bis",1,2,3,4,5,6,7,8,9,10]
["1 - 10",null,null,null,null,null,null,null,null,null,null,null,null,null,{"$f":"SUM(D10:M10)+AA10","v":0},null,{"$f":"IF(D10=\"M\",10)","v":false},{"$f":"IF(E10=\"M\",10)","v":false},false,false,false,false,false,false,false,false,{"$f":"SUM(Q10:Z10)","v":0}]
["11 - 20",null,null,null,null,null,null,null,null,null,null,null,null,null,{"$f":"SUM(D11:M11)+AA11","v":0},null,{"$f":"IF(D11=\"M\",10)","v":false},{"$f":"IF(E11=\"M\",10)","v":false},false,false,false,false,false,false,false,false,{"$f":"SUM(Q11:Z11)","v":0}]
["21 - 30",null,null,null,null,null,null,null,null,null,null,null,null,null,{"$f":"SUM(D12:M12)+AA12","v":0},null,{"$f":"IF(D12=\"M\",10)","v":false},{"$f":"IF(E12=\"M\",10)","v":false},false,false,false,false,false,false,false,false,{"$f":"SUM(Q12:Z12)","v":0}]
[null,null,"21 - 40",null,null,null,null,null,null,null,null,null,null,8,{"$f":"SUM(D13:M13)+AA13","v":0},null,{"$f":"IF(D13=\"M\",10)","v":false},{"$f":"IF(E13=\"M\",10)","v":false},{"$f":"IF(F13=\"M\",10)","v":false},{"$f":"IF(G13=\"M\",10)","v":false},{"$f":"IF(H13=\"M\",10)","v":false},{"$f":"IF(I13=\"M\",10)","v":false},{"$f":"IF(J13=\"M\",10)","v":false},{"$f":"IF(K13=\"M\",10)","v":false},{"$f":"IF(L13=\"M\",10)","v":false},{"$f":"IF(M13=\"M\",10)","v":false},{"$f":"SUM(Q13:Z13)","v":0}]
[null,null,null,null,null,null,null,null,null,null,null,"Resultat",null,null,{"$f":"SUM(O10:O13)","v":0}]
[]
[null,null,"Wert",10,9,8,7,6,5,4,3,2,1]
[null,null,"Anzahl",{"$f":"COUNTIF($D10:$M13,\"10\")+O18","v":0},{"$f":"COUNTIF($D10:$M13,\"9\")","v":0},{"$f":"COUNTIF($D10:$M13,\"8\")","v":0},{"$f":"COUNTIF($D10:$M13,\"7\")","v":0},{"$f":"COUNTIF($D10:$M13,\"6\")","v":0},{"$f":"COUNTIF($D10:$M13,\"5\")","v":0},{"$f":"COUNTIF($D10:$M13,\"4\")","v":0},{"$f":"COUNTIF($D10:$M13,\"3\")","v":0},{"$f":"COUNTIF($D10:$M13,\"2\")","v":0},{"$f":"COUNTIF($D10:$M13,\"1\")","v":0}]

{"sheet":"40","index":40,"n_rows":17,"n_cols":27,"rows_kept":17,"cut":false,"hidden":true,"merged":[[7,0,8,0],[7,14,8,14],[13,11,13,12],[4,2,4,3],[0,11,0,12],[0,5,0,10],[4,5,4,8],[7,1,7,2],[7,3,7,12]]}
[null,null,{"$f":"Startliste!D1","v":"Qualifikation"},null,null,{"$f":"Startliste!D2","v":"Meisterschaft der Veteranen"},null,null,null,null,null,{"$f":"Startliste!H2","v":"2025-12-31"}]
[null,null,"Lizenz-Nr.",{"$f":"IF(_xlfn.XLOOKUP($M$5,Startliste!$A$15:$A$60,Startliste!$B$15:$B$60)=\"\",\"\",_xlfn.XLOOKUP($M$5,Startliste!$A$15:$A$60,Startliste!$B$15:$B$60))","v":0},null,null,null,null,null,null,null,null,null,null,null,null,null,null,null,null,null,1]
[]
[null,"Name",{"$f":"IF(_xlfn.XLOOKUP(M5,Startliste!$A$15:$A$60,Startliste!$C$15:$C$60)=\"\",\"\",_xlfn.XLOOKUP($M$5,Startliste!$A$15:$A$60,Startliste!$C$15:$C$60,\"\"))","v":""},null,"Vorname",{"$f":"IF(_xlfn.XLOOKUP(M5,Startliste!$A$15:$A$60,Startliste!$C$15:$C$60)=\"\",\"\",_xlfn.XLOOKUP($M$5,Startliste!$A$15:$A$60,Startliste!$D$15:$D$60,\"\"))","v":""},null,null,null,"St.",{"$f":"IF(_xlfn.XLOOKUP(M5,Startliste!$A$15:$A$60,Startliste!$C$15:$C$60)=\"\",\"\",_xlfn.XLOOKUP($M$5,Startliste!$A$15:$A$60,Startliste!$G$15:$G$60,\"\"))","v":""},null,"Start-Nr.",null,"Lizenz-Nr."]
[null,"Geburtsdatum",{"$f":"IF(_xlfn.XLOOKUP(M5,Startliste!$A$15:$A$60,Startliste!$C$15:$C$60)=\"\",\"\",_xlfn.XLOOKUP($M$5,Startliste!$A$15:$A$60,Startliste!$E$15:$E$60,\"\"))","v":""},null,"Sektion",{"$f":"IF(_xlfn.XLOOKUP(M5,Startliste!$A$15:$A$60,Startliste!$C$15:$C$60)=\"\",\"\",_xlfn.XLOOKUP($M$5,Startliste!$A$15:$A$60,Startliste!$F$15:$F$60,\"\"))","v":""},null,null,null,"Kat.",{"$f":"IF(_xlfn.XLOOKUP(M5,Startliste!$A$15:$A$60,Startliste!$C$15:$C$60)=\"\",\"\",_xlfn.XLOOKUP($M$5,Startliste!$A$15:$A$60,Startliste!$I$15:$I$60,\"\"))","v":""},null,40,null,{"$f":"_xlfn.XLOOKUP($M$5,Startliste!A:A,Startliste!B:B,\"\")","v":0}]
[]
[null,null,null,"Keine Mouchen erfassen, nur Werte zwischen 1-10"]
["Passen","Scheiben-Nr. ",null,"Schüsse",null,null,null,null,null,null,null,null,null,null,"Total"]
[null,"Von","Bis",1,2,3,4,5,6,7,8,9,10]
["1 - 10",null,null,null,null,null,null,null,null,null,null,null,null,null,{"$f":"SUM(D10:M10)+AA10","v":0},null,{"$f":"IF(D10=\"M\",10)","v":false},{"$f":"IF(E10=\"M\",10)","v":false},false,false,false,false,false,false,false,false,{"$f":"SUM(Q10:Z10)","v":0}]
["11 - 20",null,null,null,null,null,null,null,null,null,null,null,null,null,{"$f":"SUM(D11:M11)+AA11","v":0},null,{"$f":"IF(D11=\"M\",10)","v":false},{"$f":"IF(E11=\"M\",10)","v":false},false,false,false,false,false,false,false,false,{"$f":"SUM(Q11:Z11)","v":0}]
["21 - 30",null,null,null,null,null,null,null,null,null,null,null,null,null,{"$f":"SUM(D12:M12)+AA12","v":0},null,{"$f":"IF(D12=\"M\",10)","v":false},{"$f":"IF(E12=\"M\",10)","v":false},false,false,false,false,false,false,false,false,{"$f":"SUM(Q12:Z12)","v":0}]
[null,null,"21 - 40",null,null,null,null,null,null,null,null,null,null,8,{"$f":"SUM(D13:M13)+AA13","v":0},null,{"$f":"IF(D13=\"M\",10)","v":false},{"$f":"IF(E13=\"M\",10)","v":false},{"$f":"IF(F13=\"M\",10)","v":false},{"$f":"IF(G13=\"M\",10)","v":false},{"$f":"IF(H13=\"M\",10)","v":false},{"$f":"IF(I13=\"M\",10)","v":false},{"$f":"IF(J13=\"M\",10)","v":false},{"$f":"IF(K13=\"M\",10)","v":false},{"$f":"IF(L13=\"M\",10)","v":false},{"$f":"IF(M13=\"M\",10)","v":false},{"$f":"SUM(Q13:Z13)","v":0}]
[null,null,null,null,null,null,null,null,null,null,null,"Resultat",null,null,{"$f":"SUM(O10:O13)","v":0}]
[]
[null,null,"Wert",10,9,8,7,6,5,4,3,2,1]
[null,null,"Anzahl",{"$f":"COUNTIF($D10:$M13,\"10\")+O18","v":0},{"$f":"COUNTIF($D10:$M13,\"9\")","v":0},{"$f":"COUNTIF($D10:$M13,\"8\")","v":0},{"$f":"COUNTIF($D10:$M13,\"7\")","v":0},{"$f":"COUNTIF($D10:$M13,\"6\")","v":0},{"$f":"COUNTIF($D10:$M13,\"5\")","v":0},{"$f":"COUNTIF($D10:$M13,\"4\")","v":0},{"$f":"COUNTIF($D10:$M13,\"3\")","v":0},{"$f":"COUNTIF($D10:$M13,\"2\")","v":0},{"$f":"COUNTIF($D10:$M13,\"1\")","v":0}]

{"sheet":"Resultate","index":41,"n_rows":45,"n_cols":32,"rows_kept":45,"cut":false,"hidden":false,"merged":[[1,8,1,9],[3,26,3,31],[4,26,4,27],[4,28,4,29],[4,30,4,31]]}
[null,null,null,{"$f":"Startliste!D1","v":"Qualifikation"}]
[null,null,null,{"$f":"Startliste!D2","v":"Meisterschaft der Veteranen"},null,null,null,null,{"$f":"Startliste!H2","v":"2025-12-31"}]
[null,null,null,"Resultate alle Kategorien",null,null,null,null,null,null,null,null,null,null,null,null,null,null,null,null,null,null,null,null,null,null,"Wenn Feld",null,"= Scheibennummern nicht fortlaufend!"]
[null,null,null,null,null,null,null,null,null,null,null,null,null,null,null,null,null,null,null,null,null,null,null,null,null,null,"Scheibennummern"]
["Schütze-Nr.",null,"Name","Vorname","Geburtstag","Sektion","St.","Kat.","Resultat",null,"Schuss\n1 - 10","Schuss\n11 - 20","Schuss\n21- 30","Schuss\n31 - 40",null,10,9,8,7,6,5,4,3,2,1,"M","1 - 10",null,"11 - 20",null,"11 - 30"]
[{"$f":"'1'!M$5","v":1},{"$f":"IFERROR(_xlfn.XLOOKUP(A6,INDIRECT($A6&\"!m5\"),INDIRECT($A6&\"!o5\")),\"\")","v":0},{"$f":"IFERROR(_xlfn.XLOOKUP(A6,INDIRECT($A6&\"!m5\"),INDIRECT($A6&\"!c4\")),\"\")","v":""},{"$f":"IFERROR(_xlfn.XLOOKUP(A6,INDIRECT($A6&\"!m5\"),INDIRECT($A6&\"!f4\")),\"\")","v":""},{"$f":"IFERROR(_xlfn.XLOOKUP(A6,INDIRECT($A6&\"!m5\"),INDIRECT($A6&\"!c5\")),\"\")","v":""},{"$f":"IFERROR(_xlfn.XLOOKUP(A6,INDIRECT($A6&\"!m5\"),INDIRECT($A6&\"!f5\")),\"\")","v":""},{"$f":"IFERROR(_xlfn.XLOOKUP(A6,INDIRECT($A6&\"!m5\"),INDIRECT($A6&\"!k4\")),\"\")","v":""},{"$f":"IFERROR(_xlfn.XLOOKUP(A6,INDIRECT($A6&\"!m5\"),INDIRECT($A6&\"!k5\")),\"\")","v":""},{"$f":"IFERROR(_xlfn.XLOOKUP(A6,INDIRECT($A6&\"!m5\"),INDIRECT($A6&\"!o14\")),\"\")","v":0},null,{"$f":"IFERROR(_xlfn.XLOOKUP(A6,INDIRECT($A6&\"!m5\"),INDIRECT($A6&\"!o10\")),\"\")","v":0},{"$f":"IFERROR(_xlfn.XLOOKUP(A6,INDIRECT($A6&\"!m5\"),INDIRECT($A6&\"!o11\")),\"\")","v":0},{"$f":"IFERROR(_xlfn.XLOOKUP(A6,INDIRECT($A6&\"!m5\"),INDIRECT($A6&\"!o12\")),\"\")","v":0},{"$f":"'1'!O$13","v":0},null,{"$f":"IFERROR(_xlfn.XLOOKUP(A6,INDIRECT($A6&\"!m5\"),INDIRECT($A6&\"!d17\")),\"\")","v":0},{"$f":"IFERROR(_xlfn.XLOOKUP(A6,INDIRECT($A6&\"!m5\"),INDIRECT($A6&\"!e17\")),\"\")","v":0},{"$f":"IFERROR(_xlfn.XLOOKUP(A6,INDIRECT($A6&\"!m5\"),INDIRECT($A6&\"!f17\")),\"\")","v":0},{"$f":"IFERROR(_xlfn.XLOOKUP(A6,INDIRECT($A6&\"!m5\"),INDIRECT($A6&\"!g17\")),\"\")","v":0},{"$f":"IFERROR(_xlfn.XLOOKUP(A6,INDIRECT($A6&\"!m5\"),INDIRECT($A6&\"!h17\")),\"\")","v":0},{"$f":"IFERROR(_xlfn.XLOOKUP(A6,INDIRECT($A6&\"!m5\"),INDIRECT($A6&\"!i17\")),\"\")","v":0},{"$f":"IFERROR(_xlfn.XLOOKUP(A6,INDIRECT($A6&\"!m5\"),INDIRECT($A6&\"!j17\")),\"\")","v":0},{"$f":"IFERROR(_xlfn.XLOOKUP(A6,INDIRECT($A6&\"!m5\"),INDIRECT($A6&\"!k17\")),\"\")","v":0},{"$f":"IFERROR(_xlfn.XLOOKUP(A6,INDIRECT($A6&\"!m5\"),INDIRECT($A6&\"!l17\")),\"\")","v":0},{"$f":"IFERROR(_xlfn.XLOOKUP(A6,INDIRECT($A6&\"!m5\"),INDIRECT($A6&\"!m17\")),\"\")","v":0},null,{"$f":"IFERROR(_xlfn.XLOOKUP(A6,INDIRECT($A6&\"!m5\"),INDIRECT($A6&\"!b10\")),\"\")","v":0},{"$f":"IFERROR(_xlfn.XLOOKUP(A6,INDIRECT($A6&\"!m5\"),INDIRECT($A6&\"!c10\")),\"\")","v":0},{"$f":"IFERROR(_xlfn.XLOOKUP(A6,INDIRECT($A6&\"!m5\"),INDIRECT($A6&\"!b11\")),\"\")","v":0},{"$f":"IFERROR(_xlfn.XLOOKUP(A6,INDIRECT($A6&\"!m5\"),INDIRECT($A6&\"!c11\")),\"\")","v":0},{"$f":"IFERROR(_xlfn.XLOOKUP(A6,INDIRECT($A6&\"!m5\"),INDIRECT($A6&\"!b12\")),\"\")","v":0},{"$f":"IFERROR(_xlfn.XLOOKUP(A6,INDIRECT($A6&\"!m5\"),INDIRECT($A6&\"!c12\")),\"\")","v":0}]
[{"$f":"'2'!M$5","v":2},{"$f":"IFERROR(_xlfn.XLOOKUP(A7,INDIRECT($A7&\"!m5\"),INDIRECT($A7&\"!o5\")),\"\")","v":0},{"$f":"IFERROR(_xlfn.XLOOKUP(A7,INDIRECT($A7&\"!m5\"),INDIRECT($A7&\"!c4\")),\"\")","v":""},{"$f":"IFERROR(_xlfn.XLOOKUP(A7,INDIRECT($A7&\"!m5\"),INDIRECT($A7&\"!f4\")),\"\")","v":""},{"$f":"IFERROR(_xlfn.XLOOKUP(A7,INDIRECT($A7&\"!m5\"),INDIRECT($A7&\"!c5\")),\"\")","v":""},{"$f":"IFERROR(_xlfn.XLOOKUP(A7,INDIRECT($A7&\"!m5\"),INDIRECT($A7&\"!f5\")),\"\")","v":""},{"$f":"IFERROR(_xlfn.XLOOKUP(A7,INDIRECT($A7&\"!m5\"),INDIRECT($A7&\"!k4\")),\"\")","v":""},{"$f":"IFERROR(_xlfn.XLOOKUP(A7,INDIRECT($A7&\"!m5\"),INDIRECT($A7&\"!k5\")),\"\")","v":""},{"$f":"IFERROR(_xlfn.XLOOKUP(A7,INDIRECT($A7&\"!m5\"),INDIRECT($A7&\"!o14\")),\"\")","v":0},null,{"$f":"IFERROR(_xlfn.XLOOKUP(A7,INDIRECT($A7&\"!m5\"),INDIRECT($A7&\"!o10\")),\"\")","v":0},{"$f":"IFERROR(_xlfn.XLOOKUP(A7,INDIRECT($A7&\"!m5\"),INDIRECT($A7&\"!o11\")),\"\")","v":0},{"$f":"IFERROR(_xlfn.XLOOKUP(A7,INDIRECT($A7&\"!m5\"),INDIRECT($A7&\"!o12\")),\"\")","v":0},{"$f":"'1'!O$13","v":0},null,{"$f":"IFERROR(_xlfn.XLOOKUP(A7,INDIRECT($A7&\"!m5\"),INDIRECT($A7&\"!d17\")),\"\")","v":0},{"$f":"IFERROR(_xlfn.XLOOKUP(A7,INDIRECT($A7&\"!m5\"),INDIRECT($A7&\"!e17\")),\"\")","v":0},{"$f":"IFERROR(_xlfn.XLOOKUP(A7,INDIRECT($A7&\"!m5\"),INDIRECT($A7&\"!f17\")),\"\")","v":0},{"$f":"IFERROR(_xlfn.XLOOKUP(A7,INDIRECT($A7&\"!m5\"),INDIRECT($A7&\"!g17\")),\"\")","v":0},{"$f":"IFERROR(_xlfn.XLOOKUP(A7,INDIRECT($A7&\"!m5\"),INDIRECT($A7&\"!h17\")),\"\")","v":0},{"$f":"IFERROR(_xlfn.XLOOKUP(A7,INDIRECT($A7&\"!m5\"),INDIRECT($A7&\"!i17\")),\"\")","v":0},{"$f":"IFERROR(_xlfn.XLOOKUP(A7,INDIRECT($A7&\"!m5\"),INDIRECT($A7&\"!j17\")),\"\")","v":0},{"$f":"IFERROR(_xlfn.XLOOKUP(A7,INDIRECT($A7&\"!m5\"),INDIRECT($A7&\"!k17\")),\"\")","v":0},{"$f":"IFERROR(_xlfn.XLOOKUP(A7,INDIRECT($A7&\"!m5\"),INDIRECT($A7&\"!l17\")),\"\")","v":0},{"$f":"IFERROR(_xlfn.XLOOKUP(A7,INDIRECT($A7&\"!m5\"),INDIRECT($A7&\"!m17\")),\"\")","v":0},null,{"$f":"IFERROR(_xlfn.XLOOKUP(A7,INDIRECT($A7&\"!m5\"),INDIRECT($A7&\"!b10\")),\"\")","v":0},{"$f":"IFERROR(_xlfn.XLOOKUP(A7,INDIRECT($A7&\"!m5\"),INDIRECT($A7&\"!c10\")),\"\")","v":0},{"$f":"IFERROR(_xlfn.XLOOKUP(A7,INDIRECT($A7&\"!m5\"),INDIRECT($A7&\"!b11\")),\"\")","v":0},{"$f":"IFERROR(_xlfn.XLOOKUP(A7,INDIRECT($A7&\"!m5\"),INDIRECT($A7&\"!c11\")),\"\")","v":0},{"$f":"IFERROR(_xlfn.XLOOKUP(A7,INDIRECT($A7&\"!m5\"),INDIRECT($A7&\"!b12\")),\"\")","v":0},{"$f":"IFERROR(_xlfn.XLOOKUP(A7,INDIRECT($A7&\"!m5\"),INDIRECT($A7&\"!c12\")),\"\")","v":0}]
[{"$f":"'3'!M$5","v":3},{"$f":"IFERROR(_xlfn.XLOOKUP(A8,INDIRECT($A8&\"!m5\"),INDIRECT($A8&\"!o5\")),\"\")","v":0},{"$f":"IFERROR(_xlfn.XLOOKUP(A8,INDIRECT($A8&\"!m5\"),INDIRECT($A8&\"!c4\")),\"\")","v":""},{"$f":"IFERROR(_xlfn.XLOOKUP(A8,INDIRECT($A8&\"!m5\"),INDIRECT($A8&\"!f4\")),\"\")","v":""},{"$f":"IFERROR(_xlfn.XLOOKUP(A8,INDIRECT($A8&\"!m5\"),INDIRECT($A8&\"!c5\")),\"\")","v":""},{"$f":"IFERROR(_xlfn.XLOOKUP(A8,INDIRECT($A8&\"!m5\"),INDIRECT($A8&\"!f5\")),\"\")","v":""},{"$f":"IFERROR(_xlfn.XLOOKUP(A8,INDIRECT($A8&\"!m5\"),INDIRECT($A8&\"!k4\")),\"\")","v":""},{"$f":"IFERROR(_xlfn.XLOOKUP(A8,INDIRECT($A8&\"!m5\"),INDIRECT($A8&\"!k5\")),\"\")","v":""},{"$f":"IFERROR(_xlfn.XLOOKUP(A8,INDIRECT($A8&\"!m5\"),INDIRECT($A8&\"!o14\")),\"\")","v":0},null,{"$f":"IFERROR(_xlfn.XLOOKUP(A8,INDIRECT($A8&\"!m5\"),INDIRECT($A8&\"!o10\")),\"\")","v":0},{"$f":"IFERROR(_xlfn.XLOOKUP(A8,INDIRECT($A8&\"!m5\"),INDIRECT($A8&\"!o11\")),\"\")","v":0},{"$f":"IFERROR(_xlfn.XLOOKUP(A8,INDIRECT($A8&\"!m5\"),INDIRECT($A8&\"!o12\")),\"\")","v":0},{"$f":"'1'!O$13","v":0},null,{"$f":"IFERROR(_xlfn.XLOOKUP(A8,INDIRECT($A8&\"!m5\"),INDIRECT($A8&\"!d17\")),\"\")","v":0},{"$f":"IFERROR(_xlfn.XLOOKUP(A8,INDIRECT($A8&\"!m5\"),INDIRECT($A8&\"!e17\")),\"\")","v":0},{"$f":"IFERROR(_xlfn.XLOOKUP(A8,INDIRECT($A8&\"!m5\"),INDIRECT($A8&\"!f17\")),\"\")","v":0},{"$f":"IFERROR(_xlfn.XLOOKUP(A8,INDIRECT($A8&\"!m5\"),INDIRECT($A8&\"!g17\")),\"\")","v":0},{"$f":"IFERROR(_xlfn.XLOOKUP(A8,INDIRECT($A8&\"!m5\"),INDIRECT($A8&\"!h17\")),\"\")","v":0},{"$f":"IFERROR(_xlfn.XLOOKUP(A8,INDIRECT($A8&\"!m5\"),INDIRECT($A8&\"!i17\")),\"\")","v":0},{"$f":"IFERROR(_xlfn.XLOOKUP(A8,INDIRECT($A8&\"!m5\"),INDIRECT($A8&\"!j17\")),\"\")","v":0},{"$f":"IFERROR(_xlfn.XLOOKUP(A8,INDIRECT($A8&\"!m5\"),INDIRECT($A8&\"!k17\")),\"\")","v":0},{"$f":"IFERROR(_xlfn.XLOOKUP(A8,INDIRECT($A8&\"!m5\"),INDIRECT($A8&\"!l17\")),\"\")","v":0},{"$f":"IFERROR(_xlfn.XLOOKUP(A8,INDIRECT($A8&\"!m5\"),INDIRECT($A8&\"!m17\")),\"\")","v":0},null,{"$f":"IFERROR(_xlfn.XLOOKUP(A8,INDIRECT($A8&\"!m5\"),INDIRECT($A8&\"!b10\")),\"\")","v":0},{"$f":"IFERROR(_xlfn.XLOOKUP(A8,INDIRECT($A8&\"!m5\"),INDIRECT($A8&\"!c10\")),\"\")","v":0},{"$f":"IFERROR(_xlfn.XLOOKUP(A8,INDIRECT($A8&\"!m5\"),INDIRECT($A8&\"!b11\")),\"\")","v":0},{"$f":"IFERROR(_xlfn.XLOOKUP(A8,INDIRECT($A8&\"!m5\"),INDIRECT($A8&\"!c11\")),\"\")","v":0},{"$f":"IFERROR(_xlfn.XLOOKUP(A8,INDIRECT($A8&\"!m5\"),INDIRECT($A8&\"!b12\")),\"\")","v":0},{"$f":"IFERROR(_xlfn.XLOOKUP(A8,INDIRECT($A8&\"!m5\"),INDIRECT($A8&\"!c12\")),\"\")","v":0}]
[{"$f":"'4'!M$5","v":4},{"$f":"IFERROR(_xlfn.XLOOKUP(A9,INDIRECT($A9&\"!m5\"),INDIRECT($A9&\"!o5\")),\"\")","v":0},{"$f":"IFERROR(_xlfn.XLOOKUP(A9,INDIRECT($A9&\"!m5\"),INDIRECT($A9&\"!c4\")),\"\")","v":""},{"$f":"IFERROR(_xlfn.XLOOKUP(A9,INDIRECT($A9&\"!m5\"),INDIRECT($A9&\"!f4\")),\"\")","v":""},{"$f":"IFERROR(_xlfn.XLOOKUP(A9,INDIRECT($A9&\"!m5\"),INDIRECT($A9&\"!c5\")),\"\")","v":""},{"$f":"IFERROR(_xlfn.XLOOKUP(A9,INDIRECT($A9&\"!m5\"),INDIRECT($A9&\"!f5\")),\"\")","v":""},{"$f":"IFERROR(_xlfn.XLOOKUP(A9,INDIRECT($A9&\"!m5\"),INDIRECT($A9&\"!k4\")),\"\")","v":""},{"$f":"IFERROR(_xlfn.XLOOKUP(A9,INDIRECT($A9&\"!m5\"),INDIRECT($A9&\"!k5\")),\"\")","v":""},{"$f":"IFERROR(_xlfn.XLOOKUP(A9,INDIRECT($A9&\"!m5\"),INDIRECT($A9&\"!o14\")),\"\")","v":0},null,{"$f":"IFERROR(_xlfn.XLOOKUP(A9,INDIRECT($A9&\"!m5\"),INDIRECT($A9&\"!o10\")),\"\")","v":0},{"$f":"IFERROR(_xlfn.XLOOKUP(A9,INDIRECT($A9&\"!m5\"),INDIRECT($A9&\"!o11\")),\"\")","v":0},{"$f":"IFERROR(_xlfn.XLOOKUP(A9,INDIRECT($A9&\"!m5\"),INDIRECT($A9&\"!o12\")),\"\")","v":0},{"$f":"'1'!O$13","v":0},null,{"$f":"IFERROR(_xlfn.XLOOKUP(A9,INDIRECT($A9&\"!m5\"),INDIRECT($A9&\"!d17\")),\"\")","v":0},{"$f":"IFERROR(_xlfn.XLOOKUP(A9,INDIRECT($A9&\"!m5\"),INDIRECT($A9&\"!e17\")),\"\")","v":0},{"$f":"IFERROR(_xlfn.XLOOKUP(A9,INDIRECT($A9&\"!m5\"),INDIRECT($A9&\"!f17\")),\"\")","v":0},{"$f":"IFERROR(_xlfn.XLOOKUP(A9,INDIRECT($A9&\"!m5\"),INDIRECT($A9&\"!g17\")),\"\")","v":0},{"$f":"IFERROR(_xlfn.XLOOKUP(A9,INDIRECT($A9&\"!m5\"),INDIRECT($A9&\"!h17\")),\"\")","v":0},{"$f":"IFERROR(_xlfn.XLOOKUP(A9,INDIRECT($A9&\"!m5\"),INDIRECT($A9&\"!i17\")),\"\")","v":0},{"$f":"IFERROR(_xlfn.XLOOKUP(A9,INDIRECT($A9&\"!m5\"),INDIRECT($A9&\"!j17\")),\"\")","v":0},{"$f":"IFERROR(_xlfn.XLOOKUP(A9,INDIRECT($A9&\"!m5\"),INDIRECT($A9&\"!k17\")),\"\")","v":0},{"$f":"IFERROR(_xlfn.XLOOKUP(A9,INDIRECT($A9&\"!m5\"),INDIRECT($A9&\"!l17\")),\"\")","v":0},{"$f":"IFERROR(_xlfn.XLOOKUP(A9,INDIRECT($A9&\"!m5\"),INDIRECT($A9&\"!m17\")),\"\")","v":0},null,{"$f":"IFERROR(_xlfn.XLOOKUP(A9,INDIRECT($A9&\"!m5\"),INDIRECT($A9&\"!b10\")),\"\")","v":0},{"$f":"IFERROR(_xlfn.XLOOKUP(A9,INDIRECT($A9&\"!m5\"),INDIRECT($A9&\"!c10\")),\"\")","v":0},{"$f":"IFERROR(_xlfn.XLOOKUP(A9,INDIRECT($A9&\"!m5\"),INDIRECT($A9&\"!b11\")),\"\")","v":0},{"$f":"IFERROR(_xlfn.XLOOKUP(A9,INDIRECT($A9&\"!m5\"),INDIRECT($A9&\"!c11\")),\"\")","v":0},{"$f":"IFERROR(_xlfn.XLOOKUP(A9,INDIRECT($A9&\"!m5\"),INDIRECT($A9&\"!b12\")),\"\")","v":0},{"$f":"IFERROR(_xlfn.XLOOKUP(A9,INDIRECT($A9&\"!m5\"),INDIRECT($A9&\"!c12\")),\"\")","v":0}]
[{"$f":"'5'!M$5","v":5},{"$f":"IFERROR(_xlfn.XLOOKUP(A10,INDIRECT($A10&\"!m5\"),INDIRECT($A10&\"!o5\")),\"\")","v":0},{"$f":"IFERROR(_xlfn.XLOOKUP(A10,INDIRECT($A10&\"!m5\"),INDIRECT($A10&\"!c4\")),\"\")","v":""},{"$f":"IFERROR(_xlfn.XLOOKUP(A10,INDIRECT($A10&\"!m5\"),INDIRECT($A10&\"!f4\")),\"\")","v":""},{"$f":"IFERROR(_xlfn.XLOOKUP(A10,INDIRECT($A10&\"!m5\"),INDIRECT($A10&\"!c5\")),\"\")","v":""},{"$f":"IFERROR(_xlfn.XLOOKUP(A10,INDIRECT($A10&\"!m5\"),INDIRECT($A10&\"!f5\")),\"\")","v":""},{"$f":"IFERROR(_xlfn.XLOOKUP(A10,INDIRECT($A10&\"!m5\"),INDIRECT($A10&\"!k4\")),\"\")","v":""},{"$f":"IFERROR(_xlfn.XLOOKUP(A10,INDIRECT($A10&\"!m5\"),INDIRECT($A10&\"!k5\")),\"\")","v":""},{"$f":"IFERROR(_xlfn.XLOOKUP(A10,INDIRECT($A10&\"!m5\"),INDIRECT($A10&\"!o14\")),\"\")","v":0},null,{"$f":"IFERROR(_xlfn.XLOOKUP(A10,INDIRECT($A10&\"!m5\"),INDIRECT($A10&\"!o10\")),\"\")","v":0},{"$f":"IFERROR(_xlfn.XLOOKUP(A10,INDIRECT($A10&\"!m5\"),INDIRECT($A10&\"!o11\")),\"\")","v":0},{"$f":"IFERROR(_xlfn.XLOOKUP(A10,INDIRECT($A10&\"!m5\"),INDIRECT($A10&\"!o12\")),\"\")","v":0},{"$f":"'1'!O$13","v":0},null,{"$f":"IFERROR(_xlfn.XLOOKUP(A10,INDIRECT($A10&\"!m5\"),INDIRECT($A10&\"!d17\")),\"\")","v":0},{"$f":"IFERROR(_xlfn.XLOOKUP(A10,INDIRECT($A10&\"!m5\"),INDIRECT($A10&\"!e17\")),\"\")","v":0},{"$f":"IFERROR(_xlfn.XLOOKUP(A10,INDIRECT($A10&\"!m5\"),INDIRECT($A10&\"!f17\")),\"\")","v":0},{"$f":"IFERROR(_xlfn.XLOOKUP(A10,INDIRECT($A10&\"!m5\"),INDIRECT($A10&\"!g17\")),\"\")","v":0},{"$f":"IFERROR(_xlfn.XLOOKUP(A10,INDIRECT($A10&\"!m5\"),INDIRECT($A10&\"!h17\")),\"\")","v":0},{"$f":"IFERROR(_xlfn.XLOOKUP(A10,INDIRECT($A10&\"!m5\"),INDIRECT($A10&\"!i17\")),\"\")","v":0},{"$f":"IFERROR(_xlfn.XLOOKUP(A10,INDIRECT($A10&\"!m5\"),INDIRECT($A10&\"!j17\")),\"\")","v":0},{"$f":"IFERROR(_xlfn.XLOOKUP(A10,INDIRECT($A10&\"!m5\"),INDIRECT($A10&\"!k17\")),\"\")","v":0},{"$f":"IFERROR(_xlfn.XLOOKUP(A10,INDIRECT($A10&\"!m5\"),INDIRECT($A10&\"!l17\")),\"\")","v":0},{"$f":"IFERROR(_xlfn.XLOOKUP(A10,INDIRECT($A10&\"!m5\"),INDIRECT($A10&\"!m17\")),\"\")","v":0},null,{"$f":"IFERROR(_xlfn.XLOOKUP(A10,INDIRECT($A10&\"!m5\"),INDIRECT($A10&\"!b10\")),\"\")","v":0},{"$f":"IFERROR(_xlfn.XLOOKUP(A10,INDIRECT($A10&\"!m5\"),INDIRECT($A10&\"!c10\")),\"\")","v":0},{"$f":"IFERROR(_xlfn.XLOOKUP(A10,INDIRECT($A10&\"!m5\"),INDIRECT($A10&\"!b11\")),\"\")","v":0},{"$f":"IFERROR(_xlfn.XLOOKUP(A10,INDIRECT($A10&\"!m5\"),INDIRECT($A10&\"!c11\")),\"\")","v":0},{"$f":"IFERROR(_xlfn.XLOOKUP(A10,INDIRECT($A10&\"!m5\"),INDIRECT($A10&\"!b12\")),\"\")","v":0},{"$f":"IFERROR(_xlfn.XLOOKUP(A10,INDIRECT($A10&\"!m5\"),INDIRECT($A10&\"!c12\")),\"\")","v":0}]
[{"$f":"'6'!M$5","v":6},{"$f":"IFERROR(_xlfn.XLOOKUP(A11,INDIRECT($A11&\"!m5\"),INDIRECT($A11&\"!o5\")),\"\")","v":0},{"$f":"IFERROR(_xlfn.XLOOKUP(A11,INDIRECT($A11&\"!m5\"),INDIRECT($A11&\"!c4\")),\"\")","v":""},{"$f":"IFERROR(_xlfn.XLOOKUP(A11,INDIRECT($A11&\"!m5\"),INDIRECT($A11&\"!f4\")),\"\")","v":""},{"$f":"IFERROR(_xlfn.XLOOKUP(A11,INDIRECT($A11&\"!m5\"),INDIRECT($A11&\"!c5\")),\"\")","v":""},{"$f":"IFERROR(_xlfn.XLOOKUP(A11,INDIRECT($A11&\"!m5\"),INDIRECT($A11&\"!f5\")),\"\")","v":""},{"$f":"IFERROR(_xlfn.XLOOKUP(A11,INDIRECT($A11&\"!m5\"),INDIRECT($A11&\"!k4\")),\"\")","v":""},{"$f":"IFERROR(_xlfn.XLOOKUP(A11,INDIRECT($A11&\"!m5\"),INDIRECT($A11&\"!k5\")),\"\")","v":""},{"$f":"IFERROR(_xlfn.XLOOKUP(A11,INDIRECT($A11&\"!m5\"),INDIRECT($A11&\"!o14\")),\"\")","v":0},null,{"$f":"IFERROR(_xlfn.XLOOKUP(A11,INDIRECT($A11&\"!m5\"),INDIRECT($A11&\"!o10\")),\"\")","v":0},{"$f":"IFERROR(_xlfn.XLOOKUP(A11,INDIRECT($A11&\"!m5\"),INDIRECT($A11&\"!o11\")),\"\")","v":0},{"$f":"IFERROR(_xlfn.XLOOKUP(A11,INDIRECT($A11&\"!m5\"),INDIRECT($A11&\"!o12\")),\"\")","v":0},{"$f":"'1'!O$13","v":0},null,{"$f":"IFERROR(_xlfn.XLOOKUP(A11,INDIRECT($A11&\"!m5\"),INDIRECT($A11&\"!d17\")),\"\")","v":0},{"$f":"IFERROR(_xlfn.XLOOKUP(A11,INDIRECT($A11&\"!m5\"),INDIRECT($A11&\"!e17\")),\"\")","v":0},{"$f":"IFERROR(_xlfn.XLOOKUP(A11,INDIRECT($A11&\"!m5\"),INDIRECT($A11&\"!f17\")),\"\")","v":0},{"$f":"IFERROR(_xlfn.XLOOKUP(A11,INDIRECT($A11&\"!m5\"),INDIRECT($A11&\"!g17\")),\"\")","v":0},{"$f":"IFERROR(_xlfn.XLOOKUP(A11,INDIRECT($A11&\"!m5\"),INDIRECT($A11&\"!h17\")),\"\")","v":0},{"$f":"IFERROR(_xlfn.XLOOKUP(A11,INDIRECT($A11&\"!m5\"),INDIRECT($A11&\"!i17\")),\"\")","v":0},{"$f":"IFERROR(_xlfn.XLOOKUP(A11,INDIRECT($A11&\"!m5\"),INDIRECT($A11&\"!j17\")),\"\")","v":0},{"$f":"IFERROR(_xlfn.XLOOKUP(A11,INDIRECT($A11&\"!m5\"),INDIRECT($A11&\"!k17\")),\"\")","v":0},{"$f":"IFERROR(_xlfn.XLOOKUP(A11,INDIRECT($A11&\"!m5\"),INDIRECT($A11&\"!l17\")),\"\")","v":0},{"$f":"IFERROR(_xlfn.XLOOKUP(A11,INDIRECT($A11&\"!m5\"),INDIRECT($A11&\"!m17\")),\"\")","v":0},null,{"$f":"IFERROR(_xlfn.XLOOKUP(A11,INDIRECT($A11&\"!m5\"),INDIRECT($A11&\"!b10\")),\"\")","v":0},{"$f":"IFERROR(_xlfn.XLOOKUP(A11,INDIRECT($A11&\"!m5\"),INDIRECT($A11&\"!c10\")),\"\")","v":0},{"$f":"IFERROR(_xlfn.XLOOKUP(A11,INDIRECT($A11&\"!m5\"),INDIRECT($A11&\"!b11\")),\"\")","v":0},{"$f":"IFERROR(_xlfn.XLOOKUP(A11,INDIRECT($A11&\"!m5\"),INDIRECT($A11&\"!c11\")),\"\")","v":0},{"$f":"IFERROR(_xlfn.XLOOKUP(A11,INDIRECT($A11&\"!m5\"),INDIRECT($A11&\"!b12\")),\"\")","v":0},{"$f":"IFERROR(_xlfn.XLOOKUP(A11,INDIRECT($A11&\"!m5\"),INDIRECT($A11&\"!c12\")),\"\")","v":0}]
[{"$f":"'7'!M$5","v":7},{"$f":"IFERROR(_xlfn.XLOOKUP(A12,INDIRECT($A12&\"!m5\"),INDIRECT($A12&\"!o5\")),\"\")","v":0},{"$f":"IFERROR(_xlfn.XLOOKUP(A12,INDIRECT($A12&\"!m5\"),INDIRECT($A12&\"!c4\")),\"\")","v":""},{"$f":"IFERROR(_xlfn.XLOOKUP(A12,INDIRECT($A12&\"!m5\"),INDIRECT($A12&\"!f4\")),\"\")","v":""},{"$f":"IFERROR(_xlfn.XLOOKUP(A12,INDIRECT($A12&\"!m5\"),INDIRECT($A12&\"!c5\")),\"\")","v":""},{"$f":"IFERROR(_xlfn.XLOOKUP(A12,INDIRECT($A12&\"!m5\"),INDIRECT($A12&\"!f5\")),\"\")","v":""},{"$f":"IFERROR(_xlfn.XLOOKUP(A12,INDIRECT($A12&\"!m5\"),INDIRECT($A12&\"!k4\")),\"\")","v":""},{"$f":"IFERROR(_xlfn.XLOOKUP(A12,INDIRECT($A12&\"!m5\"),INDIRECT($A12&\"!k5\")),\"\")","v":""},{"$f":"IFERROR(_xlfn.XLOOKUP(A12,INDIRECT($A12&\"!m5\"),INDIRECT($A12&\"!o14\")),\"\")","v":0},null,{"$f":"IFERROR(_xlfn.XLOOKUP(A12,INDIRECT($A12&\"!m5\"),INDIRECT($A12&\"!o10\")),\"\")","v":0},{"$f":"IFERROR(_xlfn.XLOOKUP(A12,INDIRECT($A12&\"!m5\"),INDIRECT($A12&\"!o11\")),\"\")","v":0},{"$f":"IFERROR(_xlfn.XLOOKUP(A12,INDIRECT($A12&\"!m5\"),INDIRECT($A12&\"!o12\")),\"\")","v":0},{"$f":"'1'!O$13","v":0},null,{"$f":"IFERROR(_xlfn.XLOOKUP(A12,INDIRECT($A12&\"!m5\"),INDIRECT($A12&\"!d17\")),\"\")","v":0},{"$f":"IFERROR(_xlfn.XLOOKUP(A12,INDIRECT($A12&\"!m5\"),INDIRECT($A12&\"!e17\")),\"\")","v":0},{"$f":"IFERROR(_xlfn.XLOOKUP(A12,INDIRECT($A12&\"!m5\"),INDIRECT($A12&\"!f17\")),\"\")","v":0},{"$f":"IFERROR(_xlfn.XLOOKUP(A12,INDIRECT($A12&\"!m5\"),INDIRECT($A12&\"!g17\")),\"\")","v":0},{"$f":"IFERROR(_xlfn.XLOOKUP(A12,INDIRECT($A12&\"!m5\"),INDIRECT($A12&\"!h17\")),\"\")","v":0},{"$f":"IFERROR(_xlfn.XLOOKUP(A12,INDIRECT($A12&\"!m5\"),INDIRECT($A12&\"!i17\")),\"\")","v":0},{"$f":"IFERROR(_xlfn.XLOOKUP(A12,INDIRECT($A12&\"!m5\"),INDIRECT($A12&\"!j17\")),\"\")","v":0},{"$f":"IFERROR(_xlfn.XLOOKUP(A12,INDIRECT($A12&\"!m5\"),INDIRECT($A12&\"!k17\")),\"\")","v":0},{"$f":"IFERROR(_xlfn.XLOOKUP(A12,INDIRECT($A12&\"!m5\"),INDIRECT($A12&\"!l17\")),\"\")","v":0},{"$f":"IFERROR(_xlfn.XLOOKUP(A12,INDIRECT($A12&\"!m5\"),INDIRECT($A12&\"!m17\")),\"\")","v":0},null,{"$f":"IFERROR(_xlfn.XLOOKUP(A12,INDIRECT($A12&\"!m5\"),INDIRECT($A12&\"!b10\")),\"\")","v":0},{"$f":"IFERROR(_xlfn.XLOOKUP(A12,INDIRECT($A12&\"!m5\"),INDIRECT($A12&\"!c10\")),\"\")","v":0},{"$f":"IFERROR(_xlfn.XLOOKUP(A12,INDIRECT($A12&\"!m5\"),INDIRECT($A12&\"!b11\")),\"\")","v":0},{"$f":"IFERROR(_xlfn.XLOOKUP(A12,INDIRECT($A12&\"!m5\"),INDIRECT($A12&\"!c11\")),\"\")","v":0},{"$f":"IFERROR(_xlfn.XLOOKUP(A12,INDIRECT($A12&\"!m5\"),INDIRECT($A12&\"!b12\")),\"\")","v":0},{"$f":"IFERROR(_xlfn.XLOOKUP(A12,INDIRECT($A12&\"!m5\"),INDIRECT($A12&\"!c12\")),\"\")","v":0}]
[{"$f":"'8'!M$5","v":8},{"$f":"IFERROR(_xlfn.XLOOKUP(A13,INDIRECT($A13&\"!m5\"),INDIRECT($A13&\"!o5\")),\"\")","v":0},{"$f":"IFERROR(_xlfn.XLOOKUP(A13,INDIRECT($A13&\"!m5\"),INDIRECT($A13&\"!c4\")),\"\")","v":""},{"$f":"IFERROR(_xlfn.XLOOKUP(A13,INDIRECT($A13&\"!m5\"),INDIRECT($A13&\"!f4\")),\"\")","v":""},{"$f":"IFERROR(_xlfn.XLOOKUP(A13,INDIRECT($A13&\"!m5\"),INDIRECT($A13&\"!c5\")),\"\")","v":""},{"$f":"IFERROR(_xlfn.XLOOKUP(A13,INDIRECT($A13&\"!m5\"),INDIRECT($A13&\"!f5\")),\"\")","v":""},{"$f":"IFERROR(_xlfn.XLOOKUP(A13,INDIRECT($A13&\"!m5\"),INDIRECT($A13&\"!k4\")),\"\")","v":""},{"$f":"IFERROR(_xlfn.XLOOKUP(A13,INDIRECT($A13&\"!m5\"),INDIRECT($A13&\"!k5\")),\"\")","v":""},{"$f":"IFERROR(_xlfn.XLOOKUP(A13,INDIRECT($A13&\"!m5\"),INDIRECT($A13&\"!o14\")),\"\")","v":0},null,{"$f":"IFERROR(_xlfn.XLOOKUP(A13,INDIRECT($A13&\"!m5\"),INDIRECT($A13&\"!o10\")),\"\")","v":0},{"$f":"IFERROR(_xlfn.XLOOKUP(A13,INDIRECT($A13&\"!m5\"),INDIRECT($A13&\"!o11\")),\"\")","v":0},{"$f":"IFERROR(_xlfn.XLOOKUP(A13,INDIRECT($A13&\"!m5\"),INDIRECT($A13&\"!o12\")),\"\")","v":0},{"$f":"'1'!O$13","v":0},null,{"$f":"IFERROR(_xlfn.XLOOKUP(A13,INDIRECT($A13&\"!m5\"),INDIRECT($A13&\"!d17\")),\"\")","v":0},{"$f":"IFERROR(_xlfn.XLOOKUP(A13,INDIRECT($A13&\"!m5\"),INDIRECT($A13&\"!e17\")),\"\")","v":0},{"$f":"IFERROR(_xlfn.XLOOKUP(A13,INDIRECT($A13&\"!m5\"),INDIRECT($A13&\"!f17\")),\"\")","v":0},{"$f":"IFERROR(_xlfn.XLOOKUP(A13,INDIRECT($A13&\"!m5\"),INDIRECT($A13&\"!g17\")),\"\")","v":0},{"$f":"IFERROR(_xlfn.XLOOKUP(A13,INDIRECT($A13&\"!m5\"),INDIRECT($A13&\"!h17\")),\"\")","v":0},{"$f":"IFERROR(_xlfn.XLOOKUP(A13,INDIRECT($A13&\"!m5\"),INDIRECT($A13&\"!i17\")),\"\")","v":0},{"$f":"IFERROR(_xlfn.XLOOKUP(A13,INDIRECT($A13&\"!m5\"),INDIRECT($A13&\"!j17\")),\"\")","v":0},{"$f":"IFERROR(_xlfn.XLOOKUP(A13,INDIRECT($A13&\"!m5\"),INDIRECT($A13&\"!k17\")),\"\")","v":0},{"$f":"IFERROR(_xlfn.XLOOKUP(A13,INDIRECT($A13&\"!m5\"),INDIRECT($A13&\"!l17\")),\"\")","v":0},{"$f":"IFERROR(_xlfn.XLOOKUP(A13,INDIRECT($A13&\"!m5\"),INDIRECT($A13&\"!m17\")),\"\")","v":0},null,{"$f":"IFERROR(_xlfn.XLOOKUP(A13,INDIRECT($A13&\"!m5\"),INDIRECT($A13&\"!b10\")),\"\")","v":0},{"$f":"IFERROR(_xlfn.XLOOKUP(A13,INDIRECT($A13&\"!m5\"),INDIRECT($A13&\"!c10\")),\"\")","v":0},{"$f":"IFERROR(_xlfn.XLOOKUP(A13,INDIRECT($A13&\"!m5\"),INDIRECT($A13&\"!b11\")),\"\")","v":0},{"$f":"IFERROR(_xlfn.XLOOKUP(A13,INDIRECT($A13&\"!m5\"),INDIRECT($A13&\"!c11\")),\"\")","v":0},{"$f":"IFERROR(_xlfn.XLOOKUP(A13,INDIRECT($A13&\"!m5\"),INDIRECT($A13&\"!b12\")),\"\")","v":0},{"$f":"IFERROR(_xlfn.XLOOKUP(A13,INDIRECT($A13&\"!m5\"),INDIRECT($A13&\"!c12\")),\"\")","v":0}]
[{"$f":"'9'!M$5","v":9},{"$f":"IFERROR(_xlfn.XLOOKUP(A14,INDIRECT($A14&\"!m5\"),INDIRECT($A14&\"!o5\")),\"\")","v":0},{"$f":"IFERROR(_xlfn.XLOOKUP(A14,INDIRECT($A14&\"!m5\"),INDIRECT($A14&\"!c4\")),\"\")","v":""},{"$f":"IFERROR(_xlfn.XLOOKUP(A14,INDIRECT($A14&\"!m5\"),INDIRECT($A14&\"!f4\")),\"\")","v":""},{"$f":"IFERROR(_xlfn.XLOOKUP(A14,INDIRECT($A14&\"!m5\"),INDIRECT($A14&\"!c5\")),\"\")","v":""},{"$f":"IFERROR(_xlfn.XLOOKUP(A14,INDIRECT($A14&\"!m5\"),INDIRECT($A14&\"!f5\")),\"\")","v":""},{"$f":"IFERROR(_xlfn.XLOOKUP(A14,INDIRECT($A14&\"!m5\"),INDIRECT($A14&\"!k4\")),\"\")","v":""},{"$f":"IFERROR(_xlfn.XLOOKUP(A14,INDIRECT($A14&\"!m5\"),INDIRECT($A14&\"!k5\")),\"\")","v":""},{"$f":"IFERROR(_xlfn.XLOOKUP(A14,INDIRECT($A14&\"!m5\"),INDIRECT($A14&\"!o14\")),\"\")","v":0},null,{"$f":"IFERROR(_xlfn.XLOOKUP(A14,INDIRECT($A14&\"!m5\"),INDIRECT($A14&\"!o10\")),\"\")","v":0},{"$f":"IFERROR(_xlfn.XLOOKUP(A14,INDIRECT($A14&\"!m5\"),INDIRECT($A14&\"!o11\")),\"\")","v":0},{"$f":"IFERROR(_xlfn.XLOOKUP(A14,INDIRECT($A14&\"!m5\"),INDIRECT($A14&\"!o12\")),\"\")","v":0},{"$f":"'1'!O$13","v":0},null,{"$f":"IFERROR(_xlfn.XLOOKUP(A14,INDIRECT($A14&\"!m5\"),INDIRECT($A14&\"!d17\")),\"\")","v":0},{"$f":"IFERROR(_xlfn.XLOOKUP(A14,INDIRECT($A14&\"!m5\"),INDIRECT($A14&\"!e17\")),\"\")","v":0},{"$f":"IFERROR(_xlfn.XLOOKUP(A14,INDIRECT($A14&\"!m5\"),INDIRECT($A14&\"!f17\")),\"\")","v":0},{"$f":"IFERROR(_xlfn.XLOOKUP(A14,INDIRECT($A14&\"!m5\"),INDIRECT($A14&\"!g17\")),\"\")","v":0},{"$f":"IFERROR(_xlfn.XLOOKUP(A14,INDIRECT($A14&\"!m5\"),INDIRECT($A14&\"!h17\")),\"\")","v":0},{"$f":"IFERROR(_xlfn.XLOOKUP(A14,INDIRECT($A14&\"!m5\"),INDIRECT($A14&\"!i17\")),\"\")","v":0},{"$f":"IFERROR(_xlfn.XLOOKUP(A14,INDIRECT($A14&\"!m5\"),INDIRECT($A14&\"!j17\")),\"\")","v":0},{"$f":"IFERROR(_xlfn.XLOOKUP(A14,INDIRECT($A14&\"!m5\"),INDIRECT($A14&\"!k17\")),\"\")","v":0},{"$f":"IFERROR(_xlfn.XLOOKUP(A14,INDIRECT($A14&\"!m5\"),INDIRECT($A14&\"!l17\")),\"\")","v":0},{"$f":"IFERROR(_xlfn.XLOOKUP(A14,INDIRECT($A14&\"!m5\"),INDIRECT($A14&\"!m17\")),\"\")","v":0},null,{"$f":"IFERROR(_xlfn.XLOOKUP(A14,INDIRECT($A14&\"!m5\"),INDIRECT($A14&\"!b10\")),\"\")","v":0},{"$f":"IFERROR(_xlfn.XLOOKUP(A14,INDIRECT($A14&\"!m5\"),INDIRECT($A14&\"!c10\")),\"\")","v":0},{"$f":"IFERROR(_xlfn.XLOOKUP(A14,INDIRECT($A14&\"!m5\"),INDIRECT($A14&\"!b11\")),\"\")","v":0},{"$f":"IFERROR(_xlfn.XLOOKUP(A14,INDIRECT($A14&\"!m5\"),INDIRECT($A14&\"!c11\")),\"\")","v":0},{"$f":"IFERROR(_xlfn.XLOOKUP(A14,INDIRECT($A14&\"!m5\"),INDIRECT($A14&\"!b12\")),\"\")","v":0},{"$f":"IFERROR(_xlfn.XLOOKUP(A14,INDIRECT($A14&\"!m5\"),INDIRECT($A14&\"!c12\")),\"\")","v":0}]
[{"$f":"'10'!M$5","v":10},{"$f":"IFERROR(_xlfn.XLOOKUP(A15,INDIRECT($A15&\"!m5\"),INDIRECT($A15&\"!o5\")),\"\")","v":0},{"$f":"IFERROR(_xlfn.XLOOKUP(A15,INDIRECT($A15&\"!m5\"),INDIRECT($A15&\"!c4\")),\"\")","v":""},{"$f":"IFERROR(_xlfn.XLOOKUP(A15,INDIRECT($A15&\"!m5\"),INDIRECT($A15&\"!f4\")),\"\")","v":""},{"$f":"IFERROR(_xlfn.XLOOKUP(A15,INDIRECT($A15&\"!m5\"),INDIRECT($A15&\"!c5\")),\"\")","v":""},{"$f":"IFERROR(_xlfn.XLOOKUP(A15,INDIRECT($A15&\"!m5\"),INDIRECT($A15&\"!f5\")),\"\")","v":""},{"$f":"IFERROR(_xlfn.XLOOKUP(A15,INDIRECT($A15&\"!m5\"),INDIRECT($A15&\"!k4\")),\"\")","v":""},{"$f":"IFERROR(_xlfn.XLOOKUP(A15,INDIRECT($A15&\"!m5\"),INDIRECT($A15&\"!k5\")),\"\")","v":""},{"$f":"IFERROR(_xlfn.XLOOKUP(A15,INDIRECT($A15&\"!m5\"),INDIRECT($A15&\"!o14\")),\"\")","v":0},null,{"$f":"IFERROR(_xlfn.XLOOKUP(A15,INDIRECT($A15&\"!m5\"),INDIRECT($A15&\"!o10\")),\"\")","v":0},{"$f":"IFERROR(_xlfn.XLOOKUP(A15,INDIRECT($A15&\"!m5\"),INDIRECT($A15&\"!o11\")),\"\")","v":0},{"$f":"IFERROR(_xlfn.XLOOKUP(A15,INDIRECT($A15&\"!m5\"),INDIRECT($A15&\"!o12\")),\"\")","v":0},{"$f":"'1'!O$13","v":0},null,{"$f":"IFERROR(_xlfn.XLOOKUP(A15,INDIRECT($A15&\"!m5\"),INDIRECT($A15&\"!d17\")),\"\")","v":0},{"$f":"IFERROR(_xlfn.XLOOKUP(A15,INDIRECT($A15&\"!m5\"),INDIRECT($A15&\"!e17\")),\"\")","v":0},{"$f":"IFERROR(_xlfn.XLOOKUP(A15,INDIRECT($A15&\"!m5\"),INDIRECT($A15&\"!f17\")),\"\")","v":0},{"$f":"IFERROR(_xlfn.XLOOKUP(A15,INDIRECT($A15&\"!m5\"),INDIRECT($A15&\"!g17\")),\"\")","v":0},{"$f":"IFERROR(_xlfn.XLOOKUP(A15,INDIRECT($A15&\"!m5\"),INDIRECT($A15&\"!h17\")),\"\")","v":0},{"$f":"IFERROR(_xlfn.XLOOKUP(A15,INDIRECT($A15&\"!m5\"),INDIRECT($A15&\"!i17\")),\"\")","v":0},{"$f":"IFERROR(_xlfn.XLOOKUP(A15,INDIRECT($A15&\"!m5\"),INDIRECT($A15&\"!j17\")),\"\")","v":0},{"$f":"IFERROR(_xlfn.XLOOKUP(A15,INDIRECT($A15&\"!m5\"),INDIRECT($A15&\"!k17\")),\"\")","v":0},{"$f":"IFERROR(_xlfn.XLOOKUP(A15,INDIRECT($A15&\"!m5\"),INDIRECT($A15&\"!l17\")),\"\")","v":0},{"$f":"IFERROR(_xlfn.XLOOKUP(A15,INDIRECT($A15&\"!m5\"),INDIRECT($A15&\"!m17\")),\"\")","v":0},null,{"$f":"IFERROR(_xlfn.XLOOKUP(A15,INDIRECT($A15&\"!m5\"),INDIRECT($A15&\"!b10\")),\"\")","v":0},{"$f":"IFERROR(_xlfn.XLOOKUP(A15,INDIRECT($A15&\"!m5\"),INDIRECT($A15&\"!c10\")),\"\")","v":0},{"$f":"IFERROR(_xlfn.XLOOKUP(A15,INDIRECT($A15&\"!m5\"),INDIRECT($A15&\"!b11\")),\"\")","v":0},{"$f":"IFERROR(_xlfn.XLOOKUP(A15,INDIRECT($A15&\"!m5\"),INDIRECT($A15&\"!c11\")),\"\")","v":0},{"$f":"IFERROR(_xlfn.XLOOKUP(A15,INDIRECT($A15&\"!m5\"),INDIRECT($A15&\"!b12\")),\"\")","v":0},{"$f":"IFERROR(_xlfn.XLOOKUP(A15,INDIRECT($A15&\"!m5\"),INDIRECT($A15&\"!c12\")),\"\")","v":0}]
[{"$f":"'11'!M$5","v":11},{"$f":"IFERROR(_xlfn.XLOOKUP(A16,INDIRECT($A16&\"!m5\"),INDIRECT($A16&\"!o5\")),\"\")","v":0},{"$f":"IFERROR(_xlfn.XLOOKUP(A16,INDIRECT($A16&\"!m5\"),INDIRECT($A16&\"!c4\")),\"\")","v":""},{"$f":"IFERROR(_xlfn.XLOOKUP(A16,INDIRECT($A16&\"!m5\"),INDIRECT($A16&\"!f4\")),\"\")","v":""},{"$f":"IFERROR(_xlfn.XLOOKUP(A16,INDIRECT($A16&\"!m5\"),INDIRECT($A16&\"!c5\")),\"\")","v":""},{"$f":"IFERROR(_xlfn.XLOOKUP(A16,INDIRECT($A16&\"!m5\"),INDIRECT($A16&\"!f5\")),\"\")","v":""},{"$f":"IFERROR(_xlfn.XLOOKUP(A16,INDIRECT($A16&\"!m5\"),INDIRECT($A16&\"!k4\")),\"\")","v":""},{"$f":"IFERROR(_xlfn.XLOOKUP(A16,INDIRECT($A16&\"!m5\"),INDIRECT($A16&\"!k5\")),\"\")","v":""},{"$f":"IFERROR(_xlfn.XLOOKUP(A16,INDIRECT($A16&\"!m5\"),INDIRECT($A16&\"!o14\")),\"\")","v":0},null,{"$f":"IFERROR(_xlfn.XLOOKUP(A16,INDIRECT($A16&\"!m5\"),INDIRECT($A16&\"!o10\")),\"\")","v":0},{"$f":"IFERROR(_xlfn.XLOOKUP(A16,INDIRECT($A16&\"!m5\"),INDIRECT($A16&\"!o11\")),\"\")","v":0},{"$f":"IFERROR(_xlfn.XLOOKUP(A16,INDIRECT($A16&\"!m5\"),INDIRECT($A16&\"!o12\")),\"\")","v":0},{"$f":"'1'!O$13","v":0},null,{"$f":"IFERROR(_xlfn.XLOOKUP(A16,INDIRECT($A16&\"!m5\"),INDIRECT($A16&\"!d17\")),\"\")","v":0},{"$f":"IFERROR(_xlfn.XLOOKUP(A16,INDIRECT($A16&\"!m5\"),INDIRECT($A16&\"!e17\")),\"\")","v":0},{"$f":"IFERROR(_xlfn.XLOOKUP(A16,INDIRECT($A16&\"!m5\"),INDIRECT($A16&\"!f17\")),\"\")","v":0},{"$f":"IFERROR(_xlfn.XLOOKUP(A16,INDIRECT($A16&\"!m5\"),INDIRECT($A16&\"!g17\")),\"\")","v":0},{"$f":"IFERROR(_xlfn.XLOOKUP(A16,INDIRECT($A16&\"!m5\"),INDIRECT($A16&\"!h17\")),\"\")","v":0},{"$f":"IFERROR(_xlfn.XLOOKUP(A16,INDIRECT($A16&\"!m5\"),INDIRECT($A16&\"!i17\")),\"\")","v":0},{"$f":"IFERROR(_xlfn.XLOOKUP(A16,INDIRECT($A16&\"!m5\"),INDIRECT($A16&\"!j17\")),\"\")","v":0},{"$f":"IFERROR(_xlfn.XLOOKUP(A16,INDIRECT($A16&\"!m5\"),INDIRECT($A16&\"!k17\")),\"\")","v":0},{"$f":"IFERROR(_xlfn.XLOOKUP(A16,INDIRECT($A16&\"!m5\"),INDIRECT($A16&\"!l17\")),\"\")","v":0},{"$f":"IFERROR(_xlfn.XLOOKUP(A16,INDIRECT($A16&\"!m5\"),INDIRECT($A16&\"!m17\")),\"\")","v":0},null,{"$f":"IFERROR(_xlfn.XLOOKUP(A16,INDIRECT($A16&\"!m5\"),INDIRECT($A16&\"!b10\")),\"\")","v":0},{"$f":"IFERROR(_xlfn.XLOOKUP(A16,INDIRECT($A16&\"!m5\"),INDIRECT($A16&\"!c10\")),\"\")","v":0},{"$f":"IFERROR(_xlfn.XLOOKUP(A16,INDIRECT($A16&\"!m5\"),INDIRECT($A16&\"!b11\")),\"\")","v":0},{"$f":"IFERROR(_xlfn.XLOOKUP(A16,INDIRECT($A16&\"!m5\"),INDIRECT($A16&\"!c11\")),\"\")","v":0},{"$f":"IFERROR(_xlfn.XLOOKUP(A16,INDIRECT($A16&\"!m5\"),INDIRECT($A16&\"!b12\")),\"\")","v":0},{"$f":"IFERROR(_xlfn.XLOOKUP(A16,INDIRECT($A16&\"!m5\"),INDIRECT($A16&\"!c12\")),\"\")","v":0}]
[{"$f":"'12'!M$5","v":12},{"$f":"IFERROR(_xlfn.XLOOKUP(A17,INDIRECT($A17&\"!m5\"),INDIRECT($A17&\"!o5\")),\"\")","v":0},{"$f":"IFERROR(_xlfn.XLOOKUP(A17,INDIRECT($A17&\"!m5\"),INDIRECT($A17&\"!c4\")),\"\")","v":""},{"$f":"IFERROR(_xlfn.XLOOKUP(A17,INDIRECT($A17&\"!m5\"),INDIRECT($A17&\"!f4\")),\"\")","v":""},{"$f":"IFERROR(_xlfn.XLOOKUP(A17,INDIRECT($A17&\"!m5\"),INDIRECT($A17&\"!c5\")),\"\")","v":""},{"$f":"IFERROR(_xlfn.XLOOKUP(A17,INDIRECT($A17&\"!m5\"),INDIRECT($A17&\"!f5\")),\"\")","v":""},{"$f":"IFERROR(_xlfn.XLOOKUP(A17,INDIRECT($A17&\"!m5\"),INDIRECT($A17&\"!k4\")),\"\")","v":""},{"$f":"IFERROR(_xlfn.XLOOKUP(A17,INDIRECT($A17&\"!m5\"),INDIRECT($A17&\"!k5\")),\"\")","v":""},{"$f":"IFERROR(_xlfn.XLOOKUP(A17,INDIRECT($A17&\"!m5\"),INDIRECT($A17&\"!o14\")),\"\")","v":0},null,{"$f":"IFERROR(_xlfn.XLOOKUP(A17,INDIRECT($A17&\"!m5\"),INDIRECT($A17&\"!o10\")),\"\")","v":0},{"$f":"IFERROR(_xlfn.XLOOKUP(A17,INDIRECT($A17&\"!m5\"),INDIRECT($A17&\"!o11\")),\"\")","v":0},{"$f":"IFERROR(_xlfn.XLOOKUP(A17,INDIRECT($A17&\"!m5\"),INDIRECT($A17&\"!o12\")),\"\")","v":0},{"$f":"'1'!O$13","v":0},null,{"$f":"IFERROR(_xlfn.XLOOKUP(A17,INDIRECT($A17&\"!m5\"),INDIRECT($A17&\"!d17\")),\"\")","v":0},{"$f":"IFERROR(_xlfn.XLOOKUP(A17,INDIRECT($A17&\"!m5\"),INDIRECT($A17&\"!e17\")),\"\")","v":0},{"$f":"IFERROR(_xlfn.XLOOKUP(A17,INDIRECT($A17&\"!m5\"),INDIRECT($A17&\"!f17\")),\"\")","v":0},{"$f":"IFERROR(_xlfn.XLOOKUP(A17,INDIRECT($A17&\"!m5\"),INDIRECT($A17&\"!g17\")),\"\")","v":0},{"$f":"IFERROR(_xlfn.XLOOKUP(A17,INDIRECT($A17&\"!m5\"),INDIRECT($A17&\"!h17\")),\"\")","v":0},{"$f":"IFERROR(_xlfn.XLOOKUP(A17,INDIRECT($A17&\"!m5\"),INDIRECT($A17&\"!i17\")),\"\")","v":0},{"$f":"IFERROR(_xlfn.XLOOKUP(A17,INDIRECT($A17&\"!m5\"),INDIRECT($A17&\"!j17\")),\"\")","v":0},{"$f":"IFERROR(_xlfn.XLOOKUP(A17,INDIRECT($A17&\"!m5\"),INDIRECT($A17&\"!k17\")),\"\")","v":0},{"$f":"IFERROR(_xlfn.XLOOKUP(A17,INDIRECT($A17&\"!m5\"),INDIRECT($A17&\"!l17\")),\"\")","v":0},{"$f":"IFERROR(_xlfn.XLOOKUP(A17,INDIRECT($A17&\"!m5\"),INDIRECT($A17&\"!m17\")),\"\")","v":0},null,{"$f":"IFERROR(_xlfn.XLOOKUP(A17,INDIRECT($A17&\"!m5\"),INDIRECT($A17&\"!b10\")),\"\")","v":0},{"$f":"IFERROR(_xlfn.XLOOKUP(A17,INDIRECT($A17&\"!m5\"),INDIRECT($A17&\"!c10\")),\"\")","v":0},{"$f":"IFERROR(_xlfn.XLOOKUP(A17,INDIRECT($A17&\"!m5\"),INDIRECT($A17&\"!b11\")),\"\")","v":0},{"$f":"IFERROR(_xlfn.XLOOKUP(A17,INDIRECT($A17&\"!m5\"),INDIRECT($A17&\"!c11\")),\"\")","v":0},{"$f":"IFERROR(_xlfn.XLOOKUP(A17,INDIRECT($A17&\"!m5\"),INDIRECT($A17&\"!b12\")),\"\")","v":0},{"$f":"IFERROR(_xlfn.XLOOKUP(A17,INDIRECT($A17&\"!m5\"),INDIRECT($A17&\"!c12\")),\"\")","v":0}]
[{"$f":"'13'!M$5","v":13},{"$f":"IFERROR(_xlfn.XLOOKUP(A18,INDIRECT($A18&\"!m5\"),INDIRECT($A18&\"!o5\")),\"\")","v":0},{"$f":"IFERROR(_xlfn.XLOOKUP(A18,INDIRECT($A18&\"!m5\"),INDIRECT($A18&\"!c4\")),\"\")","v":""},{"$f":"IFERROR(_xlfn.XLOOKUP(A18,INDIRECT($A18&\"!m5\"),INDIRECT($A18&\"!f4\")),\"\")","v":""},{"$f":"IFERROR(_xlfn.XLOOKUP(A18,INDIRECT($A18&\"!m5\"),INDIRECT($A18&\"!c5\")),\"\")","v":""},{"$f":"IFERROR(_xlfn.XLOOKUP(A18,INDIRECT($A18&\"!m5\"),INDIRECT($A18&\"!f5\")),\"\")","v":""},{"$f":"IFERROR(_xlfn.XLOOKUP(A18,INDIRECT($A18&\"!m5\"),INDIRECT($A18&\"!k4\")),\"\")","v":""},{"$f":"IFERROR(_xlfn.XLOOKUP(A18,INDIRECT($A18&\"!m5\"),INDIRECT($A18&\"!k5\")),\"\")","v":""},{"$f":"IFERROR(_xlfn.XLOOKUP(A18,INDIRECT($A18&\"!m5\"),INDIRECT($A18&\"!o14\")),\"\")","v":0},null,{"$f":"IFERROR(_xlfn.XLOOKUP(A18,INDIRECT($A18&\"!m5\"),INDIRECT($A18&\"!o10\")),\"\")","v":0},{"$f":"IFERROR(_xlfn.XLOOKUP(A18,INDIRECT($A18&\"!m5\"),INDIRECT($A18&\"!o11\")),\"\")","v":0},{"$f":"IFERROR(_xlfn.XLOOKUP(A18,INDIRECT($A18&\"!m5\"),INDIRECT($A18&\"!o12\")),\"\")","v":0},{"$f":"'1'!O$13","v":0},null,{"$f":"IFERROR(_xlfn.XLOOKUP(A18,INDIRECT($A18&\"!m5\"),INDIRECT($A18&\"!d17\")),\"\")","v":0},{"$f":"IFERROR(_xlfn.XLOOKUP(A18,INDIRECT($A18&\"!m5\"),INDIRECT($A18&\"!e17\")),\"\")","v":0},{"$f":"IFERROR(_xlfn.XLOOKUP(A18,INDIRECT($A18&\"!m5\"),INDIRECT($A18&\"!f17\")),\"\")","v":0},{"$f":"IFERROR(_xlfn.XLOOKUP(A18,INDIRECT($A18&\"!m5\"),INDIRECT($A18&\"!g17\")),\"\")","v":0},{"$f":"IFERROR(_xlfn.XLOOKUP(A18,INDIRECT($A18&\"!m5\"),INDIRECT($A18&\"!h17\")),\"\")","v":0},{"$f":"IFERROR(_xlfn.XLOOKUP(A18,INDIRECT($A18&\"!m5\"),INDIRECT($A18&\"!i17\")),\"\")","v":0},{"$f":"IFERROR(_xlfn.XLOOKUP(A18,INDIRECT($A18&\"!m5\"),INDIRECT($A18&\"!j17\")),\"\")","v":0},{"$f":"IFERROR(_xlfn.XLOOKUP(A18,INDIRECT($A18&\"!m5\"),INDIRECT($A18&\"!k17\")),\"\")","v":0},{"$f":"IFERROR(_xlfn.XLOOKUP(A18,INDIRECT($A18&\"!m5\"),INDIRECT($A18&\"!l17\")),\"\")","v":0},{"$f":"IFERROR(_xlfn.XLOOKUP(A18,INDIRECT($A18&\"!m5\"),INDIRECT($A18&\"!m17\")),\"\")","v":0},null,{"$f":"IFERROR(_xlfn.XLOOKUP(A18,INDIRECT($A18&\"!m5\"),INDIRECT($A18&\"!b10\")),\"\")","v":0},{"$f":"IFERROR(_xlfn.XLOOKUP(A18,INDIRECT($A18&\"!m5\"),INDIRECT($A18&\"!c10\")),\"\")","v":0},{"$f":"IFERROR(_xlfn.XLOOKUP(A18,INDIRECT($A18&\"!m5\"),INDIRECT($A18&\"!b11\")),\"\")","v":0},{"$f":"IFERROR(_xlfn.XLOOKUP(A18,INDIRECT($A18&\"!m5\"),INDIRECT($A18&\"!c11\")),\"\")","v":0},{"$f":"IFERROR(_xlfn.XLOOKUP(A18,INDIRECT($A18&\"!m5\"),INDIRECT($A18&\"!b12\")),\"\")","v":0},{"$f":"IFERROR(_xlfn.XLOOKUP(A18,INDIRECT($A18&\"!m5\"),INDIRECT($A18&\"!c12\")),\"\")","v":0}]
[{"$f":"'14'!M$5","v":14},{"$f":"IFERROR(_xlfn.XLOOKUP(A19,INDIRECT($A19&\"!m5\"),INDIRECT($A19&\"!o5\")),\"\")","v":0},{"$f":"IFERROR(_xlfn.XLOOKUP(A19,INDIRECT($A19&\"!m5\"),INDIRECT($A19&\"!c4\")),\"\")","v":""},{"$f":"IFERROR(_xlfn.XLOOKUP(A19,INDIRECT($A19&\"!m5\"),INDIRECT($A19&\"!f4\")),\"\")","v":""},{"$f":"IFERROR(_xlfn.XLOOKUP(A19,INDIRECT($A19&\"!m5\"),INDIRECT($A19&\"!c5\")),\"\")","v":""},{"$f":"IFERROR(_xlfn.XLOOKUP(A19,INDIRECT($A19&\"!m5\"),INDIRECT($A19&\"!f5\")),\"\")","v":""},{"$f":"IFERROR(_xlfn.XLOOKUP(A19,INDIRECT($A19&\"!m5\"),INDIRECT($A19&\"!k4\")),\"\")","v":""},{"$f":"IFERROR(_xlfn.XLOOKUP(A19,INDIRECT($A19&\"!m5\"),INDIRECT($A19&\"!k5\")),\"\")","v":""},{"$f":"IFERROR(_xlfn.XLOOKUP(A19,INDIRECT($A19&\"!m5\"),INDIRECT($A19&\"!o14\")),\"\")","v":0},null,{"$f":"IFERROR(_xlfn.XLOOKUP(A19,INDIRECT($A19&\"!m5\"),INDIRECT($A19&\"!o10\")),\"\")","v":0},{"$f":"IFERROR(_xlfn.XLOOKUP(A19,INDIRECT($A19&\"!m5\"),INDIRECT($A19&\"!o11\")),\"\")","v":0},{"$f":"IFERROR(_xlfn.XLOOKUP(A19,INDIRECT($A19&\"!m5\"),INDIRECT($A19&\"!o12\")),\"\")","v":0},{"$f":"'1'!O$13","v":0},null,{"$f":"IFERROR(_xlfn.XLOOKUP(A19,INDIRECT($A19&\"!m5\"),INDIRECT($A19&\"!d17\")),\"\")","v":0},{"$f":"IFERROR(_xlfn.XLOOKUP(A19,INDIRECT($A19&\"!m5\"),INDIRECT($A19&\"!e17\")),\"\")","v":0},{"$f":"IFERROR(_xlfn.XLOOKUP(A19,INDIRECT($A19&\"!m5\"),INDIRECT($A19&\"!f17\")),\"\")","v":0},{"$f":"IFERROR(_xlfn.XLOOKUP(A19,INDIRECT($A19&\"!m5\"),INDIRECT($A19&\"!g17\")),\"\")","v":0},{"$f":"IFERROR(_xlfn.XLOOKUP(A19,INDIRECT($A19&\"!m5\"),INDIRECT($A19&\"!h17\")),\"\")","v":0},{"$f":"IFERROR(_xlfn.XLOOKUP(A19,INDIRECT($A19&\"!m5\"),INDIRECT($A19&\"!i17\")),\"\")","v":0},{"$f":"IFERROR(_xlfn.XLOOKUP(A19,INDIRECT($A19&\"!m5\"),INDIRECT($A19&\"!j17\")),\"\")","v":0},{"$f":"IFERROR(_xlfn.XLOOKUP(A19,INDIRECT($A19&\"!m5\"),INDIRECT($A19&\"!k17\")),\"\")","v":0},{"$f":"IFERROR(_xlfn.XLOOKUP(A19,INDIRECT($A19&\"!m5\"),INDIRECT($A19&\"!l17\")),\"\")","v":0},{"$f":"IFERROR(_xlfn.XLOOKUP(A19,INDIRECT($A19&\"!m5\"),INDIRECT($A19&\"!m17\")),\"\")","v":0},null,{"$f":"IFERROR(_xlfn.XLOOKUP(A19,INDIRECT($A19&\"!m5\"),INDIRECT($A19&\"!b10\")),\"\")","v":0},{"$f":"IFERROR(_xlfn.XLOOKUP(A19,INDIRECT($A19&\"!m5\"),INDIRECT($A19&\"!c10\")),\"\")","v":0},{"$f":"IFERROR(_xlfn.XLOOKUP(A19,INDIRECT($A19&\"!m5\"),INDIRECT($A19&\"!b11\")),\"\")","v":0},{"$f":"IFERROR(_xlfn.XLOOKUP(A19,INDIRECT($A19&\"!m5\"),INDIRECT($A19&\"!c11\")),\"\")","v":0},{"$f":"IFERROR(_xlfn.XLOOKUP(A19,INDIRECT($A19&\"!m5\"),INDIRECT($A19&\"!b12\")),\"\")","v":0},{"$f":"IFERROR(_xlfn.XLOOKUP(A19,INDIRECT($A19&\"!m5\"),INDIRECT($A19&\"!c12\")),\"\")","v":0}]
[{"$f":"'15'!M$5","v":15},{"$f":"IFERROR(_xlfn.XLOOKUP(A20,INDIRECT($A20&\"!m5\"),INDIRECT($A20&\"!o5\")),\"\")","v":0},{"$f":"IFERROR(_xlfn.XLOOKUP(A20,INDIRECT($A20&\"!m5\"),INDIRECT($A20&\"!c4\")),\"\")","v":""},{"$f":"IFERROR(_xlfn.XLOOKUP(A20,INDIRECT($A20&\"!m5\"),INDIRECT($A20&\"!f4\")),\"\")","v":""},{"$f":"IFERROR(_xlfn.XLOOKUP(A20,INDIRECT($A20&\"!m5\"),INDIRECT($A20&\"!c5\")),\"\")","v":""},{"$f":"IFERROR(_xlfn.XLOOKUP(A20,INDIRECT($A20&\"!m5\"),INDIRECT($A20&\"!f5\")),\"\")","v":""},{"$f":"IFERROR(_xlfn.XLOOKUP(A20,INDIRECT($A20&\"!m5\"),INDIRECT($A20&\"!k4\")),\"\")","v":""},{"$f":"IFERROR(_xlfn.XLOOKUP(A20,INDIRECT($A20&\"!m5\"),INDIRECT($A20&\"!k5\")),\"\")","v":""},{"$f":"IFERROR(_xlfn.XLOOKUP(A20,INDIRECT($A20&\"!m5\"),INDIRECT($A20&\"!o14\")),\"\")","v":0},null,{"$f":"IFERROR(_xlfn.XLOOKUP(A20,INDIRECT($A20&\"!m5\"),INDIRECT($A20&\"!o10\")),\"\")","v":0},{"$f":"IFERROR(_xlfn.XLOOKUP(A20,INDIRECT($A20&\"!m5\"),INDIRECT($A20&\"!o11\")),\"\")","v":0},{"$f":"IFERROR(_xlfn.XLOOKUP(A20,INDIRECT($A20&\"!m5\"),INDIRECT($A20&\"!o12\")),\"\")","v":0},{"$f":"'1'!O$13","v":0},null,{"$f":"IFERROR(_xlfn.XLOOKUP(A20,INDIRECT($A20&\"!m5\"),INDIRECT($A20&\"!d17\")),\"\")","v":0},{"$f":"IFERROR(_xlfn.XLOOKUP(A20,INDIRECT($A20&\"!m5\"),INDIRECT($A20&\"!e17\")),\"\")","v":0},{"$f":"IFERROR(_xlfn.XLOOKUP(A20,INDIRECT($A20&\"!m5\"),INDIRECT($A20&\"!f17\")),\"\")","v":0},{"$f":"IFERROR(_xlfn.XLOOKUP(A20,INDIRECT($A20&\"!m5\"),INDIRECT($A20&\"!g17\")),\"\")","v":0},{"$f":"IFERROR(_xlfn.XLOOKUP(A20,INDIRECT($A20&\"!m5\"),INDIRECT($A20&\"!h17\")),\"\")","v":0},{"$f":"IFERROR(_xlfn.XLOOKUP(A20,INDIRECT($A20&\"!m5\"),INDIRECT($A20&\"!i17\")),\"\")","v":0},{"$f":"IFERROR(_xlfn.XLOOKUP(A20,INDIRECT($A20&\"!m5\"),INDIRECT($A20&\"!j17\")),\"\")","v":0},{"$f":"IFERROR(_xlfn.XLOOKUP(A20,INDIRECT($A20&\"!m5\"),INDIRECT($A20&\"!k17\")),\"\")","v":0},{"$f":"IFERROR(_xlfn.XLOOKUP(A20,INDIRECT($A20&\"!m5\"),INDIRECT($A20&\"!l17\")),\"\")","v":0},{"$f":"IFERROR(_xlfn.XLOOKUP(A20,INDIRECT($A20&\"!m5\"),INDIRECT($A20&\"!m17\")),\"\")","v":0},null,{"$f":"IFERROR(_xlfn.XLOOKUP(A20,INDIRECT($A20&\"!m5\"),INDIRECT($A20&\"!b10\")),\"\")","v":0},{"$f":"IFERROR(_xlfn.XLOOKUP(A20,INDIRECT($A20&\"!m5\"),INDIRECT($A20&\"!c10\")),\"\")","v":0},{"$f":"IFERROR(_xlfn.XLOOKUP(A20,INDIRECT($A20&\"!m5\"),INDIRECT($A20&\"!b11\")),\"\")","v":0},{"$f":"IFERROR(_xlfn.XLOOKUP(A20,INDIRECT($A20&\"!m5\"),INDIRECT($A20&\"!c11\")),\"\")","v":0},{"$f":"IFERROR(_xlfn.XLOOKUP(A20,INDIRECT($A20&\"!m5\"),INDIRECT($A20&\"!b12\")),\"\")","v":0},{"$f":"IFERROR(_xlfn.XLOOKUP(A20,INDIRECT($A20&\"!m5\"),INDIRECT($A20&\"!c12\")),\"\")","v":0}]
[{"$f":"'16'!M$5","v":16},{"$f":"IFERROR(_xlfn.XLOOKUP(A21,INDIRECT($A21&\"!m5\"),INDIRECT($A21&\"!o5\")),\"\")","v":0},{"$f":"IFERROR(_xlfn.XLOOKUP(A21,INDIRECT($A21&\"!m5\"),INDIRECT($A21&\"!c4\")),\"\")","v":""},{"$f":"IFERROR(_xlfn.XLOOKUP(A21,INDIRECT($A21&\"!m5\"),INDIRECT($A21&\"!f4\")),\"\")","v":""},{"$f":"IFERROR(_xlfn.XLOOKUP(A21,INDIRECT($A21&\"!m5\"),INDIRECT($A21&\"!c5\")),\"\")","v":""},{"$f":"IFERROR(_xlfn.XLOOKUP(A21,INDIRECT($A21&\"!m5\"),INDIRECT($A21&\"!f5\")),\"\")","v":""},{"$f":"IFERROR(_xlfn.XLOOKUP(A21,INDIRECT($A21&\"!m5\"),INDIRECT($A21&\"!k4\")),\"\")","v":""},{"$f":"IFERROR(_xlfn.XLOOKUP(A21,INDIRECT($A21&\"!m5\"),INDIRECT($A21&\"!k5\")),\"\")","v":""},{"$f":"IFERROR(_xlfn.XLOOKUP(A21,INDIRECT($A21&\"!m5\"),INDIRECT($A21&\"!o14\")),\"\")","v":0},null,{"$f":"IFERROR(_xlfn.XLOOKUP(A21,INDIRECT($A21&\"!m5\"),INDIRECT($A21&\"!o10\")),\"\")","v":0},{"$f":"IFERROR(_xlfn.XLOOKUP(A21,INDIRECT($A21&\"!m5\"),INDIRECT($A21&\"!o11\")),\"\")","v":0},{"$f":"IFERROR(_xlfn.XLOOKUP(A21,INDIRECT($A21&\"!m5\"),INDIRECT($A21&\"!o12\")),\"\")","v":0},{"$f":"'1'!O$13","v":0},null,{"$f":"IFERROR(_xlfn.XLOOKUP(A21,INDIRECT($A21&\"!m5\"),INDIRECT($A21&\"!d17\")),\"\")","v":0},{"$f":"IFERROR(_xlfn.XLOOKUP(A21,INDIRECT($A21&\"!m5\"),INDIRECT($A21&\"!e17\")),\"\")","v":0},{"$f":"IFERROR(_xlfn.XLOOKUP(A21,INDIRECT($A21&\"!m5\"),INDIRECT($A21&\"!f17\")),\"\")","v":0},{"$f":"IFERROR(_xlfn.XLOOKUP(A21,INDIRECT($A21&\"!m5\"),INDIRECT($A21&\"!g17\")),\"\")","v":0},{"$f":"IFERROR(_xlfn.XLOOKUP(A21,INDIRECT($A21&\"!m5\"),INDIRECT($A21&\"!h17\")),\"\")","v":0},{"$f":"IFERROR(_xlfn.XLOOKUP(A21,INDIRECT($A21&\"!m5\"),INDIRECT($A21&\"!i17\")),\"\")","v":0},{"$f":"IFERROR(_xlfn.XLOOKUP(A21,INDIRECT($A21&\"!m5\"),INDIRECT($A21&\"!j17\")),\"\")","v":0},{"$f":"IFERROR(_xlfn.XLOOKUP(A21,INDIRECT($A21&\"!m5\"),INDIRECT($A21&\"!k17\")),\"\")","v":0},{"$f":"IFERROR(_xlfn.XLOOKUP(A21,INDIRECT($A21&\"!m5\"),INDIRECT($A21&\"!l17\")),\"\")","v":0},{"$f":"IFERROR(_xlfn.XLOOKUP(A21,INDIRECT($A21&\"!m5\"),INDIRECT($A21&\"!m17\")),\"\")","v":0},null,{"$f":"IFERROR(_xlfn.XLOOKUP(A21,INDIRECT($A21&\"!m5\"),INDIRECT($A21&\"!b10\")),\"\")","v":0},{"$f":"IFERROR(_xlfn.XLOOKUP(A21,INDIRECT($A21&\"!m5\"),INDIRECT($A21&\"!c10\")),\"\")","v":0},{"$f":"IFERROR(_xlfn.XLOOKUP(A21,INDIRECT($A21&\"!m5\"),INDIRECT($A21&\"!b11\")),\"\")","v":0},{"$f":"IFERROR(_xlfn.XLOOKUP(A21,INDIRECT($A21&\"!m5\"),INDIRECT($A21&\"!c11\")),\"\")","v":0},{"$f":"IFERROR(_xlfn.XLOOKUP(A21,INDIRECT($A21&\"!m5\"),INDIRECT($A21&\"!b12\")),\"\")","v":0},{"$f":"IFERROR(_xlfn.XLOOKUP(A21,INDIRECT($A21&\"!m5\"),INDIRECT($A21&\"!c12\")),\"\")","v":0}]
[{"$f":"'17'!M$5","v":17},{"$f":"IFERROR(_xlfn.XLOOKUP(A22,INDIRECT($A22&\"!m5\"),INDIRECT($A22&\"!o5\")),\"\")","v":0},{"$f":"IFERROR(_xlfn.XLOOKUP(A22,INDIRECT($A22&\"!m5\"),INDIRECT($A22&\"!c4\")),\"\")","v":""},{"$f":"IFERROR(_xlfn.XLOOKUP(A22,INDIRECT($A22&\"!m5\"),INDIRECT($A22&\"!f4\")),\"\")","v":""},{"$f":"IFERROR(_xlfn.XLOOKUP(A22,INDIRECT($A22&\"!m5\"),INDIRECT($A22&\"!c5\")),\"\")","v":""},{"$f":"IFERROR(_xlfn.XLOOKUP(A22,INDIRECT($A22&\"!m5\"),INDIRECT($A22&\"!f5\")),\"\")","v":""},{"$f":"IFERROR(_xlfn.XLOOKUP(A22,INDIRECT($A22&\"!m5\"),INDIRECT($A22&\"!k4\")),\"\")","v":""},{"$f":"IFERROR(_xlfn.XLOOKUP(A22,INDIRECT($A22&\"!m5\"),INDIRECT($A22&\"!k5\")),\"\")","v":""},{"$f":"IFERROR(_xlfn.XLOOKUP(A22,INDIRECT($A22&\"!m5\"),INDIRECT($A22&\"!o14\")),\"\")","v":0},null,{"$f":"IFERROR(_xlfn.XLOOKUP(A22,INDIRECT($A22&\"!m5\"),INDIRECT($A22&\"!o10\")),\"\")","v":0},{"$f":"IFERROR(_xlfn.XLOOKUP(A22,INDIRECT($A22&\"!m5\"),INDIRECT($A22&\"!o11\")),\"\")","v":0},{"$f":"IFERROR(_xlfn.XLOOKUP(A22,INDIRECT($A22&\"!m5\"),INDIRECT($A22&\"!o12\")),\"\")","v":0},{"$f":"'1'!O$13","v":0},null,{"$f":"IFERROR(_xlfn.XLOOKUP(A22,INDIRECT($A22&\"!m5\"),INDIRECT($A22&\"!d17\")),\"\")","v":0},{"$f":"IFERROR(_xlfn.XLOOKUP(A22,INDIRECT($A22&\"!m5\"),INDIRECT($A22&\"!e17\")),\"\")","v":0},{"$f":"IFERROR(_xlfn.XLOOKUP(A22,INDIRECT($A22&\"!m5\"),INDIRECT($A22&\"!f17\")),\"\")","v":0},{"$f":"IFERROR(_xlfn.XLOOKUP(A22,INDIRECT($A22&\"!m5\"),INDIRECT($A22&\"!g17\")),\"\")","v":0},{"$f":"IFERROR(_xlfn.XLOOKUP(A22,INDIRECT($A22&\"!m5\"),INDIRECT($A22&\"!h17\")),\"\")","v":0},{"$f":"IFERROR(_xlfn.XLOOKUP(A22,INDIRECT($A22&\"!m5\"),INDIRECT($A22&\"!i17\")),\"\")","v":0},{"$f":"IFERROR(_xlfn.XLOOKUP(A22,INDIRECT($A22&\"!m5\"),INDIRECT($A22&\"!j17\")),\"\")","v":0},{"$f":"IFERROR(_xlfn.XLOOKUP(A22,INDIRECT($A22&\"!m5\"),INDIRECT($A22&\"!k17\")),\"\")","v":0},{"$f":"IFERROR(_xlfn.XLOOKUP(A22,INDIRECT($A22&\"!m5\"),INDIRECT($A22&\"!l17\")),\"\")","v":0},{"$f":"IFERROR(_xlfn.XLOOKUP(A22,INDIRECT($A22&\"!m5\"),INDIRECT($A22&\"!m17\")),\"\")","v":0},null,{"$f":"IFERROR(_xlfn.XLOOKUP(A22,INDIRECT($A22&\"!m5\"),INDIRECT($A22&\"!b10\")),\"\")","v":0},{"$f":"IFERROR(_xlfn.XLOOKUP(A22,INDIRECT($A22&\"!m5\"),INDIRECT($A22&\"!c10\")),\"\")","v":0},{"$f":"IFERROR(_xlfn.XLOOKUP(A22,INDIRECT($A22&\"!m5\"),INDIRECT($A22&\"!b11\")),\"\")","v":0},{"$f":"IFERROR(_xlfn.XLOOKUP(A22,INDIRECT($A22&\"!m5\"),INDIRECT($A22&\"!c11\")),\"\")","v":0},{"$f":"IFERROR(_xlfn.XLOOKUP(A22,INDIRECT($A22&\"!m5\"),INDIRECT($A22&\"!b12\")),\"\")","v":0},{"$f":"IFERROR(_xlfn.XLOOKUP(A22,INDIRECT($A22&\"!m5\"),INDIRECT($A22&\"!c12\")),\"\")","v":0}]
[{"$f":"'18'!M$5","v":18},{"$f":"IFERROR(_xlfn.XLOOKUP(A23,INDIRECT($A23&\"!m5\"),INDIRECT($A23&\"!o5\")),\"\")","v":0},{"$f":"IFERROR(_xlfn.XLOOKUP(A23,INDIRECT($A23&\"!m5\"),INDIRECT($A23&\"!c4\")),\"\")","v":""},{"$f":"IFERROR(_xlfn.XLOOKUP(A23,INDIRECT($A23&\"!m5\"),INDIRECT($A23&\"!f4\")),\"\")","v":""},{"$f":"IFERROR(_xlfn.XLOOKUP(A23,INDIRECT($A23&\"!m5\"),INDIRECT($A23&\"!c5\")),\"\")","v":""},{"$f":"IFERROR(_xlfn.XLOOKUP(A23,INDIRECT($A23&\"!m5\"),INDIRECT($A23&\"!f5\")),\"\")","v":""},{"$f":"IFERROR(_xlfn.XLOOKUP(A23,INDIRECT($A23&\"!m5\"),INDIRECT($A23&\"!k4\")),\"\")","v":""},{"$f":"IFERROR(_xlfn.XLOOKUP(A23,INDIRECT($A23&\"!m5\"),INDIRECT($A23&\"!k5\")),\"\")","v":""},{"$f":"IFERROR(_xlfn.XLOOKUP(A23,INDIRECT($A23&\"!m5\"),INDIRECT($A23&\"!o14\")),\"\")","v":0},null,{"$f":"IFERROR(_xlfn.XLOOKUP(A23,INDIRECT($A23&\"!m5\"),INDIRECT($A23&\"!o10\")),\"\")","v":0},{"$f":"IFERROR(_xlfn.XLOOKUP(A23,INDIRECT($A23&\"!m5\"),INDIRECT($A23&\"!o11\")),\"\")","v":0},{"$f":"IFERROR(_xlfn.XLOOKUP(A23,INDIRECT($A23&\"!m5\"),INDIRECT($A23&\"!o12\")),\"\")","v":0},{"$f":"'1'!O$13","v":0},null,{"$f":"IFERROR(_xlfn.XLOOKUP(A23,INDIRECT($A23&\"!m5\"),INDIRECT($A23&\"!d17\")),\"\")","v":0},{"$f":"IFERROR(_xlfn.XLOOKUP(A23,INDIRECT($A23&\"!m5\"),INDIRECT($A23&\"!e17\")),\"\")","v":0},{"$f":"IFERROR(_xlfn.XLOOKUP(A23,INDIRECT($A23&\"!m5\"),INDIRECT($A23&\"!f17\")),\"\")","v":0},{"$f":"IFERROR(_xlfn.XLOOKUP(A23,INDIRECT($A23&\"!m5\"),INDIRECT($A23&\"!g17\")),\"\")","v":0},{"$f":"IFERROR(_xlfn.XLOOKUP(A23,INDIRECT($A23&\"!m5\"),INDIRECT($A23&\"!h17\")),\"\")","v":0},{"$f":"IFERROR(_xlfn.XLOOKUP(A23,INDIRECT($A23&\"!m5\"),INDIRECT($A23&\"!i17\")),\"\")","v":0},{"$f":"IFERROR(_xlfn.XLOOKUP(A23,INDIRECT($A23&\"!m5\"),INDIRECT($A23&\"!j17\")),\"\")","v":0},{"$f":"IFERROR(_xlfn.XLOOKUP(A23,INDIRECT($A23&\"!m5\"),INDIRECT($A23&\"!k17\")),\"\")","v":0},{"$f":"IFERROR(_xlfn.XLOOKUP(A23,INDIRECT($A23&\"!m5\"),INDIRECT($A23&\"!l17\")),\"\")","v":0},{"$f":"IFERROR(_xlfn.XLOOKUP(A23,INDIRECT($A23&\"!m5\"),INDIRECT($A23&\"!m17\")),\"\")","v":0},null,{"$f":"IFERROR(_xlfn.XLOOKUP(A23,INDIRECT($A23&\"!m5\"),INDIRECT($A23&\"!b10\")),\"\")","v":0},{"$f":"IFERROR(_xlfn.XLOOKUP(A23,INDIRECT($A23&\"!m5\"),INDIRECT($A23&\"!c10\")),\"\")","v":0},{"$f":"IFERROR(_xlfn.XLOOKUP(A23,INDIRECT($A23&\"!m5\"),INDIRECT($A23&\"!b11\")),\"\")","v":0},{"$f":"IFERROR(_xlfn.XLOOKUP(A23,INDIRECT($A23&\"!m5\"),INDIRECT($A23&\"!c11\")),\"\")","v":0},{"$f":"IFERROR(_xlfn.XLOOKUP(A23,INDIRECT($A23&\"!m5\"),INDIRECT($A23&\"!b12\")),\"\")","v":0},{"$f":"IFERROR(_xlfn.XLOOKUP(A23,INDIRECT($A23&\"!m5\"),INDIRECT($A23&\"!c12\")),\"\")","v":0}]
[{"$f":"'19'!M$5","v":19},{"$f":"IFERROR(_xlfn.XLOOKUP(A24,INDIRECT($A24&\"!m5\"),INDIRECT($A24&\"!o5\")),\"\")","v":0},{"$f":"IFERROR(_xlfn.XLOOKUP(A24,INDIRECT($A24&\"!m5\"),INDIRECT($A24&\"!c4\")),\"\")","v":""},{"$f":"IFERROR(_xlfn.XLOOKUP(A24,INDIRECT($A24&\"!m5\"),INDIRECT($A24&\"!f4\")),\"\")","v":""},{"$f":"IFERROR(_xlfn.XLOOKUP(A24,INDIRECT($A24&\"!m5\"),INDIRECT($A24&\"!c5\")),\"\")","v":""},{"$f":"IFERROR(_xlfn.XLOOKUP(A24,INDIRECT($A24&\"!m5\"),INDIRECT($A24&\"!f5\")),\"\")","v":""},{"$f":"IFERROR(_xlfn.XLOOKUP(A24,INDIRECT($A24&\"!m5\"),INDIRECT($A24&\"!k4\")),\"\")","v":""},{"$f":"IFERROR(_xlfn.XLOOKUP(A24,INDIRECT($A24&\"!m5\"),INDIRECT($A24&\"!k5\")),\"\")","v":""},{"$f":"IFERROR(_xlfn.XLOOKUP(A24,INDIRECT($A24&\"!m5\"),INDIRECT($A24&\"!o14\")),\"\")","v":0},null,{"$f":"IFERROR(_xlfn.XLOOKUP(A24,INDIRECT($A24&\"!m5\"),INDIRECT($A24&\"!o10\")),\"\")","v":0},{"$f":"IFERROR(_xlfn.XLOOKUP(A24,INDIRECT($A24&\"!m5\"),INDIRECT($A24&\"!o11\")),\"\")","v":0},{"$f":"IFERROR(_xlfn.XLOOKUP(A24,INDIRECT($A24&\"!m5\"),INDIRECT($A24&\"!o12\")),\"\")","v":0},{"$f":"'1'!O$13","v":0},null,{"$f":"IFERROR(_xlfn.XLOOKUP(A24,INDIRECT($A24&\"!m5\"),INDIRECT($A24&\"!d17\")),\"\")","v":0},{"$f":"IFERROR(_xlfn.XLOOKUP(A24,INDIRECT($A24&\"!m5\"),INDIRECT($A24&\"!e17\")),\"\")","v":0},{"$f":"IFERROR(_xlfn.XLOOKUP(A24,INDIRECT($A24&\"!m5\"),INDIRECT($A24&\"!f17\")),\"\")","v":0},{"$f":"IFERROR(_xlfn.XLOOKUP(A24,INDIRECT($A24&\"!m5\"),INDIRECT($A24&\"!g17\")),\"\")","v":0},{"$f":"IFERROR(_xlfn.XLOOKUP(A24,INDIRECT($A24&\"!m5\"),INDIRECT($A24&\"!h17\")),\"\")","v":0},{"$f":"IFERROR(_xlfn.XLOOKUP(A24,INDIRECT($A24&\"!m5\"),INDIRECT($A24&\"!i17\")),\"\")","v":0},{"$f":"IFERROR(_xlfn.XLOOKUP(A24,INDIRECT($A24&\"!m5\"),INDIRECT($A24&\"!j17\")),\"\")","v":0},{"$f":"IFERROR(_xlfn.XLOOKUP(A24,INDIRECT($A24&\"!m5\"),INDIRECT($A24&\"!k17\")),\"\")","v":0},{"$f":"IFERROR(_xlfn.XLOOKUP(A24,INDIRECT($A24&\"!m5\"),INDIRECT($A24&\"!l17\")),\"\")","v":0},{"$f":"IFERROR(_xlfn.XLOOKUP(A24,INDIRECT($A24&\"!m5\"),INDIRECT($A24&\"!m17\")),\"\")","v":0},null,{"$f":"IFERROR(_xlfn.XLOOKUP(A24,INDIRECT($A24&\"!m5\"),INDIRECT($A24&\"!b10\")),\"\")","v":0},{"$f":"IFERROR(_xlfn.XLOOKUP(A24,INDIRECT($A24&\"!m5\"),INDIRECT($A24&\"!c10\")),\"\")","v":0},{"$f":"IFERROR(_xlfn.XLOOKUP(A24,INDIRECT($A24&\"!m5\"),INDIRECT($A24&\"!b11\")),\"\")","v":0},{"$f":"IFERROR(_xlfn.XLOOKUP(A24,INDIRECT($A24&\"!m5\"),INDIRECT($A24&\"!c11\")),\"\")","v":0},{"$f":"IFERROR(_xlfn.XLOOKUP(A24,INDIRECT($A24&\"!m5\"),INDIRECT($A24&\"!b12\")),\"\")","v":0},{"$f":"IFERROR(_xlfn.XLOOKUP(A24,INDIRECT($A24&\"!m5\"),INDIRECT($A24&\"!c12\")),\"\")","v":0}]
[{"$f":"'20'!M$5","v":20},{"$f":"IFERROR(_xlfn.XLOOKUP(A25,INDIRECT($A25&\"!m5\"),INDIRECT($A25&\"!o5\")),\"\")","v":0},{"$f":"IFERROR(_xlfn.XLOOKUP(A25,INDIRECT($A25&\"!m5\"),INDIRECT($A25&\"!c4\")),\"\")","v":""},{"$f":"IFERROR(_xlfn.XLOOKUP(A25,INDIRECT($A25&\"!m5\"),INDIRECT($A25&\"!f4\")),\"\")","v":""},{"$f":"IFERROR(_xlfn.XLOOKUP(A25,INDIRECT($A25&\"!m5\"),INDIRECT($A25&\"!c5\")),\"\")","v":""},{"$f":"IFERROR(_xlfn.XLOOKUP(A25,INDIRECT($A25&\"!m5\"),INDIRECT($A25&\"!f5\")),\"\")","v":""},{"$f":"IFERROR(_xlfn.XLOOKUP(A25,INDIRECT($A25&\"!m5\"),INDIRECT($A25&\"!k4\")),\"\")","v":""},{"$f":"IFERROR(_xlfn.XLOOKUP(A25,INDIRECT($A25&\"!m5\"),INDIRECT($A25&\"!k5\")),\"\")","v":""},{"$f":"IFERROR(_xlfn.XLOOKUP(A25,INDIRECT($A25&\"!m5\"),INDIRECT($A25&\"!o14\")),\"\")","v":0},null,{"$f":"IFERROR(_xlfn.XLOOKUP(A25,INDIRECT($A25&\"!m5\"),INDIRECT($A25&\"!o10\")),\"\")","v":0},{"$f":"IFERROR(_xlfn.XLOOKUP(A25,INDIRECT($A25&\"!m5\"),INDIRECT($A25&\"!o11\")),\"\")","v":0},{"$f":"IFERROR(_xlfn.XLOOKUP(A25,INDIRECT($A25&\"!m5\"),INDIRECT($A25&\"!o12\")),\"\")","v":0},{"$f":"'1'!O$13","v":0},null,{"$f":"IFERROR(_xlfn.XLOOKUP(A25,INDIRECT($A25&\"!m5\"),INDIRECT($A25&\"!d17\")),\"\")","v":0},{"$f":"IFERROR(_xlfn.XLOOKUP(A25,INDIRECT($A25&\"!m5\"),INDIRECT($A25&\"!e17\")),\"\")","v":0},{"$f":"IFERROR(_xlfn.XLOOKUP(A25,INDIRECT($A25&\"!m5\"),INDIRECT($A25&\"!f17\")),\"\")","v":0},{"$f":"IFERROR(_xlfn.XLOOKUP(A25,INDIRECT($A25&\"!m5\"),INDIRECT($A25&\"!g17\")),\"\")","v":0},{"$f":"IFERROR(_xlfn.XLOOKUP(A25,INDIRECT($A25&\"!m5\"),INDIRECT($A25&\"!h17\")),\"\")","v":0},{"$f":"IFERROR(_xlfn.XLOOKUP(A25,INDIRECT($A25&\"!m5\"),INDIRECT($A25&\"!i17\")),\"\")","v":0},{"$f":"IFERROR(_xlfn.XLOOKUP(A25,INDIRECT($A25&\"!m5\"),INDIRECT($A25&\"!j17\")),\"\")","v":0},{"$f":"IFERROR(_xlfn.XLOOKUP(A25,INDIRECT($A25&\"!m5\"),INDIRECT($A25&\"!k17\")),\"\")","v":0},{"$f":"IFERROR(_xlfn.XLOOKUP(A25,INDIRECT($A25&\"!m5\"),INDIRECT($A25&\"!l17\")),\"\")","v":0},{"$f":"IFERROR(_xlfn.XLOOKUP(A25,INDIRECT($A25&\"!m5\"),INDIRECT($A25&\"!m17\")),\"\")","v":0},null,{"$f":"IFERROR(_xlfn.XLOOKUP(A25,INDIRECT($A25&\"!m5\"),INDIRECT($A25&\"!b10\")),\"\")","v":0},{"$f":"IFERROR(_xlfn.XLOOKUP(A25,INDIRECT($A25&\"!m5\"),INDIRECT($A25&\"!c10\")),\"\")","v":0},{"$f":"IFERROR(_xlfn.XLOOKUP(A25,INDIRECT($A25&\"!m5\"),INDIRECT($A25&\"!b11\")),\"\")","v":0},{"$f":"IFERROR(_xlfn.XLOOKUP(A25,INDIRECT($A25&\"!m5\"),INDIRECT($A25&\"!c11\")),\"\")","v":0},{"$f":"IFERROR(_xlfn.XLOOKUP(A25,INDIRECT($A25&\"!m5\"),INDIRECT($A25&\"!b12\")),\"\")","v":0},{"$f":"IFERROR(_xlfn.XLOOKUP(A25,INDIRECT($A25&\"!m5\"),INDIRECT($A25&\"!c12\")),\"\")","v":0}]
[{"$f":"'21'!M$5","v":21},{"$f":"IFERROR(_xlfn.XLOOKUP(A26,INDIRECT($A26&\"!m5\"),INDIRECT($A26&\"!o5\")),\"\")","v":0},{"$f":"IFERROR(_xlfn.XLOOKUP(A26,INDIRECT($A26&\"!m5\"),INDIRECT($A26&\"!c4\")),\"\")","v":""},{"$f":"IFERROR(_xlfn.XLOOKUP(A26,INDIRECT($A26&\"!m5\"),INDIRECT($A26&\"!f4\")),\"\")","v":""},{"$f":"IFERROR(_xlfn.XLOOKUP(A26,INDIRECT($A26&\"!m5\"),INDIRECT($A26&\"!c5\")),\"\")","v":""},{"$f":"IFERROR(_xlfn.XLOOKUP(A26,INDIRECT($A26&\"!m5\"),INDIRECT($A26&\"!f5\")),\"\")","v":""},{"$f":"IFERROR(_xlfn.XLOOKUP(A26,INDIRECT($A26&\"!m5\"),INDIRECT($A26&\"!k4\")),\"\")","v":""},{"$f":"IFERROR(_xlfn.XLOOKUP(A26,INDIRECT($A26&\"!m5\"),INDIRECT($A26&\"!k5\")),\"\")","v":""},{"$f":"IFERROR(_xlfn.XLOOKUP(A26,INDIRECT($A26&\"!m5\"),INDIRECT($A26&\"!o14\")),\"\")","v":0},null,{"$f":"IFERROR(_xlfn.XLOOKUP(A26,INDIRECT($A26&\"!m5\"),INDIRECT($A26&\"!o10\")),\"\")","v":0},{"$f":"IFERROR(_xlfn.XLOOKUP(A26,INDIRECT($A26&\"!m5\"),INDIRECT($A26&\"!o11\")),\"\")","v":0},{"$f":"IFERROR(_xlfn.XLOOKUP(A26,INDIRECT($A26&\"!m5\"),INDIRECT($A26&\"!o12\")),\"\")","v":0},{"$f":"'1'!O$13","v":0},null,{"$f":"IFERROR(_xlfn.XLOOKUP(A26,INDIRECT($A26&\"!m5\"),INDIRECT($A26&\"!d17\")),\"\")","v":0},{"$f":"IFERROR(_xlfn.XLOOKUP(A26,INDIRECT($A26&\"!m5\"),INDIRECT($A26&\"!e17\")),\"\")","v":0},{"$f":"IFERROR(_xlfn.XLOOKUP(A26,INDIRECT($A26&\"!m5\"),INDIRECT($A26&\"!f17\")),\"\")","v":0},{"$f":"IFERROR(_xlfn.XLOOKUP(A26,INDIRECT($A26&\"!m5\"),INDIRECT($A26&\"!g17\")),\"\")","v":0},{"$f":"IFERROR(_xlfn.XLOOKUP(A26,INDIRECT($A26&\"!m5\"),INDIRECT($A26&\"!h17\")),\"\")","v":0},{"$f":"IFERROR(_xlfn.XLOOKUP(A26,INDIRECT($A26&\"!m5\"),INDIRECT($A26&\"!i17\")),\"\")","v":0},{"$f":"IFERROR(_xlfn.XLOOKUP(A26,INDIRECT($A26&\"!m5\"),INDIRECT($A26&\"!j17\")),\"\")","v":0},{"$f":"IFERROR(_xlfn.XLOOKUP(A26,INDIRECT($A26&\"!m5\"),INDIRECT($A26&\"!k17\")),\"\")","v":0},{"$f":"IFERROR(_xlfn.XLOOKUP(A26,INDIRECT($A26&\"!m5\"),INDIRECT($A26&\"!l17\")),\"\")","v":0},{"$f":"IFERROR(_xlfn.XLOOKUP(A26,INDIRECT($A26&\"!m5\"),INDIRECT($A26&\"!m17\")),\"\")","v":0},null,{"$f":"IFERROR(_xlfn.XLOOKUP(A26,INDIRECT($A26&\"!m5\"),INDIRECT($A26&\"!b10\")),\"\")","v":0},{"$f":"IFERROR(_xlfn.XLOOKUP(A26,INDIRECT($A26&\"!m5\"),INDIRECT($A26&\"!c10\")),\"\")","v":0},{"$f":"IFERROR(_xlfn.XLOOKUP(A26,INDIRECT($A26&\"!m5\"),INDIRECT($A26&\"!b11\")),\"\")","v":0},{"$f":"IFERROR(_xlfn.XLOOKUP(A26,INDIRECT($A26&\"!m5\"),INDIRECT($A26&\"!c11\")),\"\")","v":0},{"$f":"IFERROR(_xlfn.XLOOKUP(A26,INDIRECT($A26&\"!m5\"),INDIRECT($A26&\"!b12\")),\"\")","v":0},{"$f":"IFERROR(_xlfn.XLOOKUP(A26,INDIRECT($A26&\"!m5\"),INDIRECT($A26&\"!c12\")),\"\")","v":0}]
[{"$f":"'22'!M$5","v":22},{"$f":"IFERROR(_xlfn.XLOOKUP(A27,INDIRECT($A27&\"!m5\"),INDIRECT($A27&\"!o5\")),\"\")","v":0},{"$f":"IFERROR(_xlfn.XLOOKUP(A27,INDIRECT($A27&\"!m5\"),INDIRECT($A27&\"!c4\")),\"\")","v":""},{"$f":"IFERROR(_xlfn.XLOOKUP(A27,INDIRECT($A27&\"!m5\"),INDIRECT($A27&\"!f4\")),\"\")","v":""},{"$f":"IFERROR(_xlfn.XLOOKUP(A27,INDIRECT($A27&\"!m5\"),INDIRECT($A27&\"!c5\")),\"\")","v":""},{"$f":"IFERROR(_xlfn.XLOOKUP(A27,INDIRECT($A27&\"!m5\"),INDIRECT($A27&\"!f5\")),\"\")","v":""},{"$f":"IFERROR(_xlfn.XLOOKUP(A27,INDIRECT($A27&\"!m5\"),INDIRECT($A27&\"!k4\")),\"\")","v":""},{"$f":"IFERROR(_xlfn.XLOOKUP(A27,INDIRECT($A27&\"!m5\"),INDIRECT($A27&\"!k5\")),\"\")","v":""},{"$f":"IFERROR(_xlfn.XLOOKUP(A27,INDIRECT($A27&\"!m5\"),INDIRECT($A27&\"!o14\")),\"\")","v":0},null,{"$f":"IFERROR(_xlfn.XLOOKUP(A27,INDIRECT($A27&\"!m5\"),INDIRECT($A27&\"!o10\")),\"\")","v":0},{"$f":"IFERROR(_xlfn.XLOOKUP(A27,INDIRECT($A27&\"!m5\"),INDIRECT($A27&\"!o11\")),\"\")","v":0},{"$f":"IFERROR(_xlfn.XLOOKUP(A27,INDIRECT($A27&\"!m5\"),INDIRECT($A27&\"!o12\")),\"\")","v":0},{"$f":"'1'!O$13","v":0},null,{"$f":"IFERROR(_xlfn.XLOOKUP(A27,INDIRECT($A27&\"!m5\"),INDIRECT($A27&\"!d17\")),\"\")","v":0},{"$f":"IFERROR(_xlfn.XLOOKUP(A27,INDIRECT($A27&\"!m5\"),INDIRECT($A27&\"!e17\")),\"\")","v":0},{"$f":"IFERROR(_xlfn.XLOOKUP(A27,INDIRECT($A27&\"!m5\"),INDIRECT($A27&\"!f17\")),\"\")","v":0},{"$f":"IFERROR(_xlfn.XLOOKUP(A27,INDIRECT($A27&\"!m5\"),INDIRECT($A27&\"!g17\")),\"\")","v":0},{"$f":"IFERROR(_xlfn.XLOOKUP(A27,INDIRECT($A27&\"!m5\"),INDIRECT($A27&\"!h17\")),\"\")","v":0},{"$f":"IFERROR(_xlfn.XLOOKUP(A27,INDIRECT($A27&\"!m5\"),INDIRECT($A27&\"!i17\")),\"\")","v":0},{"$f":"IFERROR(_xlfn.XLOOKUP(A27,INDIRECT($A27&\"!m5\"),INDIRECT($A27&\"!j17\")),\"\")","v":0},{"$f":"IFERROR(_xlfn.XLOOKUP(A27,INDIRECT($A27&\"!m5\"),INDIRECT($A27&\"!k17\")),\"\")","v":0},{"$f":"IFERROR(_xlfn.XLOOKUP(A27,INDIRECT($A27&\"!m5\"),INDIRECT($A27&\"!l17\")),\"\")","v":0},{"$f":"IFERROR(_xlfn.XLOOKUP(A27,INDIRECT($A27&\"!m5\"),INDIRECT($A27&\"!m17\")),\"\")","v":0},null,{"$f":"IFERROR(_xlfn.XLOOKUP(A27,INDIRECT($A27&\"!m5\"),INDIRECT($A27&\"!b10\")),\"\")","v":0},{"$f":"IFERROR(_xlfn.XLOOKUP(A27,INDIRECT($A27&\"!m5\"),INDIRECT($A27&\"!c10\")),\"\")","v":0},{"$f":"IFERROR(_xlfn.XLOOKUP(A27,INDIRECT($A27&\"!m5\"),INDIRECT($A27&\"!b11\")),\"\")","v":0},{"$f":"IFERROR(_xlfn.XLOOKUP(A27,INDIRECT($A27&\"!m5\"),INDIRECT($A27&\"!c11\")),\"\")","v":0},{"$f":"IFERROR(_xlfn.XLOOKUP(A27,INDIRECT($A27&\"!m5\"),INDIRECT($A27&\"!b12\")),\"\")","v":0},{"$f":"IFERROR(_xlfn.XLOOKUP(A27,INDIRECT($A27&\"!m5\"),INDIRECT($A27&\"!c12\")),\"\")","v":0}]
[{"$f":"'23'!M$5","v":23},{"$f":"IFERROR(_xlfn.XLOOKUP(A28,INDIRECT($A28&\"!m5\"),INDIRECT($A28&\"!o5\")),\"\")","v":0},{"$f":"IFERROR(_xlfn.XLOOKUP(A28,INDIRECT($A28&\"!m5\"),INDIRECT($A28&\"!c4\")),\"\")","v":""},{"$f":"IFERROR(_xlfn.XLOOKUP(A28,INDIRECT($A28&\"!m5\"),INDIRECT($A28&\"!f4\")),\"\")","v":""},{"$f":"IFERROR(_xlfn.XLOOKUP(A28,INDIRECT($A28&\"!m5\"),INDIRECT($A28&\"!c5\")),\"\")","v":""},{"$f":"IFERROR(_xlfn.XLOOKUP(A28,INDIRECT($A28&\"!m5\"),INDIRECT($A28&\"!f5\")),\"\")","v":""},{"$f":"IFERROR(_xlfn.XLOOKUP(A28,INDIRECT($A28&\"!m5\"),INDIRECT($A28&\"!k4\")),\"\")","v":""},{"$f":"IFERROR(_xlfn.XLOOKUP(A28,INDIRECT($A28&\"!m5\"),INDIRECT($A28&\"!k5\")),\"\")","v":""},{"$f":"IFERROR(_xlfn.XLOOKUP(A28,INDIRECT($A28&\"!m5\"),INDIRECT($A28&\"!o14\")),\"\")","v":0},null,{"$f":"IFERROR(_xlfn.XLOOKUP(A28,INDIRECT($A28&\"!m5\"),INDIRECT($A28&\"!o10\")),\"\")","v":0},{"$f":"IFERROR(_xlfn.XLOOKUP(A28,INDIRECT($A28&\"!m5\"),INDIRECT($A28&\"!o11\")),\"\")","v":0},{"$f":"IFERROR(_xlfn.XLOOKUP(A28,INDIRECT($A28&\"!m5\"),INDIRECT($A28&\"!o12\")),\"\")","v":0},{"$f":"'1'!O$13","v":0},null,{"$f":"IFERROR(_xlfn.XLOOKUP(A28,INDIRECT($A28&\"!m5\"),INDIRECT($A28&\"!d17\")),\"\")","v":0},{"$f":"IFERROR(_xlfn.XLOOKUP(A28,INDIRECT($A28&\"!m5\"),INDIRECT($A28&\"!e17\")),\"\")","v":0},{"$f":"IFERROR(_xlfn.XLOOKUP(A28,INDIRECT($A28&\"!m5\"),INDIRECT($A28&\"!f17\")),\"\")","v":0},{"$f":"IFERROR(_xlfn.XLOOKUP(A28,INDIRECT($A28&\"!m5\"),INDIRECT($A28&\"!g17\")),\"\")","v":0},{"$f":"IFERROR(_xlfn.XLOOKUP(A28,INDIRECT($A28&\"!m5\"),INDIRECT($A28&\"!h17\")),\"\")","v":0},{"$f":"IFERROR(_xlfn.XLOOKUP(A28,INDIRECT($A28&\"!m5\"),INDIRECT($A28&\"!i17\")),\"\")","v":0},{"$f":"IFERROR(_xlfn.XLOOKUP(A28,INDIRECT($A28&\"!m5\"),INDIRECT($A28&\"!j17\")),\"\")","v":0},{"$f":"IFERROR(_xlfn.XLOOKUP(A28,INDIRECT($A28&\"!m5\"),INDIRECT($A28&\"!k17\")),\"\")","v":0},{"$f":"IFERROR(_xlfn.XLOOKUP(A28,INDIRECT($A28&\"!m5\"),INDIRECT($A28&\"!l17\")),\"\")","v":0},{"$f":"IFERROR(_xlfn.XLOOKUP(A28,INDIRECT($A28&\"!m5\"),INDIRECT($A28&\"!m17\")),\"\")","v":0},null,{"$f":"IFERROR(_xlfn.XLOOKUP(A28,INDIRECT($A28&\"!m5\"),INDIRECT($A28&\"!b10\")),\"\")","v":0},{"$f":"IFERROR(_xlfn.XLOOKUP(A28,INDIRECT($A28&\"!m5\"),INDIRECT($A28&\"!c10\")),\"\")","v":0},{"$f":"IFERROR(_xlfn.XLOOKUP(A28,INDIRECT($A28&\"!m5\"),INDIRECT($A28&\"!b11\")),\"\")","v":0},{"$f":"IFERROR(_xlfn.XLOOKUP(A28,INDIRECT($A28&\"!m5\"),INDIRECT($A28&\"!c11\")),\"\")","v":0},{"$f":"IFERROR(_xlfn.XLOOKUP(A28,INDIRECT($A28&\"!m5\"),INDIRECT($A28&\"!b12\")),\"\")","v":0},{"$f":"IFERROR(_xlfn.XLOOKUP(A28,INDIRECT($A28&\"!m5\"),INDIRECT($A28&\"!c12\")),\"\")","v":0}]
[{"$f":"'24'!M$5","v":24},{"$f":"IFERROR(_xlfn.XLOOKUP(A29,INDIRECT($A29&\"!m5\"),INDIRECT($A29&\"!o5\")),\"\")","v":0},{"$f":"IFERROR(_xlfn.XLOOKUP(A29,INDIRECT($A29&\"!m5\"),INDIRECT($A29&\"!c4\")),\"\")","v":""},{"$f":"IFERROR(_xlfn.XLOOKUP(A29,INDIRECT($A29&\"!m5\"),INDIRECT($A29&\"!f4\")),\"\")","v":""},{"$f":"IFERROR(_xlfn.XLOOKUP(A29,INDIRECT($A29&\"!m5\"),INDIRECT($A29&\"!c5\")),\"\")","v":""},{"$f":"IFERROR(_xlfn.XLOOKUP(A29,INDIRECT($A29&\"!m5\"),INDIRECT($A29&\"!f5\")),\"\")","v":""},{"$f":"IFERROR(_xlfn.XLOOKUP(A29,INDIRECT($A29&\"!m5\"),INDIRECT($A29&\"!k4\")),\"\")","v":""},{"$f":"IFERROR(_xlfn.XLOOKUP(A29,INDIRECT($A29&\"!m5\"),INDIRECT($A29&\"!k5\")),\"\")","v":""},{"$f":"IFERROR(_xlfn.XLOOKUP(A29,INDIRECT($A29&\"!m5\"),INDIRECT($A29&\"!o14\")),\"\")","v":0},null,{"$f":"IFERROR(_xlfn.XLOOKUP(A29,INDIRECT($A29&\"!m5\"),INDIRECT($A29&\"!o10\")),\"\")","v":0},{"$f":"IFERROR(_xlfn.XLOOKUP(A29,INDIRECT($A29&\"!m5\"),INDIRECT($A29&\"!o11\")),\"\")","v":0},{"$f":"IFERROR(_xlfn.XLOOKUP(A29,INDIRECT($A29&\"!m5\"),INDIRECT($A29&\"!o12\")),\"\")","v":0},{"$f":"'1'!O$13","v":0},null,{"$f":"IFERROR(_xlfn.XLOOKUP(A29,INDIRECT($A29&\"!m5\"),INDIRECT($A29&\"!d17\")),\"\")","v":0},{"$f":"IFERROR(_xlfn.XLOOKUP(A29,INDIRECT($A29&\"!m5\"),INDIRECT($A29&\"!e17\")),\"\")","v":0},{"$f":"IFERROR(_xlfn.XLOOKUP(A29,INDIRECT($A29&\"!m5\"),INDIRECT($A29&\"!f17\")),\"\")","v":0},{"$f":"IFERROR(_xlfn.XLOOKUP(A29,INDIRECT($A29&\"!m5\"),INDIRECT($A29&\"!g17\")),\"\")","v":0},{"$f":"IFERROR(_xlfn.XLOOKUP(A29,INDIRECT($A29&\"!m5\"),INDIRECT($A29&\"!h17\")),\"\")","v":0},{"$f":"IFERROR(_xlfn.XLOOKUP(A29,INDIRECT($A29&\"!m5\"),INDIRECT($A29&\"!i17\")),\"\")","v":0},{"$f":"IFERROR(_xlfn.XLOOKUP(A29,INDIRECT($A29&\"!m5\"),INDIRECT($A29&\"!j17\")),\"\")","v":0},{"$f":"IFERROR(_xlfn.XLOOKUP(A29,INDIRECT($A29&\"!m5\"),INDIRECT($A29&\"!k17\")),\"\")","v":0},{"$f":"IFERROR(_xlfn.XLOOKUP(A29,INDIRECT($A29&\"!m5\"),INDIRECT($A29&\"!l17\")),\"\")","v":0},{"$f":"IFERROR(_xlfn.XLOOKUP(A29,INDIRECT($A29&\"!m5\"),INDIRECT($A29&\"!m17\")),\"\")","v":0},null,{"$f":"IFERROR(_xlfn.XLOOKUP(A29,INDIRECT($A29&\"!m5\"),INDIRECT($A29&\"!b10\")),\"\")","v":0},{"$f":"IFERROR(_xlfn.XLOOKUP(A29,INDIRECT($A29&\"!m5\"),INDIRECT($A29&\"!c10\")),\"\")","v":0},{"$f":"IFERROR(_xlfn.XLOOKUP(A29,INDIRECT($A29&\"!m5\"),INDIRECT($A29&\"!b11\")),\"\")","v":0},{"$f":"IFERROR(_xlfn.XLOOKUP(A29,INDIRECT($A29&\"!m5\"),INDIRECT($A29&\"!c11\")),\"\")","v":0},{"$f":"IFERROR(_xlfn.XLOOKUP(A29,INDIRECT($A29&\"!m5\"),INDIRECT($A29&\"!b12\")),\"\")","v":0},{"$f":"IFERROR(_xlfn.XLOOKUP(A29,INDIRECT($A29&\"!m5\"),INDIRECT($A29&\"!c12\")),\"\")","v":0}]
[{"$f":"'25'!M$5","v":25},{"$f":"IFERROR(_xlfn.XLOOKUP(A30,INDIRECT($A30&\"!m5\"),INDIRECT($A30&\"!o5\")),\"\")","v":0},{"$f":"IFERROR(_xlfn.XLOOKUP(A30,INDIRECT($A30&\"!m5\"),INDIRECT($A30&\"!c4\")),\"\")","v":""},{"$f":"IFERROR(_xlfn.XLOOKUP(A30,INDIRECT($A30&\"!m5\"),INDIRECT($A30&\"!f4\")),\"\")","v":""},{"$f":"IFERROR(_xlfn.XLOOKUP(A30,INDIRECT($A30&\"!m5\"),INDIRECT($A30&\"!c5\")),\"\")","v":""},{"$f":"IFERROR(_xlfn.XLOOKUP(A30,INDIRECT($A30&\"!m5\"),INDIRECT($A30&\"!f5\")),\"\")","v":""},{"$f":"IFERROR(_xlfn.XLOOKUP(A30,INDIRECT($A30&\"!m5\"),INDIRECT($A30&\"!k4\")),\"\")","v":""},{"$f":"IFERROR(_xlfn.XLOOKUP(A30,INDIRECT($A30&\"!m5\"),INDIRECT($A30&\"!k5\")),\"\")","v":""},{"$f":"IFERROR(_xlfn.XLOOKUP(A30,INDIRECT($A30&\"!m5\"),INDIRECT($A30&\"!o14\")),\"\")","v":0},null,{"$f":"IFERROR(_xlfn.XLOOKUP(A30,INDIRECT($A30&\"!m5\"),INDIRECT($A30&\"!o10\")),\"\")","v":0},{"$f":"IFERROR(_xlfn.XLOOKUP(A30,INDIRECT($A30&\"!m5\"),INDIRECT($A30&\"!o11\")),\"\")","v":0},{"$f":"IFERROR(_xlfn.XLOOKUP(A30,INDIRECT($A30&\"!m5\"),INDIRECT($A30&\"!o12\")),\"\")","v":0},{"$f":"'1'!O$13","v":0},null,{"$f":"IFERROR(_xlfn.XLOOKUP(A30,INDIRECT($A30&\"!m5\"),INDIRECT($A30&\"!d17\")),\"\")","v":0},{"$f":"IFERROR(_xlfn.XLOOKUP(A30,INDIRECT($A30&\"!m5\"),INDIRECT($A30&\"!e17\")),\"\")","v":0},{"$f":"IFERROR(_xlfn.XLOOKUP(A30,INDIRECT($A30&\"!m5\"),INDIRECT($A30&\"!f17\")),\"\")","v":0},{"$f":"IFERROR(_xlfn.XLOOKUP(A30,INDIRECT($A30&\"!m5\"),INDIRECT($A30&\"!g17\")),\"\")","v":0},{"$f":"IFERROR(_xlfn.XLOOKUP(A30,INDIRECT($A30&\"!m5\"),INDIRECT($A30&\"!h17\")),\"\")","v":0},{"$f":"IFERROR(_xlfn.XLOOKUP(A30,INDIRECT($A30&\"!m5\"),INDIRECT($A30&\"!i17\")),\"\")","v":0},{"$f":"IFERROR(_xlfn.XLOOKUP(A30,INDIRECT($A30&\"!m5\"),INDIRECT($A30&\"!j17\")),\"\")","v":0},{"$f":"IFERROR(_xlfn.XLOOKUP(A30,INDIRECT($A30&\"!m5\"),INDIRECT($A30&\"!k17\")),\"\")","v":0},{"$f":"IFERROR(_xlfn.XLOOKUP(A30,INDIRECT($A30&\"!m5\"),INDIRECT($A30&\"!l17\")),\"\")","v":0},{"$f":"IFERROR(_xlfn.XLOOKUP(A30,INDIRECT($A30&\"!m5\"),INDIRECT($A30&\"!m17\")),\"\")","v":0},null,{"$f":"IFERROR(_xlfn.XLOOKUP(A30,INDIRECT($A30&\"!m5\"),INDIRECT($A30&\"!b10\")),\"\")","v":0},{"$f":"IFERROR(_xlfn.XLOOKUP(A30,INDIRECT($A30&\"!m5\"),INDIRECT($A30&\"!c10\")),\"\")","v":0},{"$f":"IFERROR(_xlfn.XLOOKUP(A30,INDIRECT($A30&\"!m5\"),INDIRECT($A30&\"!b11\")),\"\")","v":0},{"$f":"IFERROR(_xlfn.XLOOKUP(A30,INDIRECT($A30&\"!m5\"),INDIRECT($A30&\"!c11\")),\"\")","v":0},{"$f":"IFERROR(_xlfn.XLOOKUP(A30,INDIRECT($A30&\"!m5\"),INDIRECT($A30&\"!b12\")),\"\")","v":0},{"$f":"IFERROR(_xlfn.XLOOKUP(A30,INDIRECT($A30&\"!m5\"),INDIRECT($A30&\"!c12\")),\"\")","v":0}]
[{"$f":"'26'!M$5","v":26},{"$f":"IFERROR(_xlfn.XLOOKUP(A31,INDIRECT($A31&\"!m5\"),INDIRECT($A31&\"!o5\")),\"\")","v":0},{"$f":"IFERROR(_xlfn.XLOOKUP(A31,INDIRECT($A31&\"!m5\"),INDIRECT($A31&\"!c4\")),\"\")","v":""},{"$f":"IFERROR(_xlfn.XLOOKUP(A31,INDIRECT($A31&\"!m5\"),INDIRECT($A31&\"!f4\")),\"\")","v":""},{"$f":"IFERROR(_xlfn.XLOOKUP(A31,INDIRECT($A31&\"!m5\"),INDIRECT($A31&\"!c5\")),\"\")","v":""},{"$f":"IFERROR(_xlfn.XLOOKUP(A31,INDIRECT($A31&\"!m5\"),INDIRECT($A31&\"!f5\")),\"\")","v":""},{"$f":"IFERROR(_xlfn.XLOOKUP(A31,INDIRECT($A31&\"!m5\"),INDIRECT($A31&\"!k4\")),\"\")","v":""},{"$f":"IFERROR(_xlfn.XLOOKUP(A31,INDIRECT($A31&\"!m5\"),INDIRECT($A31&\"!k5\")),\"\")","v":""},{"$f":"IFERROR(_xlfn.XLOOKUP(A31,INDIRECT($A31&\"!m5\"),INDIRECT($A31&\"!o14\")),\"\")","v":0},null,{"$f":"IFERROR(_xlfn.XLOOKUP(A31,INDIRECT($A31&\"!m5\"),INDIRECT($A31&\"!o10\")),\"\")","v":0},{"$f":"IFERROR(_xlfn.XLOOKUP(A31,INDIRECT($A31&\"!m5\"),INDIRECT($A31&\"!o11\")),\"\")","v":0},{"$f":"IFERROR(_xlfn.XLOOKUP(A31,INDIRECT($A31&\"!m5\"),INDIRECT($A31&\"!o12\")),\"\")","v":0},{"$f":"'1'!O$13","v":0},null,{"$f":"IFERROR(_xlfn.XLOOKUP(A31,INDIRECT($A31&\"!m5\"),INDIRECT($A31&\"!d17\")),\"\")","v":0},{"$f":"IFERROR(_xlfn.XLOOKUP(A31,INDIRECT($A31&\"!m5\"),INDIRECT($A31&\"!e17\")),\"\")","v":0},{"$f":"IFERROR(_xlfn.XLOOKUP(A31,INDIRECT($A31&\"!m5\"),INDIRECT($A31&\"!f17\")),\"\")","v":0},{"$f":"IFERROR(_xlfn.XLOOKUP(A31,INDIRECT($A31&\"!m5\"),INDIRECT($A31&\"!g17\")),\"\")","v":0},{"$f":"IFERROR(_xlfn.XLOOKUP(A31,INDIRECT($A31&\"!m5\"),INDIRECT($A31&\"!h17\")),\"\")","v":0},{"$f":"IFERROR(_xlfn.XLOOKUP(A31,INDIRECT($A31&\"!m5\"),INDIRECT($A31&\"!i17\")),\"\")","v":0},{"$f":"IFERROR(_xlfn.XLOOKUP(A31,INDIRECT($A31&\"!m5\"),INDIRECT($A31&\"!j17\")),\"\")","v":0},{"$f":"IFERROR(_xlfn.XLOOKUP(A31,INDIRECT($A31&\"!m5\"),INDIRECT($A31&\"!k17\")),\"\")","v":0},{"$f":"IFERROR(_xlfn.XLOOKUP(A31,INDIRECT($A31&\"!m5\"),INDIRECT($A31&\"!l17\")),\"\")","v":0},{"$f":"IFERROR(_xlfn.XLOOKUP(A31,INDIRECT($A31&\"!m5\"),INDIRECT($A31&\"!m17\")),\"\")","v":0},null,{"$f":"IFERROR(_xlfn.XLOOKUP(A31,INDIRECT($A31&\"!m5\"),INDIRECT($A31&\"!b10\")),\"\")","v":0},{"$f":"IFERROR(_xlfn.XLOOKUP(A31,INDIRECT($A31&\"!m5\"),INDIRECT($A31&\"!c10\")),\"\")","v":0},{"$f":"IFERROR(_xlfn.XLOOKUP(A31,INDIRECT($A31&\"!m5\"),INDIRECT($A31&\"!b11\")),\"\")","v":0},{"$f":"IFERROR(_xlfn.XLOOKUP(A31,INDIRECT($A31&\"!m5\"),INDIRECT($A31&\"!c11\")),\"\")","v":0},{"$f":"IFERROR(_xlfn.XLOOKUP(A31,INDIRECT($A31&\"!m5\"),INDIRECT($A31&\"!b12\")),\"\")","v":0},{"$f":"IFERROR(_xlfn.XLOOKUP(A31,INDIRECT($A31&\"!m5\"),INDIRECT($A31&\"!c12\")),\"\")","v":0}]
[{"$f":"'27'!M$5","v":27},{"$f":"IFERROR(_xlfn.XLOOKUP(A32,INDIRECT($A32&\"!m5\"),INDIRECT($A32&\"!o5\")),\"\")","v":0},{"$f":"IFERROR(_xlfn.XLOOKUP(A32,INDIRECT($A32&\"!m5\"),INDIRECT($A32&\"!c4\")),\"\")","v":""},{"$f":"IFERROR(_xlfn.XLOOKUP(A32,INDIRECT($A32&\"!m5\"),INDIRECT($A32&\"!f4\")),\"\")","v":""},{"$f":"IFERROR(_xlfn.XLOOKUP(A32,INDIRECT($A32&\"!m5\"),INDIRECT($A32&\"!c5\")),\"\")","v":""},{"$f":"IFERROR(_xlfn.XLOOKUP(A32,INDIRECT($A32&\"!m5\"),INDIRECT($A32&\"!f5\")),\"\")","v":""},{"$f":"IFERROR(_xlfn.XLOOKUP(A32,INDIRECT($A32&\"!m5\"),INDIRECT($A32&\"!k4\")),\"\")","v":""},{"$f":"IFERROR(_xlfn.XLOOKUP(A32,INDIRECT($A32&\"!m5\"),INDIRECT($A32&\"!k5\")),\"\")","v":""},{"$f":"IFERROR(_xlfn.XLOOKUP(A32,INDIRECT($A32&\"!m5\"),INDIRECT($A32&\"!o14\")),\"\")","v":0},null,{"$f":"IFERROR(_xlfn.XLOOKUP(A32,INDIRECT($A32&\"!m5\"),INDIRECT($A32&\"!o10\")),\"\")","v":0},{"$f":"IFERROR(_xlfn.XLOOKUP(A32,INDIRECT($A32&\"!m5\"),INDIRECT($A32&\"!o11\")),\"\")","v":0},{"$f":"IFERROR(_xlfn.XLOOKUP(A32,INDIRECT($A32&\"!m5\"),INDIRECT($A32&\"!o12\")),\"\")","v":0},{"$f":"'1'!O$13","v":0},null,{"$f":"IFERROR(_xlfn.XLOOKUP(A32,INDIRECT($A32&\"!m5\"),INDIRECT($A32&\"!d17\")),\"\")","v":0},{"$f":"IFERROR(_xlfn.XLOOKUP(A32,INDIRECT($A32&\"!m5\"),INDIRECT($A32&\"!e17\")),\"\")","v":0},{"$f":"IFERROR(_xlfn.XLOOKUP(A32,INDIRECT($A32&\"!m5\"),INDIRECT($A32&\"!f17\")),\"\")","v":0},{"$f":"IFERROR(_xlfn.XLOOKUP(A32,INDIRECT($A32&\"!m5\"),INDIRECT($A32&\"!g17\")),\"\")","v":0},{"$f":"IFERROR(_xlfn.XLOOKUP(A32,INDIRECT($A32&\"!m5\"),INDIRECT($A32&\"!h17\")),\"\")","v":0},{"$f":"IFERROR(_xlfn.XLOOKUP(A32,INDIRECT($A32&\"!m5\"),INDIRECT($A32&\"!i17\")),\"\")","v":0},{"$f":"IFERROR(_xlfn.XLOOKUP(A32,INDIRECT($A32&\"!m5\"),INDIRECT($A32&\"!j17\")),\"\")","v":0},{"$f":"IFERROR(_xlfn.XLOOKUP(A32,INDIRECT($A32&\"!m5\"),INDIRECT($A32&\"!k17\")),\"\")","v":0},{"$f":"IFERROR(_xlfn.XLOOKUP(A32,INDIRECT($A32&\"!m5\"),INDIRECT($A32&\"!l17\")),\"\")","v":0},{"$f":"IFERROR(_xlfn.XLOOKUP(A32,INDIRECT($A32&\"!m5\"),INDIRECT($A32&\"!m17\")),\"\")","v":0},null,{"$f":"IFERROR(_xlfn.XLOOKUP(A32,INDIRECT($A32&\"!m5\"),INDIRECT($A32&\"!b10\")),\"\")","v":0},{"$f":"IFERROR(_xlfn.XLOOKUP(A32,INDIRECT($A32&\"!m5\"),INDIRECT($A32&\"!c10\")),\"\")","v":0},{"$f":"IFERROR(_xlfn.XLOOKUP(A32,INDIRECT($A32&\"!m5\"),INDIRECT($A32&\"!b11\")),\"\")","v":0},{"$f":"IFERROR(_xlfn.XLOOKUP(A32,INDIRECT($A32&\"!m5\"),INDIRECT($A32&\"!c11\")),\"\")","v":0},{"$f":"IFERROR(_xlfn.XLOOKUP(A32,INDIRECT($A32&\"!m5\"),INDIRECT($A32&\"!b12\")),\"\")","v":0},{"$f":"IFERROR(_xlfn.XLOOKUP(A32,INDIRECT($A32&\"!m5\"),INDIRECT($A32&\"!c12\")),\"\")","v":0}]
[{"$f":"'28'!M$5","v":28},{"$f":"IFERROR(_xlfn.XLOOKUP(A33,INDIRECT($A33&\"!m5\"),INDIRECT($A33&\"!o5\")),\"\")","v":0},{"$f":"IFERROR(_xlfn.XLOOKUP(A33,INDIRECT($A33&\"!m5\"),INDIRECT($A33&\"!c4\")),\"\")","v":""},{"$f":"IFERROR(_xlfn.XLOOKUP(A33,INDIRECT($A33&\"!m5\"),INDIRECT($A33&\"!f4\")),\"\")","v":""},{"$f":"IFERROR(_xlfn.XLOOKUP(A33,INDIRECT($A33&\"!m5\"),INDIRECT($A33&\"!c5\")),\"\")","v":""},{"$f":"IFERROR(_xlfn.XLOOKUP(A33,INDIRECT($A33&\"!m5\"),INDIRECT($A33&\"!f5\")),\"\")","v":""},{"$f":"IFERROR(_xlfn.XLOOKUP(A33,INDIRECT($A33&\"!m5\"),INDIRECT($A33&\"!k4\")),\"\")","v":""},{"$f":"IFERROR(_xlfn.XLOOKUP(A33,INDIRECT($A33&\"!m5\"),INDIRECT($A33&\"!k5\")),\"\")","v":""},{"$f":"IFERROR(_xlfn.XLOOKUP(A33,INDIRECT($A33&\"!m5\"),INDIRECT($A33&\"!o14\")),\"\")","v":0},null,{"$f":"IFERROR(_xlfn.XLOOKUP(A33,INDIRECT($A33&\"!m5\"),INDIRECT($A33&\"!o10\")),\"\")","v":0},{"$f":"IFERROR(_xlfn.XLOOKUP(A33,INDIRECT($A33&\"!m5\"),INDIRECT($A33&\"!o11\")),\"\")","v":0},{"$f":"IFERROR(_xlfn.XLOOKUP(A33,INDIRECT($A33&\"!m5\"),INDIRECT($A33&\"!o12\")),\"\")","v":0},{"$f":"'1'!O$13","v":0},null,{"$f":"IFERROR(_xlfn.XLOOKUP(A33,INDIRECT($A33&\"!m5\"),INDIRECT($A33&\"!d17\")),\"\")","v":0},{"$f":"IFERROR(_xlfn.XLOOKUP(A33,INDIRECT($A33&\"!m5\"),INDIRECT($A33&\"!e17\")),\"\")","v":0},{"$f":"IFERROR(_xlfn.XLOOKUP(A33,INDIRECT($A33&\"!m5\"),INDIRECT($A33&\"!f17\")),\"\")","v":0},{"$f":"IFERROR(_xlfn.XLOOKUP(A33,INDIRECT($A33&\"!m5\"),INDIRECT($A33&\"!g17\")),\"\")","v":0},{"$f":"IFERROR(_xlfn.XLOOKUP(A33,INDIRECT($A33&\"!m5\"),INDIRECT($A33&\"!h17\")),\"\")","v":0},{"$f":"IFERROR(_xlfn.XLOOKUP(A33,INDIRECT($A33&\"!m5\"),INDIRECT($A33&\"!i17\")),\"\")","v":0},{"$f":"IFERROR(_xlfn.XLOOKUP(A33,INDIRECT($A33&\"!m5\"),INDIRECT($A33&\"!j17\")),\"\")","v":0},{"$f":"IFERROR(_xlfn.XLOOKUP(A33,INDIRECT($A33&\"!m5\"),INDIRECT($A33&\"!k17\")),\"\")","v":0},{"$f":"IFERROR(_xlfn.XLOOKUP(A33,INDIRECT($A33&\"!m5\"),INDIRECT($A33&\"!l17\")),\"\")","v":0},{"$f":"IFERROR(_xlfn.XLOOKUP(A33,INDIRECT($A33&\"!m5\"),INDIRECT($A33&\"!m17\")),\"\")","v":0},null,{"$f":"IFERROR(_xlfn.XLOOKUP(A33,INDIRECT($A33&\"!m5\"),INDIRECT($A33&\"!b10\")),\"\")","v":0},{"$f":"IFERROR(_xlfn.XLOOKUP(A33,INDIRECT($A33&\"!m5\"),INDIRECT($A33&\"!c10\")),\"\")","v":0},{"$f":"IFERROR(_xlfn.XLOOKUP(A33,INDIRECT($A33&\"!m5\"),INDIRECT($A33&\"!b11\")),\"\")","v":0},{"$f":"IFERROR(_xlfn.XLOOKUP(A33,INDIRECT($A33&\"!m5\"),INDIRECT($A33&\"!c11\")),\"\")","v":0},{"$f":"IFERROR(_xlfn.XLOOKUP(A33,INDIRECT($A33&\"!m5\"),INDIRECT($A33&\"!b12\")),\"\")","v":0},{"$f":"IFERROR(_xlfn.XLOOKUP(A33,INDIRECT($A33&\"!m5\"),INDIRECT($A33&\"!c12\")),\"\")","v":0}]
[{"$f":"'29'!M$5","v":29},{"$f":"IFERROR(_xlfn.XLOOKUP(A34,INDIRECT($A34&\"!m5\"),INDIRECT($A34&\"!o5\")),\"\")","v":0},{"$f":"IFERROR(_xlfn.XLOOKUP(A34,INDIRECT($A34&\"!m5\"),INDIRECT($A34&\"!c4\")),\"\")","v":""},{"$f":"IFERROR(_xlfn.XLOOKUP(A34,INDIRECT($A34&\"!m5\"),INDIRECT($A34&\"!f4\")),\"\")","v":""},{"$f":"IFERROR(_xlfn.XLOOKUP(A34,INDIRECT($A34&\"!m5\"),INDIRECT($A34&\"!c5\")),\"\")","v":""},{"$f":"IFERROR(_xlfn.XLOOKUP(A34,INDIRECT($A34&\"!m5\"),INDIRECT($A34&\"!f5\")),\"\")","v":""},{"$f":"IFERROR(_xlfn.XLOOKUP(A34,INDIRECT($A34&\"!m5\"),INDIRECT($A34&\"!k4\")),\"\")","v":""},{"$f":"IFERROR(_xlfn.XLOOKUP(A34,INDIRECT($A34&\"!m5\"),INDIRECT($A34&\"!k5\")),\"\")","v":""},{"$f":"IFERROR(_xlfn.XLOOKUP(A34,INDIRECT($A34&\"!m5\"),INDIRECT($A34&\"!o14\")),\"\")","v":0},null,{"$f":"IFERROR(_xlfn.XLOOKUP(A34,INDIRECT($A34&\"!m5\"),INDIRECT($A34&\"!o10\")),\"\")","v":0},{"$f":"IFERROR(_xlfn.XLOOKUP(A34,INDIRECT($A34&\"!m5\"),INDIRECT($A34&\"!o11\")),\"\")","v":0},{"$f":"IFERROR(_xlfn.XLOOKUP(A34,INDIRECT($A34&\"!m5\"),INDIRECT($A34&\"!o12\")),\"\")","v":0},{"$f":"'1'!O$13","v":0},null,{"$f":"IFERROR(_xlfn.XLOOKUP(A34,INDIRECT($A34&\"!m5\"),INDIRECT($A34&\"!d17\")),\"\")","v":0},{"$f":"IFERROR(_xlfn.XLOOKUP(A34,INDIRECT($A34&\"!m5\"),INDIRECT($A34&\"!e17\")),\"\")","v":0},{"$f":"IFERROR(_xlfn.XLOOKUP(A34,INDIRECT($A34&\"!m5\"),INDIRECT($A34&\"!f17\")),\"\")","v":0},{"$f":"IFERROR(_xlfn.XLOOKUP(A34,INDIRECT($A34&\"!m5\"),INDIRECT($A34&\"!g17\")),\"\")","v":0},{"$f":"IFERROR(_xlfn.XLOOKUP(A34,INDIRECT($A34&\"!m5\"),INDIRECT($A34&\"!h17\")),\"\")","v":0},{"$f":"IFERROR(_xlfn.XLOOKUP(A34,INDIRECT($A34&\"!m5\"),INDIRECT($A34&\"!i17\")),\"\")","v":0},{"$f":"IFERROR(_xlfn.XLOOKUP(A34,INDIRECT($A34&\"!m5\"),INDIRECT($A34&\"!j17\")),\"\")","v":0},{"$f":"IFERROR(_xlfn.XLOOKUP(A34,INDIRECT($A34&\"!m5\"),INDIRECT($A34&\"!k17\")),\"\")","v":0},{"$f":"IFERROR(_xlfn.XLOOKUP(A34,INDIRECT($A34&\"!m5\"),INDIRECT($A34&\"!l17\")),\"\")","v":0},{"$f":"IFERROR(_xlfn.XLOOKUP(A34,INDIRECT($A34&\"!m5\"),INDIRECT($A34&\"!m17\")),\"\")","v":0},null,{"$f":"IFERROR(_xlfn.XLOOKUP(A34,INDIRECT($A34&\"!m5\"),INDIRECT($A34&\"!b10\")),\"\")","v":0},{"$f":"IFERROR(_xlfn.XLOOKUP(A34,INDIRECT($A34&\"!m5\"),INDIRECT($A34&\"!c10\")),\"\")","v":0},{"$f":"IFERROR(_xlfn.XLOOKUP(A34,INDIRECT($A34&\"!m5\"),INDIRECT($A34&\"!b11\")),\"\")","v":0},{"$f":"IFERROR(_xlfn.XLOOKUP(A34,INDIRECT($A34&\"!m5\"),INDIRECT($A34&\"!c11\")),\"\")","v":0},{"$f":"IFERROR(_xlfn.XLOOKUP(A34,INDIRECT($A34&\"!m5\"),INDIRECT($A34&\"!b12\")),\"\")","v":0},{"$f":"IFERROR(_xlfn.XLOOKUP(A34,INDIRECT($A34&\"!m5\"),INDIRECT($A34&\"!c12\")),\"\")","v":0}]
[{"$f":"'30'!M$5","v":30},{"$f":"IFERROR(_xlfn.XLOOKUP(A35,INDIRECT($A35&\"!m5\"),INDIRECT($A35&\"!o5\")),\"\")","v":0},{"$f":"IFERROR(_xlfn.XLOOKUP(A35,INDIRECT($A35&\"!m5\"),INDIRECT($A35&\"!c4\")),\"\")","v":""},{"$f":"IFERROR(_xlfn.XLOOKUP(A35,INDIRECT($A35&\"!m5\"),INDIRECT($A35&\"!f4\")),\"\")","v":""},{"$f":"IFERROR(_xlfn.XLOOKUP(A35,INDIRECT($A35&\"!m5\"),INDIRECT($A35&\"!c5\")),\"\")","v":""},{"$f":"IFERROR(_xlfn.XLOOKUP(A35,INDIRECT($A35&\"!m5\"),INDIRECT($A35&\"!f5\")),\"\")","v":""},{"$f":"IFERROR(_xlfn.XLOOKUP(A35,INDIRECT($A35&\"!m5\"),INDIRECT($A35&\"!k4\")),\"\")","v":""},{"$f":"IFERROR(_xlfn.XLOOKUP(A35,INDIRECT($A35&\"!m5\"),INDIRECT($A35&\"!k5\")),\"\")","v":""},{"$f":"IFERROR(_xlfn.XLOOKUP(A35,INDIRECT($A35&\"!m5\"),INDIRECT($A35&\"!o14\")),\"\")","v":0},null,{"$f":"IFERROR(_xlfn.XLOOKUP(A35,INDIRECT($A35&\"!m5\"),INDIRECT($A35&\"!o10\")),\"\")","v":0},{"$f":"IFERROR(_xlfn.XLOOKUP(A35,INDIRECT($A35&\"!m5\"),INDIRECT($A35&\"!o11\")),\"\")","v":0},{"$f":"IFERROR(_xlfn.XLOOKUP(A35,INDIRECT($A35&\"!m5\"),INDIRECT($A35&\"!o12\")),\"\")","v":0},{"$f":"'1'!O$13","v":0},null,{"$f":"IFERROR(_xlfn.XLOOKUP(A35,INDIRECT($A35&\"!m5\"),INDIRECT($A35&\"!d17\")),\"\")","v":0},{"$f":"IFERROR(_xlfn.XLOOKUP(A35,INDIRECT($A35&\"!m5\"),INDIRECT($A35&\"!e17\")),\"\")","v":0},{"$f":"IFERROR(_xlfn.XLOOKUP(A35,INDIRECT($A35&\"!m5\"),INDIRECT($A35&\"!f17\")),\"\")","v":0},{"$f":"IFERROR(_xlfn.XLOOKUP(A35,INDIRECT($A35&\"!m5\"),INDIRECT($A35&\"!g17\")),\"\")","v":0},{"$f":"IFERROR(_xlfn.XLOOKUP(A35,INDIRECT($A35&\"!m5\"),INDIRECT($A35&\"!h17\")),\"\")","v":0},{"$f":"IFERROR(_xlfn.XLOOKUP(A35,INDIRECT($A35&\"!m5\"),INDIRECT($A35&\"!i17\")),\"\")","v":0},{"$f":"IFERROR(_xlfn.XLOOKUP(A35,INDIRECT($A35&\"!m5\"),INDIRECT($A35&\"!j17\")),\"\")","v":0},{"$f":"IFERROR(_xlfn.XLOOKUP(A35,INDIRECT($A35&\"!m5\"),INDIRECT($A35&\"!k17\")),\"\")","v":0},{"$f":"IFERROR(_xlfn.XLOOKUP(A35,INDIRECT($A35&\"!m5\"),INDIRECT($A35&\"!l17\")),\"\")","v":0},{"$f":"IFERROR(_xlfn.XLOOKUP(A35,INDIRECT($A35&\"!m5\"),INDIRECT($A35&\"!m17\")),\"\")","v":0},null,{"$f":"IFERROR(_xlfn.XLOOKUP(A35,INDIRECT($A35&\"!m5\"),INDIRECT($A35&\"!b10\")),\"\")","v":0},{"$f":"IFERROR(_xlfn.XLOOKUP(A35,INDIRECT($A35&\"!m5\"),INDIRECT($A35&\"!c10\")),\"\")","v":0},{"$f":"IFERROR(_xlfn.XLOOKUP(A35,INDIRECT($A35&\"!m5\"),INDIRECT($A35&\"!b11\")),\"\")","v":0},{"$f":"IFERROR(_xlfn.XLOOKUP(A35,INDIRECT($A35&\"!m5\"),INDIRECT($A35&\"!c11\")),\"\")","v":0},{"$f":"IFERROR(_xlfn.XLOOKUP(A35,INDIRECT($A35&\"!m5\"),INDIRECT($A35&\"!b12\")),\"\")","v":0},{"$f":"IFERROR(_xlfn.XLOOKUP(A35,INDIRECT($A35&\"!m5\"),INDIRECT($A35&\"!c12\")),\"\")","v":0}]
[{"$f":"'31'!M$5","v":31},{"$f":"IFERROR(_xlfn.XLOOKUP(A36,INDIRECT($A36&\"!m5\"),INDIRECT($A36&\"!o5\")),\"\")","v":0},{"$f":"IFERROR(_xlfn.XLOOKUP(A36,INDIRECT($A36&\"!m5\"),INDIRECT($A36&\"!c4\")),\"\")","v":""},{"$f":"IFERROR(_xlfn.XLOOKUP(A36,INDIRECT($A36&\"!m5\"),INDIRECT($A36&\"!f4\")),\"\")","v":""},{"$f":"IFERROR(_xlfn.XLOOKUP(A36,INDIRECT($A36&\"!m5\"),INDIRECT($A36&\"!c5\")),\"\")","v":""},{"$f":"IFERROR(_xlfn.XLOOKUP(A36,INDIRECT($A36&\"!m5\"),INDIRECT($A36&\"!f5\")),\"\")","v":""},{"$f":"IFERROR(_xlfn.XLOOKUP(A36,INDIRECT($A36&\"!m5\"),INDIRECT($A36&\"!k4\")),\"\")","v":""},{"$f":"IFERROR(_xlfn.XLOOKUP(A36,INDIRECT($A36&\"!m5\"),INDIRECT($A36&\"!k5\")),\"\")","v":""},{"$f":"IFERROR(_xlfn.XLOOKUP(A36,INDIRECT($A36&\"!m5\"),INDIRECT($A36&\"!o14\")),\"\")","v":0},null,{"$f":"IFERROR(_xlfn.XLOOKUP(A36,INDIRECT($A36&\"!m5\"),INDIRECT($A36&\"!o10\")),\"\")","v":0},{"$f":"IFERROR(_xlfn.XLOOKUP(A36,INDIRECT($A36&\"!m5\"),INDIRECT($A36&\"!o11\")),\"\")","v":0},{"$f":"IFERROR(_xlfn.XLOOKUP(A36,INDIRECT($A36&\"!m5\"),INDIRECT($A36&\"!o12\")),\"\")","v":0},{"$f":"'1'!O$13","v":0},null,{"$f":"IFERROR(_xlfn.XLOOKUP(A36,INDIRECT($A36&\"!m5\"),INDIRECT($A36&\"!d17\")),\"\")","v":0},{"$f":"IFERROR(_xlfn.XLOOKUP(A36,INDIRECT($A36&\"!m5\"),INDIRECT($A36&\"!e17\")),\"\")","v":0},{"$f":"IFERROR(_xlfn.XLOOKUP(A36,INDIRECT($A36&\"!m5\"),INDIRECT($A36&\"!f17\")),\"\")","v":0},{"$f":"IFERROR(_xlfn.XLOOKUP(A36,INDIRECT($A36&\"!m5\"),INDIRECT($A36&\"!g17\")),\"\")","v":0},{"$f":"IFERROR(_xlfn.XLOOKUP(A36,INDIRECT($A36&\"!m5\"),INDIRECT($A36&\"!h17\")),\"\")","v":0},{"$f":"IFERROR(_xlfn.XLOOKUP(A36,INDIRECT($A36&\"!m5\"),INDIRECT($A36&\"!i17\")),\"\")","v":0},{"$f":"IFERROR(_xlfn.XLOOKUP(A36,INDIRECT($A36&\"!m5\"),INDIRECT($A36&\"!j17\")),\"\")","v":0},{"$f":"IFERROR(_xlfn.XLOOKUP(A36,INDIRECT($A36&\"!m5\"),INDIRECT($A36&\"!k17\")),\"\")","v":0},{"$f":"IFERROR(_xlfn.XLOOKUP(A36,INDIRECT($A36&\"!m5\"),INDIRECT($A36&\"!l17\")),\"\")","v":0},{"$f":"IFERROR(_xlfn.XLOOKUP(A36,INDIRECT($A36&\"!m5\"),INDIRECT($A36&\"!m17\")),\"\")","v":0},null,{"$f":"IFERROR(_xlfn.XLOOKUP(A36,INDIRECT($A36&\"!m5\"),INDIRECT($A36&\"!b10\")),\"\")","v":0},{"$f":"IFERROR(_xlfn.XLOOKUP(A36,INDIRECT($A36&\"!m5\"),INDIRECT($A36&\"!c10\")),\"\")","v":0},{"$f":"IFERROR(_xlfn.XLOOKUP(A36,INDIRECT($A36&\"!m5\"),INDIRECT($A36&\"!b11\")),\"\")","v":0},{"$f":"IFERROR(_xlfn.XLOOKUP(A36,INDIRECT($A36&\"!m5\"),INDIRECT($A36&\"!c11\")),\"\")","v":0},{"$f":"IFERROR(_xlfn.XLOOKUP(A36,INDIRECT($A36&\"!m5\"),INDIRECT($A36&\"!b12\")),\"\")","v":0},{"$f":"IFERROR(_xlfn.XLOOKUP(A36,INDIRECT($A36&\"!m5\"),INDIRECT($A36&\"!c12\")),\"\")","v":0}]
[{"$f":"'32'!M$5","v":32},{"$f":"IFERROR(_xlfn.XLOOKUP(A37,INDIRECT($A37&\"!m5\"),INDIRECT($A37&\"!o5\")),\"\")","v":0},{"$f":"IFERROR(_xlfn.XLOOKUP(A37,INDIRECT($A37&\"!m5\"),INDIRECT($A37&\"!c4\")),\"\")","v":""},{"$f":"IFERROR(_xlfn.XLOOKUP(A37,INDIRECT($A37&\"!m5\"),INDIRECT($A37&\"!f4\")),\"\")","v":""},{"$f":"IFERROR(_xlfn.XLOOKUP(A37,INDIRECT($A37&\"!m5\"),INDIRECT($A37&\"!c5\")),\"\")","v":""},{"$f":"IFERROR(_xlfn.XLOOKUP(A37,INDIRECT($A37&\"!m5\"),INDIRECT($A37&\"!f5\")),\"\")","v":""},{"$f":"IFERROR(_xlfn.XLOOKUP(A37,INDIRECT($A37&\"!m5\"),INDIRECT($A37&\"!k4\")),\"\")","v":""},{"$f":"IFERROR(_xlfn.XLOOKUP(A37,INDIRECT($A37&\"!m5\"),INDIRECT($A37&\"!k5\")),\"\")","v":""},{"$f":"IFERROR(_xlfn.XLOOKUP(A37,INDIRECT($A37&\"!m5\"),INDIRECT($A37&\"!o14\")),\"\")","v":0},null,{"$f":"IFERROR(_xlfn.XLOOKUP(A37,INDIRECT($A37&\"!m5\"),INDIRECT($A37&\"!o10\")),\"\")","v":0},{"$f":"IFERROR(_xlfn.XLOOKUP(A37,INDIRECT($A37&\"!m5\"),INDIRECT($A37&\"!o11\")),\"\")","v":0},{"$f":"IFERROR(_xlfn.XLOOKUP(A37,INDIRECT($A37&\"!m5\"),INDIRECT($A37&\"!o12\")),\"\")","v":0},{"$f":"'1'!O$13","v":0},null,{"$f":"IFERROR(_xlfn.XLOOKUP(A37,INDIRECT($A37&\"!m5\"),INDIRECT($A37&\"!d17\")),\"\")","v":0},{"$f":"IFERROR(_xlfn.XLOOKUP(A37,INDIRECT($A37&\"!m5\"),INDIRECT($A37&\"!e17\")),\"\")","v":0},{"$f":"IFERROR(_xlfn.XLOOKUP(A37,INDIRECT($A37&\"!m5\"),INDIRECT($A37&\"!f17\")),\"\")","v":0},{"$f":"IFERROR(_xlfn.XLOOKUP(A37,INDIRECT($A37&\"!m5\"),INDIRECT($A37&\"!g17\")),\"\")","v":0},{"$f":"IFERROR(_xlfn.XLOOKUP(A37,INDIRECT($A37&\"!m5\"),INDIRECT($A37&\"!h17\")),\"\")","v":0},{"$f":"IFERROR(_xlfn.XLOOKUP(A37,INDIRECT($A37&\"!m5\"),INDIRECT($A37&\"!i17\")),\"\")","v":0},{"$f":"IFERROR(_xlfn.XLOOKUP(A37,INDIRECT($A37&\"!m5\"),INDIRECT($A37&\"!j17\")),\"\")","v":0},{"$f":"IFERROR(_xlfn.XLOOKUP(A37,INDIRECT($A37&\"!m5\"),INDIRECT($A37&\"!k17\")),\"\")","v":0},{"$f":"IFERROR(_xlfn.XLOOKUP(A37,INDIRECT($A37&\"!m5\"),INDIRECT($A37&\"!l17\")),\"\")","v":0},{"$f":"IFERROR(_xlfn.XLOOKUP(A37,INDIRECT($A37&\"!m5\"),INDIRECT($A37&\"!m17\")),\"\")","v":0},null,{"$f":"IFERROR(_xlfn.XLOOKUP(A37,INDIRECT($A37&\"!m5\"),INDIRECT($A37&\"!b10\")),\"\")","v":0},{"$f":"IFERROR(_xlfn.XLOOKUP(A37,INDIRECT($A37&\"!m5\"),INDIRECT($A37&\"!c10\")),\"\")","v":0},{"$f":"IFERROR(_xlfn.XLOOKUP(A37,INDIRECT($A37&\"!m5\"),INDIRECT($A37&\"!b11\")),\"\")","v":0},{"$f":"IFERROR(_xlfn.XLOOKUP(A37,INDIRECT($A37&\"!m5\"),INDIRECT($A37&\"!c11\")),\"\")","v":0},{"$f":"IFERROR(_xlfn.XLOOKUP(A37,INDIRECT($A37&\"!m5\"),INDIRECT($A37&\"!b12\")),\"\")","v":0},{"$f":"IFERROR(_xlfn.XLOOKUP(A37,INDIRECT($A37&\"!m5\"),INDIRECT($A37&\"!c12\")),\"\")","v":0}]
[{"$f":"'33'!M$5","v":33},{"$f":"IFERROR(_xlfn.XLOOKUP(A38,INDIRECT($A38&\"!m5\"),INDIRECT($A38&\"!o5\")),\"\")","v":0},{"$f":"IFERROR(_xlfn.XLOOKUP(A38,INDIRECT($A38&\"!m5\"),INDIRECT($A38&\"!c4\")),\"\")","v":""},{"$f":"IFERROR(_xlfn.XLOOKUP(A38,INDIRECT($A38&\"!m5\"),INDIRECT($A38&\"!f4\")),\"\")","v":""},{"$f":"IFERROR(_xlfn.XLOOKUP(A38,INDIRECT($A38&\"!m5\"),INDIRECT($A38&\"!c5\")),\"\")","v":""},{"$f":"IFERROR(_xlfn.XLOOKUP(A38,INDIRECT($A38&\"!m5\"),INDIRECT($A38&\"!f5\")),\"\")","v":""},{"$f":"IFERROR(_xlfn.XLOOKUP(A38,INDIRECT($A38&\"!m5\"),INDIRECT($A38&\"!k4\")),\"\")","v":""},{"$f":"IFERROR(_xlfn.XLOOKUP(A38,INDIRECT($A38&\"!m5\"),INDIRECT($A38&\"!k5\")),\"\")","v":""},{"$f":"IFERROR(_xlfn.XLOOKUP(A38,INDIRECT($A38&\"!m5\"),INDIRECT($A38&\"!o14\")),\"\")","v":0},null,{"$f":"IFERROR(_xlfn.XLOOKUP(A38,INDIRECT($A38&\"!m5\"),INDIRECT($A38&\"!o10\")),\"\")","v":0},{"$f":"IFERROR(_xlfn.XLOOKUP(A38,INDIRECT($A38&\"!m5\"),INDIRECT($A38&\"!o11\")),\"\")","v":0},{"$f":"IFERROR(_xlfn.XLOOKUP(A38,INDIRECT($A38&\"!m5\"),INDIRECT($A38&\"!o12\")),\"\")","v":0},{"$f":"'1'!O$13","v":0},null,{"$f":"IFERROR(_xlfn.XLOOKUP(A38,INDIRECT($A38&\"!m5\"),INDIRECT($A38&\"!d17\")),\"\")","v":0},{"$f":"IFERROR(_xlfn.XLOOKUP(A38,INDIRECT($A38&\"!m5\"),INDIRECT($A38&\"!e17\")),\"\")","v":0},{"$f":"IFERROR(_xlfn.XLOOKUP(A38,INDIRECT($A38&\"!m5\"),INDIRECT($A38&\"!f17\")),\"\")","v":0},{"$f":"IFERROR(_xlfn.XLOOKUP(A38,INDIRECT($A38&\"!m5\"),INDIRECT($A38&\"!g17\")),\"\")","v":0},{"$f":"IFERROR(_xlfn.XLOOKUP(A38,INDIRECT($A38&\"!m5\"),INDIRECT($A38&\"!h17\")),\"\")","v":0},{"$f":"IFERROR(_xlfn.XLOOKUP(A38,INDIRECT($A38&\"!m5\"),INDIRECT($A38&\"!i17\")),\"\")","v":0},{"$f":"IFERROR(_xlfn.XLOOKUP(A38,INDIRECT($A38&\"!m5\"),INDIRECT($A38&\"!j17\")),\"\")","v":0},{"$f":"IFERROR(_xlfn.XLOOKUP(A38,INDIRECT($A38&\"!m5\"),INDIRECT($A38&\"!k17\")),\"\")","v":0},{"$f":"IFERROR(_xlfn.XLOOKUP(A38,INDIRECT($A38&\"!m5\"),INDIRECT($A38&\"!l17\")),\"\")","v":0},{"$f":"IFERROR(_xlfn.XLOOKUP(A38,INDIRECT($A38&\"!m5\"),INDIRECT($A38&\"!m17\")),\"\")","v":0},null,{"$f":"IFERROR(_xlfn.XLOOKUP(A38,INDIRECT($A38&\"!m5\"),INDIRECT($A38&\"!b10\")),\"\")","v":0},{"$f":"IFERROR(_xlfn.XLOOKUP(A38,INDIRECT($A38&\"!m5\"),INDIRECT($A38&\"!c10\")),\"\")","v":0},{"$f":"IFERROR(_xlfn.XLOOKUP(A38,INDIRECT($A38&\"!m5\"),INDIRECT($A38&\"!b11\")),\"\")","v":0},{"$f":"IFERROR(_xlfn.XLOOKUP(A38,INDIRECT($A38&\"!m5\"),INDIRECT($A38&\"!c11\")),\"\")","v":0},{"$f":"IFERROR(_xlfn.XLOOKUP(A38,INDIRECT($A38&\"!m5\"),INDIRECT($A38&\"!b12\")),\"\")","v":0},{"$f":"IFERROR(_xlfn.XLOOKUP(A38,INDIRECT($A38&\"!m5\"),INDIRECT($A38&\"!c12\")),\"\")","v":0}]
[{"$f":"'34'!M$5","v":34},{"$f":"IFERROR(_xlfn.XLOOKUP(A39,INDIRECT($A39&\"!m5\"),INDIRECT($A39&\"!o5\")),\"\")","v":0},{"$f":"IFERROR(_xlfn.XLOOKUP(A39,INDIRECT($A39&\"!m5\"),INDIRECT($A39&\"!c4\")),\"\")","v":""},{"$f":"IFERROR(_xlfn.XLOOKUP(A39,INDIRECT($A39&\"!m5\"),INDIRECT($A39&\"!f4\")),\"\")","v":""},{"$f":"IFERROR(_xlfn.XLOOKUP(A39,INDIRECT($A39&\"!m5\"),INDIRECT($A39&\"!c5\")),\"\")","v":""},{"$f":"IFERROR(_xlfn.XLOOKUP(A39,INDIRECT($A39&\"!m5\"),INDIRECT($A39&\"!f5\")),\"\")","v":""},{"$f":"IFERROR(_xlfn.XLOOKUP(A39,INDIRECT($A39&\"!m5\"),INDIRECT($A39&\"!k4\")),\"\")","v":""},{"$f":"IFERROR(_xlfn.XLOOKUP(A39,INDIRECT($A39&\"!m5\"),INDIRECT($A39&\"!k5\")),\"\")","v":""},{"$f":"IFERROR(_xlfn.XLOOKUP(A39,INDIRECT($A39&\"!m5\"),INDIRECT($A39&\"!o14\")),\"\")","v":0},null,{"$f":"IFERROR(_xlfn.XLOOKUP(A39,INDIRECT($A39&\"!m5\"),INDIRECT($A39&\"!o10\")),\"\")","v":0},{"$f":"IFERROR(_xlfn.XLOOKUP(A39,INDIRECT($A39&\"!m5\"),INDIRECT($A39&\"!o11\")),\"\")","v":0},{"$f":"IFERROR(_xlfn.XLOOKUP(A39,INDIRECT($A39&\"!m5\"),INDIRECT($A39&\"!o12\")),\"\")","v":0},{"$f":"'1'!O$13","v":0},null,{"$f":"IFERROR(_xlfn.XLOOKUP(A39,INDIRECT($A39&\"!m5\"),INDIRECT($A39&\"!d17\")),\"\")","v":0},{"$f":"IFERROR(_xlfn.XLOOKUP(A39,INDIRECT($A39&\"!m5\"),INDIRECT($A39&\"!e17\")),\"\")","v":0},{"$f":"IFERROR(_xlfn.XLOOKUP(A39,INDIRECT($A39&\"!m5\"),INDIRECT($A39&\"!f17\")),\"\")","v":0},{"$f":"IFERROR(_xlfn.XLOOKUP(A39,INDIRECT($A39&\"!m5\"),INDIRECT($A39&\"!g17\")),\"\")","v":0},{"$f":"IFERROR(_xlfn.XLOOKUP(A39,INDIRECT($A39&\"!m5\"),INDIRECT($A39&\"!h17\")),\"\")","v":0},{"$f":"IFERROR(_xlfn.XLOOKUP(A39,INDIRECT($A39&\"!m5\"),INDIRECT($A39&\"!i17\")),\"\")","v":0},{"$f":"IFERROR(_xlfn.XLOOKUP(A39,INDIRECT($A39&\"!m5\"),INDIRECT($A39&\"!j17\")),\"\")","v":0},{"$f":"IFERROR(_xlfn.XLOOKUP(A39,INDIRECT($A39&\"!m5\"),INDIRECT($A39&\"!k17\")),\"\")","v":0},{"$f":"IFERROR(_xlfn.XLOOKUP(A39,INDIRECT($A39&\"!m5\"),INDIRECT($A39&\"!l17\")),\"\")","v":0},{"$f":"IFERROR(_xlfn.XLOOKUP(A39,INDIRECT($A39&\"!m5\"),INDIRECT($A39&\"!m17\")),\"\")","v":0},null,{"$f":"IFERROR(_xlfn.XLOOKUP(A39,INDIRECT($A39&\"!m5\"),INDIRECT($A39&\"!b10\")),\"\")","v":0},{"$f":"IFERROR(_xlfn.XLOOKUP(A39,INDIRECT($A39&\"!m5\"),INDIRECT($A39&\"!c10\")),\"\")","v":0},{"$f":"IFERROR(_xlfn.XLOOKUP(A39,INDIRECT($A39&\"!m5\"),INDIRECT($A39&\"!b11\")),\"\")","v":0},{"$f":"IFERROR(_xlfn.XLOOKUP(A39,INDIRECT($A39&\"!m5\"),INDIRECT($A39&\"!c11\")),\"\")","v":0},{"$f":"IFERROR(_xlfn.XLOOKUP(A39,INDIRECT($A39&\"!m5\"),INDIRECT($A39&\"!b12\")),\"\")","v":0},{"$f":"IFERROR(_xlfn.XLOOKUP(A39,INDIRECT($A39&\"!m5\"),INDIRECT($A39&\"!c12\")),\"\")","v":0}]
[{"$f":"'35'!M$5","v":35},{"$f":"IFERROR(_xlfn.XLOOKUP(A40,INDIRECT($A40&\"!m5\"),INDIRECT($A40&\"!o5\")),\"\")","v":0},{"$f":"IFERROR(_xlfn.XLOOKUP(A40,INDIRECT($A40&\"!m5\"),INDIRECT($A40&\"!c4\")),\"\")","v":""},{"$f":"IFERROR(_xlfn.XLOOKUP(A40,INDIRECT($A40&\"!m5\"),INDIRECT($A40&\"!f4\")),\"\")","v":""},{"$f":"IFERROR(_xlfn.XLOOKUP(A40,INDIRECT($A40&\"!m5\"),INDIRECT($A40&\"!c5\")),\"\")","v":""},{"$f":"IFERROR(_xlfn.XLOOKUP(A40,INDIRECT($A40&\"!m5\"),INDIRECT($A40&\"!f5\")),\"\")","v":""},{"$f":"IFERROR(_xlfn.XLOOKUP(A40,INDIRECT($A40&\"!m5\"),INDIRECT($A40&\"!k4\")),\"\")","v":""},{"$f":"IFERROR(_xlfn.XLOOKUP(A40,INDIRECT($A40&\"!m5\"),INDIRECT($A40&\"!k5\")),\"\")","v":""},{"$f":"IFERROR(_xlfn.XLOOKUP(A40,INDIRECT($A40&\"!m5\"),INDIRECT($A40&\"!o14\")),\"\")","v":0},null,{"$f":"IFERROR(_xlfn.XLOOKUP(A40,INDIRECT($A40&\"!m5\"),INDIRECT($A40&\"!o10\")),\"\")","v":0},{"$f":"IFERROR(_xlfn.XLOOKUP(A40,INDIRECT($A40&\"!m5\"),INDIRECT($A40&\"!o11\")),\"\")","v":0},{"$f":"IFERROR(_xlfn.XLOOKUP(A40,INDIRECT($A40&\"!m5\"),INDIRECT($A40&\"!o12\")),\"\")","v":0},{"$f":"'1'!O$13","v":0},null,{"$f":"IFERROR(_xlfn.XLOOKUP(A40,INDIRECT($A40&\"!m5\"),INDIRECT($A40&\"!d17\")),\"\")","v":0},{"$f":"IFERROR(_xlfn.XLOOKUP(A40,INDIRECT($A40&\"!m5\"),INDIRECT($A40&\"!e17\")),\"\")","v":0},{"$f":"IFERROR(_xlfn.XLOOKUP(A40,INDIRECT($A40&\"!m5\"),INDIRECT($A40&\"!f17\")),\"\")","v":0},{"$f":"IFERROR(_xlfn.XLOOKUP(A40,INDIRECT($A40&\"!m5\"),INDIRECT($A40&\"!g17\")),\"\")","v":0},{"$f":"IFERROR(_xlfn.XLOOKUP(A40,INDIRECT($A40&\"!m5\"),INDIRECT($A40&\"!h17\")),\"\")","v":0},{"$f":"IFERROR(_xlfn.XLOOKUP(A40,INDIRECT($A40&\"!m5\"),INDIRECT($A40&\"!i17\")),\"\")","v":0},{"$f":"IFERROR(_xlfn.XLOOKUP(A40,INDIRECT($A40&\"!m5\"),INDIRECT($A40&\"!j17\")),\"\")","v":0},{"$f":"IFERROR(_xlfn.XLOOKUP(A40,INDIRECT($A40&\"!m5\"),INDIRECT($A40&\"!k17\")),\"\")","v":0},{"$f":"IFERROR(_xlfn.XLOOKUP(A40,INDIRECT($A40&\"!m5\"),INDIRECT($A40&\"!l17\")),\"\")","v":0},{"$f":"IFERROR(_xlfn.XLOOKUP(A40,INDIRECT($A40&\"!m5\"),INDIRECT($A40&\"!m17\")),\"\")","v":0},null,{"$f":"IFERROR(_xlfn.XLOOKUP(A40,INDIRECT($A40&\"!m5\"),INDIRECT($A40&\"!b10\")),\"\")","v":0},{"$f":"IFERROR(_xlfn.XLOOKUP(A40,INDIRECT($A40&\"!m5\"),INDIRECT($A40&\"!c10\")),\"\")","v":0},{"$f":"IFERROR(_xlfn.XLOOKUP(A40,INDIRECT($A40&\"!m5\"),INDIRECT($A40&\"!b11\")),\"\")","v":0},{"$f":"IFERROR(_xlfn.XLOOKUP(A40,INDIRECT($A40&\"!m5\"),INDIRECT($A40&\"!c11\")),\"\")","v":0},{"$f":"IFERROR(_xlfn.XLOOKUP(A40,INDIRECT($A40&\"!m5\"),INDIRECT($A40&\"!b12\")),\"\")","v":0},{"$f":"IFERROR(_xlfn.XLOOKUP(A40,INDIRECT($A40&\"!m5\"),INDIRECT($A40&\"!c12\")),\"\")","v":0}]
[{"$f":"'36'!M$5","v":36},{"$f":"IFERROR(_xlfn.XLOOKUP(A41,INDIRECT($A41&\"!m5\"),INDIRECT($A41&\"!o5\")),\"\")","v":0},{"$f":"IFERROR(_xlfn.XLOOKUP(A41,INDIRECT($A41&\"!m5\"),INDIRECT($A41&\"!c4\")),\"\")","v":""},{"$f":"IFERROR(_xlfn.XLOOKUP(A41,INDIRECT($A41&\"!m5\"),INDIRECT($A41&\"!f4\")),\"\")","v":""},{"$f":"IFERROR(_xlfn.XLOOKUP(A41,INDIRECT($A41&\"!m5\"),INDIRECT($A41&\"!c5\")),\"\")","v":""},{"$f":"IFERROR(_xlfn.XLOOKUP(A41,INDIRECT($A41&\"!m5\"),INDIRECT($A41&\"!f5\")),\"\")","v":""},{"$f":"IFERROR(_xlfn.XLOOKUP(A41,INDIRECT($A41&\"!m5\"),INDIRECT($A41&\"!k4\")),\"\")","v":""},{"$f":"IFERROR(_xlfn.XLOOKUP(A41,INDIRECT($A41&\"!m5\"),INDIRECT($A41&\"!k5\")),\"\")","v":""},{"$f":"IFERROR(_xlfn.XLOOKUP(A41,INDIRECT($A41&\"!m5\"),INDIRECT($A41&\"!o14\")),\"\")","v":0},null,{"$f":"IFERROR(_xlfn.XLOOKUP(A41,INDIRECT($A41&\"!m5\"),INDIRECT($A41&\"!o10\")),\"\")","v":0},{"$f":"IFERROR(_xlfn.XLOOKUP(A41,INDIRECT($A41&\"!m5\"),INDIRECT($A41&\"!o11\")),\"\")","v":0},{"$f":"IFERROR(_xlfn.XLOOKUP(A41,INDIRECT($A41&\"!m5\"),INDIRECT($A41&\"!o12\")),\"\")","v":0},{"$f":"'1'!O$13","v":0},null,{"$f":"IFERROR(_xlfn.XLOOKUP(A41,INDIRECT($A41&\"!m5\"),INDIRECT($A41&\"!d17\")),\"\")","v":0},{"$f":"IFERROR(_xlfn.XLOOKUP(A41,INDIRECT($A41&\"!m5\"),INDIRECT($A41&\"!e17\")),\"\")","v":0},{"$f":"IFERROR(_xlfn.XLOOKUP(A41,INDIRECT($A41&\"!m5\"),INDIRECT($A41&\"!f17\")),\"\")","v":0},{"$f":"IFERROR(_xlfn.XLOOKUP(A41,INDIRECT($A41&\"!m5\"),INDIRECT($A41&\"!g17\")),\"\")","v":0},{"$f":"IFERROR(_xlfn.XLOOKUP(A41,INDIRECT($A41&\"!m5\"),INDIRECT($A41&\"!h17\")),\"\")","v":0},{"$f":"IFERROR(_xlfn.XLOOKUP(A41,INDIRECT($A41&\"!m5\"),INDIRECT($A41&\"!i17\")),\"\")","v":0},{"$f":"IFERROR(_xlfn.XLOOKUP(A41,INDIRECT($A41&\"!m5\"),INDIRECT($A41&\"!j17\")),\"\")","v":0},{"$f":"IFERROR(_xlfn.XLOOKUP(A41,INDIRECT($A41&\"!m5\"),INDIRECT($A41&\"!k17\")),\"\")","v":0},{"$f":"IFERROR(_xlfn.XLOOKUP(A41,INDIRECT($A41&\"!m5\"),INDIRECT($A41&\"!l17\")),\"\")","v":0},{"$f":"IFERROR(_xlfn.XLOOKUP(A41,INDIRECT($A41&\"!m5\"),INDIRECT($A41&\"!m17\")),\"\")","v":0},null,{"$f":"IFERROR(_xlfn.XLOOKUP(A41,INDIRECT($A41&\"!m5\"),INDIRECT($A41&\"!b10\")),\"\")","v":0},{"$f":"IFERROR(_xlfn.XLOOKUP(A41,INDIRECT($A41&\"!m5\"),INDIRECT($A41&\"!c10\")),\"\")","v":0},{"$f":"IFERROR(_xlfn.XLOOKUP(A41,INDIRECT($A41&\"!m5\"),INDIRECT($A41&\"!b11\")),\"\")","v":0},{"$f":"IFERROR(_xlfn.XLOOKUP(A41,INDIRECT($A41&\"!m5\"),INDIRECT($A41&\"!c11\")),\"\")","v":0},{"$f":"IFERROR(_xlfn.XLOOKUP(A41,INDIRECT($A41&\"!m5\"),INDIRECT($A41&\"!b12\")),\"\")","v":0},{"$f":"IFERROR(_xlfn.XLOOKUP(A41,INDIRECT($A41&\"!m5\"),INDIRECT($A41&\"!c12\")),\"\")","v":0}]
[{"$f":"'37'!M$5","v":37},{"$f":"IFERROR(_xlfn.XLOOKUP(A42,INDIRECT($A42&\"!m5\"),INDIRECT($A42&\"!o5\")),\"\")","v":0},{"$f":"IFERROR(_xlfn.XLOOKUP(A42,INDIRECT($A42&\"!m5\"),INDIRECT($A42&\"!c4\")),\"\")","v":""},{"$f":"IFERROR(_xlfn.XLOOKUP(A42,INDIRECT($A42&\"!m5\"),INDIRECT($A42&\"!f4\")),\"\")","v":""},{"$f":"IFERROR(_xlfn.XLOOKUP(A42,INDIRECT($A42&\"!m5\"),INDIRECT($A42&\"!c5\")),\"\")","v":""},{"$f":"IFERROR(_xlfn.XLOOKUP(A42,INDIRECT($A42&\"!m5\"),INDIRECT($A42&\"!f5\")),\"\")","v":""},{"$f":"IFERROR(_xlfn.XLOOKUP(A42,INDIRECT($A42&\"!m5\"),INDIRECT($A42&\"!k4\")),\"\")","v":""},{"$f":"IFERROR(_xlfn.XLOOKUP(A42,INDIRECT($A42&\"!m5\"),INDIRECT($A42&\"!k5\")),\"\")","v":""},{"$f":"IFERROR(_xlfn.XLOOKUP(A42,INDIRECT($A42&\"!m5\"),INDIRECT($A42&\"!o14\")),\"\")","v":0},null,{"$f":"IFERROR(_xlfn.XLOOKUP(A42,INDIRECT($A42&\"!m5\"),INDIRECT($A42&\"!o10\")),\"\")","v":0},{"$f":"IFERROR(_xlfn.XLOOKUP(A42,INDIRECT($A42&\"!m5\"),INDIRECT($A42&\"!o11\")),\"\")","v":0},{"$f":"IFERROR(_xlfn.XLOOKUP(A42,INDIRECT($A42&\"!m5\"),INDIRECT($A42&\"!o12\")),\"\")","v":0},{"$f":"'1'!O$13","v":0},null,{"$f":"IFERROR(_xlfn.XLOOKUP(A42,INDIRECT($A42&\"!m5\"),INDIRECT($A42&\"!d17\")),\"\")","v":0},{"$f":"IFERROR(_xlfn.XLOOKUP(A42,INDIRECT($A42&\"!m5\"),INDIRECT($A42&\"!e17\")),\"\")","v":0},{"$f":"IFERROR(_xlfn.XLOOKUP(A42,INDIRECT($A42&\"!m5\"),INDIRECT($A42&\"!f17\")),\"\")","v":0},{"$f":"IFERROR(_xlfn.XLOOKUP(A42,INDIRECT($A42&\"!m5\"),INDIRECT($A42&\"!g17\")),\"\")","v":0},{"$f":"IFERROR(_xlfn.XLOOKUP(A42,INDIRECT($A42&\"!m5\"),INDIRECT($A42&\"!h17\")),\"\")","v":0},{"$f":"IFERROR(_xlfn.XLOOKUP(A42,INDIRECT($A42&\"!m5\"),INDIRECT($A42&\"!i17\")),\"\")","v":0},{"$f":"IFERROR(_xlfn.XLOOKUP(A42,INDIRECT($A42&\"!m5\"),INDIRECT($A42&\"!j17\")),\"\")","v":0},{"$f":"IFERROR(_xlfn.XLOOKUP(A42,INDIRECT($A42&\"!m5\"),INDIRECT($A42&\"!k17\")),\"\")","v":0},{"$f":"IFERROR(_xlfn.XLOOKUP(A42,INDIRECT($A42&\"!m5\"),INDIRECT($A42&\"!l17\")),\"\")","v":0},{"$f":"IFERROR(_xlfn.XLOOKUP(A42,INDIRECT($A42&\"!m5\"),INDIRECT($A42&\"!m17\")),\"\")","v":0},null,{"$f":"IFERROR(_xlfn.XLOOKUP(A42,INDIRECT($A42&\"!m5\"),INDIRECT($A42&\"!b10\")),\"\")","v":0},{"$f":"IFERROR(_xlfn.XLOOKUP(A42,INDIRECT($A42&\"!m5\"),INDIRECT($A42&\"!c10\")),\"\")","v":0},{"$f":"IFERROR(_xlfn.XLOOKUP(A42,INDIRECT($A42&\"!m5\"),INDIRECT($A42&\"!b11\")),\"\")","v":0},{"$f":"IFERROR(_xlfn.XLOOKUP(A42,INDIRECT($A42&\"!m5\"),INDIRECT($A42&\"!c11\")),\"\")","v":0},{"$f":"IFERROR(_xlfn.XLOOKUP(A42,INDIRECT($A42&\"!m5\"),INDIRECT($A42&\"!b12\")),\"\")","v":0},{"$f":"IFERROR(_xlfn.XLOOKUP(A42,INDIRECT($A42&\"!m5\"),INDIRECT($A42&\"!c12\")),\"\")","v":0}]
[{"$f":"'38'!M$5","v":38},{"$f":"IFERROR(_xlfn.XLOOKUP(A43,INDIRECT($A43&\"!m5\"),INDIRECT($A43&\"!o5\")),\"\")","v":0},{"$f":"IFERROR(_xlfn.XLOOKUP(A43,INDIRECT($A43&\"!m5\"),INDIRECT($A43&\"!c4\")),\"\")","v":""},{"$f":"IFERROR(_xlfn.XLOOKUP(A43,INDIRECT($A43&\"!m5\"),INDIRECT($A43&\"!f4\")),\"\")","v":""},{"$f":"IFERROR(_xlfn.XLOOKUP(A43,INDIRECT($A43&\"!m5\"),INDIRECT($A43&\"!c5\")),\"\")","v":""},{"$f":"IFERROR(_xlfn.XLOOKUP(A43,INDIRECT($A43&\"!m5\"),INDIRECT($A43&\"!f5\")),\"\")","v":""},{"$f":"IFERROR(_xlfn.XLOOKUP(A43,INDIRECT($A43&\"!m5\"),INDIRECT($A43&\"!k4\")),\"\")","v":""},{"$f":"IFERROR(_xlfn.XLOOKUP(A43,INDIRECT($A43&\"!m5\"),INDIRECT($A43&\"!k5\")),\"\")","v":""},{"$f":"IFERROR(_xlfn.XLOOKUP(A43,INDIRECT($A43&\"!m5\"),INDIRECT($A43&\"!o14\")),\"\")","v":0},null,{"$f":"IFERROR(_xlfn.XLOOKUP(A43,INDIRECT($A43&\"!m5\"),INDIRECT($A43&\"!o10\")),\"\")","v":0},{"$f":"IFERROR(_xlfn.XLOOKUP(A43,INDIRECT($A43&\"!m5\"),INDIRECT($A43&\"!o11\")),\"\")","v":0},{"$f":"IFERROR(_xlfn.XLOOKUP(A43,INDIRECT($A43&\"!m5\"),INDIRECT($A43&\"!o12\")),\"\")","v":0},{"$f":"'1'!O$13","v":0},null,{"$f":"IFERROR(_xlfn.XLOOKUP(A43,INDIRECT($A43&\"!m5\"),INDIRECT($A43&\"!d17\")),\"\")","v":0},{"$f":"IFERROR(_xlfn.XLOOKUP(A43,INDIRECT($A43&\"!m5\"),INDIRECT($A43&\"!e17\")),\"\")","v":0},{"$f":"IFERROR(_xlfn.XLOOKUP(A43,INDIRECT($A43&\"!m5\"),INDIRECT($A43&\"!f17\")),\"\")","v":0},{"$f":"IFERROR(_xlfn.XLOOKUP(A43,INDIRECT($A43&\"!m5\"),INDIRECT($A43&\"!g17\")),\"\")","v":0},{"$f":"IFERROR(_xlfn.XLOOKUP(A43,INDIRECT($A43&\"!m5\"),INDIRECT($A43&\"!h17\")),\"\")","v":0},{"$f":"IFERROR(_xlfn.XLOOKUP(A43,INDIRECT($A43&\"!m5\"),INDIRECT($A43&\"!i17\")),\"\")","v":0},{"$f":"IFERROR(_xlfn.XLOOKUP(A43,INDIRECT($A43&\"!m5\"),INDIRECT($A43&\"!j17\")),\"\")","v":0},{"$f":"IFERROR(_xlfn.XLOOKUP(A43,INDIRECT($A43&\"!m5\"),INDIRECT($A43&\"!k17\")),\"\")","v":0},{"$f":"IFERROR(_xlfn.XLOOKUP(A43,INDIRECT($A43&\"!m5\"),INDIRECT($A43&\"!l17\")),\"\")","v":0},{"$f":"IFERROR(_xlfn.XLOOKUP(A43,INDIRECT($A43&\"!m5\"),INDIRECT($A43&\"!m17\")),\"\")","v":0},null,{"$f":"IFERROR(_xlfn.XLOOKUP(A43,INDIRECT($A43&\"!m5\"),INDIRECT($A43&\"!b10\")),\"\")","v":0},{"$f":"IFERROR(_xlfn.XLOOKUP(A43,INDIRECT($A43&\"!m5\"),INDIRECT($A43&\"!c10\")),\"\")","v":0},{"$f":"IFERROR(_xlfn.XLOOKUP(A43,INDIRECT($A43&\"!m5\"),INDIRECT($A43&\"!b11\")),\"\")","v":0},{"$f":"IFERROR(_xlfn.XLOOKUP(A43,INDIRECT($A43&\"!m5\"),INDIRECT($A43&\"!c11\")),\"\")","v":0},{"$f":"IFERROR(_xlfn.XLOOKUP(A43,INDIRECT($A43&\"!m5\"),INDIRECT($A43&\"!b12\")),\"\")","v":0},{"$f":"IFERROR(_xlfn.XLOOKUP(A43,INDIRECT($A43&\"!m5\"),INDIRECT($A43&\"!c12\")),\"\")","v":0}]
[{"$f":"'39'!M$5","v":39},{"$f":"IFERROR(_xlfn.XLOOKUP(A44,INDIRECT($A44&\"!m5\"),INDIRECT($A44&\"!o5\")),\"\")","v":0},{"$f":"IFERROR(_xlfn.XLOOKUP(A44,INDIRECT($A44&\"!m5\"),INDIRECT($A44&\"!c4\")),\"\")","v":""},{"$f":"IFERROR(_xlfn.XLOOKUP(A44,INDIRECT($A44&\"!m5\"),INDIRECT($A44&\"!f4\")),\"\")","v":""},{"$f":"IFERROR(_xlfn.XLOOKUP(A44,INDIRECT($A44&\"!m5\"),INDIRECT($A44&\"!c5\")),\"\")","v":""},{"$f":"IFERROR(_xlfn.XLOOKUP(A44,INDIRECT($A44&\"!m5\"),INDIRECT($A44&\"!f5\")),\"\")","v":""},{"$f":"IFERROR(_xlfn.XLOOKUP(A44,INDIRECT($A44&\"!m5\"),INDIRECT($A44&\"!k4\")),\"\")","v":""},{"$f":"IFERROR(_xlfn.XLOOKUP(A44,INDIRECT($A44&\"!m5\"),INDIRECT($A44&\"!k5\")),\"\")","v":""},{"$f":"IFERROR(_xlfn.XLOOKUP(A44,INDIRECT($A44&\"!m5\"),INDIRECT($A44&\"!o14\")),\"\")","v":0},null,{"$f":"IFERROR(_xlfn.XLOOKUP(A44,INDIRECT($A44&\"!m5\"),INDIRECT($A44&\"!o10\")),\"\")","v":0},{"$f":"IFERROR(_xlfn.XLOOKUP(A44,INDIRECT($A44&\"!m5\"),INDIRECT($A44&\"!o11\")),\"\")","v":0},{"$f":"IFERROR(_xlfn.XLOOKUP(A44,INDIRECT($A44&\"!m5\"),INDIRECT($A44&\"!o12\")),\"\")","v":0},{"$f":"'1'!O$13","v":0},null,{"$f":"IFERROR(_xlfn.XLOOKUP(A44,INDIRECT($A44&\"!m5\"),INDIRECT($A44&\"!d17\")),\"\")","v":0},{"$f":"IFERROR(_xlfn.XLOOKUP(A44,INDIRECT($A44&\"!m5\"),INDIRECT($A44&\"!e17\")),\"\")","v":0},{"$f":"IFERROR(_xlfn.XLOOKUP(A44,INDIRECT($A44&\"!m5\"),INDIRECT($A44&\"!f17\")),\"\")","v":0},{"$f":"IFERROR(_xlfn.XLOOKUP(A44,INDIRECT($A44&\"!m5\"),INDIRECT($A44&\"!g17\")),\"\")","v":0},{"$f":"IFERROR(_xlfn.XLOOKUP(A44,INDIRECT($A44&\"!m5\"),INDIRECT($A44&\"!h17\")),\"\")","v":0},{"$f":"IFERROR(_xlfn.XLOOKUP(A44,INDIRECT($A44&\"!m5\"),INDIRECT($A44&\"!i17\")),\"\")","v":0},{"$f":"IFERROR(_xlfn.XLOOKUP(A44,INDIRECT($A44&\"!m5\"),INDIRECT($A44&\"!j17\")),\"\")","v":0},{"$f":"IFERROR(_xlfn.XLOOKUP(A44,INDIRECT($A44&\"!m5\"),INDIRECT($A44&\"!k17\")),\"\")","v":0},{"$f":"IFERROR(_xlfn.XLOOKUP(A44,INDIRECT($A44&\"!m5\"),INDIRECT($A44&\"!l17\")),\"\")","v":0},{"$f":"IFERROR(_xlfn.XLOOKUP(A44,INDIRECT($A44&\"!m5\"),INDIRECT($A44&\"!m17\")),\"\")","v":0},null,{"$f":"IFERROR(_xlfn.XLOOKUP(A44,INDIRECT($A44&\"!m5\"),INDIRECT($A44&\"!b10\")),\"\")","v":0},{"$f":"IFERROR(_xlfn.XLOOKUP(A44,INDIRECT($A44&\"!m5\"),INDIRECT($A44&\"!c10\")),\"\")","v":0},{"$f":"IFERROR(_xlfn.XLOOKUP(A44,INDIRECT($A44&\"!m5\"),INDIRECT($A44&\"!b11\")),\"\")","v":0},{"$f":"IFERROR(_xlfn.XLOOKUP(A44,INDIRECT($A44&\"!m5\"),INDIRECT($A44&\"!c11\")),\"\")","v":0},{"$f":"IFERROR(_xlfn.XLOOKUP(A44,INDIRECT($A44&\"!m5\"),INDIRECT($A44&\"!b12\")),\"\")","v":0},{"$f":"IFERROR(_xlfn.XLOOKUP(A44,INDIRECT($A44&\"!m5\"),INDIRECT($A44&\"!c12\")),\"\")","v":0}]
[{"$f":"'40'!M$5","v":40},{"$f":"IFERROR(_xlfn.XLOOKUP(A45,INDIRECT($A45&\"!m5\"),INDIRECT($A45&\"!o5\")),\"\")","v":0},{"$f":"IFERROR(_xlfn.XLOOKUP(A45,INDIRECT($A45&\"!m5\"),INDIRECT($A45&\"!c4\")),\"\")","v":""},{"$f":"IFERROR(_xlfn.XLOOKUP(A45,INDIRECT($A45&\"!m5\"),INDIRECT($A45&\"!f4\")),\"\")","v":""},{"$f":"IFERROR(_xlfn.XLOOKUP(A45,INDIRECT($A45&\"!m5\"),INDIRECT($A45&\"!c5\")),\"\")","v":""},{"$f":"IFERROR(_xlfn.XLOOKUP(A45,INDIRECT($A45&\"!m5\"),INDIRECT($A45&\"!f5\")),\"\")","v":""},{"$f":"IFERROR(_xlfn.XLOOKUP(A45,INDIRECT($A45&\"!m5\"),INDIRECT($A45&\"!k4\")),\"\")","v":""},{"$f":"IFERROR(_xlfn.XLOOKUP(A45,INDIRECT($A45&\"!m5\"),INDIRECT($A45&\"!k5\")),\"\")","v":""},{"$f":"IFERROR(_xlfn.XLOOKUP(A45,INDIRECT($A45&\"!m5\"),INDIRECT($A45&\"!o14\")),\"\")","v":0},null,{"$f":"IFERROR(_xlfn.XLOOKUP(A45,INDIRECT($A45&\"!m5\"),INDIRECT($A45&\"!o10\")),\"\")","v":0},{"$f":"IFERROR(_xlfn.XLOOKUP(A45,INDIRECT($A45&\"!m5\"),INDIRECT($A45&\"!o11\")),\"\")","v":0},{"$f":"IFERROR(_xlfn.XLOOKUP(A45,INDIRECT($A45&\"!m5\"),INDIRECT($A45&\"!o12\")),\"\")","v":0},{"$f":"'1'!O$13","v":0},null,{"$f":"IFERROR(_xlfn.XLOOKUP(A45,INDIRECT($A45&\"!m5\"),INDIRECT($A45&\"!d17\")),\"\")","v":0},{"$f":"IFERROR(_xlfn.XLOOKUP(A45,INDIRECT($A45&\"!m5\"),INDIRECT($A45&\"!e17\")),\"\")","v":0},{"$f":"IFERROR(_xlfn.XLOOKUP(A45,INDIRECT($A45&\"!m5\"),INDIRECT($A45&\"!f17\")),\"\")","v":0},{"$f":"IFERROR(_xlfn.XLOOKUP(A45,INDIRECT($A45&\"!m5\"),INDIRECT($A45&\"!g17\")),\"\")","v":0},{"$f":"IFERROR(_xlfn.XLOOKUP(A45,INDIRECT($A45&\"!m5\"),INDIRECT($A45&\"!h17\")),\"\")","v":0},{"$f":"IFERROR(_xlfn.XLOOKUP(A45,INDIRECT($A45&\"!m5\"),INDIRECT($A45&\"!i17\")),\"\")","v":0},{"$f":"IFERROR(_xlfn.XLOOKUP(A45,INDIRECT($A45&\"!m5\"),INDIRECT($A45&\"!j17\")),\"\")","v":0},{"$f":"IFERROR(_xlfn.XLOOKUP(A45,INDIRECT($A45&\"!m5\"),INDIRECT($A45&\"!k17\")),\"\")","v":0},{"$f":"IFERROR(_xlfn.XLOOKUP(A45,INDIRECT($A45&\"!m5\"),INDIRECT($A45&\"!l17\")),\"\")","v":0},{"$f":"IFERROR(_xlfn.XLOOKUP(A45,INDIRECT($A45&\"!m5\"),INDIRECT($A45&\"!m17\")),\"\")","v":0},null,{"$f":"IFERROR(_xlfn.XLOOKUP(A45,INDIRECT($A45&\"!m5\"),INDIRECT($A45&\"!b10\")),\"\")","v":0},{"$f":"IFERROR(_xlfn.XLOOKUP(A45,INDIRECT($A45&\"!m5\"),INDIRECT($A45&\"!c10\")),\"\")","v":0},{"$f":"IFERROR(_xlfn.XLOOKUP(A45,INDIRECT($A45&\"!m5\"),INDIRECT($A45&\"!b11\")),\"\")","v":0},{"$f":"IFERROR(_xlfn.XLOOKUP(A45,INDIRECT($A45&\"!m5\"),INDIRECT($A45&\"!c11\")),\"\")","v":0},{"$f":"IFERROR(_xlfn.XLOOKUP(A45,INDIRECT($A45&\"!m5\"),INDIRECT($A45&\"!b12\")),\"\")","v":0},{"$f":"IFERROR(_xlfn.XLOOKUP(A45,INDIRECT($A45&\"!m5\"),INDIRECT($A45&\"!c12\")),\"\")","v":0}]

{"sheet":"Tabelle1","index":42,"n_rows":5071,"n_cols":3,"rows_kept":5071,"cut":false,"hidden":true,"merged":[]}
["Personennummer","Nachname","Vorname"]
[1202218,"Frei","Martin"]
[1202225,"Götschi","Martha"]
[1202231,"Krättli","Ruedi"]
[1202229,"Imhof","Werner Jun."]
[1202228,"Illi","Freddy"]
[1202230,"Keller","Peter"]
[1202822,"Hollenstein","Ernst"]
[1035785,"Bäriswyl","Michelle"]
[1051984,"Meier","Anton"]
[1151462,"Landolt","Bruno"]
[1917636,"Hänni","Ronan"]
[1201830,"Keller","Rolf"]
[1202242,"Sternberger","Horst"]
[1202237,"Honsberger","Pierre"]
[1241994,"Fontana","Christian"]
[1247340,"Hablützel","Richard"]
[1203828,"Kappeler","Wolfgang"]
[1258043,"Klieber","Julie"]
[1670544,"Pichler","Michael"]
[1203838,"Stoll","Hans Peter"]
[1078104,"Wehle","Marianne"]
[1203839,"Streit","Walter"]
[1898116,"Landolt","Ravi"]
[1251523,"Klieber","Philippe"]
[1203844,"Brühlmann","Andreas"]
[1270304,"Nyffenegger","Pascal"]
[1202986,"Müller","Yves"]
[1526674,"Wehle","Svenja"]
[1681257,"Winterflood","Joshua"]
[1201849,"Suter","Marco"]
[1203832,"Nungesser","Dietmar"]
[1686245,"Brühlmann","Robin"]
[1201850,"Suter","Reto"]
[1203837,"Stoll","Ivo"]
[1028477,"Busshart","Andrea"]
[1176314,"Wohlgensinger","Peter"]
[1889577,"Hurni","Ceco"]
[1202252,"Meier","Peter"]
[1202250,"Hotz","Thomas"]
[1181803,"Hirt","Beat"]
[1042631,"Scherrer","Elvira"]
[1042630,"Scherrer","Hanspeter"]
[1202259,"Dinkel","Peter"]
[1027918,"Busshart","Thomas"]
[1790199,"Artho","Roger"]
[1615109,"Treibenreif","Christa"]
[1066533,"Patt","Josef"]
[1226872,"Erismann","Roman"]
[1202280,"Petrig-Wegmann","Susanne"]
[1076106,"Beer","Werner"]
[1202272,"Krebs","Emil"]
[1123525,"Roth","Paul"]
[1600059,"Wagner","Damian"]
[1078044,"Reist","Daniel"]
[1202266,"Fürst","Willy"]
[1119345,"Baldegger","Daniel"]
[1054800,"Steinmann","Hans"]
[1203033,"Dossenbach","Urs"]
[1202847,"Röthlin","Kurt"]
[1119213,"Steinmann","Andreas"]
[1260103,"Seidel","Michael"]
[1237658,"Lütolf","Ruedi"]
[1202846,"Röthlin","Erich"]
[1084019,"Bucher","Ernst"]
[1202295,"Tschachtli","Martin"]
[1866366,"Mirza","Akram"]
[1202610,"Haller","Anton"]
[1074709,"Galbier-Raschle","Verena"]
[1202458,"Tschanz","Durs"]
[1897847,"Herzog","Peter"]
[1202610,"Haller","Anton"]
[1202608,"Donatsch","Daniel"]
[1863576,"Gutweniger","Erich"]
[1242010,"Burlet","Roger"]
[1492971,"Angehrn","Leo"]
[1202301,"Müller","Heinz"]
[1202296,"Diethelm","Josef"]
[1839581,"Glück","Barbara"]
[1270105,"Nanzer","Stefan"]
[1150426,"Hess","Thomas"]
[2258203,"Grosjean","Ueli"]
[1202303,"Uebersax","Pascal"]
[1242015,"Bänninger","David"]
[1202313,"Meier","Ruth"]
[1251961,"Weidmann","Lukas"]
[1688568,"Schuler","Nohemi"]
[1042736,"Berger","Conni"]
[1202317,"Schaffter","Bernard"]
[1521430,"Homberger","Cyril"]
[1056649,"Ochsner","Marcel"]
[1125181,"Burri","Stefan"]
[1042735,"Turkalj","Nadia"]
[1251958,"Bänninger","Andreas"]
[2201278,"Meier","Jack"]
[1089012,"Berger","Ueli"]
[1409720,"Häsler","Christoph"]
[1202306,"Fröhlich","Alfred"]
[1250429,"Bearth","Christine"]
[2197155,"Käselau","Jan"]
[1009177,"Homberger","René"]
[1042737,"Grossenbacher","Reto"]
[1069383,"Carigiet","Meinrad"]
[1029633,"Huchelmann","Frédérique"]
[1242028,"Vetsch","Marco"]
[1857097,"Andermatt","Armin"]
[1051790,"Georgi","Urs"]
[1039255,"Schuhn","Daniel"]
[1119370,"Winzeler","Bruno"]
[1058364,"Guignard","Silvia"]
[1202389,"Vetsch","Heinz"]
[1058826,"Schueller","Pascal"]
[1277172,"Piller","Luca"]
[1261911,"Eyb","Hubertus"]
[1202377,"Böni","Roger"]
[1893702,"Maurer","Thomas"]
[1202379,"De Zordi","Peter"]
[1210284,"Brunold","Brigitte"]
[1247914,"Siffert","Toni"]
[1118853,"Lenherr","Beat"]
[2219809,"Tappolet","Urs"]
[1622083,"Senn","Manuel"]
[1118859,"Haller-Staub","Sonja"]
[1202410,"Siffert","Marie-Theres"]
[1118846,"Fankhauser","Andreas"]
[1202413,"Streuli","Daniel"]
[1893539,"Sutter","Philipp"]
[1150957,"Fankhauser","Roland"]
[1242034,"Egger","Hansruedi"]
[1056597,"Bührer","Armin"]
[1630094,"Leu","Nicolas"]
[1055691,"Gohl","Walter"]
[1145283,"Gohl","Bruno"]
[1203862,"Engler","Marianne"]
[1239898,"Gohl","Roman"]
[1203868,"Sauzet","René"]
[1526684,"Hügli","Sarah"]
[1873634,"Schwab","Harald"]
[1898141,"Ehren","Marc"]
[1201800,"Schelling","Andreas"]
[1203869,"Schefer","Alfred"]
[1042733,"Öttinger","Simon"]
[1126724,"Tores","Fatima"]
[1034401,"Schaub","Thomas"]
[1278023,"Weberling","Thomas"]
[1270829,"Meier","Dominic"]
[1108970,"Berger","Guido"]
[1202437,"Meier","Thomas"]
[1897846,"Cerini","Luca"]
[1202434,"Meier","Stefan"]
[1681292,"Lienhard","Reto"]
[1536043,"Eisenegger","Julian"]
[1202430,"Gerber","Hans"]
[1202442,"Meier","Monika"]
[1270832,"Linhart","Nicolas"]
[1115816,"Hächler","Hansjörg"]
[1115812,"Maino","René"]
[1179102,"Wüthrich","Peter"]
[1202466,"Kündig","Jakob"]
[1202462,"Caruso","Enzo"]
[1202465,"Kündig","Andreas"]
[1202467,"Marty","Fredi"]
[1115811,"Ott","Arnold"]
[1202463,"Furrer","Ruedi"]
[1096531,"Moor","Ernst"]
[1124293,"Wenzinger","Max"]
[1145870,"Winzeler","Richard"]
[1260487,"Koch","Rainer"]
[1202489,"Bachofner","Roland"]
[1202277,"Portner","Andreas"]
[1077465,"Burkhalter","Andreas"]
[1202454,"Näf","Peter"]
[1242407,"Raschle","Martin"]
[1202498,"Tanner","Eric"]
[1202501,"Zihlmann","Richard"]
[1527841,"Raschle","Lukas"]
[1097033,"Morf","André"]
[1202495,"Raschle","Richard"]
[1270837,"Häringer","Marcelina"]
[1202494,"Portner","Markus"]
[1469720,"Schnydrig","Yves Alain"]
[1684255,"Bachofner","Sven"]
[1120241,"Weiss","Hansruedi"]
[1202456,"Nägeli","Stefan"]
[1270838,"Häringer","Angelina"]
[1202500,"Wild","Kurt"]
[1202505,"Frey","Max"]
[1201843,"Schlatter","Peter"]
[1202834,"Haubold","Heide"]
[1238435,"Frischknecht","Werner"]
[1636380,"Haubold","Urs"]
[1202512,"Lannois","Harry"]
[1202824,"Schmid","Stephan"]
[1052066,"Siegfried","Ruedi"]
[1251517,"Hauenstein","Adrian"]
[1202516,"Bertschinger","Hansruedi"]
[1201815,"Blaser","Hanspeter"]
[1076404,"Gantenbein","Paul"]
[1202533,"Gloor","Peter"]
[1888733,"Stiefel","Max"]
[1074563,"Hollenstein","Vreni"]
[1202528,"Bloch","Michel"]
[1202527,"Blaser","Karl"]
[1202545,"Weibel","Rolf"]
[1742426,"Peter","Lukas"]
[1202557,"Meili","Heinrich"]
[1202556,"Kägi","René"]
[1202551,"Brunner","Ueli"]
[1040932,"Lienhard","Christian"]
[1862130,"Laluha","Peter"]
[1202580,"Wohlgemuth","Ralph"]
[1202569,"Simmler","Urs"]
[1202565,"Schmid","Marco"]
[1202572,"Simmler","Martin"]
[1687081,"Egli","Thomas"]
[1069448,"Egli","Walter"]
[1266893,"Moro","Martin"]
[1202552,"Chappuis","Michel"]
[1202550,"Baltensperger","Rolf"]
[1237657,"Schellenberg","Kurt"]
[1202574,"Spalinger","Bernhard"]
[1202579,"Weiss","Hans-Peter"]
[1202553,"Egli","Albert"]
[1058614,"Egli","Kurt"]
[1256475,"Müller","Roger"]
[2257155,"Wikus","Patrick"]
[1242082,"Sägesser","Beat"]
[1202600,"Rinderknecht","Ruth"]
[1277241,"Frei","Silvan"]
[1277243,"Sturzenegger","Reto"]
[1277242,"Eggenberger","Kurt"]
[1202595,"Kräutli","Luciano"]
[1041981,"Widmer","Vera"]
[1917193,"Hirschi","Heinz"]
[1202591,"Brügger","Rosmarie"]
[1041980,"Boss","Tobias"]
[1242091,"Thurnherr","Marco"]
[1825926,"Suter","Franziska"]
[1277240,"Bütler","Michi"]
[1897848,"Vasquez","Andrea"]
[1203822,"Scherrer-Eigenmann","Jessica"]
[1074709,"Galbier-Raschle","Verena"]
[1202450,"Baumgartner","Michel"]
[1202609,"Gadient","Reto"]
[1202458,"Tschanz","Durs"]
[1665550,"Grobotek","Nino"]
[1203823,"Eigenmann","Bruno"]
[1897847,"Herzog","Peter"]
[1032652,"Späni","Peter"]
[1202610,"Haller","Anton"]
[1202614,"Muhmenthaler","Kurt"]
[1202608,"Donatsch","Daniel"]
[1202618,"Weber","Franz"]
[1863576,"Gutweniger","Erich"]
[1202621,"Bachmann","Rolf"]
[1902710,"de Matos Caiado","Jose"]
[1201787,"Vogel","Martin"]
[1153785,"Kuriger","Fritz"]
[1153807,"Schmid","Christian"]
[1202625,"Truninger","Rainer"]
[1083799,"Staub","Max"]
[1116023,"Manser","Erich"]
[1202632,"Widmer","Ruth"]
[1202629,"Nägeli","Samuel"]
[1764670,"Fürst","Armin"]
[2212333,"Schwarzenbach","Patrick"]
[2212332,"Frey","Urs"]
[1679168,"Duvoisin","Alex"]
[1202633,"Widmer","Michael"]
[1778253,"Wackerl","Christian"]
[1202634,"Aebersold","Andreas"]
[1202637,"Fischer","Alwin"]
[1202647,"Vollenweider","Willi"]
[1202643,"Oetiker","Bruno"]
[1121611,"Jud","Peter"]
[1202640,"Grubenmann","Walter"]
[1202706,"Rusterholz","Adolf"]
[1202649,"Baumann","Hans"]
[1136926,"Eyer","Patric"]
[1202705,"Roth","Bruno"]
[1150721,"Winkler","Ruedi"]
[1202699,"Hiestand","Ueli"]
[1202704,"Reiffer","Hans"]
[1202710,"Blöchlinger","Thomas"]
[1161638,"Ebnöther","Jürg"]
[1169387,"Kaiser","Franz"]
[1862131,"Keller","Urs"]
[1202709,"Blöchlinger","Franz"]
[1105019,"Bodmer","Urs"]
[1201829,"Hollenstein","Franz"]
[1139774,"Wiesmann","Ernst"]
[1203913,"Eggli","Walter"]
[1266977,"Nepfer","Marcel"]
[1055442,"Werner","Ernst"]
[1203911,"Egger","Jörg"]
[1203922,"Veyhl","Fridolin"]
[2268882,"Schwarz","Erik"]
[1203917,"Hadorn","Markus"]
[1203915,"Gut","Raphael"]
[1202741,"Hinnen","Peter"]
[1599036,"Bosshard","Tobias"]
[1039769,"Pisa","Yoric"]
[1119348,"Hinnen","Daniel"]
[1827907,"Handke","Philipp"]
[1242905,"Zellweger","Carmen"]
[1202481,"Suter","Franz"]
[1202749,"Steiger","Niklaus"]
[1202740,"Hinnen","Heini"]
[1270846,"Schellenbaum","Aurelio"]
[1202738,"Harlacher","Renato"]
[1202742,"Infanger","Jürg"]
[1202479,"Notz","Jakob"]
[1236464,"Müller","Albert"]
[2220153,"Heyn","Ilonka"]
[1202735,"Caviezel","Andreas"]
[1499932,"Baumgartner","Joëlle Pascale"]
[1251501,"Jost","Kevin"]
[1202750,"Steinemann","Roland"]
[2220152,"Scolaro","Franco"]
[1161638,"Ebnöther","Jürg"]
[1161638,"Ebnöther","Jürg"]
[1201857,"Zellweger","Ernst"]
[1242906,"Zellweger","Ralf"]
[1122906,"Reif","Daniel"]
[1202869,"Böhler","Walter"]
[1060308,"Frei","Roland"]
[1096405,"Maurer","Reto"]
[1233274,"Niederberger","Dominic"]
[1109288,"Egolf","Andreas"]
[2222111,"Frei","Andreas"]
[1202343,"Münger","Werner"]
[1202872,"Kneubühler","Philippe"]
[1130803,"Meister","Rolf"]
[1233980,"Niederberger","Michel"]
[1202759,"Schollenberger","Marcel"]
[1219725,"Tonoli","Claudio"]
[1202762,"Strasser","Heinz"]
[1680353,"Müller","Werner"]
[1202345,"Niederberger","Pius"]
[1245975,"Dietrich","Bettina"]
[1622892,"Heider","Monica"]
[1492882,"Lohm","Christian"]
[1202806,"Greutert","Walter"]
[1184121,"Wismer","Christian"]
[1345959,"Heider","Sonja"]
[1202810,"Hänni","Markus"]
[1202799,"Berli","Rico"]
[1202808,"Gujer","Daniel"]
[1202809,"Hänni","Thomas"]
[1202816,"Meier","Roland"]
[1202812,"Lang","Patrick"]
[1622891,"Dietrich","Maik"]
[1201846,"Seeberger","Hans"]
[1202807,"Gujer","Nicole"]
[2207435,"Fuchs","Christine"]
[1247131,"Bollmann","Ruth"]
[1751598,"Futscher","Roland"]
[1170957,"Hofmann","Edi"]
[1242123,"von Rickenbach","Jürg"]
[1277246,"Hasler","Felix"]
[1853198,"Gyssler","Bernhard"]
[1202823,"Moser","Walter"]
[2262377,"Francis","Ethan"]
[1675790,"Riexinger","Nicola"]
[1778023,"Hefti","Janine"]
[1722928,"Crepaldi","Michael"]
[1835255,"Guntern","Chantal"]
[1551683,"Mötteli","Dominic"]
[1242130,"Hefti","Christian"]
[1242141,"Ritzmann","Markus"]
[1242144,"Bieri","Reto"]
[1758178,"Bernet","Tabea"]
[1862177,"Guntern","Joshua"]
[1711501,"Bernet","Dominic"]
[1492974,"Geitner","Philipp"]
[1065888,"Wüest","Markus"]
[1675791,"Karrer","Florian"]
[1835254,"Guntern","Heinz"]
[1066586,"Hiestand","Robert"]
[1027992,"Meier","Andrin"]
[1101296,"Bührer","Hans"]
[1809231,"Stauffer","Siro"]
[1202829,"Eicher","Marc"]
[1039468,"Barbagallo","Nicole"]
[1202835,"Leuenberger","Max"]
[1202838,"Sigg","Rudolf"]
[1228190,"Fritz","Oliver"]
[1202856,"Wettach","Franz"]
[1202852,"Müller","Bruno"]
[1202857,"Winkler","Eduard"]
[1634325,"Zimmermann","Walter"]
[1154012,"Kälin","Raphael"]
[1859898,"Jud","Anton"]
[1202886,"Ruhstaller","Franz"]
[1202879,"Beeler","René"]
[1248386,"Sens","Silke"]
[1203796,"Heuberger","Arnold"]
[1202883,"Müller","Peter"]
[1174156,"Besmer","Bruno"]
[1184074,"Heutschi","Alban"]
[1052768,"Bloch","Eugen"]
[1202998,"Fluri","Roger"]
[1203004,"Stecher","Alois"]
[1050697,"Zihler","Markus"]
[1050698,"Zihler","Rudolf"]
[1027021,"Räuftlin","Ruedi"]
[1050699,"Zihler","Ruedi"]
[1712734,"Fluri","Martin"]
[1050671,"Heutschi","René"]
[1203039,"Flühler","Stefan"]
[1203050,"Wiese","Elisabeth"]
[1203043,"Reichmuth","Daniel"]
[1203047,"Schuler","Pirmin"]
[1203028,"Meisinger","Stephan"]
[1062477,"Marbach","Karl"]
[1652774,"Schraner","Roman"]
[1062523,"Graber-Marbach","Nadja"]
[1092446,"Bucherer","Felix"]
[1203063,"Felber","Hans"]
[1051777,"Häfliger","Walter"]
[1130991,"Schwegler","Bernhard"]
[1268837,"Felber","Tobias"]
[1436515,"Schumacher","David"]
[1190029,"May","Stefan"]
[1203072,"Marbach","Florentin"]
[1203064,"Felber","Eveline"]
[1205106,"Hermann","Martin"]
[1652771,"Helfenstein","Sarina"]
[1242981,"Hansen","Jonas"]
[1203076,"Suppiger","Alois"]
[1142480,"Vogt","Willi"]
[1759252,"Suarez","Noel"]
[1203107,"Ingold","Franz"]
[2265219,"Hall","Roger"]
[1087853,"Siegrist","Max"]
[1786150,"Würsch","Martin"]
[1202977,"Weiss","Anton"]
[1786151,"Würsch","Andrin"]
[1203108,"Leder","Urs"]
[1202962,"Schnidrig","Otto"]
[1202955,"Stiefel","Peter"]
[1202915,"Janssen","Doris"]
[2263576,"Unternährer","Selina"]
[2250309,"Baumann","Dario"]
[1203160,"Hofmann","Meinrad"]
[1256340,"Ambauen","Roland"]
[1203171,"Rohrer","Anton"]
[1046075,"Frei","Joe"]
[1203161,"Minder","Josef"]
[1829114,"Renggli","Ninja"]
[1203170,"Richener","Ruedi"]
[1652000,"Niederberger","Michelle"]
[1100733,"Niederberger","Paul"]
[1062416,"Joller","Josef"]
[1167870,"Niederberger","Richard"]
[1203173,"Schweizer","Willy"]
[1239001,"Schweizer","Pascal"]
[1346266,"Odermatt","Jonas"]
[1203166,"Niederberger","Eugen"]
[1651999,"Barmettler","Lara"]
[1167876,"Odermatt","Josef"]
[1466394,"Niederberger","Stefan"]
[1186333,"Felder","Toni"]
[1790985,"Duss","André"]
[1036206,"Rohrer","Yasmin"]
[1721634,"Anicic","Marko"]
[1290740,"Perrollaz","Christian"]
[1203212,"Jauch","Erhard"]
[1203209,"Räber","Edy"]
[1270270,"Hasler","Peter"]
[1632193,"Anicic","Josip"]
[1243009,"Hasler","Michael"]
[1082791,"Portmann","Toni"]
[1201790,"Albisser","Anton"]
[1225782,"Venhoda","Sabine"]
[1058787,"Zürcher","Hans"]
[1203221,"Schmid","Renate"]
[1120622,"Fricker","Konrad"]
[1203219,"Schmid","Theo"]
[1203217,"Kalt","Robert"]
[1203214,"Imhof-Berger","Yvonne"]
[1061982,"Arnold","Adrian"]
[1062598,"Sicher","Vali"]
[1063906,"Loretz","Stephan"]
[1030720,"Walker","Silvan"]
[1063907,"Walker","Franz"]
[1258495,"Walker","Gabriel"]
[1409880,"Kempf","Daniel"]
[1153614,"Luzzani","Roger"]
[1057509,"Dittli","Heinrich"]
[1830771,"Werder","Regula"]
[1875358,"Gemperle","Alex"]
[1203283,"Baumgartner","Alois"]
[1203301,"Syfrig","Armin"]
[1203302,"Thomann","Martin"]
[1290314,"Peterhans","Ruth"]
[1895398,"Baum","Rebekka"]
[1461464,"Luthiger","Christina"]
[1203285,"Bucheli","Franz"]
[1872049,"Luthiger","Joe"]
[1063884,"Baumgartner","Peter"]
[1203300,"Syfrig","Beat"]
[1203289,"Luthiger","Beat"]
[1203303,"Werder","Michael"]
[1203287,"Bütler","Daniel"]
[1203295,"Studer","Patrick"]
[1217170,"Gretener","August"]
[1203346,"Dober","Beat"]
[1765770,"Patelli","Nino"]
[1203344,"Ambauen","Lukas"]
[1829108,"Dober","Roman"]
[1891663,"Hess","Urs"]
[2294582,"von Glahn Lepple","Martina"]
[1203342,"Ambauen","Peter"]
[1063871,"Eberhard","Markus"]
[1192066,"Eberhard","Theres"]
[1203347,"Dober","Bruno"]
[1685389,"Iten","Yanik"]
[1173464,"Eichholzer","Bernhard"]
[2262136,"Zollinger","Eveline"]
[1126415,"Doswald","Ulrich"]
[1179490,"Hugener","Markus"]
[1238259,"Hoppler","Dominic"]
[1173473,"Niederberger","Pius"]
[1171034,"Barmet","Stefan"]
[1586671,"Landolt","Stefan"]
[1203312,"Hugener","Karl"]
[1157515,"Nussbaumer","Bruno"]
[1203316,"Lüthold","René"]
[1203326,"Kränzlin","Gerhard"]
[1203315,"Lüscher","Ernst"]
[1463067,"Wegst","Daniel"]
[1203370,"Künzle","Rolf"]
[1463327,"Bertschi","Stefan"]
[1101672,"Kottmann","Jost"]
[1122821,"Leu","Roland"]
[1034785,"Gautschi","Christoph"]
[1036365,"Wüest","Anita"]
[1129874,"Gautschi","Peter"]
[1203367,"Koller","Friedrich"]
[1133817,"Holliger","Otto"]
[1498874,"Leutwyler","Tobias"]
[1622855,"Hess","Ben"]
[1829796,"Hochuli","Marc"]
[1498875,"Ernst","Stefan"]
[1203380,"Kuster","Marcel"]
[1203538,"Wampfler","Hans"]
[1236943,"Geiser","Hanspeter"]
[1894076,"Fuhrmann","Uwe"]
[1255498,"Kaufmann","Madeleine"]
[1203401,"Kaufmann","Franz"]
[1203533,"Manser","Fridolin"]
[2258321,"Cupta","Naveen"]
[1203535,"Ryffel","Georges"]
[1203540,"Wussler","Stefan"]
[1704389,"Citton","Marco"]
[1203542,"Egger","Fabian"]
[1064832,"Meury","Thomas"]
[1062736,"Schmid","Hanspeter"]
[1203552,"Unternährer","Bruno"]
[1410123,"Wyrsch","Stefan"]
[1466398,"Huwiler","Jana"]
[1203271,"Egli","Ferdi"]
[1894205,"Hurni","Marcel"]
[1265499,"Schmid","Seppi"]
[1203548,"Huwiler","Christian"]
[1522734,"Spiess","Thomas"]
[1115955,"Steiner","Gregor"]
[1871321,"Spiess","Patrizia"]
[1203551,"Spiess","Markus"]
[1894204,"Marinkovic","Dusan"]
[1239075,"Müller","Bruno"]
[1099457,"Luginbühl","Stephan"]
[1201828,"Hediger","Roland"]
[1201856,"Wyss","Silvan"]
[1864956,"Zimmerli","Urs"]
[1203564,"Hochuli","Esther"]
[1203562,"Hediger","Michael"]
[1203570,"Eggenberger","Stephan"]
[1063885,"Frey","André"]
[1251247,"Hurschler","Monika"]
[1201854,"Venturi","Luigi"]
[1203590,"Wyss","Jakob"]
[1612893,"Marti","Nils"]
[1063897,"Schmid","Jakob"]
[1036687,"Hösli","Simon"]
[1203591,"Zimmermann","René"]
[1122797,"Emmenegger","Hans"]
[1203585,"Schnüriger","Beat"]
[1243079,"Felder","David"]
[1203588,"Stritmatter","Josef"]
[1239002,"Rüttimann","Michael"]
[1203571,"Felder","Walter"]
[1239879,"Brüschweiler","Joel"]
[1239879,"Brüschweiler","Joel"]
[1203600,"Frei","Stefan"]
[1246723,"Koch","Thomas"]
[1203609,"Zeindler","Walter"]
[1201791,"Dönni","Peter"]
[1203604,"Lüthi","Heinz"]
[1243104,"Frei","Roman"]
[1203597,"Costa","Mirco"]
[1203608,"Zeindler","Markus"]
[1653819,"Brändli","Benjamin"]
[1467712,"Zürcher","Dominik"]
[1203601,"Hausmann","Max"]
[1201835,"Meyer","Stephan"]
[1074032,"Costa","Vittorio"]
[1203602,"Kaiser","Patrick"]
[1203626,"Zemp","Franz"]
[1203201,"Barandun","Horst"]
[1176137,"Garo","Werner"]
[1086062,"Arnold","Christof"]
[1061969,"Arnold","Alice"]
[1231209,"Elsener","Patrick"]
[1498413,"Immoos","Andrea"]
[1226621,"Birchler","Urs"]
[1062592,"Ferrari","Michael"]
[1063728,"Gössi","Bruno"]
[1122766,"Amgwerd","Albin"]
[1202537,"Grob","Peter"]
[1063744,"Stuber","Michel"]
[1062513,"Garo","Nils"]
[1203202,"Barandun","Ivo"]
[1203288,"Greter","Roger"]
[1176130,"Durrer","Walter"]
[1203625,"Wüest","Andreas"]
[1637799,"Luthiger","Angela"]
[1184473,"Wetli","Guido"]
[1062743,"Bütler","Marcel"]
[1201993,"Bieri","Ramona"]
[1063906,"Loretz","Stephan"]
[1747009,"Tribelhorn","Patrick"]
[2263713,"Poesdorf","Claudia"]
[1341729,"Zimmermann","Terence"]
[1203884,"Bruderer","Jakob"]
[1203882,"Wegmüller","Urs"]
[1201865,"Eschmann","Marc"]
[1201870,"Ueltschi","Erwin"]
[1068661,"König","Robert"]
[1201859,"De Jonckheere","Marcel"]
[1201869,"Ueltschi","Kurt"]
[1068655,"Eschmann","René"]
[1201860,"Brawand","Heinz"]
[1536797,"Uhlmann","Rolf"]
[1104116,"Zaugg","Heinz"]
[1068663,"Michel","Yves"]
[1202024,"Wyss","Margrith"]
[1125466,"Jost","Ueli"]
[1104146,"Zimmermann","Hans"]
[1201881,"Gurtner","Roland"]
[1246933,"Venner","Arthur"]
[1201879,"Bangerter","Gottfried"]
[1202043,"Steiner","Peter"]
[1201882,"Hammer","Urs"]
[1201883,"Held","Daniel"]
[1201886,"Lysser","Eduard"]
[1232194,"Tüscher","Sandro"]
[1201889,"Rupp","Oswald"]
[1269226,"Gerber","Michael"]
[1068942,"Schweizer","Erwin"]
[1201918,"Staub","Markus"]
[1109404,"Moullet","Jacques"]
[1109392,"Devaud","André"]
[1109396,"Fasel","Joseph"]
[1109821,"Descloux","Frédéric"]
[1109381,"Broillet","Fabien"]
[1109391,"Cotting","André Claude"]
[1224415,"Progin","Kévin"]
[1722930,"Schneider","Manuel"]
[1043058,"Ryter","Lars"]
[1068001,"Inniger","Andreas"]
[1102677,"Stoller","Markus"]
[1201993,"Bieri","Ramona"]
[2067284,"Ineichen","Collin"]
[2287225,"Vener","James"]
[2287217,"Bernhard","Angelina"]
[1902782,"Grossen","Sven"]
[2287220,"Fröhlich","Noe"]
[2287501,"Felix","Fynn"]
[1201956,"Marti","Monika"]
[2287219,"Trachsel","Alicja"]
[1122683,"Marti","Erich"]
[1068005,"Schneider","Martin"]
[2287222,"Schmid","Larissa"]
[1201958,"Ryter","Marcel"]
[2287221,"Ryter","Janis"]
[1106102,"Maurer","Alfred"]
[1106157,"Trachsel","Christoph"]
[1712811,"Grossen","Kevin"]
[1131531,"Wäfler","Hans"]
[1844465,"Schneider","Marvin"]
[2287502,"Wildenhain","Yasmin"]
[1067708,"Sarbach","Erich"]
[1039448,"Frutiger","Alain"]
[1076705,"Grunder","Hans-Peter"]
[2287223,"Müller","Linn"]
[1201984,"Bolanz","Albert"]
[1155366,"Burkhalter","Erwin"]
[1201997,"Weber","Stefan"]
[1201989,"Heiniger","Beat"]
[1202003,"Riesen","Monika"]
[1179978,"Salvisberg","Mario"]
[1202004,"Riesen","Peter"]
[1109878,"Zürcher","Hans-Ulrich"]
[1251097,"Siegenthaler","Roger"]
[1202007,"Siegenthaler","Alfred"]
[1844398,"Bouquet","Fabrice"]
[1191052,"Friedli","Arthur"]
[2287224,"Büschi","Lars"]
[1712791,"Zimmermann","Verena"]
[1227172,"Jost","Patrick"]
[1068278,"Steiner","Samuel"]
[1166043,"Schulthess","Renato"]
[1201907,"Burri","Heinz"]
[1068300,"Adolf","Roland"]
[1119191,"Grimm","Thomas"]
[1186333,"Felder","Toni"]
[1107189,"Gerber","Stefan"]
[1067707,"Renfer","Peter"]
[1067708,"Sarbach","Erich"]
[1203534,"Pegoraro","Cornelia"]
[1231292,"Pegoraro","Hans"]
[1068705,"Schöni","Rudolf"]
[1069031,"Berger","Andreas"]
[1068942,"Schweizer","Erwin"]
[1859507,"Baumann","Jürg"]
[1069042,"Sahli","Alfred"]
[1068939,"Krebs","Ulrich"]
[1069045,"Schneider","Beat"]
[1068868,"Ruchti","Erwin"]
[2287226,"Schmied","Hans"]
[1202407,"Meichtry","Alfred"]
[1068012,"Wild","Markus"]
[1069022,"Stalder","Kurt"]
[1202054,"Stalder","Elisabeth"]
[1202052,"Egli","Alfred"]
[1207908,"Isenschmid","Samuel"]
[1069018,"Scheuner","Ronald"]
[1208329,"Däppen","René"]
[1201852,"Tonina","Alfredo"]
[1793960,"Trachsel","Andreas"]
[1202031,"Germann","Willi"]
[1202024,"Wyss","Margrith"]
[1227172,"Jost","Patrick"]
[1125466,"Jost","Ueli"]
[1203881,"Tonina","Stefanie"]
[1341729,"Zimmermann","Terence"]
[1067601,"Dossenbach","Josef"]
[1202059,"Abegglen","Heinz"]
[1202061,"Frutiger","Ulrich"]
[1795341,"Grossglauser","Ivan"]
[1068011,"Schiess","Ernst"]
[1190480,"Tschiemer","Hansueli"]
[1039448,"Frutiger","Alain"]
[1067615,"Wyss","Peter"]
[1202068,"Studer","Roger"]
[1202065,"Näf","Hansruedi"]
[1260777,"Näf","Bruno"]
[1105526,"Jaggi","Peter"]
[1067984,"Koller","Peter"]
[1202057,"Tschiemer","Stefan"]
[1844466,"Grossglauser","Aaron"]
[1202738,"Harlacher","Renato"]
[1109102,"Sturny","Norbert"]
[1069003,"Guggisberg","Max"]
[1101113,"Zwahlen","Niklaus"]
[1104736,"Bachofner","Paul"]
[1202078,"Guggisberg","Ueli"]
[1240488,"Staudenmann","Luca"]
[1083235,"Rothen","Peter"]
[1094439,"Beyeler","Simon"]
[1202073,"Burri","Peter"]
[1240490,"Guggisberg","Markus"]
[1109738,"Beyeler","Irene"]
[1061098,"Graf","Roland"]
[1202090,"Zwahlen","Kurt"]
[1067993,"Oberli","Bruno"]
[1059961,"Berger","Anton"]
[1202124,"Berger","Paul"]
[1068019,"Ruchti","Heinz"]
[1067955,"Schäfer","Monika"]
[1067731,"Moser","Fritz"]
[1148198,"Monnerat","Guillaume"]
[1202144,"Jakob","Beat"]
[1240495,"Aebi","Karin"]
[1202149,"Zürcher","Heidi"]
[1202141,"Hosner","Heinz"]
[1202145,"Lauper","David"]
[1202156,"Brossard","Steeve"]
[2263410,"Von Burg","Chantal"]
[1042807,"Schaller","Christophe"]
[1591845,"Lachat","Johan"]
[1244380,"Péchin","Frédéric"]
[1202159,"Steinegger","Vincent"]
[1647448,"Jourdain","Jean"]
[1202160,"Vaucher","Jean-Paul"]
[1202155,"Bottinelli","Jean-Marc"]
[1394222,"Sutter","Jérôme"]
[1277187,"Dessaules","Mike"]
[1017428,"Schaffter","Olivier Pierre"]
[1152972,"Kocher","Boris"]
[1120071,"Kiener","Ernst"]
[1237786,"Milosz","Jerzy"]
[1120181,"Steiner","Markus"]
[1120185,"Stucki","Thomas"]
[1119980,"Gerber","Hans"]
[1120220,"Wymann","Hans-Rudolf"]
[1295354,"Pfister","Juha"]
[1202040,"Meier","Albrecht"]
[1269226,"Gerber","Michael"]
[1178371,"Steiner","Simon"]
[1202169,"Tanner-Kunz","Cécile"]
[1097584,"Tanner","Samuel"]
[1202170,"Stettler","Rolf"]
[1565205,"Scheidegger","Ernst"]
[1474296,"Hediger","Fabian"]
[1213224,"Scheidegger","Walter"]
[1213223,"Sägesser","Werner"]
[1234389,"Länzlinger","Thomas"]
[2263426,"Schmidt","Alex"]
[1138816,"Wenger","Joseph"]
[1104497,"Stauffer","Werner"]
[1104470,"Gysin","Rolf"]
[1035861,"Marti","Ernst"]
[1202106,"Loepfe","Urs"]
[1712260,"Loepfe","Chiara"]
[2287228,"Truffer","Patricia"]
[1256170,"Kunz","Sören"]
[1122686,"Marti","Roland"]
[1682625,"Lüchinger","Dario"]
[1060656,"Duff","Robert"]
[1111468,"Grossglauser","Erwin"]
[1203632,"Kellenberger","Walter"]
[1203637,"Schneider","Louis"]
[1203636,"Obrist","Markus"]
[1843026,"Steiger","Benjamin"]
[1682626,"Thurnherr","Patrick"]
[1203635,"Manser","August"]
[1215509,"Eugster","Michael"]
[1203629,"Fritsche","Josef"]
[1111469,"Grossglauser","Maria"]
[1570904,"Winteler","Christoph"]
[1259477,"Götti","Michael"]
[1061056,"Eugster","Christof"]
[1562844,"Egli","Fabian"]
[1203649,"Piller","Pius"]
[1060974,"Pfister","Gerold"]
[1203650,"Zumstein","Roland"]
[1562843,"Hehli","Michael"]
[1685317,"Pfister","Ibai"]
[1042143,"Trunz","Jasmin"]
[1099889,"Pfister","Walter"]
[1562845,"Federer","Ivo"]
[1562841,"Hehli","Christoph"]
[1061413,"Hobi","Guido"]
[1242856,"Nigg","Raphael"]
[1203658,"Wildhaber","Manfred"]
[1203657,"Rinderer","Clemens"]
[1081731,"Rinderer","Bruno"]
[1639327,"Lendi","Roman"]
[1203669,"Dick","Hanspeter"]
[1034366,"Mösli","Julia"]
[1034367,"Haener","Christian"]
[1203663,"Forster","Roland"]
[1239868,"Nägeli","Philipp"]
[1203673,"Konrad","Walter"]
[1204702,"Troxler","Willi"]
[1201848,"Streuli","Hans"]
[1635665,"Brülisauer","Lukas"]
[1889390,"Spycher","Daniel"]
[1076577,"Liechti","Hans"]
[1149369,"Brülisauer","Peter"]
[1875841,"Nickel","Sabrina"]
[1203667,"Brülisauer","Fritz"]
[1076583,"Liechti","Vreny"]
[1223470,"Koch","Melanie"]
[1203687,"Manser","Franz"]
[1635360,"Steger","Placi"]
[1060980,"Scheuss","Oriana"]
[1060979,"Scheuss","Hans"]
[1203698,"Merkofer","Daniel"]
[1053674,"Forrer","Fritz"]
[1201857,"Zellweger","Ernst"]
[1203770,"Good","Tino"]
[1089134,"Furrer","Hansruedi"]
[1201818,"Dalle Case","Marco"]
[1060988,"Zwicker","Guido"]
[1051096,"Brunner","Elio"]
[1242904,"Hansmann","Linda"]
[1203695,"Dalle Case","Daniela"]
[1061359,"Müller","Bruno"]
[1253691,"Schweizer","Andreas"]
[1830785,"Zbinden","Claudia"]
[1061504,"Haag","Stefan"]
[1828226,"Meier","Astrid"]
[1044550,"Suntinger","Franz"]
[1061366,"Steimer","Horst"]
[1242906,"Zellweger","Ralf"]
[1242905,"Zellweger","Carmen"]
[1201823,"Eugster","Markus"]
[1025530,"Büchel","Marianne"]
[1074141,"Büchel","Hans"]
[1203707,"Graf","Markus"]
[1034369,"Handsche","Patricia"]
[1034370,"Lang","Markus"]
[1736372,"Gantenbein","Andreas"]
[1201795,"Eugster","Karl"]
[1203705,"Eugster","Paul"]
[1043686,"Nigg","Sonja"]
[1203767,"Menzi","Bruno"]
[1173021,"Weiler","Andreas"]
[1203731,"Schoch","Walter"]
[1203730,"Schoch","Margrit"]
[1148743,"Bösch-Schoch","Sandra"]
[1173022,"Hofstetter","Edwin"]
[1203726,"Hofstetter","Willi"]
[1203727,"Hofstetter","Ruedi"]
[1685324,"Leirer","Joel"]
[1562919,"Leirer","Jean-Michel"]
[1721571,"Brunner","Valentin"]
[1372044,"Laube","Jeremy"]
[1695662,"Meier","Florian"]
[2263651,"Bischof","Stephanie"]
[1242884,"Preisig","Reto"]
[1242889,"Ehrler","Florian"]
[1242885,"Müller","Fabian"]
[1242886,"Müller","Raffael"]
[1685323,"Frey","Nadine"]
[1242899,"Koster","Kevin"]
[1686228,"Frey","Nico"]
[1222404,"Högger","Jérôme"]
[1203760,"Zwicker","Christoph"]
[1203762,"Zwicker","Richard"]
[1060888,"Waser","André"]
[1273737,"Bösch","Larissa"]
[1043651,"Gerig","Paul"]
[1686229,"Abderhalden","Yanick"]
[1203778,"Hobi","Franz"]
[1203784,"Menzi","Robert"]
[1065847,"Mächler","Martin"]
[1203773,"Bremgartner","Beat"]
[1842615,"Heierli","Dorian"]
[1467717,"Menzi","Tamara"]
[1238127,"Straub","Silvia"]
[1203786,"Nikles","André"]
[1082988,"Forrer","Wendel"]
[1203776,"Heeb","Urs"]
[1255099,"Egger","Daniel"]
[1238125,"Riehl","Claudia"]
[1678109,"Eberhard","Otto"]
[1277491,"Nikles","Ralph"]
[1203794,"Fischer","Hansruedi"]
[1203797,"Müller","Roland"]
[1143931,"Fischer","Marco"]
[2263658,"Heidenreich","Bernd"]
[1138960,"Broger","Bruno"]
[1203795,"Fischli","Kurt"]
[1034374,"Imgrüth","Andreas"]
[1203964,"Vetter","Marcel"]
[1204004,"Hugentobler","Peter"]
[1226609,"Odermatt-Lattmann","Carmen"]
[1201851,"Tobler","Marcel"]
[1028491,"Sitta","Massimo"]
[1902776,"Indermaur","Juri"]
[1204064,"Antonazzo","Claudio"]
[1723513,"Odermatt","Lars"]
[1030415,"Indermaur","Ramona"]
[1902777,"Rüegg","Leander"]
[1839557,"Wüger","Ruben"]
[1724550,"Brauchli","Martin"]
[1203957,"Mohn","Hermann"]
[1203955,"Kressibucher","Thomas"]
[1028490,"Mohn","Mattia"]
[1684238,"Staub","Lea"]
[1250292,"Sager","Sandra"]
[1265304,"Lacher","Sebastian"]
[1473390,"Bachmann","Sandro"]
[1203982,"Schönholzer","Stefan"]
[1861501,"Staub","Natascha"]
[1203984,"Schönholzer","Markus"]
[1723515,"Negraszus","Dominic"]
[1203988,"Wüthrich","Beat"]
[1902852,"Baumann","Louann"]
[1239842,"Sager","Stefan"]
[1203977,"Meile-Köchli","Lydia"]
[1203972,"Gamper","Andreas"]
[1203980,"Schönholzer","Christian"]
[1250276,"Schönholzer","Mara"]
[1844228,"Schärer","Michelle"]
[1203981,"Schönholzer","Peter"]
[1026716,"Bosshard","Christa"]
[1203979,"Schönholzer","Albert"]
[1239843,"Schönholzer","Roman"]
[1250275,"Schönholzer","Jasmin"]
[1844229,"Staub","Kaya"]
[1203971,"Fässler","Sieglinde"]
[1203983,"Schönholzer","Walter"]
[1225346,"Graf","Mark"]
[1204006,"Massolin","Marcel"]
[1057166,"Hafen","Thomas"]
[1617843,"Elmer","Luc"]
[1204005,"Kuster","Andreas"]
[1617842,"Egger","Florian"]
[1201821,"Eberhart","Iwan"]
[1204011,"Walker","Peter"]
[1203999,"Gremper","Beni"]
[1239878,"Brunnenmeister","Andreas"]
[1204034,"Holzer","Karin"]
[1225348,"Moser","Tobias"]
[1204001,"Höhener","André"]
[1157473,"Keiser","René"]
[1204002,"Holzmann","Arthur"]
[1877712,"Wiedmer","Noah"]
[1239879,"Brüschweiler","Joel"]
[1203998,"Germann","Marcel"]
[1203996,"Burkhardt","Stefan"]
[1203991,"Baumann","Marcel"]
[1265492,"Brenner","Peter"]
[1239888,"Pislor","Patrick"]
[1204009,"Schönholzer","Werner"]
[1839559,"Pasternak","Julia"]
[1218973,"Schallenberg","Martin"]
[1157471,"Hut","Stefan"]
[1204007,"Ravelli","Roland"]
[1240306,"Brüschweiler","Matthias"]
[1157462,"Feller","Erich"]
[1274371,"Streule","Franz"]
[1204027,"Wuffli","Peter"]
[1445217,"Mettler","Patrick"]
[1028492,"Hungerbühler","Silas"]
[1204023,"Moor","Roger"]
[1204025,"Schmid","Christian"]
[1268302,"Gubler","Manuela"]
[1233872,"Schmid","Edi"]
[1201825,"Grob","Albert"]
[1240318,"Bangerter","Martina"]
[1204021,"Hahn","René"]
[1204026,"Wegmann","Willi"]
[1800121,"Trapani","Salvatore"]
[1060930,"Wagner","Richard"]
[1240320,"Kneubühl","Claudia"]
[1204014,"Wagner","Daniel"]
[1120472,"Forster","Roland"]
[1120476,"Krattiger","Armin"]
[1902780,"Birrer","Jana"]
[1877713,"Stäheli","Nino"]
[1204036,"Inauen","Bruno"]
[1764644,"Nagel","Kay"]
[1268300,"Ess","Michael"]
[1256922,"Häne","Philipp"]
[1120469,"Ess","Martin"]
[1240326,"Bösch","Nicole"]
[1684245,"Ingold\t","Bruno"]
[1652469,"Bösch","Petra"]
[1204035,"Huber","Ernst"]
[1652468,"Bösch","Nadin"]
[1844231,"Cornilli","Nico"]
[1844232,"Hansen","Simon"]
[1028493,"Reisch","Cian"]
[1723516,"Welter","Noah"]
[1067119,"Baumann","Marco"]
[1204033,"Dünner","Urs"]
[1120505,"Bösch","Reto"]
[1829499,"Bösch","Dominique"]
[1239852,"Ess","Roland"]
[1710346,"Anderes","Petra"]
[1120474,"Bösch","Thomas"]
[1120498,"Ess","Werner"]
[1174929,"Häberli","Andreas"]
[2255443,"Diethelm","Beatriz"]
[1255559,"Hug","Gabriel"]
[1076490,"Dick","Rolf"]
[1204052,"Schmid","Josef"]
[1204049,"Hermann","Hansjürg"]
[1037078,"Oberthaler","David"]
[1037077,"Frei","Bettina"]
[1204056,"Michel","Hansjörg"]
[1239864,"Tschirren","Simon"]
[1831937,"Rüegg","Paul"]
[1204048,"Frei","Reto"]
[1202925,"Diethelm","Rolf"]
[1204060,"Schweiss","Pascal"]
[1204071,"Schweiss","Manfred"]
[1258265,"Brauchli","Marc"]
[1204072,"Vonarburg","Marco"]
[1053912,"Brand","Paul"]
[1723517,"Krammer","Lucas"]
[1028494,"Fritschi","David"]
[1045583,"Schweiss","Janine"]
[1204059,"Scherrer","Konrad"]
[1060633,"Eugster","Arnold"]
[1258270,"Schönholzer","Corinne"]
[1060634,"Eugster","Markus"]
[1045584,"Durisch","Jean-Yves"]
[1204065,"Baumann","Urs"]
[1202926,"Marien Neto","Carlos Luis"]
[1202925,"Diethelm","Rolf"]
[1202928,"Scarton","Wanderlei"]
[1202930,"Vogt","Heinz"]
[1876555,"Gross","Vinicius"]
[1202915,"Janssen","Doris"]
[1042989,"Couto Batzli","Felipe Eduardo"]
[1876558,"Rodrigues","Gustavo"]
[1259235,"Betschart","Mauricio"]
[1876560,"Rodrigues","Valdemir"]
[1202937,"Kuster","Heinz"]
[1276352,"Ernst","Ruedi"]
[1148087,"Hirsig","Gerhard"]
[1202942,"Spycher","Markus"]
[1202940,"Morach","Joe"]
[null,"Hadorn","Markus"]
[null,"Klaus","Merlin"]
[null,"Eggli","Walter"]
[null,"Eggli","Walter"]
[null,"Derungs","Neo"]
[null,"Egger","Cathrine"]
[null,"Baumann","Josef"]
[null,"Hofer","Dominik"]
[null,"Michels","Rainer"]
[null,"Scheuber","Magdalena"]
[null,"Schreiber","René"]
[null,"Wyrsch","Michael"]
[null,"Bernath","Brigitte"]
[null,"Mathis","Liam"]
[null,"Rubli","Aldo"]
[null,"Hofer","Philipp"]
[null,"Veyhl","Fridolin"]
[null,"Kellenberger","Konrad"]
[null,"Weber","Constantin"]
[null,"Moser","Timo"]
[null,"Corfu","Noemi"]
[null,"Gantner","Heinz"]
[null,"Staub","Fabienne"]
[null,"Mayer","Arthur"]
[null,"Nepfer","Marcel"]
[null,"Schnydrig","Philippe"]
[null,"Cleeren","Rudi"]
[null,"Weber","Philipp"]
[null,"Wiesmann","Ernst"]
[null,"Spalinger","Esther"]
[null,"Neininger","Ruedi"]
[null,"Brändle","Daniel"]
[null,"Prange","Mia"]
[null,"Hadorn","Markus"]
[null,"Nussbaum","Tim"]
[null,"Ulrich","Markus"]
[null,"Jud","Oliver"]
[null,"Spalinger","Marek"]
[null,"Gut","Raphael"]
[null,"Koch","Uwe"]
[null,"Veyhl","Fridolin"]
[null,"Schlatter","Beat"]
[null,"Müller","David"]
[null,"Brunschwiler","Josef"]
[null,"Benz","Kevin"]
[null,"Hadorn","Markus"]
[null,"Suter","Franz"]
[null,"Suter","Franz"]
[null,"Zellweger","Carmen"]
[null,"Zellweger","Carmen"]
[null,"Hinnen","Heini"]
[null,"Hinnen","Heini"]
[null,"Scolaro","Franco"]
[null,"Scolaro","Franco"]
[null,"Ebnöther","Sarah"]
[null,"Ebnöther","Sarah"]
[null,"Ebnöther","Sarah"]
[null,"Ebnöther","Jürg"]
[null,"Ebnöther","Jürg"]
[null,"Hinnen","Daniel"]
[null,"Hinnen","Daniel"]
[null,"Pisa","Yoric"]
[null,"Pisa","Yoric"]
[null,"Neukom","Margrit"]
[null,"Schindler","Hermann"]
[null,"Schindler","Hermann"]
[null,"Pontiggia","Mattia"]
[null,"Bichsel","Stefan"]
[null,"Hinnen","Peter"]
[null,"Hinnen","Peter"]
[null,"Harlacher","Renato"]
[null,"Harlacher","Renato"]
[null,"Tuchschmid","Marlyse"]
[null,"Notz","Jakob"]
[null,"Notz","Jakob"]
[null,"Müller","Albert"]
[null,"Heyn","Ilonka"]
[null,"Heyn","Ilonka"]
[null,"Merki","Michael"]
[null,"Roth","Markus"]
[null,"Baumgartner","Joëlle Pascale"]
[null,"Baumgartner","Joëlle Pascale"]
[null,"Steiger","Niklaus"]
[null,"Steiger","Niklaus"]
[null,"Steiger","Niklaus"]
[null,"Infanger","Jürg"]
[null,"Infanger","Jürg"]
[null,"Moor","Hans"]
[null,"Moor","Hans"]
[null,"Jost","Kevin"]
[null,"Jost","Kevin"]
[null,"Steinemann","Roland"]
[null,"Steinemann","Roland"]
[null,"Steinemann","Roland"]
[null,"Caviezel","Andreas"]
[null,"Caviezel","Andreas"]
[null,"Caviezel","Andreas"]
[null,"Schellenbaum","Aurelio"]
[null,"Schellenbaum","Aurelio"]
[null,"Pisà","Lorin"]
[null,"Roth","Markus"]
[null,"Infanger","Jürg"]
[null,"Zamortocan","Leon"]
[null,"Zellweger","Carmen"]
[null,"Biser","David"]
[null,"Biser","David"]
[null,"Hinnen","Heini"]
[null,"Ebnöther","Sarah"]
[null,"Ebnöther","Sarah"]
[null,"Hinnen","Daniel"]
[null,"Pisa","Yoric"]
[null,"Pisa","Yoric"]
[null,"Handke","Philipp"]
[null,"Biser","Jann"]
[null,"Biser","Jann"]
[null,"Bichsel","Stefan"]
[null,"Notz","Jakob"]
[null,"Müller","Albert"]
[null,"Posner","Vincent"]
[null,"Posner","Vincent"]
[null,"Baumgartner","Joëlle Pascale"]
[null,"Steiger","Niklaus"]
[null,"Steiger","Niklaus"]
[null,"Steinemann","Roland"]
[null,"Caviezel","Andreas"]
[null,"Schellenbaum","Aurelio"]
[null,"Schellenbaum","Aurelio"]
[null,"Kneubühler","Philippe"]
[null,"Kneubühler","Philippe"]
[null,"Niederberger","Dominic"]
[null,"Maurer","Reto"]
[null,"Reif","Daniel"]
[null,"Reif","Daniel"]
[null,"Frei","Roland"]
[null,"Frei","Roland"]
[null,"Meili","René"]
[null,"Böhler","Walter"]
[null,"Böhler","Walter"]
[null,"Niederberger","Pius"]
[null,"Niederberger","Pius"]
[null,"Meili","Renate"]
[null,"Egolf","Andreas"]
[null,"Münger","Werner"]
[null,"Meister","Rolf"]
[null,"Niederberger","Michel"]
[null,"Müller","Werner"]
[null,"Müller","Werner"]
[null,"Schollenberger","Marcel"]
[null,"Schollenberger","Marcel"]
[null,"Räss","Richard"]
[null,"Räss","Richard"]
[null,"Räss","Richard"]
[null,"Strasser","Heinz"]
[null,"Tonoli","Claudio"]
[null,"Tonoli","Claudio"]
[null,"Heinzer","Roger"]
[null,"Kneubühler","Philippe"]
[null,"Niederberger","Dominic"]
[null,"Reif","Daniel"]
[null,"Frei","Roland"]
[null,"Frei","Roland"]
[null,"Frei","Roland"]
[null,"Frei","Roland"]
[null,"Böhler","Walter"]
[null,"Niederberger","Pius"]
[null,"Frei","Fabienne"]
[null,"Frei","Andreas"]
[null,"Frei","Andreas"]
[null,"Hänni","Markus"]
[null,"Hänni","Markus"]
[null,"Heider","Monica"]
[null,"Heider","Monica"]
[null,"Dietrich","Maik"]
[null,"Dietrich","Maik"]
[null,"Meier","Roland"]
[null,"Meier","Roland"]
[null,"Greutert","Walter"]
[null,"Hänni","Thomas"]
[null,"Hänni","Thomas"]
[null,"Bleuler","Eduard"]
[null,"Berli","Rico"]
[null,"Berli","Rico"]
[null,"Berli","Rico"]
[null,"Lohm","Christian"]
[null,"Lohm","Christian"]
[null,"Heider","Sonja"]
[null,"Heider","Sonja"]
[null,"Dietrich","Bettina"]
[null,"Dietrich","Bettina"]
[null,"Gujer","Daniel"]
[null,"Gujer","Daniel"]
[null,"Bollmann","Ruth"]
[null,"Bollmann","Ruth"]
[null,"Seeberger","Hans"]
[null,"Seeberger","Hans"]
[null,"Lang","Patrick"]
[null,"Fuchs","Christine"]
[null,"Fuchs","Christine"]
[null,"Wismer","Christian"]
[null,"Gujer","Nicole"]
[null,"Gujer","Nicole"]
[null,"Hänni","Markus"]
[null,"Heider","Monica"]
[null,"Dietrich","Maik"]
[null,"Weber","Lois"]
[null,"Meier","Roland"]
[null,"Meier","Roland"]
[null,"Meier","Roland"]
[null,"Greutert","Walter"]
[null,"Hänni","Thomas"]
[null,"Altorfer","Hansruedi"]
[null,"Dietrich","Bettina"]
[null,"Dietrich","Bettina"]
[null,"Gujer","Daniel"]
[null,"Kern","Robin"]
[null,"Lang","Oliver"]
[null,"Huber","Nik"]
[null,"Lang","Patrick"]
[null,"Lang","Patrick"]
[null,"Lang","Patrick"]
[null,"Gujer","Nicole"]
[null,"Gujer","Nicole"]
[null,"Heim","Aaron"]
[null,"Dobler","Rolf"]
[null,"Haag","Severin"]
[null,"Moser","Walter"]
[null,"Moser","Walter"]
[null,"von Rickenbach","Jürg"]
[null,"von Rickenbach","Jürg"]
[null,"Hasler","Felix"]
[null,"Hasler","Felix"]
[null,"Müller","Joel"]
[null,"Gyssler","Bernhard"]
[null,"Gyssler","Bernhard"]
[null,"Futscher","Roland"]
[null,"Futscher","Roland"]
[null,"Pfister","Quirin"]
[null,"Hofmann","Edi"]
[null,"Hofmann","Edi"]
[null,"Drolshagen","Björn"]
[null,"Jacobi","Benjamin"]
[null,"Zweig","Yoel"]
[null,"Zweig","Yoel"]
[null,"Zelenskii","Aleksandr"]
[null,"Zelenskii","Aleksandr"]
[null,"Moser","Walter"]
[null,"Hürlimann","Luis"]
[null,"Hürlimann","Luis"]
[null,"von Rickenbach","Jürg"]
[null,"Hasler","Felix"]
[null,"Hasler","Felix"]
[null,"Hasler","Felix"]
[null,"Hasler","Felix"]
[null,"Hasler","Felix"]
[null,"Unger","Yannick"]
[null,"Unger","Yannick"]
[null,"Moore","Tobin"]
[null,"Moore","Tobin"]
[null,"De Crignis","Valerio"]
[null,"De Crignis","Valerio"]
[null,"Hofmann","Edi"]
[null,"Hofmann","Edi"]
[null,"Reiser","Andrin"]
[null,"Reiser","Andrin"]
[null,"Schön","Alina"]
[null,"Schön","Alina"]
[null,"Bernet","Dominic"]
[null,"Bernet","Dominic"]
[null,"Stauffer","Siro"]
[null,"Stauffer","Siro"]
[null,"Guyer","Hansjörg"]
[null,"Crepaldi","Michael"]
[null,"Crepaldi","Michael"]
[null,"Bernet","Tabea"]
[null,"Bernet","Tabea"]
[null,"Leuenberger","Max"]
[null,"Leuenberger","Max"]
[null,"Leuenberger","Max"]
[null,"Guntern","Chantal"]
[null,"Guntern","Chantal"]
[null,"Eicher","Marc"]
[null,"Eicher","Marc"]
[null,"Eicher","Marc"]
[null,"Riexinger","Nicola"]
[null,"Riexinger","Nicola"]
[null,"Ritzmann","Markus"]
[null,"Ritzmann","Markus"]
[null,"Meier","Andrin"]
[null,"Meier","Andrin"]
[null,"Hefti","Janine"]
[null,"Hefti","Janine"]
[null,"Meier","Werner"]
[null,"Bührer","Hans"]
[null,"Bührer","Hans"]
[null,"Bührer","Hans"]
[null,"Karrer","Florian"]
[null,"Karrer","Florian"]
[null,"Rüegg","Edy"]
[null,"Barbagallo","Nicole"]
[null,"Barbagallo","Nicole"]
[null,"Müller","Benjamin"]
[null,"Bieri","Reto"]
[null,"Bieri","Reto"]
[null,"Bieri","Reto"]
[null,"Wüest","Markus"]
[null,"Wüest","Markus"]
[null,"Wüest","Markus"]
[null,"Hiestand","Robert"]
[null,"Hiestand","Robert"]
[null,"Hiestand","Robert"]
[null,"Geitner","Philipp"]
[null,"Geitner","Philipp"]
[null,"Guntern","Joshua"]
[null,"Guntern","Joshua"]
[null,"Guntern","Heinz"]
[null,"Guntern","Heinz"]
[null,"Sigg","Rudolf"]
[null,"Sigg","Rudolf"]
[null,"Sigg","Rudolf"]
[null,"Rupper","Andreas"]
[null,"Mötteli","Dominic"]
[null,"Mötteli","Dominic"]
[null,"Hefti","Christian"]
[null,"Hefti","Christian"]
[null,"Hefti","Christian"]
[null,"Zehnder","Tulio"]
[null,"Rieder","Julian"]
[null,"Bernet","Tabea"]
[null,"Guntern","Chantal"]
[null,"Ritzmann","Markus"]
[null,"Renner","Maximilian"]
[null,"Eberle","Malena"]
[null,"Barbagallo","Jan Mika"]
[null,"Bernet","Marlen"]
[null,"Lameira Carvalho","Lucas"]
[null,"Geitner","Philipp"]
[null,"Tecin","Aylin"]
[null,"Guntern","Joshua"]
[null,"Valenta","Tomas"]
[null,"Varmen","Siva"]
[null,"Guntern","Anjali"]
[null,"Forster","Ramon"]
[null,"Hefti","Christian"]
[null,"Zehnder","Tulio"]
[null,"Stauffer","Siro"]
[null,"Stauffer","Siro"]
[null,"Crepaldi","Michael"]
[null,"Tabord","Jonas"]
[null,"Tabord","Jonas"]
[null,"Bernet","Tabea"]
[null,"Brand","Larissa"]
[null,"Ritzmann","Markus"]
[null,"Ritzmann","Markus"]
[null,"Renner","Maximilian"]
[null,"Meier","Andrin"]
[null,"Meier","Andrin"]
[null,"Barbagallo","Jan Mika"]
[null,"Bührer","Hans"]
[null,"Bührer","Hans"]
[null,"Bührer","Hans"]
[null,"Schulthess","Vito"]
[null,"Schulthess","Vito"]
[null,"Bernet","Marlen"]
[null,"Lameira Carvalho","Lucas"]
[null,"Bieri","Reto"]
[null,"Wüest","Markus"]
[null,"Hiestand","Robert"]
[null,"Tecin","Aylin"]
[null,"Guntern","Joshua"]
[null,"Valenta","Tomas"]
[null,"Guntern","Anjali"]
[null,"Zwicky","Nico"]
[null,"Mötteli","Dominic"]
[null,"Mötteli","Dominic"]
[null,"Hefti","Christian"]
[null,"Hefti","Christian"]
[null,"Hefti","Christian"]
[null,"Hefti","Christian"]
[null,"Corti","Nevio"]
[null,"Corti","Nevio"]
[null,"Winkler","Eduard"]
[null,"Müller","Bruno"]
[null,"Fritz","Oliver"]
[null,"Wettach","Franz"]
[null,"Winkler","Eduard"]
[null,"Winkler","Eduard"]
[null,"Winkler","Eduard"]
[null,"Müller","Bruno"]
[null,"Fritz","Oliver"]
[null,"Wettach","Franz"]
[null,"Jud","Anton"]
[null,"Beeler","René"]
[null,"Sens","Silke"]
[null,"Ruhstaller","Franz"]
[null,"Schnyder","Reto"]
[null,"Egli","Niklaus"]
[null,"Müller","Peter"]
[null,"Besmer","Bruno"]
[null,"Heuberger","Arnold"]
[null,"Kälin","Raphael"]
[null,"Zimmermann","Walter"]
[null,"Beeler","René"]
[null,"Beeler","René"]
[null,"Mächler","August"]
[null,"Ruhstaller","Franz"]
[null,"Dürst","Janine"]
[null,"Heuberger","Arnold"]
[null,"Heuberger","Arnold"]
[null,"Hasler","Felix"]
[null,"Moor","Ernst"]
[null,"Steiger","Niklaus"]
[null,"Brühlmann","Andreas"]
[null,"Kappeler","Wolfgang"]
[null,"Suter","Franz"]
[null,"Lienhard","Reto"]
[null,"Puster","Herbert"]
[null,"Trittibach","Peter"]
[null,"Fröhlich","Alfred"]
[null,"Siffert","Marie-Theres"]
[null,"Kägi","René"]
[null,"Fried","Mario"]
[null,"Kuhn","Hans"]
[null,"Gantenbein","Paul"]
[null,"Keller","Rolf"]
[null,"Wild","Kurt"]
[null,"Meili","René"]
[null,"Jud","Peter"]
[null,"Portner","Markus"]
[null,"Böhler","Walter"]
[null,"Egli","Albert"]
[null,"Reiffer","Hans"]
[null,"Brunner","Ueli"]
[null,"Gohl","Walter"]
[null,"Wegmann","Heinz"]
[null,"Frischknecht","Werner"]
[null,"Krebs","Robert"]
[null,"Berger","Ueli"]
[null,"Steiner","Erwin"]
[null,"Münger","Werner"]
[null,"Berli","Rico"]
[null,"Tschanz","Durs"]
[null,"Diethelm","Josef"]
[null,"Diethelm","Josef"]
[null,"Roth","Paul"]
[null,"Roth","Paul"]
[null,"Fürst","Willy"]
[null,"Fürst","Armin"]
[null,"Röthlin","Kurt"]
[null,"Siegfried","Ruedi"]
[null,"Illi","Freddy"]
[null,"Baumgartner","Michel"]
[null,"Räss","Richard"]
[null,"Moor","Ernst"]
[null,"Brügger","Rosmarie"]
[null,"Besmer","Bruno"]
[null,"Streit","Walter"]
[null,"Wiesmann","Ernst"]
[null,"Wohlgemuth","Ralph"]
[null,"Hollenstein","Ernst"]
[null,"Kuriger","Fritz"]
[null,"Langhans","Dieter"]
[null,"Hiestand","Robert"]
[null,"Gerber","Hans"]
[null,"Sauzet","René"]
[null,"Aebersold","Andreas"]
[null,"Winzeler","Bruno"]
[null,"Schlatter","Peter"]
[null,"Gohl","Bruno"]
[null,"Schelling","Andreas"]
[null,"Meier","Ruth"]
[null,"Brühlmann","Andreas"]
[null,"Steinemann","Roland"]
[null,"Bührer","Armin"]
[null,"Stoll","Hans Peter"]
[null,"Brönnimann","Fritz"]
[null,"Wegmann","Hans"]
[null,"Winkler","Ruedi"]
[null,"Felber","Markus"]
[null,"Marty","Fredi"]
[null,"Blöchlinger","Franz"]
[null,"Angst","Hans"]
[null,"Schrag","Eugen"]
[null,"Götschi","Martha"]
[null,"Schmid","Stephan"]
[null,"Nägeli","Samuel"]
[null,"Hess","Thomas"]
[null,"Koch","Rainer"]
[null,"Bachmann","Rolf"]
[null,"Haller","Anton"]
[null,"Leuenberger","Max"]
[null,"Bertschinger","Hansruedi"]
[null,"Mock","Anton"]
[null,"Meier","Peter"]
[null,"Frei","Arthur"]
[null,"Fischer","Alwin"]
[null,"Schueller","Pascal"]
[null,"Egli","Walter"]
[null,"Frey","Max"]
[null,"Landolt","Bruno"]
[null,"Morf","André"]
[null,"Moser","Walter"]
[null,"Winkler","Eduard"]
[null,"Sternberger","Horst"]
[null,"Zihlmann","Richard"]
[null,"Näf","Peter"]
[null,"Lenherr","Beat"]
[null,"Keller","Peter"]
[null,"Tschachtli","Martin"]
[null,"Ruckstuhl","Albert"]
[null,"Nägeli","Stefan"]
[null,"Bachofner","Heinrich"]
[null,"De Zordi","Peter"]
[null,"Kräutli","Luciano"]
[null,"Krättli","Ruedi"]
[null,"Meili","Renate"]
[null,"Haubold","Urs"]
[null,"Bodmer","Urs"]
[null,"Carigiet","Meinrad"]
[null,"Schmid","Christian"]
[null,"Lannois","Harry"]
[null,"Tanner","Eric"]
[null,"Veyhl","Fridolin"]
[null,"Greutert","Walter"]
[null,"Bertschinger","Vreni"]
[null,"Raschle","Richard"]
[null,"Krebs","Emil"]
[null,"Staub","Max"]
[null,"Lussi","Josef"]
[null,"Hinnen","Peter"]
[null,"Vollenweider","Willi"]
[null,"Galbier-Raschle","Verena"]
[null,"Kaiser","Franz"]
[null,"Rusterholz","Adolf"]
[null,"Bührer","Hans"]
[null,"Siffert","Toni"]
[null,"Berger","Guido"]
[null,"Eigenheer","Lorenz"]
[null,"Pichler","Michael"]
[null,"Oetiker","Bruno"]
[null,"Angehrn","Leo"]
[null,"Notz","Jakob"]
[null,"Schefer","Alfred"]
[null,"Gujer","Daniel"]
[null,"Ott","Arnold"]
[null,"Werner","Ernst"]
[null,"Müller","Albert"]
[null,"Truninger","Rainer"]
[null,"Bachofner","Heinrich"]
[null,"Bucher","Ernst"]
[null,"Nungesser","Dietmar"]
[null,"Burkhalter","Andreas"]
[null,"Gloor","Peter"]
[null,"Patt","Josef"]
[null,"Steinmann","Andreas"]
[null,"Simmler","Urs"]
[null,"Rinderknecht","Ruth"]
[null,"Steinmann","Hans"]
[null,"Seeberger","Hans"]
[null,"Hofmann","Edi"]
[null,"Hofmann","Edi"]
[null,"Hediger","Emil"]
[null,"Grubenmann","Margrit"]
[null,"Spalinger","Bernhard"]
[null,"Landolt","Ravi"]
[null,"Vogel","Martin"]
[null,"Müller","Heinz"]
[null,"Bolliger","Heinz"]
[null,"Steiger","Niklaus"]
[null,"Blaser","Marcel"]
[null,"Weiss","Hansruedi"]
[null,"Zweifel","Josef"]
[null,"Lenggenhager","Max"]
[null,"Eigenmann","Bruno"]
[null,"Eggenberger","Kurt"]
[null,"Haubold","Heide"]
[null,"Widmer","Ruth"]
[null,"Grob","Jakob"]
[null,"Manser","Erich"]
[null,"Weibel","Rolf"]
[null,"Christoffel","Eduard"]
[null,"Caviezel","Andreas"]
[null,"Zimmermann","Alfred"]
[null,"Blöchlinger","Thomas"]
[null,"Hirschi","Heinz"]
[null,"Meili","Heinrich"]
[null,"Kappeler","Wolfgang"]
[null,"Haller","Anton"]
[null,"Haller","Anton"]
[null,"Ruckstuhl","Albert"]
[null,"Kräutli","Luciano"]
[null,"Brunner","Ueli"]
[null,"Kaiser","Franz"]
[null,"Müller","Albert"]
[null,"Vogel","Martin"]
[null,"Steiger","Niklaus"]
[null,"Schelling","Andreas"]
[null,"Venturi","Luigi"]
[null,"Rüegg","Anton"]
[null,"Dober","Urs"]
[null,"Huwiler","Christian"]
[null,"Schnidrig","Otto"]
[null,"Bertschi","Stefan"]
[null,"Wyss","Silvan"]
[null,"Rey","Peter"]
[null,"Kaufmann","Madeleine"]
[null,"Banzer","Urs"]
[null,"Marbach","Karl"]
[null,"Hediger","Roland"]
[null,"Niederberger","Eugen"]
[null,"Leder","Urs"]
[null,"Willi","André"]
[null,"Bättig","Urs"]
[null,"Eichholzer","Bernhard"]
[null,"Felber","Eveline"]
[null,"Wüest","Andreas"]
[null,"Hugener","Veronika"]
[null,"Dönni","Peter"]
[null,"Koch","Thomas"]
[null,"Koch","Thomas"]
[null,"Rüegg","Anton"]
[null,"Wetli","Guido"]
[null,"Tonina","Stefanie"]
[null,"Tonina","Stefanie"]
[null,"Hochuli","Esther"]
[null,"Richener","Ruedi"]
[null,"Felber","Tobias"]
[null,"Windlin","Anita"]
[null,"Schnidrig","Otto"]
[null,"Spiess","Bruno"]
[null,"Bucheli","Franz"]
[null,"Spiess","Josef"]
[null,"Hediger","Roland"]
[null,"Eggenberger","Stephan"]
[null,"Eggenberger","Stephan"]
[null,"Eggenberger","Stephan"]
[null,"Eggenberger","Stephan"]
[null,"Amgwerd","Albin"]
[null,"Tonina","Alfredo"]
[null,"Hediger","Michael"]
[null,"Schnidrig","Meinrad"]
[null,"Schnidrig","Otto"]
[null,"Wyss","Silvan"]
[null,"Wyss","Silvan"]
[null,"Stiefel","Peter"]
[null,"Hediger","Roland"]
[null,"Kalt","Robert"]
[null,"Fricker","Konrad"]
[null,"Stäuble","Marcel"]
[null,"Luginbühl","Stephan"]
[null,"Schnidrig","Otto"]
[null,"Schnidrig","Otto"]
[null,"Wyss","Silvan"]
[null,"Wyss","Silvan"]
[null,"Stiefel","Peter"]
[null,"Luginbühl","Stephan"]
[null,"Luginbühl","Stephan"]
[null,"Luginbühl","Stephan"]
[null,"Zimmermann","Josef"]
[null,"Kaufmann","Patrik"]
[null,"Durrer","Walter"]
[null,"Windlin","Anita"]
[null,"Zimmermann","Josef"]
[null,"Zimmermann","Josef"]
[null,"Heinzer","Karl"]
[null,"Räuftlin","Ruedi"]
[null,"Fluri","Martin"]
[null,"Stecher","Alois"]
[null,"Zihler","Markus"]
[null,"Heutschi","René"]
[null,"Willi","André"]
[null,"Fluri","Roger"]
[null,"Bloch","Eugen"]
[null,"Zihler","Rudolf"]
[null,"Heutschi","Alban"]
[null,"Zihler","Ruedi"]
[null,"Stecher","Alois"]
[null,"Stecher","Alois"]
[null,"Zihler","Markus"]
[null,"Zihler","Markus"]
[null,"Heutschi","René"]
[null,"Fluri","Roger"]
[null,"Bloch","Eugen"]
[null,"Bloch","Eugen"]
[null,"Zihler","Ruedi"]
[null,"Egger","Fabian"]
[null,"Nagy","Robert"]
[null,"Herger","Michel"]
[null,"Merz","Käthy"]
[null,"Zürcher","Hans"]
[null,"Johann","Gaby"]
[null,"Wespisser","André"]
[null,"Zubler","Martina"]
[null,"Egger","Fabian"]
[null,"Herger","Michel"]
[null,"Zürcher","Hans"]
[null,"Zubler","Martina"]
[null,"Meisinger","Stephan"]
[null,"Wiese","Elisabeth"]
[null,"Reichmuth","Daniel"]
[null,"Flühler","Stefan"]
[null,"Schuler","Pirmin"]
[null,"Meisinger","Stephan"]
[null,"Meisinger","Stephan"]
[null,"Wiese","Elisabeth"]
[null,"Wiese","Elisabeth"]
[null,"Wiese","Elisabeth"]
[null,"Reichmuth","Daniel"]
[null,"Flühler","Stefan"]
[null,"Flühler","Stefan"]
[null,"Felber","Eveline"]
[null,"Felber","Eveline"]
[null,"Hansen","Jonas"]
[null,"Felber","Hans"]
[null,"Schwegler","Bernhard"]
[null,"Felber","Tobias"]
[null,"Schumacher","David"]
[null,"Bucherer","Felix"]
[null,"Marbach","Karl"]
[null,"Marbach","Karl"]
[null,"Suppiger","Alois"]
[null,"Graber-Marbach","Nadja"]
[null,"Marbach","Florentin"]
[null,"May","Stefan"]
[null,"Hermann","Martin"]
[null,"Häfliger","Walter"]
[null,"Felber","Hans"]
[null,"Zemp","Elias"]
[null,"Helfenstein","Sarina"]
[null,"Felber","Tobias"]
[null,"Vonwyl","Sarah"]
[null,"Dousse","Danilo"]
[null,"Balsiger","Joel"]
[null,"Helfenstein","Ronja"]
[null,"Widmer","Robin"]
[null,"Zemp","Louis"]
[null,"Bösch","Gian"]
[null,"Felber","Eveline"]
[null,"Felber","Eveline"]
[null,"Hansen","Jonas"]
[null,"Felber","Hans"]
[null,"Helfenstein","Sarina"]
[null,"Vonarburg","Celine"]
[null,"Wicki","Stefan"]
[null,"Rölli","Simon"]
[null,"Walker","Maximilian"]
[null,"Schraner","Roman"]
[null,"Felber-Luterbach","Doris"]
[null,"Graber","Valerie"]
[null,"Häfliger","Walter"]
[null,"Würsch","Martin"]
[null,"Würsch","Martin"]
[null,"Würsch","Andrin"]
[null,"Würsch","Andrin"]
[null,"Schnidrig","Otto"]
[null,"Janssen","Doris"]
[null,"Stiefel","Peter"]
[null,"Siegrist","Max"]
[null,"Leder","Urs"]
[null,"Ingold","Franz"]
[null,"Ingold","Franz"]
[null,"Suarez","Noel"]
[null,"Suarez","Noel"]
[null,"Vogt","Willi"]
[null,"Vogt","Willi"]
[null,"Weiss","Anton"]
[null,"Weiss","Anton"]
[null,"Honegger","Alexander"]
[null,"Honegger","Alexander"]
[null,"Stiefel","Peter"]
[null,"Ingold","Franz"]
[null,"Suarez","Noel"]
[null,"Weiss","Anton"]
[null,"Friedrich","Priska"]
[null,"Barmettler","Lara"]
[null,"Hofmann","Meinrad"]
[null,"Hofmann","Meinrad"]
[null,"Ambauen","Roland"]
[null,"Richener","Ruedi"]
[null,"Niederberger","Richard"]
[null,"Niederberger","Richard"]
[null,"Joller","Josef"]
[null,"Schweizer","Willy"]
[null,"Schweizer","Willy"]
[null,"Schweizer","Pascal"]
[null,"Odermatt","Jonas"]
[null,"Renggli","Ninja"]
[null,"Odermatt","Josef"]
[null,"Odermatt","Josef"]
[null,"Felder","Toni"]
[null,"Baumann","Dario"]
[null,"Niederberger","Eugen"]
[null,"Niederberger","Eugen"]
[null,"Niederberger","Stefan"]
[null,"Rohrer","Anton"]
[null,"Rohrer","Anton"]
[null,"Niederberger","Paul"]
[null,"Niederberger","Paul"]
[null,"Näpflin","Josef"]
[null,"Näpflin","Josef"]
[null,"Niederberger","Michelle"]
[null,"Minder","Josef"]
[null,"Minder","Josef"]
[null,"Frei","Joe"]
[null,"Richener","Ruedi"]
[null,"Richener","Ruedi"]
[null,"Richener","Ruedi"]
[null,"Renggli","Larissa"]
[null,"Schweizer","Pascal"]
[null,"Odermatt","Jonas"]
[null,"Baumann","Dario"]
[null,"Niederberger","Eugen"]
[null,"Rohrer","Anton"]
[null,"Niederberger","Michelle"]
[null,"Odermatt","Elena"]
[null,"Aeschlimann","Walter"]
[null,"Albisser","Anton"]
[null,"Gehri","Kevin"]
[null,"Perrollaz","Christian"]
[null,"Portmann","Toni"]
[null,"Portmann","Toni"]
[null,"Hasler","Michael"]
[null,"Anicic","Marko"]
[null,"Anicic","Marko"]
[null,"Duss","André"]
[null,"Jauch","Erhard"]
[null,"Hasler","Peter"]
[null,"Hasler","Peter"]
[null,"Baggenstos","Regula"]
[null,"Rohrer","Yasmin"]
[null,"Räber","Edy"]
[null,"Duss","André"]
[null,"Anicic","Josip"]
[null,"Anicic","Josip"]
[null,"Aeschlimann","Walter"]
[null,"Sztipanovics","Balazs"]
[null,"Sztipanovics","Balazs"]
[null,"Roth","Verena"]
[null,"Portmann","Nico"]
[null,"Portmann","Nico"]
[null,"Ostgen","Anina"]
[null,"Ostgen","Anina"]
[null,"Portmann","Toni"]
[null,"Hasler","Michael"]
[null,"Duss","André"]
[null,"Duss","André"]
[null,"Duss","André"]
[null,"Portmann","Chris"]
[null,"Portmann","Chris"]
[null,"Sztipanovics","Blanka"]
[null,"Sztipanovics","Blanka"]
[null,"Baggenstos","Regula"]
[null,"Räber","Edy"]
[null,"Schmid","Renate"]
[null,"Kalt","Robert"]
[null,"Schmid","Theo"]
[null,"Imhof-Berger","Yvonne"]
[null,"Zürcher","Hans"]
[null,"Fricker","Konrad"]
[null,"Venhoda","Sabine"]
[null,"Stäuble","Marcel"]
[null,"Stäuble","Marcel"]
[null,"Imhof-Berger","Yvonne"]
[null,"Imhof-Berger","Yvonne"]
[null,"Zürcher","Hans"]
[null,"Zürcher","Hans"]
[null,"Röthlisberger","Julia"]
[null,"Venhoda","Sabine"]
[null,"Venhoda","Sabine"]
[null,"Hansen","Jonas"]
[null,"Arnold","Christof"]
[null,"Luzzani","Roger"]
[null,"Luzzani","Roger"]
[null,"Dittli","Heinrich"]
[null,"Kempf","Daniel"]
[null,"Kempf","Daniel"]
[null,"Walker","Franz"]
[null,"Walker","Franz"]
[null,"Sicher","Vali"]
[null,"Sicher","Vali"]
[null,"Walker","Silvan"]
[null,"Walker","Silvan"]
[null,"Loretz","Stephan"]
[null,"Loretz","Stephan"]
[null,"Walker","Gabriel"]
[null,"Walker","Gabriel"]
[null,"Arnold","Adrian"]
[null,"Arnold","Adrian"]
[null,"Walker","Darius"]
[null,"Walker","Darius"]
[null,"Jauch","Luca"]
[null,"Jauch","Luca"]
[null,"Luzzani","Roger"]
[null,"Walker","Julian"]
[null,"Walker","Julian"]
[null,"Walker","Laurin"]
[null,"Walker","Laurin"]
[null,"Jauch","Sandro"]
[null,"Jauch","Sandro"]
[null,"Kempf","Daniel"]
[null,"Gamma","Matteo"]
[null,"Gamma","Matteo"]
[null,"Baumann","Livio"]
[null,"Sicher","Vali"]
[null,"Walker","Silvan"]
[null,"Panzeri","Loris"]
[null,"Panzeri","Loris"]
[null,"Loretz","Stephan"]
[null,"Loretz","Stephan"]
[null,"Loretz","Stephan"]
[null,"Kempf","Keanu"]
[null,"Kempf","Keanu"]
[null,"Walker","Gabriel"]
[null,"Baumann","Livio"]
[null,"Luthiger","Joe"]
[null,"Suter","Daniel"]
[null,"Baumgartner","Alois"]
[null,"Baumgartner","Alois"]
[null,"Luthiger","Beat"]
[null,"Luthiger","Beat"]
[null,"Gretener","August"]
[null,"Werder","Michael"]
[null,"Werder","Michael"]
[null,"Baum","Rebekka"]
[null,"Bütler","Daniel"]
[null,"Bucheli","Franz"]
[null,"Bucheli","Franz"]
[null,"Syfrig","Armin"]
[null,"Syfrig","Beat"]
[null,"Gemperle","Alex"]
[null,"Thomann","Martin"]
[null,"Werder","Regula"]
[null,"Studer","Patrick"]
[null,"Luthiger","Christina"]
[null,"Peterhans","Ruth"]
[null,"Baumgartner","Peter"]
[null,"Baumgartner","Peter"]
[null,"Bär","Sylvia"]
[null,"Baumgartner","Alois"]
[null,"Baumgartner","Alois"]
[null,"Baumgartner","Alois"]
[null,"Luthiger","Beat"]
[null,"Luthiger","Beat"]
[null,"Werder","Michael"]
[null,"Bucheli","Franz"]
[null,"Bucheli","Franz"]
[null,"Syfrig","Beat"]
[null,"Thomann","Martin"]
[null,"Luthiger","Christina"]
[null,"Joller","Josef"]
[null,"Odermatt","Jonas"]
[null,"Baumann","Dario"]
[null,"Wirz","Peter"]
[null,"Wyss","Pius"]
[null,"May","Stefan"]
[null,"May","Stefan"]
[null,"May","Stefan"]
[null,"Patelli","Nino"]
[null,"Dober","Roman"]
[null,"Dober","Beat"]
[null,"Hess","Urs"]
[null,"Ambauen","Lukas"]
[null,"Eberhard","Markus"]
[null,"Dober","Bruno"]
[null,"Schwendener","Hans"]
[null,"Ambauen","Peter"]
[null,"Van Glahn Lepple","Martina"]
[null,"Eberhard","Theres"]
[null,"Ambauen","Raphael"]
[null,"Dober","Beat"]
[null,"Dober","Beat"]
[null,"Ambauen","Lukas"]
[null,"Eberhard","Markus"]
[null,"Eberhard","Markus"]
[null,"Ambauen","Peter"]
[null,"Ambauen","Dominik"]
[null,"Nussbaumer","Bruno"]
[null,"Lüscher","Ernst"]
[null,"Hugener","Karl"]
[null,"Annen","Marcel"]
[null,"Landolt","Stefan"]
[null,"Hugener","Markus"]
[null,"Niederberger","Pius"]
[null,"Lüthold","René"]
[null,"Lüthold","René"]
[null,"Hoppler","Dominic"]
[null,"Iten","Yanik"]
[null,"Eichholzer","Bernhard"]
[null,"Barmet","Stefan"]
[null,"Kränzlin","Gerhard"]
[null,"Hugener","Veronika"]
[null,"Hugener","Karl"]
[null,"Hugener","Markus"]
[null,"Gegenschatz","Florin"]
[null,"Bürgisser","Silvan"]
[null,"Niederberger","Pius"]
[null,"Eichholzer","Bernhard"]
[null,"Eichholzer","Bernhard"]
[null,"Eichholzer","Bernhard"]
[null,"Marfurt","Hubert"]
[null,"Wüest","Anita"]
[null,"Künzle","Rolf"]
[null,"Gautschi","Christoph"]
[null,"Kottmann","Daniel"]
[null,"Stirnimann","Caroline"]
[null,"Koller","Friedrich"]
[null,"Bertschi","Stefan"]
[null,"Kottmann","Jost"]
[null,"Gautschi","Peter"]
[null,"Leu","Roland"]
[null,"Wegst","Daniel"]
[null,"Marfurt","Hubert"]
[null,"Künzle","Rolf"]
[null,"Gautschi","Christoph"]
[null,"Koller","Friedrich"]
[null,"Koller","Friedrich"]
[null,"Leu","Roland"]
[null,"Kottmann","Daniel"]
[null,"Leu","Roland"]
[null,"Wegst","Daniel"]
[null,"Ernst","Stefan"]
[null,"Holliger","Otto"]
[null,"Kuster","Marcel"]
[null,"Leutwyler","Tobias"]
[null,"Ernst","Stefan"]
[null,"Ernst","Stefan"]
[null,"Hess","Ben"]
[null,"Kuster","Marcel"]
[null,"Kuster","Marcel"]
[null,"Kuster","Marcel"]
[null,"Hochuli","Marc"]
[null,"Cupta","Naveen"]
[null,"Egger","Fabian"]
[null,"Meury","Thomas"]
[null,"Wampfler","Hans"]
[null,"Fuhrmann","Uwe"]
[null,"Wussler","Stefan"]
[null,"Geiser","Hanspeter"]
[null,"Kaufmann","Madeleine"]
[null,"Manser","Fridolin"]
[null,"Manser","Fridolin"]
[null,"Citton","Marco"]
[null,"Kaufmann","Franz"]
[null,"von Allmen","Erwin"]
[null,"Ryffel","Georges"]
[null,"Meury","Thomas"]
[null,"Wussler","Stefan"]
[null,"Geiser","Hanspeter"]
[null,"Geiser","Hanspeter"]
[null,"Kaufmann","Madeleine"]
[null,"Kaufmann","Franz"]
[null,"Huwiler","Jana"]
[null,"Spiess","Lars"]
[null,"Hurni","Marcel"]
[null,"Marinkovic","Dusan"]
[null,"Schmid","Seppi"]
[null,"Steiner","Gregor"]
[null,"Huwiler","Christian"]
[null,"Spiess","Markus"]
[null,"Schmid","Hanspeter"]
[null,"Egli","Ferdi"]
[null,"Spiess","Thomas"]
[null,"Wyrsch","Stefan"]
[null,"Unternährer","Bruno"]
[null,"Spiess","Lars"]
[null,"Spiess","Patrizia"]
[null,"Steiner","Gregor"]
[null,"Huwiler","Christian"]
[null,"Spiess","Bruno"]
[null,"Spiess","Markus"]
[null,"Egli","Ferdi"]
[null,"Egli","Ferdi"]
[null,"Wyrsch","Stefan"]
[null,"Unternährer","Bruno"]
[null,"Hediger","Michael"]
[null,"Müller","Bruno"]
[null,"Zimmerli","Urs"]
[null,"Hochuli","Esther"]
[null,"Hochuli","Esther"]
[null,"Urech","René"]
[null,"Hediger","Nicole"]
[null,"Wyss","Silvan"]
[null,"Hediger","Roland"]
[null,"Hediger","Roland"]
[null,"Hediger","Klaus"]
[null,"Luginbühl","Stephan"]
[null,"Müller","Bruno"]
[null,"Zimmerli","Urs"]
[null,"Hochuli","Esther"]
[null,"Urech","René"]
[null,"Wyss","Silvan"]
[null,"Wyss","Silvan"]
[null,"Wyss","Silvan"]
[null,"Hediger","Roland"]
[null,"Luginbühl","Stephan"]
[null,"Frey","André"]
[null,"Frey","André"]
[null,"Brüschweiler","Joel"]
[null,"Kirsch","Tanja"]
[null,"Emmenegger","Hans"]
[null,"Christen","Heinz"]
[null,"Bucher","Fridolin"]
[null,"Gelzer","Jan"]
[null,"Rüegg","Käthy"]
[null,"Rüegg","Käthy"]
[null,"Felder","Walter"]
[null,"Felder","Walter"]
[null,"Venturi","Luigi"]
[null,"Venturi","Luigi"]
[null,"Hurschler","Monika"]
[null,"Hurschler","Monika"]
[null,"Felber","Tobias"]
[null,"Jans","Viktor"]
[null,"Hösli","Simon"]
[null,"Portmann","Fredi"]
[null,"Pirovino","Sabrina"]
[null,"Pirovino","Sabrina"]
[null,"Felder","David"]
[null,"Felder","David"]
[null,"Frey","Sonja"]
[null,"Hugener","Karl"]
[null,"Häusler","Rolf"]
[null,"Häusler","Rolf"]
[null,"Schumacher","David"]
[null,"Hugener","Markus"]
[null,"Stritmatter","Josef"]
[null,"Wyss","Jakob"]
[null,"Hüsser","Leo"]
[null,"Rüttimann","Michael"]
[null,"Eggenberger","Stephan"]
[null,"Felder","Flavio"]
[null,"Amgwerd","Albin"]
[null,"Jans","Xaver"]
[null,"Marti","Nils"]
[null,"Marti","Nils"]
[null,"Schnüriger","Beat"]
[null,"Zimmermann","René"]
[null,"Schmid","Jakob"]
[null,"Göldi","Pascal"]
[null,"Hurschler","Reto"]
[null,"Birchler","Urs"]
[null,"Kühni","Silvia"]
[null,"Frey","André"]
[null,"Frey","André"]
[null,"Frey","André"]
[null,"Frey","André"]
[null,"Emmenegger","Hans"]
[null,"Hösli","Florian"]
[null,"Felder","Walter"]
[null,"Felder","Walter"]
[null,"Felder","Walter"]
[null,"Felder","Walter"]
[null,"Felder","Walter"]
[null,"Hurschler","Monika"]
[null,"Hösli","Simon"]
[null,"Frey","Sonja"]
[null,"Häusler","Rolf"]
[null,"Blattmann","Patrick"]
[null,"Stritmatter","Josef"]
[null,"Rüttimann","Michael"]
[null,"Eggenberger","Stephan"]
[null,"Eggenberger","Stephan"]
[null,"Marti","Nils"]
[null,"Schlumpf","Philipp"]
[null,"Schlumpf","Philipp"]
[null,"Costa","Mirco"]
[null,"Zürcher","Dominik"]
[null,"Zürcher","Dominik"]
[null,"Costa","Vittorio"]
[null,"Dönni","Peter"]
[null,"Dönni","Peter"]
[null,"Koch","Thomas"]
[null,"Koch","Thomas"]
[null,"Jöhl","Michael"]
[null,"Lüthi","Heinz"]
[null,"Lüthi","Heinz"]
[null,"Frei","Roman"]
[null,"Frei","Roman"]
[null,"Zeindler","Walter"]
[null,"Hausmann","Max"]
[null,"Meyer","Stephan"]
[null,"Koch","Franz"]
[null,"Frei","Stefan"]
[null,"Frei","Stefan"]
[null,"Brändli","Benjamin"]
[null,"Brändli","Benjamin"]
[null,"Zeindler","Markus"]
[null,"Kaiser","Patrick"]
[null,"Dönni","Peter"]
[null,"Dönni","Peter"]
[null,"Koch","Thomas"]
[null,"Koch","Thomas"]
[null,"Koch","Thomas"]
[null,"Lüthi","Heinz"]
[null,"Zeindler","Walter"]
[null,"Koch","Franz"]
[null,"Frei","Stefan"]
[null,"Frei","Stefan"]
[null,"Zemp","Franz"]
[null,"Zemp","Franz"]
[null,"Wüest","Andreas"]
[null,"Wüest","Andreas"]
[null,"Ferrari","Michael"]
[null,"Arnold","Christof"]
[null,"Schneider","Reto"]
[null,"Schneider","Reto"]
[null,"Bieri","Ramona"]
[null,"Luthiger","Angela"]
[null,"Garo","Werner"]
[null,"Garo","Werner"]
[null,"Elsener","Patrick"]
[null,"Garo","Nils"]
[null,"Wetli","Guido"]
[null,"Greter","Roger"]
[null,"Durrer","Walter"]
[null,"Durrer","Walter"]
[null,"Peters","Frederic"]
[null,"Durrer","Elsa"]
[null,"Bütler","Marcel"]
[null,"Mätzler","André"]
[null,"Blas","Raimund"]
[null,"Walser","Albin"]
[null,"Walser","Albin"]
[null,"Stuber","Michel"]
[null,"Schneider","Jürg"]
[null,"Banzer","Urs"]
[null,"Banzer","Urs"]
[null,"Arnold","Alice"]
[null,"Heinrich","Adalbert"]
[null,"Barandun","Horst"]
[null,"Amgwerd","Albin"]
[null,"Gössi","Bruno"]
[null,"Immoos","Andrea"]
[null,"Krummenacher","Christian"]
[null,"Krummenacher","Christian"]
[null,"Loretz","Stephan"]
[null,"Barandun","Ivo"]
[null,"Peter","Ralph"]
[null,"Birchler","Urs"]
[null,"Grob","Peter"]
[null,"Villiger","Albert"]
[null,"Villiger","Albert"]
[null,"Frey","André"]
[null,"Brüschweiler","Joel"]
[null,"Ferrari","Michael"]
[null,"Arnold","Christof"]
[null,"Wetli","Guido"]
[null,"Schneider","Jürg"]
[null,"Barandun","Horst"]
[null,"Barandun","Horst"]
[null,"Amgwerd","Albin"]
[null,"Immoos","Andrea"]
[null,"Tribelhorn","Patrick"]
[null,"Tonina","Stefanie"]
[null,"Tonina","Stefanie"]
[null,"Bruderer","Jakob"]
[null,"Wegmüller","Urs"]
[null,"Zimmermann","Terence"]
[null,"Tonina","Alfredo"]
[null,"Tonina","Alfredo"]
[null,"Tribelhorn","Patrick"]
[null,"Bruderer","Jakob"]
[null,"Wegmüller","Urs"]
[null,"Tonina","Claudio"]
[null,"Tonina","Alfredo"]
[null,"Tonina","Alfredo"]
[null,"Felber","Hans"]
[null,"Arnold","Christof"]
[null,"Emmenegger","Hans"]
[null,"Berweger","Hans"]
[null,"Schwegler","Bernhard"]
[null,"Baumgartner","Alois"]
[null,"Costa","Vittorio"]
[null,"Garo","Werner"]
[null,"Hofmann","Meinrad"]
[null,"Wetli","Guido"]
[null,"Durrer","Walter"]
[null,"Schmid","Karl"]
[null,"Lüscher","Ernst"]
[null,"Hugener","Karl"]
[null,"Wampfler","Hans"]
[null,"Spiess","Markus"]
[null,"Schmid","Hanspeter"]
[null,"Meyer","Stephan"]
[null,"Geiser","Hanspeter"]
[null,"Dober","Beat"]
[null,"Hess","Urs"]
[null,"Wyss","Silvan"]
[null,"Hugener","Markus"]
[null,"Wyss","Jakob"]
[null,"Manser","Fridolin"]
[null,"Sicher","Vali"]
[null,"Hüsser","Leo"]
[null,"Stiefel","Peter"]
[null,"Koch","Franz"]
[null,"Wegmüller","Urs"]
[null,"Suppiger","Alois"]
[null,"Eggenberger","Stephan"]
[null,"Graber","Josef"]
[null,"Eberhard","Markus"]
[null,"Dober","Bruno"]
[null,"Ingold","Franz"]
[null,"Gautschi","Peter"]
[null,"Kränzlin","Gerhard"]
[null,"Räber","Edy"]
[null,"Wüest","Andreas"]
[null,"Felber","Hans"]
[null,"Nussbaumer","Bruno"]
[null,"Berweger","Hans"]
[null,"Bucher","Fridolin"]
[null,"Albisser","Anton"]
[null,"von Glahn","Martina"]
[null,"Rüegg","Käthy"]
[null,"Dönni","Peter"]
[null,"Felder","Walter"]
[null,"Würsch","Martin"]
[null,"Venturi","Luigi"]
[null,"Künzle","Rolf"]
[null,"Gretener","August"]
[null,"Tonina","Stefanie"]
[null,"Richener","Ruedi"]
[null,"Bruderer","Jakob"]
[null,"Huwiler","Christian"]
[null,"Schnidrig","Otto"]
[null,"Steiner","Leo"]
[null,"Häusler","Rolf"]
[null,"Fuhrmann","Uwe"]
[null,"Niederberger","Richard"]
[null,"Niederberger","Richard"]
[null,"Bucheli","Franz"]
[null,"Schweizer","Willy"]
[null,"Spiess","Thomas"]
[null,"Zeindler","Walter"]
[null,"Odermatt","Josef"]
[null,"Koller","Friedrich"]
[null,"Durrer","Franz"]
[null,"Bertschi","Stefan"]
[null,"Portmann","Toni"]
[null,"Kaufmann","Madeleine"]
[null,"Stritmatter","Josef"]
[null,"Janssen","Doris"]
[null,"Gemperle","Alex"]
[null,"Arnold","Alice"]
[null,"Hediger","Roland"]
[null,"Niederberger","Eugen"]
[null,"Anicic","Marko"]
[null,"Wegmüller","Urs"]
[null,"Rohrer","Anton"]
[null,"Niederberger","Paul"]
[null,"Kaufmann","Franz"]
[null,"Näpflin","Josef"]
[null,"Siegrist","Max"]
[null,"Barandun","Horst"]
[null,"Leder","Urs"]
[null,"Zürcher","Hans"]
[null,"Kottmann","Jost"]
[null,"Amgwerd","Albin"]
[null,"Jans","Xaver"]
[null,"Ingold","Franz"]
[null,"Frei","Stefan"]
[null,"Baumgartner","Peter"]
[null,"Schnüriger","Beat"]
[null,"Eberhard","Theres"]
[null,"Vogt","Willi"]
[null,"Kuster","Fritz"]
[null,"Schmid","Jakob"]
[null,"Niederberger","Walter"]
[null,"Kesselbach","Joachim"]
[null,"Eichholzer","Bernhard"]
[null,"Luginbühl","Stephan"]
[null,"Birchler","Urs"]
[null,"Kühni","Silvia"]
[null,"Barmet","Stefan"]
[null,"Ryffel","Georges"]
[null,"Tonina","Alfredo"]
[null,"Minder","Josef"]
[null,"Richener","Ruedi"]
[null,"Lüscher","Ernst"]
[null,"Stiefel","Peter"]
[null,"Rohrer","Anton"]
[null,"Luginbühl","Stephan"]
[null,"Tonina","Alfredo"]
[null,"Dennler","Hans"]
[null,"Tschiemer","Hansueli"]
[null,"Schneider","Martin"]
[null,"Rickli","Bethli"]
[null,"Burkhalter","Hans"]
[null,"Schneider","Willy"]
[null,"Bolanz","Albert"]
[null,"Stettler","Christina"]
[null,"Egli","Rudolf"]
[null,"Rickli","Gottfried"]
[null,"Eschmann","René"]
[null,"Jost","Ueli"]
[null,"Zaugg","Heinz"]
[null,"Gamper","Peter"]
[null,"König","Robert"]
[null,"Tschiemer","Hansueli"]
[null,"Bangerter","Gottfried"]
[null,"Forrer","Wendel"]
[null,"Streuli","Hans"]
[null,"Schneider","Martin"]
[null,"Näf","Bruno"]
[null,"Näf","Bruno"]
[null,"Näf","Bruno"]
[null,"Wetli","Guido"]
[null,"Zürcher","Heidi"]
[null,"Bottinelli","Jean-Marc"]
[null,"Doulaz","léon"]
[null,"Zimmermann","Hans"]
[null,"Zimmermann","Hans"]
[null,"Steiner","Markus"]
[null,"Rothen","Peter"]
[null,"Roland Leuenberger","BEKB / BCBE"]
[null,"Gurtner","Roland"]
[null,"Gurtner","Roland"]
[null,"Dummermuth","Paul"]
[null,"Käufeler","Erika"]
[null,"Schweizer","Erwin"]
[null,"Stettler","Christina"]
[null,"Siegenthaler","Alfred"]
[null,"Siegenthaler","Roger"]
[null,"Felder","Toni"]
[null,"Felder","Toni"]
[null,"Burkhalter","Andreas"]
[null,"Rickli","Gottfried"]
[null,"Roth","Markus"]
[null,"Schneider","Monya"]
[null,"Schneider","Monya"]
[null,"Schneider","Monya"]
[null,"Grimm","Thomas"]
[null,"Jost","Patrick"]
[null,"Jost","Patrick"]
[null,"Jost","Patrick"]
[null,"Jost","Patrick"]
[null,"Schiess","Ernst"]
[null,"Eschmann","René"]
[null,"Marti","Erich"]
[null,"Zaugg","Heinz"]
[null,"Mollet","Urs"]
[null,"Gamper","Peter"]
[null,"Schneider","Astrid"]
[null,"König","Robert"]
[null,"König","Robert"]
[null,"Carrera","Jean-Michel"]
[null,"Carrera","Jean-Michel"]
[null,"Kocher","Jennifer"]
[null,"Ueltschi","Erwin"]
[null,"Burkhalter","Hans"]
[null,"Uhlmann","Rolf"]
[null,"Uhlmann","Rolf"]
[null,"Schenkel","Thomas"]
[null,"De Jonckheere","Marcel"]
[null,"Steiner","Alicia"]
[null,"Michel","Yves"]
[null,"Michel","Yves"]
[null,"Eschmann","Marc"]
[null,"Schaffter","Olivier Pierre"]
[null,"Eschmann","René"]
[null,"Eschmann","René"]
[null,"Eschmann","René"]
[null,"Gogniat","Audrey"]
[null,"Zaugg","Heinz"]
[null,"Ueltschi","Kurt"]
[null,"König","Robert"]
[null,"König","Robert"]
[null,"König","Robert"]
[null,"König","Robert"]
[null,"Carrera","Jean-Michel"]
[null,"Carrera","Jean-Michel"]
[null,"Carrera","Jean-Michel"]
[null,"Kocher","Jennifer"]
[null,"Kocher","Jennifer"]
[null,"Ueltschi","Erwin"]
[null,"Ueltschi","Erwin"]
[null,"Burkhalter","Hans"]
[null,"Uhlmann","Rolf"]
[null,"Uhlmann","Rolf"]
[null,"Uhlmann","Rolf"]
[null,"Uhlmann","Rolf"]
[null,"Uhlmann","Rolf"]
[null,"Schenkel","Thomas"]
[null,"Schenkel","Thomas"]
[null,"De Jonckheere","Marcel"]
[null,"De Jonckheere","Marcel"]
[null,"Steiner","Alicia"]
[null,"Steiner","Alicia"]
[null,"Michel","Yves"]
[null,"Michel","Yves"]
[null,"Michel","Yves"]
[null,"Michel","Yves"]
[null,"Michel","Yves"]
[null,"Michel","Yves"]
[null,"Michel","Yves"]
[null,"Eschmann","Marc"]
[null,"Eschmann","Marc"]
[null,"Schaffter","Olivier Pierre"]
[null,"Schaffter","Olivier Pierre"]
[null,"Eschmann","René"]
[null,"Eschmann","René"]
[null,"Eschmann","René"]
[null,"Eschmann","René"]
[null,"Eschmann","René"]
[null,"Eschmann","René"]
[null,"Eschmann","René"]
[null,"Eschmann","René"]
[null,"Hirt","Géza"]
[null,"Gogniat","Audrey"]
[null,"Gogniat","Audrey"]
[null,"Zaugg","Heinz"]
[null,"Zaugg","Heinz"]
[null,"Zaugg","Heinz"]
[null,"Grande","Claudia"]
[null,"Ueltschi","Kurt"]
[null,"Ueltschi","Kurt"]
[null,"Ueltschi","Kurt"]
[null,"Bangerter","Gottfried"]
[null,"Zimmermann","Hans"]
[null,"Held","Daniel"]
[null,"Gurtner","Roland"]
[null,"Rupp","Oswald"]
[null,"Venner","Arthur"]
[null,"Tüscher","Sandro"]
[null,"Zaugg","Heinz"]
[null,"Lysser","Eduard"]
[null,"Hammer","Urs"]
[null,"Bangerter","Gottfried"]
[null,"Bangerter","Gottfried"]
[null,"Zimmermann","Hans"]
[null,"Zimmermann","Hans"]
[null,"Held","Daniel"]
[null,"Held","Daniel"]
[null,"Held","Daniel"]
[null,"Held","Daniel"]
[null,"Gurtner","Roland"]
[null,"Gurtner","Roland"]
[null,"Gurtner","Roland"]
[null,"Rupp","Oswald"]
[null,"Rupp","Oswald"]
[null,"Venner","Arthur"]
[null,"Venner","Arthur"]
[null,"Venner","Arthur"]
[null,"Tüscher","Sandro"]
[null,"Tüscher","Sandro"]
[null,"Tüscher","Sandro"]
[null,"Lysser","Eduard"]
[null,"Lysser","Eduard"]
[null,"Lysser","Eduard"]
[null,"Hammer","Urs"]
[null,"Hammer","Urs"]
[null,"Hammer","Urs"]
[null,"Hammer","Urs"]
[null,"Bangerter","Gottfried"]
[null,"Zimmermann","Hans"]
[null,"Held","Daniel"]
[null,"Gurtner","Roland"]
[null,"Rupp","Oswald"]
[null,"Venner","Arthur"]
[null,"Tüscher","Sandro"]
[null,"Bangerter","Gottfried"]
[null,"Bangerter","Gottfried"]
[null,"Bangerter","Gottfried"]
[null,"Bangerter","Gottfried"]
[null,"Zimmermann","Hans"]
[null,"Zimmermann","Hans"]
[null,"Zimmermann","Hans"]
[null,"Held","Daniel"]
[null,"Held","Daniel"]
[null,"Held","Daniel"]
[null,"Held","Daniel"]
[null,"Gurtner","Roland"]
[null,"Gurtner","Roland"]
[null,"Gurtner","Roland"]
[null,"Rupp","Oswald"]
[null,"Rupp","Oswald"]
[null,"Venner","Arthur"]
[null,"Venner","Arthur"]
[null,"Venner","Arthur"]
[null,"Tüscher","Sandro"]
[null,"Tüscher","Sandro"]
[null,"Tüscher","Sandro"]
[null,"Tüscher","Sandro"]
[null,"Adolf","Roland"]
[null,"Schulthess","Renato"]
[null,"Steiner","Samuel"]
[null,"Schweizer","Erwin"]
[null,"Ruchti","Erwin"]
[null,"Grimm","Thomas"]
[null,"Gerber","Michael"]
[null,"Adolf","Roland"]
[null,"Adolf","Roland"]
[null,"Adolf","Roland"]
[null,"Adolf","Roland"]
[null,"Schulthess","Renato"]
[null,"Schulthess","Renato"]
[null,"Schulthess","Renato"]
[null,"Steiner","Samuel"]
[null,"Steiner","Samuel"]
[null,"Steiner","Samuel"]
[null,"Schweizer","Erwin"]
[null,"Schweizer","Erwin"]
[null,"Ruchti","Erwin"]
[null,"Ruchti","Erwin"]
[null,"Grimm","Thomas"]
[null,"Grimm","Thomas"]
[null,"Gerber","Michael"]
[null,"Gerber","Michael"]
[null,"Finger","Hans"]
[null,"Staub","Markus"]
[null,"Ellenberger","Adrian"]
[null,"Finger","Hans"]
[null,"Finger","Hans"]
[null,"Finger","Hans"]
[null,"Zaugg","Heinz"]
[null,"Staub","Markus"]
[null,"Staub","Markus"]
[null,"Staub","Markus"]
[null,"Staub","Markus"]
[null,"Staub","Markus"]
[null,"Staub","Markus"]
[null,"Staub","Markus"]
[null,"Cotting","André Claude"]
[null,"Broillet","Fabien"]
[null,"Progin","Kévin"]
[null,"Moullet","Jacques"]
[null,"Devaud","André"]
[null,"Cotting","André Claude"]
[null,"Cotting","André Claude"]
[null,"Broillet","Fabien"]
[null,"Broillet","Fabien"]
[null,"Broillet","Fabien"]
[null,"Progin","Kévin"]
[null,"Progin","Kévin"]
[null,"Moullet","Jacques"]
[null,"Moullet","Jacques"]
[null,"Moullet","Jacques"]
[null,"Moullet","Jacques"]
[null,"Moullet","Jacques"]
[null,"Moullet","Jacques"]
[null,"Moullet","Jacques"]
[null,"Moullet","Jacques"]
[null,"Devaud","André"]
[null,"Devaud","André"]
[null,"Sarbach","Erich"]
[null,"Trachsel","Andreas"]
[null,"Bieri","Ramona"]
[null,"Bieri","Ramona"]
[null,"Ryter","Sandrine"]
[null,"Schneider","Marvin"]
[null,"Schneider","Martin"]
[null,"Schneider","Martin"]
[null,"Marti","Nolwenn"]
[null,"Mühlemann","Matthias"]
[null,"Trachsel","Christoph"]
[null,"Stoller","Markus"]
[null,"Stoller","Markus"]
[null,"Maurer","Alfred"]
[null,"Maurer","Alfred"]
[null,"Ryter","Marcel"]
[null,"Marti","Roland"]
[null,"Marti","Roland"]
[null,"Grossen","Sven"]
[null,"von Deschwanden","Severin"]
[null,"Wäfler","Hans"]
[null,"Wäfler","Hans"]
[null,"Schneider","Manuel"]
[null,"Schneider","Manuel"]
[null,"Inniger","Andreas"]
[null,"Inniger","Andreas"]
[null,"Jost","Patrick"]
[null,"Marti","Monika"]
[null,"Marti","Erich"]
[null,"Marti","Erich"]
[null,"Zahnd","Monika"]
[null,"Sarbach","Erich"]
[null,"Sarbach","Erich"]
[null,"Trachsel","Andreas"]
[null,"Trachsel","Andreas"]
[null,"Schneider","Marvin"]
[null,"Schneider","Martin"]
[null,"Schneider","Martin"]
[null,"Marti","Nolwenn"]
[null,"Mühlemann","Matthias"]
[null,"Stoller","Markus"]
[null,"Stoller","Markus"]
[null,"Maurer","Alfred"]
[null,"Maurer","Alfred"]
[null,"Maurer","Alfred"]
[null,"Grossen","Kevin"]
[null,"Marti","Roland"]
[null,"Marti","Roland"]
[null,"Wäfler","Hans"]
[null,"Wäfler","Hans"]
[null,"Schneider","Manuel"]
[null,"Schneider","Manuel"]
[null,"Inniger","Andreas"]
[null,"Jost","Patrick"]
[null,"Marti","Erich"]
[null,"Marti","Erich"]
[null,"Marti","Erich"]
[null,"Marti","Erich"]
[null,"Marti","Erich"]
[null,"Marti","Erich"]
[null,"Zahnd","Monika"]
[null,"Stoller","Philipp"]
[null,"Bieri","Ramona"]
[null,"Bieri","Ramona"]
[null,"Bieri","Ramona"]
[null,"Bieri","Ramona"]
[null,"Ryter","Sandrine"]
[null,"Ryter","Sandrine"]
[null,"Schneider","Marvin"]
[null,"Schneider","Marvin"]
[null,"Schneider","Martin"]
[null,"Schneider","Martin"]
[null,"Schneider","Martin"]
[null,"Schneider","Martin"]
[null,"Marti","Nolwenn"]
[null,"Mühlemann","Matthias"]
[null,"Trachsel","Christoph"]
[null,"Trachsel","Christoph"]
[null,"Steffen","Lara"]
[null,"Stoller","Markus"]
[null,"Stoller","Markus"]
[null,"Maurer","Alfred"]
[null,"Ryter","Marcel"]
[null,"Ryter","Marcel"]
[null,"Ryter","Lars"]
[null,"Marti","Roland"]
[null,"Marti","Roland"]
[null,"Marti","Roland"]
[null,"Marti","Roland"]
[null,"Grossen","Sven"]
[null,"Grossen","Sven"]
[null,"Grossen","Sven"]
[null,"von Deschwanden","Severin"]
[null,"von Deschwanden","Severin"]
[null,"von Deschwanden","Severin"]
[null,"Wäfler","Hans"]
[null,"Wäfler","Hans"]
[null,"Schneider","Manuel"]
[null,"Schneider","Manuel"]
[null,"Inniger","Andreas"]
[null,"Inniger","Andreas"]
[null,"Inniger","Andreas"]
[null,"Inniger","Andreas"]
[null,"Schneider","Monya"]
[null,"Jost","Patrick"]
[null,"Jost","Patrick"]
[null,"Jost","Patrick"]
[null,"Marti","Monika"]
[null,"Marti","Monika"]
[null,"Marti","Erich"]
[null,"Marti","Erich"]
[null,"Marti","Erich"]
[null,"Marti","Erich"]
[null,"Burkhalter","Erwin"]
[null,"Bolanz","Albert"]
[null,"Bolanz","Albert"]
[null,"Weber","Stefan"]
[null,"Heiniger","Beat"]
[null,"Grunder","Hans-Peter"]
[null,"Brand","Joel"]
[null,"Peter","Colin"]
[null,"Burkhalter","Erwin"]
[null,"Burkhalter","Erwin"]
[null,"Burkhalter","Erwin"]
[null,"Bolanz","Albert"]
[null,"Bolanz","Albert"]
[null,"Bolanz","Albert"]
[null,"Bolanz","Albert"]
[null,"Bolanz","Albert"]
[null,"Weber","Stefan"]
[null,"Weber","Stefan"]
[null,"Weber","Stefan"]
[null,"Weber","Stefan"]
[null,"Weber","Stefan"]
[null,"Heiniger","Beat"]
[null,"Heiniger","Beat"]
[null,"Steiner","Joshua"]
[null,"Müller","Lian"]
[null,"Grunder","Hans-Peter"]
[null,"Grunder","Hans-Peter"]
[null,"Grunder","Hans-Peter"]
[null,"Grunder","Hans-Peter"]
[null,"Brand","Elias"]
[null,"Riesen","Peter"]
[null,"Friedli","Arthur"]
[null,"Salvisberg","Mario"]
[null,"Riesen","Monika"]
[null,"Siegenthaler","Alfred"]
[null,"Siegenthaler","Roger"]
[null,"Zimmermann","Verena"]
[null,"Zürcher","Hans-Ulrich"]
[null,"Riesen","Peter"]
[null,"Riesen","Peter"]
[null,"Riesen","Peter"]
[null,"Riesen","Peter"]
[null,"Friedli","Arthur"]
[null,"Friedli","Arthur"]
[null,"Salvisberg","Mario"]
[null,"Salvisberg","Mario"]
[null,"Riesen","Monika"]
[null,"Riesen","Monika"]
[null,"Riesen","Monika"]
[null,"Rüfenacht","Melina"]
[null,"Rüfenacht","Melina"]
[null,"Pagnard","Lenny"]
[null,"Siegenthaler","Alfred"]
[null,"Siegenthaler","Alfred"]
[null,"Siegenthaler","Alfred"]
[null,"Siegenthaler","Alfred"]
[null,"Siegenthaler","Roger"]
[null,"Siegenthaler","Roger"]
[null,"Siegenthaler","Roger"]
[null,"Zimmermann","Verena"]
[null,"Zimmermann","Verena"]
[null,"Zimmermann","Verena"]
[null,"Bouquet","Fabrice"]
[null,"Bouquet","Fabrice"]
[null,"Bouquet","Fabrice"]
[null,"Baumann","Loic"]
[null,"Baumann","Loic"]
[null,"Zürcher","Hans-Ulrich"]
[null,"Zürcher","Hans-Ulrich"]
[null,"Zürcher","Hans-Ulrich"]
[null,"Zürcher","Hans-Ulrich"]
[null,"Zürcher","Hans-Ulrich"]
[null,"Adolf","Roland"]
[null,"Schulthess","Renato"]
[null,"Steiner","Samuel"]
[null,"Burri","Heinz"]
[null,"Felder","Toni"]
[null,"Grimm","Thomas"]
[null,"Adolf","Roland"]
[null,"Adolf","Roland"]
[null,"Adolf","Roland"]
[null,"Schulthess","Renato"]
[null,"Schulthess","Renato"]
[null,"Schulthess","Renato"]
[null,"Schulthess","Renato"]
[null,"Schulthess","Renato"]
[null,"Steiner","Samuel"]
[null,"Steiner","Samuel"]
[null,"Steiner","Samuel"]
[null,"Böhlen","Martin"]
[null,"Blaser","Stefan"]
[null,"Burri","Heinz"]
[null,"Burri","Heinz"]
[null,"Felder","Toni"]
[null,"Felder","Toni"]
[null,"Grimm","Thomas"]
[null,"Grimm","Thomas"]
[null,"Grimm","Thomas"]
[null,"Rentsch","Werner"]
[null,"Steiner","Mirco"]
[null,"Sarbach","Erich"]
[null,"Renfer","Peter"]
[null,"Gerber","Stefan"]
[null,"Pegoraro","Hans"]
[null,"Pegoraro","Cornelia"]
[null,"Sarbach","Erich"]
[null,"Sarbach","Erich"]
[null,"Sarbach","Erich"]
[null,"Sarbach","Erich"]
[null,"Renfer","Peter"]
[null,"Renfer","Peter"]
[null,"Renfer","Peter"]
[null,"Renfer","Peter"]
[null,"Renfer","Peter"]
[null,"Gerber","Stefan"]
[null,"Gerber","Stefan"]
[null,"Pegoraro","Hans"]
[null,"Pegoraro","Hans"]
[null,"Buchser","Doris"]
[null,"Pegoraro","Cornelia"]
[null,"Pegoraro","Cornelia"]
[null,"Pegoraro","Cornelia"]
[null,"Dürig","Ruth"]
[null,"Dürig","Bruno"]
[null,"Dürig","Ruth"]
[null,"Dürig","Ruth"]
[null,"Dürig","Bruno"]
[null,"Dürig","Bruno"]
[null,"Dürig","Bruno"]
[null,"Bichsel","Daniel"]
[null,"Hulliger","René"]
[null,"Schneider","Beat"]
[null,"Berger","Andreas"]
[null,"Sahli","Alfred"]
[null,"Schweizer","Erwin"]
[null,"Ruchti","Erwin"]
[null,"Krebs","Ulrich"]
[null,"Schöni","Rudolf"]
[null,"Schneider","Beat"]
[null,"Schneider","Beat"]
[null,"Berger","Andreas"]
[null,"Berger","Andreas"]
[null,"Sahli","Alfred"]
[null,"Sahli","Alfred"]
[null,"Sahli","Alfred"]
[null,"Schweizer","Erwin"]
[null,"Schweizer","Erwin"]
[null,"Schweizer","Erwin"]
[null,"Schweizer","Erwin"]
[null,"Ruchti","Erwin"]
[null,"Ruchti","Erwin"]
[null,"Krebs","Ulrich"]
[null,"Krebs","Ulrich"]
[null,"Krebs","Ulrich"]
[null,"Krebs","Ulrich"]
[null,"Schöni","Rudolf"]
[null,"Schöni","Rudolf"]
[null,"Schöni","Rudolf"]
[null,"Schöni","Rudolf"]
[null,"Meichtry","Alfred"]
[null,"Wild","Markus"]
[null,"Egli","Alfred"]
[null,"Stalder","Kurt"]
[null,"Däppen","René"]
[null,"Scheuner","Ronald"]
[null,"Isenschmid","Samuel"]
[null,"Stalder","Elisabeth"]
[null,"Meichtry","Alfred"]
[null,"Meichtry","Alfred"]
[null,"Wild","Markus"]
[null,"Wild","Markus"]
[null,"Wild","Markus"]
[null,"Egli","Alfred"]
[null,"Egli","Alfred"]
[null,"Egli","Alfred"]
[null,"Egli","Alfred"]
[null,"Stalder","Kurt"]
[null,"Stalder","Kurt"]
[null,"Stalder","Kurt"]
[null,"Stalder","Kurt"]
[null,"Stalder","Kurt"]
[null,"Stalder","Kurt"]
[null,"Däppen","René"]
[null,"Däppen","René"]
[null,"Scheuner","Ronald"]
[null,"Scheuner","Ronald"]
[null,"Scheuner","Ronald"]
[null,"Isenschmid","Samuel"]
[null,"Isenschmid","Samuel"]
[null,"Stalder","Elisabeth"]
[null,"Stalder","Elisabeth"]
[null,"Stalder","Elisabeth"]
[null,"Wyss","Margrith"]
[null,"Trachsel","Andreas"]
[null,"Jost","Patrick"]
[null,"Baumann","Jürg"]
[null,"Jost","Ueli"]
[null,"Germann","Willi"]
[null,"Wyss","Margrith"]
[null,"Wyss","Margrith"]
[null,"Trachsel","Andreas"]
[null,"Trachsel","Andreas"]
[null,"Trachsel","Andreas"]
[null,"Jost","Patrick"]
[null,"Jost","Patrick"]
[null,"Jost","Patrick"]
[null,"Jost","Patrick"]
[null,"Jost","Patrick"]
[null,"Baumann","Jürg"]
[null,"Baumann","Jürg"]
[null,"Jost","Ueli"]
[null,"Jost","Ueli"]
[null,"Jost","Ueli"]
[null,"Jost","Ueli"]
[null,"Jost","Ueli"]
[null,"Jost","Ueli"]
[null,"Germann","Willi"]
[null,"Germann","Willi"]
[null,"Tschiemer","Stefan"]
[null,"Tschiemer","Stefan"]
[null,"Grossglauser","Aaron"]
[null,"Tschiemer","Hansueli"]
[null,"Dossenbach","Josef"]
[null,"Dossenbach","Josef"]
[null,"Koller","Peter"]
[null,"Koller","Peter"]
[null,"Näf","Bruno"]
[null,"Frutiger","Alain"]
[null,"Frutiger","Alain"]
[null,"Grossglauser","Ivan"]
[null,"Studer","Marc"]
[null,"Studer","Roger"]
[null,"Studer","Roger"]
[null,"Wyss","Peter"]
[null,"Wyss","Peter"]
[null,"Abegglen","Heinz"]
[null,"Frutiger","Ulrich"]
[null,"Frutiger","Ulrich"]
[null,"Schiess","Ernst"]
[null,"Schiess","Ernst"]
[null,"Näf","Hansruedi"]
[null,"Zaugg","Heinz"]
[null,"Jaggi","Peter"]
[null,"Jaggi","Peter"]
[null,"Tschiemer","Stefan"]
[null,"Tschiemer","Stefan"]
[null,"Tschiemer","Stefan"]
[null,"Tschiemer","Stefan"]
[null,"Grossglauser","Aaron"]
[null,"Tschiemer","Hansueli"]
[null,"Tschiemer","Hansueli"]
[null,"Tschiemer","Hansueli"]
[null,"Tschiemer","Hansueli"]
[null,"Tschiemer","Hansueli"]
[null,"Dossenbach","Josef"]
[null,"Dossenbach","Josef"]
[null,"Dossenbach","Josef"]
[null,"Dossenbach","Josef"]
[null,"Koller","Peter"]
[null,"Koller","Peter"]
[null,"Koller","Peter"]
[null,"Näf","Bruno"]
[null,"Näf","Bruno"]
[null,"Näf","Bruno"]
[null,"Frutiger","Alain"]
[null,"Frutiger","Alain"]
[null,"Frutiger","Alain"]
[null,"Frutiger","Alain"]
[null,"Frutiger","Alain"]
[null,"Grossglauser","Ivan"]
[null,"Studer","Marc"]
[null,"Studer","Marc"]
[null,"Studer","Roger"]
[null,"Studer","Roger"]
[null,"Studer","Roger"]
[null,"Wyss","Peter"]
[null,"Wyss","Peter"]
[null,"Wyss","Peter"]
[null,"Wyss","Peter"]
[null,"Wyss","Peter"]
[null,"Wyss","Peter"]
[null,"Abegglen","Heinz"]
[null,"Abegglen","Heinz"]
[null,"Luginbühl","Nathalie"]
[null,"Frutiger","Ulrich"]
[null,"Frutiger","Ulrich"]
[null,"Frutiger","Ulrich"]
[null,"Frutiger","Ulrich"]
[null,"Frutiger","Ulrich"]
[null,"Frutiger","Ulrich"]
[null,"Schiess","Ernst"]
[null,"Schiess","Ernst"]
[null,"Schiess","Ernst"]
[null,"Schiess","Ernst"]
[null,"Schiess","Ernst"]
[null,"Schiess","Ernst"]
[null,"Schiess","Ernst"]
[null,"Näf","Hansruedi"]
[null,"Näf","Hansruedi"]
[null,"Jaggi","Peter"]
[null,"Jaggi","Peter"]
[null,"Jaggi","Peter"]
[null,"Jaggi","Peter"]
[null,"Rothen","Hans"]
[null,"Berger","Martin"]
[null,"Staudenmann","Luca"]
[null,"Hostettler","Ricco"]
[null,"Guggisberg","Markus"]
[null,"Beyeler","Irene"]
[null,"Friedli","Arthur"]
[null,"Guggisberg","Ueli"]
[null,"Bachofner","Paul"]
[null,"Bachofner","Paul"]
[null,"Riesen","Hans-Rudolf"]
[null,"Salvisberg","Mario"]
[null,"Rothen","Peter"]
[null,"Rothen","Peter"]
[null,"Stalder","Kurt"]
[null,"Zwahlen","Christoph"]
[null,"Sturny","Norbert"]
[null,"Siegenthaler","Alfred"]
[null,"Siegenthaler","Roger"]
[null,"Zwahlen","Niklaus"]
[null,"Guggisberg","Max"]
[null,"Rüst","Bernhard"]
[null,"Zbinden","Alfred"]
[null,"Burri","Peter"]
[null,"Burri","Peter"]
[null,"Beyeler","Simon"]
[null,"Wegmüller","Philipp Samuel"]
[null,"Graf","Roland"]
[null,"Zwahlen","Kurt"]
[null,"Zwahlen","Kurt"]
[null,"Staudenmann","Luca"]
[null,"Staudenmann","Luca"]
[null,"Guggisberg","Markus"]
[null,"Guggisberg","Markus"]
[null,"Beyeler","Irene"]
[null,"Beyeler","Irene"]
[null,"Friedli","Arthur"]
[null,"Friedli","Arthur"]
[null,"Guggisberg","Ueli"]
[null,"Guggisberg","Ueli"]
[null,"Guggisberg","Ueli"]
[null,"Guggisberg","Ueli"]
[null,"Bachofner","Paul"]
[null,"Bachofner","Paul"]
[null,"Bachofner","Paul"]
[null,"Bachofner","Paul"]
[null,"Bachofner","Paul"]
[null,"Salvisberg","Mario"]
[null,"Salvisberg","Mario"]
[null,"Salvisberg","Mario"]
[null,"Salvisberg","Mario"]
[null,"Rothen","Peter"]
[null,"Rothen","Peter"]
[null,"Rothen","Peter"]
[null,"Stalder","Kurt"]
[null,"Stalder","Kurt"]
[null,"Stalder","Kurt"]
[null,"Stalder","Kurt"]
[null,"Kreuter","Robin"]
[null,"Siegenthaler","Alfred"]
[null,"Siegenthaler","Alfred"]
[null,"Siegenthaler","Roger"]
[null,"Siegenthaler","Roger"]
[null,"Siegenthaler","Roger"]
[null,"Siegenthaler","Roger"]
[null,"Hostettler","Hermann"]
[null,"Zwahlen","Niklaus"]
[null,"Zwahlen","Niklaus"]
[null,"Guggisberg","Max"]
[null,"Guggisberg","Max"]
[null,"Rüst","Bernhard"]
[null,"Rüst","Bernhard"]
[null,"Brügger","Joel"]
[null,"Burri","Peter"]
[null,"Burri","Peter"]
[null,"Burri","Peter"]
[null,"Burri","Peter"]
[null,"Burri","Peter"]
[null,"Burri","Peter"]
[null,"Burri","Peter"]
[null,"Beyeler","Simon"]
[null,"Beyeler","Simon"]
[null,"Zwahlen","Kurt"]
[null,"Zwahlen","Kurt"]
[null,"Zwahlen","Kurt"]
[null,"Moser","Fritz"]
[null,"Moser","Fritz"]
[null,"Monnerat","Guillaume"]
[null,"Monnerat","Guillaume"]
[null,"Schäfer","Monika"]
[null,"Schäfer","Monika"]
[null,"Berger","Paul"]
[null,"Bangerter","Hans-Ulrich"]
[null,"Bangerter","Hans-Ulrich"]
[null,"Ruchti","Heinz"]
[null,"Ruchti","Heinz"]
[null,"Oberli","Bruno"]
[null,"Oberli","Bruno"]
[null,"Berger","Anton"]
[null,"Jost","Ueli"]
[null,"Moser","Fritz"]
[null,"Moser","Fritz"]
[null,"Moser","Fritz"]
[null,"Moser","Fritz"]
[null,"Moser","Fritz"]
[null,"Moser","Fritz"]
[null,"Monnerat","Guillaume"]
[null,"Monnerat","Guillaume"]
[null,"Monnerat","Guillaume"]
[null,"Monnerat","Guillaume"]
[null,"Schäfer","Monika"]
[null,"Schäfer","Monika"]
[null,"Schäfer","Monika"]
[null,"Schäfer","Monika"]
[null,"Schäfer","Monika"]
[null,"Schäfer","Monika"]
[null,"Schäfer","Monika"]
[null,"Berger","Paul"]
[null,"Berger","Paul"]
[null,"Bangerter","Hans-Ulrich"]
[null,"Bangerter","Hans-Ulrich"]
[null,"Bangerter","Hans-Ulrich"]
[null,"Bangerter","Hans-Ulrich"]
[null,"Bangerter","Hans-Ulrich"]
[null,"Bangerter","Hans-Ulrich"]
[null,"Bangerter","Hans-Ulrich"]
[null,"Bangerter","Hans-Ulrich"]
[null,"Bangerter","Hans-Ulrich"]
[null,"Ruchti","Heinz"]
[null,"Ruchti","Heinz"]
[null,"Ruchti","Heinz"]
[null,"Ruchti","Heinz"]
[null,"Ruchti","Heinz"]
[null,"Ruchti","Heinz"]
[null,"Oberli","Bruno"]
[null,"Oberli","Bruno"]
[null,"Oberli","Bruno"]
[null,"Oberli","Bruno"]
[null,"Oberli","Bruno"]
[null,"Berger","Anton"]
[null,"Berger","Anton"]
[null,"Berger","Anton"]
[null,"Jost","Ueli"]
[null,"Jost","Ueli"]
[null,"Lauper","David"]
[null,"Zürcher","Heidi"]
[null,"Jakob","Beat"]
[null,"Hosner","Heinz"]
[null,"Aebi","Karin"]
[null,"Rickli","Gottfried"]
[null,"Zürcher","Daniel"]
[null,"Lauper","David"]
[null,"Lauper","David"]
[null,"Lauper","David"]
[null,"Zürcher","Heidi"]
[null,"Zürcher","Heidi"]
[null,"Zürcher","Heidi"]
[null,"Jakob","Beat"]
[null,"Jakob","Beat"]
[null,"Hosner","Heinz"]
[null,"Hosner","Heinz"]
[null,"Hosner","Heinz"]
[null,"Hosner","Heinz"]
[null,"Aebi","Karin"]
[null,"Aebi","Karin"]
[null,"Aebi","Karin"]
[null,"Schneeberger","Doris"]
[null,"Schneeberger","Doris"]
[null,"Rickli","Gottfried"]
[null,"Rickli","Gottfried"]
[null,"Rickli","Gottfried"]
[null,"Péchin","Frédéric"]
[null,"Vaucher","Jean-Paul"]
[null,"Bottinelli","Jean-Marc"]
[null,"Schaller","Christophe"]
[null,"Brossard","Steeve"]
[null,"Dessaules","Mike"]
[null,"Kocher","Boris"]
[null,"Schaffter","Olivier Pierre"]
[null,"Strahm","Gregory"]
[null,"Wenger","Quentin"]
[null,"Sutter","Jérôme"]
[null,"Jourdain","Jean"]
[null,"Steinegger","Vincent"]
[null,"Péchin","Frédéric"]
[null,"Vaucher","Jean-Paul"]
[null,"Vaucher","Jean-Paul"]
[null,"Vaucher","Jean-Paul"]
[null,"Bottinelli","Jean-Marc"]
[null,"Bottinelli","Jean-Marc"]
[null,"Schaller","Christophe"]
[null,"Brossard","Steeve"]
[null,"Brossard","Steeve"]
[null,"Brossard","Steeve"]
[null,"Brossard","Steeve"]
[null,"Brossard","Steeve"]
[null,"Brossard","Steeve"]
[null,"Brossard","Steeve"]
[null,"Gekle","Dominique"]
[null,"Dessaules","Mike"]
[null,"Dessaules","Mike"]
[null,"Kocher","Boris"]
[null,"Kocher","Boris"]
[null,"Kocher","Boris"]
[null,"Schaffter","Olivier Pierre"]
[null,"Strahm","Gregory"]
[null,"Strahm","Gregory"]
[null,"Wenger","Quentin"]
[null,"Sutter","Jérôme"]
[null,"Sutter","Jérôme"]
[null,"Sutter","Jérôme"]
[null,"Jourdain","Jean"]
[null,"Jourdain","Jean"]
[null,"Jourdain","Jean"]
[null,"Steinegger","Vincent"]
[null,"Steinegger","Vincent"]
[null,"Steinegger","Vincent"]
[null,"Steiner","Markus"]
[null,"Steiner","Markus"]
[null,"Milosz","Jerzy"]
[null,"Meier","Albrecht"]
[null,"Meier","Albrecht"]
[null,"Wymann","Hans-Rudolf"]
[null,"Lüthi","Martin"]
[null,"Gerber","Michael"]
[null,"Kiener","Ernst"]
[null,"Wüthrich","Ramon"]
[null,"Wüthrich","Ramon"]
[null,"Pfister","Juha"]
[null,"Stucki","Thomas"]
[null,"Gerber","Hans"]
[null,"Stucki","Markus"]
[null,"Stucki","Markus"]
[null,"Steiner","Markus"]
[null,"Steiner","Markus"]
[null,"Steiner","Markus"]
[null,"Steiner","Markus"]
[null,"Steiner","Markus"]
[null,"Steiner","Markus"]
[null,"Steiner","Markus"]
[null,"Steiner","Markus"]
[null,"Milosz","Jerzy"]
[null,"Milosz","Jerzy"]
[null,"Milosz","Jerzy"]
[null,"Meier","Albrecht"]
[null,"Meier","Albrecht"]
[null,"Meier","Albrecht"]
[null,"Wymann","Hans-Rudolf"]
[null,"Wymann","Hans-Rudolf"]
[null,"Wymann","Hans-Rudolf"]
[null,"Wymann","Hans-Rudolf"]
[null,"Gerber","Michael"]
[null,"Gerber","Michael"]
[null,"Gerber","Michael"]
[null,"Kiener","Ernst"]
[null,"Kiener","Ernst"]
[null,"Pfister","Juha"]
[null,"Pfister","Juha"]
[null,"Gerber","Kathrin"]
[null,"Gerber","Hans"]
[null,"Gerber","Hans"]
[null,"Stettler","Rolf"]
[null,"Steiner","Simon"]
[null,"Hediger","Fabian"]
[null,"Scheidegger","Walter"]
[null,"Tanner","Samuel"]
[null,"Sägesser","Werner"]
[null,"Tanner-Kunz","Cécile"]
[null,"Scheidegger","Ernst"]
[null,"Reber","Rosmarie"]
[null,"Stettler","Rolf"]
[null,"Stettler","Rolf"]
[null,"Stettler","Rolf"]
[null,"Stettler","Rolf"]
[null,"Sommer","Daniel"]
[null,"Steiner","Simon"]
[null,"Steiner","Simon"]
[null,"Steiner","Simon"]
[null,"Steiner","Simon"]
[null,"Hediger","Fabian"]
[null,"Hediger","Fabian"]
[null,"Sommer","Lukas"]
[null,"Scheidegger","Walter"]
[null,"Scheidegger","Walter"]
[null,"Scheidegger","Walter"]
[null,"Tanner","Samuel"]
[null,"Tanner","Samuel"]
[null,"Tanner","Samuel"]
[null,"Tanner","Samuel"]
[null,"Sägesser","Werner"]
[null,"Sägesser","Werner"]
[null,"Tanner-Kunz","Cécile"]
[null,"Tanner-Kunz","Cécile"]
[null,"Scheidegger","Ernst"]
[null,"Scheidegger","Ernst"]
[null,"Marti","Ernst"]
[null,"Länzlinger","Thomas"]
[null,"Stauffer","Werner"]
[null,"Salzmann","Ulrich"]
[null,"Howald","Hans-Rudolf"]
[null,"Wenger","Joseph"]
[null,"Gysin","Rolf"]
[null,"Marti","Ernst"]
[null,"Marti","Ernst"]
[null,"Länzlinger","Thomas"]
[null,"Stauffer","Werner"]
[null,"Stauffer","Werner"]
[null,"Stoller","Melchior"]
[null,"Salzmann","Ulrich"]
[null,"Salzmann","Ulrich"]
[null,"Howald","Hans-Rudolf"]
[null,"Howald","Hans-Rudolf"]
[null,"Wenger","Joseph"]
[null,"Wenger","Joseph"]
[null,"Wenger","Joseph"]
[null,"Wenger","Joseph"]
[null,"Wenger","Joseph"]
[null,"Wenger","Joseph"]
[null,"Gysin","Rolf"]
[null,"Gysin","Rolf"]
[null,"Meyer","Lorenz"]
[null,"Loepfe","Urs"]
[null,"Kunz","Sören"]
[null,"Katna","Andreas"]
[null,"Loepfe","Chiara"]
[null,"Soldini","Fausto"]
[null,"Loepfe","Urs"]
[null,"Loepfe","Urs"]
[null,"Loepfe","Urs"]
[null,"Kunz","Sören"]
[null,"Katna","Andreas"]
[null,"Katna","Andreas"]
[null,"Katna","Andreas"]
[null,"Loepfe","Chiara"]
[null,"Loepfe","Chiara"]
[null,"Loepfe","Chiara"]
[null,"Soldini","Fausto"]
[null,"Soldini","Fausto"]
[null,"Soldini","Fausto"]
[null,"Kunz","Sören"]
[null,"Kunz","Sören"]
[null,"Kunz","Sören"]
[null,"Kunz","Sören"]
[null,"Kunz","Sören"]
[null,"Zahnd","Monika"]
[null,"Adolf","Roland"]
[null,"Sarbach","Erich"]
[null,"König","Robert"]
[null,"Carrera","Jean-Michel"]
[null,"Beyeler","Irene"]
[null,"Bieri","Ramona"]
[null,"Dossenbach","Josef"]
[null,"Steiner","Samuel"]
[null,"Salvisberg","Mario"]
[null,"Salvisberg","Mario"]
[null,"Rothen","Peter"]
[null,"Schenkel","Thomas"]
[null,"Stoller","Markus"]
[null,"Stalder","Kurt"]
[null,"Stalder","Kurt"]
[null,"Gurtner","Roland"]
[null,"Däppen","René"]
[null,"Bangerter","Hans-Ulrich"]
[null,"Schweizer","Erwin"]
[null,"Marti","Roland"]
[null,"Schneeberger","Doris"]
[null,"Michel","Yves"]
[null,"Siegenthaler","Roger"]
[null,"Dürig","Andreas"]
[null,"Wyss","Peter"]
[null,"Schaffter","Olivier Pierre"]
[null,"Wäfler","Hans"]
[null,"Vogt","Bernd"]
[null,"Scheuner","Ronald"]
[null,"Inniger","Andreas"]
[null,"Baumgartner","Joëlle Pascale"]
[null,"Devaud","André"]
[null,"Kiener","Bernhard"]
[null,"Jost","Patrick"]
[null,"Berger","Anton"]
[null,"Schiess","Ernst"]
[null,"Eschmann","René"]
[null,"Marti","Erich"]
[null,"Marti","Erich"]
[null,"Gerber","Michael"]
[null,"Beyeler","Simon"]
[null,"Wegmüller","Philipp Samuel"]
[null,"Zaugg","Heinz"]
[null,"Mollet","Urs"]
[null,"Jaggi","Peter"]
[null,"Steiner","Mirco"]
[null,"Tschanz","Heinrich"]
[null,"König","Robert"]
[null,"König","Robert"]
[null,"Inniger","Andreas"]
[null,"Baumgartner","Joëlle Pascale"]
[null,"Zaugg","Heinz"]
[null,"Renfer","Peter"]
[null,"König","Robert"]
[null,"Dossenbach","Josef"]
[null,"Salvisberg","Mario"]
[null,"Rothen","Peter"]
[null,"Hosner","Heinz"]
[null,"Schöni","Rudolf"]
[null,"Moser","Fritz"]
[null,"Rothen","Hans"]
[null,"Meichtry","Alfred"]
[null,"Sarbach","Erich"]
[null,"Seiler","Hanspeter"]
[null,"Carrera","Jean-Michel"]
[null,"Riesen","Peter"]
[null,"Wyss","Margrith"]
[null,"Trachsel","Andreas"]
[null,"Friedli","Arthur"]
[null,"Guggisberg","Ueli"]
[null,"Schulthess","Renato"]
[null,"Tschiemer","Hansueli"]
[null,"Bachofner","Paul"]
[null,"Bangerter","Gottfried"]
[null,"Schneider","Beat"]
[null,"Koller","Peter"]
[null,"Vaucher","Jean-Paul"]
[null,"Burkhalter","Hans"]
[null,"Trachsel","Christoph"]
[null,"Uhlmann","Rolf"]
[null,"Riesen","Hans-Rudolf"]
[null,"Zimmermann","Hans"]
[null,"Steiner","Markus"]
[null,"Zurbrügg","Paul"]
[null,"Milosz","Jerzy"]
[null,"Bottinelli","Roger"]
[null,"Riesen","Monika"]
[null,"Schneider","Willy"]
[null,"Held","Daniel"]
[null,"Burkhalter","Erwin"]
[null,"Meier","Albrecht"]
[null,"Stalder","Kurt"]
[null,"Zumkehr","Johann"]
[null,"De Jonckheere","Marcel"]
[null,"Spahr","Otto"]
[null,"Bolanz","Albert"]
[null,"Finger","Hans"]
[null,"Heiniger","Beat"]
[null,"Däppen","René"]
[null,"Bangerter","Hans-Ulrich"]
[null,"Maurer","Alfred"]
[null,"Schweizer","Erwin"]
[null,"Salzmann","Ulrich"]
[null,"Michel","Yves"]
[null,"Häsler","Willy"]
[null,"Steiner","Peter"]
[null,"Steiner","Peter"]
[null,"Hächler","Jürg"]
[null,"Siegenthaler","Alfred"]
[null,"Burri","Heinz"]
[null,"Egli","Rudolf"]
[null,"Guggisberg","Max"]
[null,"Wyss","Peter"]
[null,"Rupp","Oswald"]
[null,"Wäfler","Hans"]
[null,"Abegglen","Heinz"]
[null,"Rickli","Gottfried"]
[null,"Zimmermann","Verena"]
[null,"Howald","Hans-Rudolf"]
[null,"Vogt","Bernd"]
[null,"Riesen","Erich"]
[null,"Ehlers","Hans"]
[null,"Ruchti","Heinz"]
[null,"Eschmann","Maurice"]
[null,"Krebs","Ulrich"]
[null,"Wenger","Joseph"]
[null,"Zbinden","Alfred"]
[null,"Frutiger","Ulrich"]
[null,"Marti","Monika"]
[null,"Grunder","Hans-Peter"]
[null,"Berger","Anton"]
[null,"Schiess","Ernst"]
[null,"Baumann","Jürg"]
[null,"Näf","Hansruedi"]
[null,"Zürcher","Hans-Ulrich"]
[null,"Eschmann","René"]
[null,"Marti","Erich"]
[null,"Burri","Peter"]
[null,"Jost","Ueli"]
[null,"Zaugg","Heinz"]
[null,"Mollet","Urs"]
[null,"Röthlisberger","Peter"]
[null,"Brawand","Heinz"]
[null,"Jaggi","Peter"]
[null,"Lysser","Eduard"]
[null,"Germann","Willi"]
[null,"Stalder","Elisabeth"]
[null,"Staub","Markus"]
[null,"Steinegger","Vincent"]
[null,"Zwahlen","Kurt"]
[null,"Ueltschi","Kurt"]
[null,"Friedli","Arthur"]
[null,"Steiner","Markus"]
[null,"Rothen","Peter"]
[null,"Schiess","Ernst"]
[null,"Baumann","Jürg"]
[null,"Jost","Ueli"]
[null,"Zaugg","Heinz"]
[null,"Schneider","Astrid"]
[null,"Menzi","Robert"]
[null,"Forrer","Wendel"]
[null,"Streuli","Hans"]
[null,"Gnägi","Reto"]
[null,"Piller","Pius"]
[null,"Wegmann","Rudolf"]
[null,"Liechti","Vreny"]
[null,"Zellweger","Ernst"]
[null,"Grossglauser","Erwin"]
[null,"König","Vreni"]
[null,"Hartmann","Thomas"]
[null,"Schoch","Jakob"]
[null,"Liechti","Hans"]
[null,"Wildhaber","Manfred"]
[null,"Preisig","Ernst"]
[null,"Landolt","Anton"]
[null,"Menzi","Bruno"]
[null,"Heuberger","Bruno"]
[null,"Handle","Hanspeter"]
[null,"Dalle Case","Marco"]
[null,"Dalle Case","Marco"]
[null,"Zellweger","Ralf"]
[null,"Streuli","Hans"]
[null,"Straub","Silvia"]
[null,"Müller","Jakob"]
[null,"Zellweger","Ernst"]
[null,"Bösch","Larissa"]
[null,"Grossglauser","Erwin"]
[null,"Eugster","Paul"]
[null,"Müller","Raffael"]
[null,"Müller","Raffael"]
[null,"Koch","Melanie"]
[null,"Dalle Case","Daniela"]
[null,"Haag","Stefan"]
[null,"Menzi","Bruno"]
[null,"Heeb","Urs"]
[null,"Heeb","Urs"]
[null,"Heeb","Urs"]
[null,"Meli","Corinne"]
[null,"Breuss","Nicola"]
[null,"Lüchinger","Dario"]
[null,"Eugster","Michael"]
[null,"Eugster","Christof"]
[null,"Manser","Michael"]
[null,"Manser","August"]
[null,"Steiger","Benjamin"]
[null,"Fritsche","Josef"]
[null,"Duff","Robert"]
[null,"Grossglauser","Erwin"]
[null,"Thurnherr","Patrick"]
[null,"Götti","Michael"]
[null,"Kellenberger","Walter"]
[null,"Schneider","Louis"]
[null,"Winteler","Christoph"]
[null,"Grossglauser","Maria"]
[null,"Obrist","Markus"]
[null,"Lüthi","Kyle"]
[null,"Eugster","Christof"]
[null,"Steiger","Benjamin"]
[null,"Götti","Michael"]
[null,"Schneider","Louis"]
[null,"Schneider","Louis"]
[null,"Winteler","Christoph"]
[null,"Grossglauser","Maria"]
[null,"Grossglauser","Maria"]
[null,"Hehli","Michael"]
[null,"Hehli","Michael"]
[null,"Hehli","Christoph"]
[null,"Hehli","Christoph"]
[null,"Pfister","Gerold"]
[null,"Pfister","Gerold"]
[null,"Stefenon","Hans"]
[null,"Piller","Pius"]
[null,"Zumstein","Roland"]
[null,"Egli","Fabian"]
[null,"Federer","Ivo"]
[null,"Pfister","Walter"]
[null,"Pfister","Walter"]
[null,"Pfister","Ibai"]
[null,"Pfister","Ibai"]
[null,"Pfister","Gerold"]
[null,"Bruggner","Corsin"]
[null,"Pfister","Walter"]
[null,"Piller","Renzo"]
[null,"Trunz","Carina"]
[null,"Hehli","Christoph"]
[null,"Trunz","Jasmin"]
[null,"Trunz","Jasmin"]
[null,"Pfister","Gerold"]
[null,"Pfister","Gerold"]
[null,"Piller","Pius"]
[null,"Piller","Pius"]
[null,"Zumstein","Roland"]
[null,"Aeberhard","Glenn"]
[null,"Trunz","Luca"]
[null,"Frei","Joel"]
[null,"Dux","Mauro"]
[null,"Dux","Mauro"]
[null,"Hicsar","Alexander"]
[null,"Trunz","Andreas"]
[null,"Bruggner","Domenic"]
[null,"Ceotto","Piereangelo"]
[null,"Ceotto","Piereangelo"]
[null,"Dux","Livio"]
[null,"Dux","Livio"]
[null,"Frischknecht","Werner"]
[null,"Menzi","Tamara"]
[null,"Waser","André"]
[null,"Nikles","Ralph"]
[null,"Schilliger","Marcel"]
[null,"Hüppi","Erhard"]
[null,"Bösch","Larissa"]
[null,"Schweizer","Herbert"]
[null,"Lüthi","Hans-Ruedi"]
[null,"Mächler","Martin"]
[null,"Berger","Maria"]
[null,"Santoro","Franco"]
[null,"Frischknecht","Werner"]
[null,"Nikles","Ralph"]
[null,"Baumann","Brigitte"]
[null,"Rinderer","Clemens"]
[null,"Wildhaber","Manfred"]
[null,"Hobi","Thomas"]
[null,"Lendi","Roman"]
[null,"Hobi","Guido"]
[null,"Rinderer","Bruno"]
[null,"Hobi","Guido"]
[null,"Wildhaber","Manfred"]
[null,"Hobi","Guido"]
[null,"Hobi","Guido"]
[null,"Wildhaber","Manfred"]
[null,"Hobi","Guido"]
[null,"Spycher","Daniel"]
[null,"Brülisauer","Fritz"]
[null,"Spycher","Daniel"]
[null,"Mösli","Julia"]
[null,"Koch","Melanie"]
[null,"Nickel","Sabrina"]
[null,"Brülisauer","Peter"]
[null,"Koch","Melanie"]
[null,"Haener","Christian"]
[null,"Brülisauer","Lukas"]
[null,"Brülisauer","Peter"]
[null,"Troxler","Willi"]
[null,"Streuli","Hans"]
[null,"Dick","Mathias"]
[null,"Liechti","Hans"]
[null,"Konrad","Walter"]
[null,"Brülisauer","Lukas"]
[null,"Liechti","Vreny"]
[null,"Nägeli","Philipp"]
[null,"Mösli","Julia"]
[null,"Brülisauer","Fritz"]
[null,"Nickel","Sabrina"]
[null,"Streuli","Hans"]
[null,"Schmid","Benno"]
[null,"Forster","Roland"]
[null,"Bischofberger","Paul"]
[null,"Thoma","Jakob"]
[null,"Rinderknecht","Ruth"]
[null,"Streuli","Reto"]
[null,"Dick","Hanspeter"]
[null,"Wesselak","Livio"]
[null,"Brülisauer","Fritz"]
[null,"Brülisauer","Fritz"]
[null,"Wesselak","Livio"]
[null,"Nickel","Sabrina"]
[null,"Koch","Melanie"]
[null,"Brülisauer","Lukas"]
[null,"Bentham","Aron"]
[null,"Koch","Melanie"]
[null,"Spycher","Laura"]
[null,"Mösli","Julia"]
[null,"Streuli","Hans"]
[null,"Troxler","Willi"]
[null,"Liechti","Vreny"]
[null,"Künzle","Livio"]
[null,"Koch","Melanie"]
[null,"Koch","Melanie"]
[null,"Spycher","Laura"]
[null,"Steger","Placi"]
[null,"Manser","Franz"]
[null,"Baumann","Gabriela"]
[null,"Manser","Franz"]
[null,"Steger","Placi"]
[null,"Good","Tino"]
[null,"Dalle Case","Daniela"]
[null,"Müller","Bruno"]
[null,"Hansmann","Linda"]
[null,"Meier","Astrid"]
[null,"Zbinden","Claudia"]
[null,"Brunner","Elio"]
[null,"Steimer","Horst"]
[null,"Haag","Stefan"]
[null,"Brunner","Elio"]
[null,"Merkofer","Daniel"]
[null,"Zellweger","Ralf"]
[null,"Schweizer","Andreas"]
[null,"Müller","Jakob"]
[null,"Zellweger","Ernst"]
[null,"Zbinden","Claudia"]
[null,"Hansmann","Linda"]
[null,"Scheuss","Hans"]
[null,"Weber","Hansueli"]
[null,"Suttinger","Franz"]
[null,"Messmer","Peter"]
[null,"Scheuss","Hans"]
[null,"Scheuss","Hans"]
[null,"Dalle Case","Marco"]
[null,"Dalle Case","Marco"]
[null,"Dalle Case","Marco"]
[null,"Zellweger","Ralf"]
[null,"Furrer","Hansruedi"]
[null,"Furrer","Hansruedi"]
[null,"Müller","Bruno"]
[null,"Müller","Jakob"]
[null,"Müller","Jakob"]
[null,"Forrer","Fritz"]
[null,"Forrer","Fritz"]
[null,"Zellweger","Ernst"]
[null,"Zellweger","Ernst"]
[null,"Weber","Hansueli"]
[null,"Weber","Hansueli"]
[null,"Steimer","Horst"]
[null,"Merkofer","Daniel"]
[null,"Good","Tino"]
[null,"Meier","Astrid"]
[null,"Dalle Case","Daniela"]
[null,"Dalle Case","Daniela"]
[null,"Haag","Stefan"]
[null,"Scheuss","Oriana"]
[null,"Scheuss","Oriana"]
[null,"Zwicker","Guido"]
[null,"Zwicker","Guido"]
[null,"Schweizer","Andreas"]
[null,"Zellweger","Ernst"]
[null,"Patt","Michel"]
[null,"Müller","Bruno"]
[null,"Rakozi","Niclas"]
[null,"Küffer","Lias"]
[null,"Kessler","Benjamin"]
[null,"Dalle Case","Marco"]
[null,"Schweizer","Andreas"]
[null,"Good","Tino"]
[null,"Handle","Hanspeter"]
[null,"Forrer","Fritz"]
[null,"Küffer","Lias"]
[null,"Scheuss","Hans"]
[null,"Rakozi","Niclas"]
[null,"Zellweger","Ralf"]
[null,"Zellweger","Ralf"]
[null,"Müller","Bruno"]
[null,"Müller","Jakob"]
[null,"Müller","Jakob"]
[null,"Zellweger","Ernst"]
[null,"Zellweger","Ernst"]
[null,"Patt","Andrea"]
[null,"Patt","Andrea"]
[null,"Kessler","Benjamin"]
[null,"Merkofer","Daniel"]
[null,"Patt","Michel"]
[null,"Dalle Case","Daniela"]
[null,"Hansmann","Linda"]
[null,"Graf","Emil"]
[null,"Handsche","Patricia"]
[null,"Lang","Markus"]
[null,"Nigg","Sonja"]
[null,"Krüsi","Ernst"]
[null,"Eugster","Karl"]
[null,"Büchel","Marianne"]
[null,"Graf","Markus"]
[null,"Eugster","Markus"]
[null,"Gantenbein","Andreas"]
[null,"Eugster","Paul"]
[null,"Büchel","Hans"]
[null,"Heuberger","Bruno"]
[null,"Ryser","Sofia"]
[null,"Reithofer","Tobias"]
[null,"Graf","Markus"]
[null,"Eugster","Markus"]
[null,"Graf","Emil"]
[null,"Büchel","Hans"]
[null,"Eugster","Markus"]
[null,"Bösch","Dylan"]
[null,"Büchel","Hans"]
[null,"Rechsteiner","Reto"]
[null,"Eugster","Karl"]
[null,"Music","Aleksandr"]
[null,"Gantenbein","Andreas"]
[null,"Eugster","Karl"]
[null,"Eugster","Paul"]
[null,"Eugster","Paul"]
[null,"Hofstetter","Willi"]
[null,"Menzi","Bruno"]
[null,"Diem","Andreas"]
[null,"Weiler","Andreas"]
[null,"Hofstetter","Ruedi"]
[null,"Schoch","Walter"]
[null,"Schoch","Margrit"]
[null,"Hofstetter","Edwin"]
[null,"Weiler","Andreas"]
[null,"Schoch","Jakob"]
[null,"Diem","Andreas"]
[null,"Bösch-Schoch","Sandra"]
[null,"Schoch","Jakob"]
[null,"Hofstetter","Ruedi"]
[null,"Hofstetter","Ruedi"]
[null,"Schoch","Margrit"]
[null,"Ehrler","Florian"]
[null,"Müller","Fabian"]
[null,"Müller","Raffael"]
[null,"Müller","Fabian"]
[null,"Müller","Raffael"]
[null,"Leirer","Jean-Michel"]
[null,"Leirer","Jean-Michel"]
[null,"Preisig","Reto"]
[null,"Brunner","Valentin"]
[null,"Leirer","Joel"]
[null,"Meier","Florian"]
[null,"Knechtle","Dario"]
[null,"Knöpfel","Anina"]
[null,"Leirer","Jean-Michel"]
[null,"Preisig","Reto"]
[null,"Stadelmann","Luca"]
[null,"Leirer","Joel"]
[null,"Cola","Mia"]
[null,"Preisig","Reto"]
[null,"Meier","Florian"]
[null,"Stadelmann","Luca"]
[null,"Brunner","Valentin"]
[null,"Müller","Fabian"]
[null,"Ehrler","Florian"]
[null,"Frey","Nadine"]
[null,"Högger","Jérôme"]
[null,"Kehl","Marcel"]
[null,"Koster","Kevin"]
[null,"Zwicker","Christoph"]
[null,"Zwicker","Richard"]
[null,"Frey","Nico"]
[null,"Bock","Roman"]
[null,"Maurer","Kurt"]
[null,"Lenherr","Daniel"]
[null,"Frey","Nadine"]
[null,"Koster","Kevin"]
[null,"Koster","Kevin"]
[null,"Zwicker","Christoph"]
[null,"Zwicker","Christoph"]
[null,"Büttner","Peter"]
[null,"Bock","Roman"]
[null,"Bock","Roman"]
[null,"Bösch","Larissa"]
[null,"Heeb","Urs"]
[null,"Riehl","Claudia"]
[null,"Eberhard","Otto"]
[null,"Nikles","Ralph"]
[null,"Menzi","Robert"]
[null,"Bremgartner","Beat"]
[null,"Egger","Daniel"]
[null,"Hobi","Franz"]
[null,"Eberhard","Otto"]
[null,"Menzi","Jost"]
[null,"Forrer","Wendel"]
[null,"Abderhalden","Yanick"]
[null,"Mächler","Martin"]
[null,"Langenegger","Albert"]
[null,"Abderhalden","Yanick"]
[null,"Menzi","Tamara"]
[null,"Gerig","Paul"]
[null,"Nikles","André"]
[null,"Heierli","Dorian"]
[null,"Heierli","Dorian"]
[null,"Menzi","Robert"]
[null,"Menzi","Robert"]
[null,"Forrer","Wendel"]
[null,"Straub","Silvia"]
[null,"Bremgartner","Beat"]
[null,"Waser","André"]
[null,"Heeb","Urs"]
[null,"Heeb","Urs"]
[null,"Bruderer","Theres"]
[null,"Eberhard","Reto"]
[null,"Nikles","Ralph"]
[null,"Forrer","Wendel"]
[null,"Langenegger","Albert"]
[null,"Huber","Lukas"]
[null,"Hostettler","Kevin"]
[null,"Nikles","André"]
[null,"Hostettler","Kevin"]
[null,"Egger","Daniel"]
[null,"Forrer","Wendel"]
[null,"Bremgartner","Beat"]
[null,"Hobi","Franz"]
[null,"Bösch","Larissa"]
[null,"Waser","André"]
[null,"Gansner","Mario"]
[null,"Gansner","Mario"]
[null,"Gerig","Petra"]
[null,"Menzi","Tamara"]
[null,"Lüthi","Hans-Ruedi"]
[null,"Heeb","Urs"]
[null,"Eberhard","Reto"]
[null,"Nikles","Ralph"]
[null,"Eicher","Sandro"]
[null,"Huber","Lukas"]
[null,"Fischer","Marco"]
[null,"Fischli","Gabi"]
[null,"Fischli","Kurt"]
[null,"Fischer","Hansruedi"]
[null,"Müller","Roland"]
[null,"Dürst","Fritz"]
[null,"Imgrüth","Andreas"]
[null,"Broger","Bruno"]
[null,"Laager","Bernadette"]
[null,"Fischer","Hansruedi"]
[null,"Fischer","Hansruedi"]
[null,"Fischer","Hansruedi"]
[null,"Imgrüth","Andreas"]
[null,"Ryser","Sofia"]
[null,"Eugster","Christof"]
[null,"Büchel","Hans"]
[null,"Eugster","Markus"]
[null,"Manser","August"]
[null,"Gantenbein","Andreas"]
[null,"Götti","Michael"]
[null,"Grossglauser","Maria"]
[null,"Grossglauser","Erwin"]
[null,"Büchel","Marianne"]
[null,"Grossglauser","Erwin"]
[null,"Grossglauser","Erwin"]
[null,"Vetter","Andreas"]
[null,"Schoch","Ernst"]
[null,"Büchel","Hans"]
[null,"Wietlisbach","Josef"]
[null,"Nikles","André"]
[null,"Scheuss","Hans"]
[null,"Dalle Case","Marco"]
[null,"Menzi","Robert"]
[null,"Hehli","Christoph"]
[null,"Riehl","Claudia"]
[null,"Furrer","Hansruedi"]
[null,"Forrer","Wendel"]
[null,"Müller","Bruno"]
[null,"Streuli","Hans"]
[null,"Manser","August"]
[null,"Stefenon","Hans"]
[null,"Müller","Jakob"]
[null,"Fritsche","Josef"]
[null,"Piller","Pius"]
[null,"Duff","Robert"]
[null,"Liechti","Vreny"]
[null,"Brülisauer","Peter"]
[null,"Schoch","Margrit"]
[null,"Zellweger","Ernst"]
[null,"Konrad","Walter"]
[null,"Grossglauser","Erwin"]
[null,"Eberhard","Otto"]
[null,"Waser","André"]
[null,"Liechti","Hans"]
[null,"Fischli","Kurt"]
[null,"Kellenberger","Walter"]
[null,"Steimer","Horst"]
[null,"Mächler","Martin"]
[null,"Büchel","Marianne"]
[null,"Eugster","Paul"]
[null,"Menzi","Jost"]
[null,"Eugster","Markus"]
[null,"Haag","Stefan"]
[null,"Grossglauser","Maria"]
[null,"Rinderer","Bruno"]
[null,"Pfister","Walter"]
[null,"Heeb","Urs"]
[null,"Brülisauer","Fritz"]
[null,"Langenegger","Albert"]
[null,"Zwicker","Guido"]
[null,"Dick","Hanspeter"]
[null,"Schoch","Walter"]
[null,"Pfister","Gerold"]
[null,"Diem","Andreas"]
[null,"Weber","Hansueli"]
[null,"Vich","Dino"]
[null,"Bührer","Reto"]
[null,"Bührer","Oskar"]
[null,"Schilter","Martin"]
[null,"Fuchs","Adrian"]
[null,"Fuchs","Lukas"]
[null,"Wehrli","Dominik"]
[null,"Höfler","Angelika"]
[null,"Bührer","Oskar"]
[null,"Schilter","Martin"]
[null,"Fuchs","Lukas"]
[null,"Bührer","Armin"]
[null,"Ess","Werner"]
[null,"Tobler","Marcel"]
[null,"Schweiss","Manfred"]
[null,"Jünger","Peter"]
[null,"Dünner","Max"]
[null,"Berner","Fritz"]
[null,"Grob","Albert"]
[null,"Bachofner","Hans"]
[null,"Eberhart","Iwan"]
[null,"Liechti","Ernst"]
[null,"Schönholzer","Markus"]
[null,"Höhener","André"]
[null,"Schönholzer","Walter"]
[null,"Nobs","Urs"]
[null,"Krattiger","Armin"]
[null,"Baumann","August"]
[null,"Wagner","Richard"]
[null,"Tobler","Marcel"]
[null,"Grob","Albert"]
[null,"Schmid","Christian"]
[null,"Moser","Tobias"]
[null,"Häberli","Andreas"]
[null,"Schönholzer","Jasmin"]
[null,"Germann","Marcel"]
[null,"Holzmann","Arthur"]
[null,"Tobler","Marcel"]
[null,"Kressibucher","Thomas"]
[null,"Holzer","Karin"]
[null,"Schönholzer","Corinne"]
[null,"Schönholzer","Corinne"]
[null,"Wagner","Richard"]
[null,"Häberli","Andreas"]
[null,"Lattmann","Urs"]
[null,"Rüegg","Leander"]
[null,"Odermatt","Lars"]
[null,"Wüger","Ruben"]
[null,"Indermaur","Ramona"]
[null,"Sitta","Massimo"]
[null,"Sitta","Massimo"]
[null,"Amacker","Alex"]
[null,"Lattmann","Urs"]
[null,"Lattmann","Urs"]
[null,"Mohn","Roger"]
[null,"Tobler","Marcel"]
[null,"Rüegg","Leander"]
[null,"Indermaur","Juri"]
[null,"Indermaur","Juri"]
[null,"Mohn","Hermann"]
[null,"Odermatt-Lattmann","Carmen"]
[null,"Odermatt-Lattmann","Carmen"]
[null,"Odermatt","Lars"]
[null,"Antonazzo","Claudio"]
[null,"Antonazzo","Claudio"]
[null,"Kressibucher","Thomas"]
[null,"Wüger","Dina"]
[null,"Hugentobler","Peter"]
[null,"Mohn","Mattia"]
[null,"Mohn","Mattia"]
[null,"Odermatt","Jens"]
[null,"Vetter","Marcel"]
[null,"Vetter","Marcel"]
[null,"Wüger","Ruben"]
[null,"Indermaur","Ramona"]
[null,"Brauchli","Martin"]
[null,"Brauchli","Martin"]
[null,"Sitta","Massimo"]
[null,"Sitta","Massimo"]
[null,"Tobler","Marcel"]
[null,"Rüegg","Leander"]
[null,"Rüegg","Leander"]
[null,"Indermaur","Juri"]
[null,"Indermaur","Juri"]
[null,"Mohn","Hermann"]
[null,"Mohn","Hermann"]
[null,"Odermatt","Lars"]
[null,"Odermatt","Lars"]
[null,"Antonazzo","Claudio"]
[null,"Kressibucher","Thomas"]
[null,"Kressibucher","Thomas"]
[null,"Kressibucher","Thomas"]
[null,"Wüger","Dina"]
[null,"Mohn","Mattia"]
[null,"Mohn","Mattia"]
[null,"Odermatt","Jens"]
[null,"Vetter","Marcel"]
[null,"Vetter","Marcel"]
[null,"Vetter","Marcel"]
[null,"Wüger","Ruben"]
[null,"Wüger","Ruben"]
[null,"Schönholzer","Jasmin"]
[null,"Schönholzer","Jasmin"]
[null,"Wüthrich","Beat"]
[null,"Wüthrich","Beat"]
[null,"Fässler","Sieglinde"]
[null,"Meile-Köchli","Lydia"]
[null,"Schönholzer","Christian"]
[null,"Schönholzer","Christian"]
[null,"Schönholzer","Roman"]
[null,"Schönholzer","Roman"]
[null,"Staub","Lea"]
[null,"Staub","Lea"]
[null,"Schärer","Michelle"]
[null,"Schönholzer","Stefan"]
[null,"Gamper","Andreas"]
[null,"Negraszus","Dominic"]
[null,"Negraszus","Dominic"]
[null,"Lacher","Sebastian"]
[null,"Staub","Natascha"]
[null,"Schönholzer","Peter"]
[null,"Bachmann","Sandro"]
[null,"Bachmann","Sandro"]
[null,"Baumann","Louann"]
[null,"Stark","Jakob"]
[null,"Kernen","Rolf"]
[null,"Sager","Stefan"]
[null,"Sager","Stefan"]
[null,"Schönholzer","Albert"]
[null,"Ammann","Egon"]
[null,"Bosshard","Christa"]
[null,"Staub","Kaya"]
[null,"Schönholzer","Markus"]
[null,"Schönholzer","Markus"]
[null,"Vogel","Luca"]
[null,"Schönholzer","Walter"]
[null,"Schönholzer","Walter"]
[null,"Fässler","Michael"]
[null,"Schönholzer","Mara"]
[null,"Schönholzer","Mara"]
[null,"Sager","Sandra"]
[null,"Jung","Gaby"]
[null,"Sager","Sandra"]
[null,"Schönholzer","Jasmin"]
[null,"Schönholzer","Jasmin"]
[null,"Schönholzer","Christian"]
[null,"Staub","Lea"]
[null,"Schärer","Michelle"]
[null,"Schärer","Michelle"]
[null,"Schönholzer","Peter"]
[null,"Bachmann","Sandro"]
[null,"Baumann","Louann"]
[null,"Stark","Jakob"]
[null,"Staub","Kaya"]
[null,"Schönholzer","Markus"]
[null,"Vogel","Luca"]
[null,"Schönholzer","Mara"]
[null,"Schönholzer","Markus"]
[null,"Massolin","Marcel"]
[null,"Massolin","Marcel"]
[null,"Krähenbühl","Thomas"]
[null,"Brenner","Peter"]
[null,"Brenner","Peter"]
[null,"Eugster","Armin"]
[null,"Brüschweiler","Joel"]
[null,"Brüschweiler","Joel"]
[null,"Büchel","Peter"]
[null,"Keiser","René"]
[null,"Keiser","René"]
[null,"Keiser","René"]
[null,"Hut","Stefan"]
[null,"Hut","Stefan"]
[null,"Germann","Marcel"]
[null,"Germann","Marcel"]
[null,"Böhi","Hans-Ulrich"]
[null,"Holzmann","Arthur"]
[null,"Holzmann","Arthur"]
[null,"Schallenberg","Silvan"]
[null,"Pislor","Patrick"]
[null,"Pislor","Patrick"]
[null,"Gremper","Beni"]
[null,"Gremper","Beni"]
[null,"Brugger","Markus"]
[null,"Egger","Florian"]
[null,"Jünger","Peter"]
[null,"Burkhardt","Edi"]
[null,"Lutz","Bruno"]
[null,"Brühlmann","Beat"]
[null,"Walker","Peter"]
[null,"Walker","Peter"]
[null,"Feller","Erich"]
[null,"Feller","Erich"]
[null,"Schönholzer","Peter"]
[null,"Martin","Christoph"]
[null,"Burkhardt","Stefan"]
[null,"Burkhardt","Stefan"]
[null,"Pasternak","Julia"]
[null,"Kuster","Andreas"]
[null,"Brunnenmeister","Andreas"]
[null,"Brunnenmeister","Andreas"]
[null,"Schallenberg","Martin"]
[null,"Schallenberg","Martin"]
[null,"Wüest","Andreas"]
[null,"Brüschweiler","Thomas"]
[null,"Graf","Mark"]
[null,"Graf","Mark"]
[null,"Eberhart","Iwan"]
[null,"Eberhart","Iwan"]
[null,"Holzer","Karin"]
[null,"Holzer","Karin"]
[null,"Elmer","Luc"]
[null,"Meile","Urs"]
[null,"van Vliet","Juri"]
[null,"Schönholzer","Corinne"]
[null,"Ravelli","Roland"]
[null,"Ravelli","Roland"]
[null,"Moser","Tobias"]
[null,"Moser","Tobias"]
[null,"Brüschweiler","Matthias"]
[null,"Schönholzer","Werner"]
[null,"Schönholzer","Werner"]
[null,"Baumann","Marcel"]
[null,"Baumann","Marcel"]
[null,"Wiedmer","Noah"]
[null,"Hauser","Severin"]
[null,"Aeschlimann","Rolf"]
[null,"Höhener","André"]
[null,"Hafen","Thomas"]
[null,"Hafen","Thomas"]
[null,"Hangartner","Marcel"]
[null,"Massolin","Marcel"]
[null,"Keiser","René"]
[null,"Keiser","René"]
[null,"Germann","Marcel"]
[null,"Feller","Erich"]
[null,"Feller","Erich"]
[null,"Burkhardt","Stefan"]
[null,"Kuster","Andreas"]
[null,"Brunnenmeister","Andreas"]
[null,"Brunnenmeister","Andreas"]
[null,"Graf","Mark"]
[null,"Eberhart","Iwan"]
[null,"Tissot","Katharina"]
[null,"van Vliet","Juri"]
[null,"Ravelli","Roland"]
[null,"Moser","Tobias"]
[null,"Moser","Tobias"]
[null,"Moser","Tobias"]
[null,"Wiedmer","Noah"]
[null,"Höhener","André"]
[null,"Pasternak","Julia"]
[null,"Brunnenmeister","Andreas"]
[null,"Brunnenmeister","Andreas"]
[null,"Moser","Tobias"]
[null,"Grob","Albert"]
[null,"Wagner","Richard"]
[null,"Kneubühl","Claudia"]
[null,"Schmid","Edi"]
[null,"Bangerter","Martina"]
[null,"Hahn","René"]
[null,"Schmid","Edi"]
[null,"Schwarz","David"]
[null,"Oberhänsli","Alfred"]
[null,"Badertscher","Ernst"]
[null,"Hungerbühler","Silas"]
[null,"Roth","Walter"]
[null,"Reusser","Nadja"]
[null,"Schmid","Christian"]
[null,"Schmid","Christian"]
[null,"Gubler","Manuela"]
[null,"Gubler","Manuela"]
[null,"Trapani","Salvatore"]
[null,"Trapani","Salvatore"]
[null,"Wuffli","Peter"]
[null,"Wuffli","Peter"]
[null,"Gubler","Hanspeter"]
[null,"Mettler","Patrick"]
[null,"Keller","Werner"]
[null,"Wagner","Daniel"]
[null,"Wagner","Daniel"]
[null,"Moor","Roger"]
[null,"Moor","Roger"]
[null,"Streule","Franz"]
[null,"Streule","Franz"]
[null,"Kneubühl","Petra"]
[null,"Wegmann","Willi"]
[null,"Wegmann","Willi"]
[null,"Stanik","Kerstin"]
[null,"Wagner","Richard"]
[null,"Kneubühl","Claudia"]
[null,"Kneubühl","Claudia"]
[null,"Schmid","Edi"]
[null,"Hungerbühler","Silas"]
[null,"Schmid","Christian"]
[null,"Gubler","Manuela"]
[null,"Wagner","Daniel"]
[null,"Wagner","Daniel"]
[null,"Moor","Roger"]
[null,"Streule","Franz"]
[null,"Wagner","Richard"]
[null,"Ess","Roland"]
[null,"Ingold\t","Bruno"]
[null,"Ess","Michael"]
[null,"Bösch","Dominique"]
[null,"Anderes","Petra"]
[null,"Häne","Philipp"]
[null,"Ess","Martin"]
[null,"Cornilli","Nico"]
[null,"Nagel","Kay"]
[null,"Forster","Roland"]
[null,"Dünner","Urs"]
[null,"Schaltegger","Robert"]
[null,"Inauen","Bruno"]
[null,"Bösch","Nadin"]
[null,"Stäheli","Nino"]
[null,"Krattiger","Armin"]
[null,"Welter","Noah"]
[null,"Ess","Werner"]
[null,"Bösch","Petra"]
[null,"Reisch","Cian"]
[null,"Hansen","Simon"]
[null,"Bösch","Thomas"]
[null,"Bösch","Reto"]
[null,"Huber","Ernst"]
[null,"Bösch","Nicole"]
[null,"Birrer","Jana"]
[null,"Inauen","Bruno"]
[null,"Häberli","Andreas"]
[null,"Ess","Roland"]
[null,"Forster","Roland"]
[null,"Welter","Noah"]
[null,"Ess","Roland"]
[null,"Ess","Michael"]
[null,"Ess","Werner"]
[null,"Bösch","Petra"]
[null,"Bösch","Dominique"]
[null,"Reisch","Cian"]
[null,"Anderes","Petra"]
[null,"Hansen","Simon"]
[null,"Ess","Martin"]
[null,"Cornilli","Nico"]
[null,"Nagel","Kay"]
[null,"Birrer","Jana"]
[null,"Inauen","Bruno"]
[null,"Stäheli","Nino"]
[null,"Tschirren","Simon"]
[null,"Dick","Rolf"]
[null,"Oberthaler","David"]
[null,"Michel","Hansjörg"]
[null,"Schmid","Josef"]
[null,"Schmid","Josef"]
[null,"Kirchmeier","Fritz"]
[null,"Diethelm","Rolf"]
[null,"Diethelm","Beatriz"]
[null,"Rüegg","Paul"]
[null,"Frei","Bettina"]
[null,"Frei","Reto"]
[null,"Frei","Reto"]
[null,"Hermann","Hansjürg"]
[null,"Michel","Hansjörg"]
[null,"Schmid","Josef"]
[null,"Schmid","Josef"]
[null,"Schmid","Josef"]
[null,"Kirchmeier","Fritz"]
[null,"Frei","Reto"]
[null,"Amacker","Alex"]
[null,"Bär","Nicole"]
[null,"Krammer","Lucas"]
[null,"Eugster","Markus"]
[null,"Schweiss","Manfred"]
[null,"Reis","Dominik"]
[null,"Eugster","Arnold"]
[null,"Baumann","Urs"]
[null,"Schweiss","Pascal"]
[null,"Brauchli","Marc"]
[null,"Antonazzo","Claudio"]
[null,"Dünner","Max"]
[null,"Brand","Paul"]
[null,"Hollenstein","Josef"]
[null,"Durisch","Jean-Yves"]
[null,"Schweiss","Janine"]
[null,"Schönholzer","Corinne"]
[null,"Vonarburg","Marco"]
[null,"Fritschi","David"]
[null,"Scherrer","Konrad"]
[null,"Amacker","Alex"]
[null,"Schweiss","Manfred"]
[null,"Schweiss","Manfred"]
[null,"Schweiss","Manfred"]
[null,"Brauchli","Marc"]
[null,"Schweiss","Janine"]
[null,"Fritschi","David"]
[null,"Massolin","Marcel"]
[null,"Amacker","Alex"]
[null,"Gremper","Beni"]
[null,"Tobler","Marcel"]
[null,"Schmid","Josef"]
[null,"Grob","Albert"]
[null,"Couto Batzli","Felipe Eduardo"]
[null,"Marien Neto","Carlos Luis"]
[null,"Betschart","Mauricio"]
[null,"Vogt","Heinz"]
[null,"Rodrigues","Valdemir"]
[null,"Diethelm","Rolf"]
[null,"Janssen","Doris"]
[null,"Rodrigues","Gustavo"]
[null,"Gross","Vinicius"]
[null,"Scarton","Wanderlei"]
[null,"Marien Neto","Carlos Luis"]
[null,"Winzeler","Bruno"]
[null,"Winzeler","Bruno"]
[null,"Betschart","Mauricio"]
[null,"Vogt","Heinz"]
[null,"Diethelm","Rolf"]
[null,"Diethelm","Rolf"]
[null,"Janssen","Doris"]
[null,"Rodrigues","Gustavo"]
[null,"Morach","Joe"]
[null,"Spycher","Markus"]
[null,"Kuster","Heinz"]
[null,"Reymond","Elisabeth"]
[null,"Ernst","Ruedi"]
[null,"Hirsig","Gerhard"]
[null,"Morach","Joe"]
[null,"Kuster","Heinz"]
[null,"Ernst","Ruedi"]
[null,"Zollinger","René"]
[null,"Zwahlen","Kurt"]
[null,"Suter","Franz"]
[null,"Lienhard","Reto"]
[null,"Renfer","Peter"]
[null,"Keiser","René"]
[null,"Carrera","Jean-Michel"]
[null,"Felber","Markus"]
[null,"Holzmann","Arthur"]
[null,"Riesen","Peter"]
[null,"Fröhlich","Alfred"]
[null,"Emmenegger","Hans"]
[null,"Nägeli","Samuel"]
[null,"Friedli","Arthur"]
[null,"Fried","Mario"]
[null,"Bachofner","Paul"]
[null,"Dossenbach","Josef"]
[null,"Menzi","Robert"]
[null,"Riehl","Claudia"]
[null,"Forrer","Wendel"]
[null,"Landolt","Bruno"]
[null,"Künzle","Rolf"]
[null,"Morf","André"]
[null,"Manser","August"]
[null,"Schweiss","Manfred"]
[null,"Winkler","Eduard"]
[null,"Hablützel","Richard"]
[null,"Büchel","Hans"]
[null,"Näf","Peter"]
[null,"Duff","Robert"]
[null,"Zimmermann","Hans"]
[null,"Egli","Albert"]
[null,"Bruderer","Jakob"]
[null,"Meili","Renate"]
[null,"Konrad","Walter"]
[null,"Hug","Hansruedi"]
[null,"Brunner","Ueli"]
[null,"Bodmer","Urs"]
[null,"Berger","Walter"]
[null,"Frischknecht","Werner"]
[null,"Dittli","Heinrich"]
[null,"Schmid","Christian"]
[null,"Berger","Ueli"]
[null,"Fuhrmann","Uwe"]
[null,"Grob","Albert"]
[null,"Schweizer","Willy"]
[null,"Weber","Hansueli"]
[null,"Roth","Paul"]
[null,"Fürst","Willy"]
[null,"Geiser","Hanspeter"]
[null,"Kaiser","Franz"]
[null,"Wyss","Silvan"]
[null,"Steiner","Peter"]
[null,"Wyss","Jakob"]
[null,"Graf","Emil"]
[null,"Gujer","Daniel"]
[null,"Ammann","Egon"]
[null,"Koch","Franz"]
[null,"Rupp","Oswald"]
[null,"Wäfler","Hans"]
[null,"Riesen","Erich"]
[null,"Eberhard","Markus"]
[null,"Kottmann","Jost"]
[null,"Langhans","Dieter"]
[null,"Spalinger","Bernhard"]
[null,"Müller","Heinz"]
[null,"Schönholzer","Werner"]
[null,"Baumann","Marcel"]
[null,"Schaltegger","Robert"]
[null,"Aebersold","Andreas"]
[null,"Winzeler","Bruno"]
[null,"Moor","Roger"]
[null,"Weiss","Hansruedi"]
[null,"Berger","Anton"]
[null,"Schiess","Ernst"]
[null,"Gohl","Bruno"]
[null,"Widmer","Ruth"]
[null,"Niederberger","Walter"]
[null,"Mollet","Urs"]
[null,"Krüsi","Ernst"]
[null,"Brühlmann","Andreas"]
[null,"Zwicker","Guido"]
[null,"Bührer","Armin"]
[null,"Lysser","Eduard"]
[null,"Tonina","Alfredo"]
[null,"Räber","Edy"]
[null,"Moser","Fritz"]
[null,"Rothen","Hans"]
[null,"Meichtry","Alfred"]
[null,"Sarbach","Erich"]
[null,"König","Robert"]
[null,"Nikles","André"]
[null,"Kolb","Rösli"]
[null,"Winkler","Ruedi"]
[null,"Arnold","Christof"]
[null,"Meyer","Emil"]
[null,"Götschi","Martha"]
[null,"Caruso","Enzo"]
[null,"Trachsel","Andreas"]
[null,"Schmid","Stephan"]
[null,"Lütschg","Hans"]
[null,"Dalle Case","Marco"]
[null,"Baumgartner","Alois"]
[null,"Guggisberg","Ueli"]
[null,"Schulthess","Renato"]
[null,"Gremper","Beni"]
[null,"Bucher","Fridolin"]
[null,"Rüegg","Käthy"]
[null,"Vetsch","Heinz"]
[null,"Keller","Rolf"]
[null,"Costa","Vittorio"]
[null,"Mohr","Maximilian"]
[null,"Wild","Kurt"]
[null,"Hehli","Christoph"]
[null,"Dönni","Peter"]
[null,"Mock","Anton"]
[null,"Garo","Werner"]
[null,"Meier","Peter"]
[null,"Felder","Walter"]
[null,"Steiner","Samuel"]
[null,"Hofmann","Meinrad"]
[null,"Jud","Peter"]
[null,"Venturi","Luigi"]
[null,"Tobler","Marcel"]
[null,"Schneider","Beat"]
[null,"Koller","Peter"]
[null,"Pfister","Gerold"]
[null,"Moser","Walter"]
[null,"Mohn","Hermann"]
[null,"Vaucher","Jean-Paul"]
[null,"Gretener","August"]
[null,"Burkhalter","Hans"]
[null,"Trachsel","Christoph"]
[null,"Piller","Pius"]
[null,"Durrer","Walter"]
[null,"Lenherr","Beat"]
[null,"Keller","Peter"]
[null,"Ruckstuhl","Albert"]
[null,"Nägeli","Stefan"]
[null,"Salvisberg","Mario"]
[null,"Eugster","Arnold"]
[null,"Steiner","Markus"]
[null,"Liechti","Vreny"]
[null,"Schmid","Karl"]
[null,"Kräutli","Luciano"]
[null,"Oberhänsli","Alfred"]
[null,"Sahli","Alfred"]
[null,"Riesen","Monika"]
[null,"Huwiler","Christian"]
[null,"Gohl","Walter"]
[null,"Haubold","Urs"]
[null,"Roschi","Rosmarie"]
[null,"Diem","Andreas"]
[null,"Schmid","Josef"]
[null,"Eberhard","Otto"]
[null,"Waser","André"]
[null,"Rutz","Hans"]
[null,"Badertscher","Ernst"]
[null,"Krebs","Robert"]
[null,"Dünner","Max"]
[null,"Schoch","Jakob"]
[null,"Weber","Stefan"]
[null,"Fischli","Kurt"]
[null,"Schmid","Hanspeter"]
[null,"Wick","Kurt"]
[null,"Finger","Hans"]
[null,"Bucheli","Franz"]
[null,"Spiess","Thomas"]
[null,"Kellenberger","Walter"]
[null,"Tschanz","Durs"]
[null,"Lussi","Josef"]
[null,"Koller","Friedrich"]
[null,"Diethelm","Rolf"]
[null,"Durrer","Franz"]
[null,"Trapani","Salvatore"]
[null,"Dober","Beat"]
[null,"Galbier-Raschle","Verena"]
[null,"Fürst","Armin"]
[null,"Röthlin","Kurt"]
[null,"Steimer","Horst"]
[null,"Portmann","Toni"]
[null,"Mächler","Martin"]
[null,"Siffert","Toni"]
[null,"Siegfried","Ruedi"]
[null,"Eigenheer","Lorenz"]
[null,"Wettach","Franz"]
[null,"Pichler","Michael"]
[null,"Hugener","Markus"]
[null,"Siegenthaler","Alfred"]
[null,"Wyss","Jakob"]
[null,"Illi","Freddy"]
[null,"Eugster","Paul"]
[null,"Menzi","Jost"]
[null,"Guggisberg","Max"]
[null,"Niederberger","Eugen"]
[null,"Wyss","Peter"]
[null,"Truninger","Rainer"]
[null,"Anicic","Marko"]
[null,"Koch","Franz"]
[null,"Wegmüller","Urs"]
[null,"Suppiger","Alois"]
[null,"Eugster","Markus"]
[null,"Moor","Ernst"]
[null,"Rohrer","Anton"]
[null,"Nungesser","Dietmar"]
[null,"Besmer","Bruno"]
[null,"Gloor","Peter"]
[null,"Patt","Josef"]
[null,"Steinmann","Andreas"]
[null,"Streit","Walter"]
[null,"Barandun","Horst"]
[null,"Rinderknecht","Ruth"]
[null,"Summermatter","Werner"]
[null,"Zürcher","Hans"]
[null,"Eschmann","Maurice"]
[null,"Wohlgemuth","Ralph"]
[null,"Steinmann","Hans"]
[null,"Hollenstein","Ernst"]
[null,"Grossglauser","Maria"]
[null,"Krebs","Ulrich"]
[null,"Hofmann","Edi"]
[null,"Niederberger","Karl"]
[null,"Hiestand","Robert"]
[null,"Buser","Eduard"]
[null,"Rinderer","Bruno"]
[null,"Steiger","Niklaus"]
[null,"Oberli","Bruno"]
[null,"Gautschi","Peter"]
[null,"Frutiger","Ulrich"]
[null,"Baumgartner","Peter"]
[null,"Zweifel","Josef"]
[null,"Baumann","Jürg"]
[null,"Vogt","Willi"]
[null,"Loretz","Stephan"]
[null,"Marti","Erich"]
[null,"Kuster","Fritz"]
[null,"Hörler","Josef"]
[null,"Jost","Ueli"]
[null,"Langenegger","Albert"]
[null,"Gysin","Rolf"]
[null,"Zaugg","Heinz"]
[null,"Grob","Jakob"]
[null,"Palmieri","Robert"]
[null,"Manser","Erich"]
[null,"Jaggi","Peter"]
[null,"Weibel","Rolf"]
[null,"Germann","Willi"]
[null,"Dick","Hanspeter"]
[null,"Luginbühl","Stephan"]
[null,"Birchler","Urs"]
[null,"Bachofner","Walter"]
[null,"Blöchlinger","Thomas"]
[null,"Steinegger","Vincent"]
[null,"Stucki","Hans"]
[null,"Stoll","Hans Peter"]
[null,"Winzeler","Richard"]
[null,"Massolin","Marcel"]
[null,"Wüest","Andreas"]
[null,"Felber","Hans"]
[null,"Amacker","Alex"]
[null,"Nussbaumer","Bruno"]
[null,"Huber","Fritz"]
[null,"Lattmann","Urs"]
[null,"Trittibach","Peter"]
[null,"Wegmann","Hans"]
[null,"Scheuss","Hans"]
[null,"Marty","Fredi"]
[null,"Blöchlinger","Franz"]
[null,"Angst","Hans"]
[null,"Loepfe","Urs"]
[null,"Schrag","Eugen"]
[null,"Schwegler","Bernhard"]
[null,"Siffert","Marie-Theres"]
[null,"Tschiemer","Hansueli"]
[null,"Kuhn","Hans"]
[null,"Bangerter","Gottfried"]
[null,"Koch","Rainer"]
[null,"Albisser","Anton"]
[null,"Eugster","Markus"]
[null,"Gantenbein","Paul"]
[null,"Haller","Anton"]
[null,"Leuenberger","Max"]
[null,"Bertschinger","Hansruedi"]
[null,"Furrer","Hansruedi"]
[null,"Forrer","Wendel"]
[null,"Frei","Arthur"]
[null,"Fischer","Alwin"]
[null,"Meili","René"]
[null,"Würsch","Martin"]
[null,"Schueller","Pascal"]
[null,"Egli","Walter"]
[null,"Müller","Bruno"]
[null,"Streuli","Hans"]
[null,"Portner","Markus"]
[null,"Odermatt","Guido"]
[null,"Stefenon","Hans"]
[null,"Müller","Jakob"]
[null,"Schindler","Hermann"]
[null,"Wetli","Guido"]
[null,"Zürcher","Heidi"]
[null,"Fritsche","Josef"]
[null,"Berger","Andreas"]
[null,"Uhlmann","Rolf"]
[null,"Sternberger","Horst"]
[null,"Zihlmann","Richard"]
[null,"Tonina","Stefanie"]
[null,"Gerber","René"]
[null,"Odermatt","Anton"]
[null,"Salvisberg","Kurt"]
[null,"Tschachtli","Martin"]
[null,"Walker","Peter"]
[null,"Bachofner","Heinrich"]
[null,"Töngi","René"]
[null,"Zumstein","Roland"]
[null,"Richener","Ruedi"]
[null,"De Zordi","Peter"]
[null,"Brülisauer","Peter"]
[null,"Reiffer","Hans"]
[null,"Zurbrügg","Paul"]
[null,"Krättli","Ruedi"]
[null,"Rothen","Peter"]
[null,"Forrer","Fritz"]
[null,"Zellweger","Ernst"]
[null,"Grossglauser","Erwin"]
[null,"Feller","Erich"]
[null,"Schnidrig","Otto"]
[null,"Wegmann","Heinz"]
[null,"Antonazzo","Claudio"]
[null,"Schneider","Willy"]
[null,"Held","Daniel"]
[null,"Carigiet","Meinrad"]
[null,"Burkhalter","Erwin"]
[null,"Lüscher","Ernst"]
[null,"Meier","Albrecht"]
[null,"Steiner","Leo"]
[null,"Hosner","Heinz"]
[null,"Stalder","Kurt"]
[null,"Wampfler","Hans"]
[null,"De Jonckheere","Marcel"]
[null,"Häusler","Rolf"]
[null,"Tanner","Eric"]
[null,"Spiess","Markus"]
[null,"Bolanz","Albert"]
[null,"Liechti","Hans"]
[null,"Steiner","Erwin"]
[null,"Greutert","Walter"]
[null,"Niederberger","Richard"]
[null,"Heiniger","Beat"]
[null,"Münger","Werner"]
[null,"Däppen","René"]
[null,"Raschle","Richard"]
[null,"Bangerter","Hans-Ulrich"]
[null,"Maurer","Alfred"]
[null,"Schallenberg","Martin"]
[null,"Zeindler","Walter"]
[null,"Walker","Franz"]
[null,"Berli","Rico"]
[null,"Krebs","Emil"]
[null,"Staub","Max"]
[null,"Kirchmeier","Fritz"]
[null,"Hausmann","Max"]
[null,"Schweizer","Erwin"]
[null,"Odermatt","Josef"]
[null,"Hinnen","Peter"]
[null,"Bischofberger","Paul"]
[null,"Vollenweider","Willi"]
[null,"Diethelm","Josef"]
[null,"Schleiss","Niklaus"]
[null,"Meyer","Stephan"]
[null,"Büchel","Marianne"]
[null,"Bührer","Hans"]
[null,"Berger","Guido"]
[null,"Hebeisen","Heinrich"]
[null,"Michel","Yves"]
[null,"Häsler","Willy"]
[null,"Kaufmann","Madeleine"]
[null,"Steiner","Peter"]
[null,"Ruchti","Erwin"]
[null,"Stritmatter","Josef"]
[null,"Oetiker","Bruno"]
[null,"Janssen","Doris"]
[null,"Angehrn","Leo"]
[null,"Notz","Jakob"]
[null,"Manser","Fridolin"]
[null,"Gemperle","Alex"]
[null,"Bühler","Paul"]
[null,"Hugentobler","Peter"]
[null,"Schönholzer","Albert"]
[null,"Sicher","Vali"]
[null,"Arnold","Alice"]
[null,"Schefer","Alfred"]
[null,"Hüsser","Leo"]
[null,"Stiefel","Peter"]
[null,"Ott","Arnold"]
[null,"Egli","Rudolf"]
[null,"Räss","Richard"]
[null,"Müller","Albert"]
[null,"Eggenberger","Stephan"]
[null,"Müller","Benjamin"]
[null,"Abegglen","Heinz"]
[null,"Schwaninger","Rudolf"]
[null,"Bachofner","Heinrich"]
[null,"Niederberger","Paul"]
[null,"Kaufmann","Franz"]
[null,"Näpflin","Josef"]
[null,"Bucher","Ernst"]
[null,"Burkhalter","Andreas"]
[null,"Rickli","Gottfried"]
[null,"Zimmermann","Verena"]
[null,"Niederberger","Josef"]
[null,"Siegrist","Max"]
[null,"Vogt","Bernd"]
[null,"Simmler","Urs"]
[null,"Leder","Urs"]
[null,"Graber","Josef"]
[null,"Rinderer","Clemens"]
[null,"Ravelli","Roland"]
[null,"Ehlers","Hans"]
[null,"Ruchti","Heinz"]
[null,"Haag","Stefan"]
[null,"Dober","Bruno"]
[null,"Hollenstein","Ernst"]
[null,"Kuriger","Fritz"]
[null,"Seeberger","Hans"]
[null,"Seeberger","Hans"]
[null,"Egger","Jörg"]
[null,"Baumgartner","Leo"]
[null,"Amgwerd","Albin"]
[null,"Hediger","Emil"]
[null,"Jans","Xaver"]
[null,"Grubenmann","Margrit"]
[null,"Gerber","Hans"]
[null,"Landolt","Ravi"]
[null,"Ingold","Franz"]
[null,"Vogel","Martin"]
[null,"Bolliger","Heinz"]
[null,"Sauzet","René"]
[null,"Frei","Stefan"]
[null,"Schlatter","Peter"]
[null,"Aeschlimann","Rolf"]
[null,"Blaser","Marcel"]
[null,"Schnüriger","Beat"]
[null,"Streule","Franz"]
[null,"Marti","Monika"]
[null,"Pfister","Walter"]
[null,"Grunder","Hans-Peter"]
[null,"Lenggenhager","Max"]
[null,"Eberhard","Theres"]
[null,"Heeb","Urs"]
[null,"Höhener","André"]
[null,"Eigenmann","Bruno"]
[null,"Schelling","Andreas"]
[null,"Zürcher","Hans-Ulrich"]
[null,"Haubold","Heide"]
[null,"Eschmann","René"]
[null,"Brülisauer","Fritz"]
[null,"Schmid","Jakob"]
[null,"Burri","Peter"]
[null,"Meier","Ruth"]
[null,"Scherrer","Konrad"]
[null,"Steinemann","Roland"]
[null,"Brawand","Heinz"]
[null,"Krattiger","Armin"]
[null,"Kesselbach","Joachim"]
[null,"Eichholzer","Bernhard"]
[null,"Christoffel","Eduard"]
[null,"Kühni","Silvia"]
[null,"Wagner","Richard"]
[null,"Barmet","Stefan"]
[null,"Stalder","Elisabeth"]
[null,"Ryffel","Georges"]
[null,"Schöni","Rudolf"]
[null,"Kränzlin","Gerhard"]
[null,"Ueltschi","Kurt"]
[null,"Minder","Josef"]
[null,"Hirschi","Heinz"]
[null,"Meili","Heinrich"]
[null,"Kappeler","Wolfgang"]
[null,"Keller","Rolf"]
[null,"Keller","Rolf"]
[null,"Liechti","Vreny"]
[null,"Trapani","Salvatore"]
[null,"Trapani","Salvatore"]
[null,"Trapani","Salvatore"]
[null,"Röthlin","Kurt"]
[null,"Röthlin","Kurt"]
[null,"Stritmatter","Josef"]
[null,"Hollenstein","Ernst"]
[null,"Lenggenhager","Max"]
[null,"Scherrer","Konrad"]
[null,"Weibel","Rolf"]
[null,"Weibel","Rolf"]
[null,"Wagner","Richard"]